{"text_format":"1","workbook":"xlsx","n_sheets":4,"sheets":["Instructivo","Alternativas","Comparación Alternativas","Para Ocultar"],"not_rendered":{"charts":0,"images":1,"macros":1,"external_links":1,"defined_names":0,"comments":0,"pivot_tables":0},"unopened":[],"bounds":{"document_bytes":16777216,"sheet_cells":100000,"rows_first":2000,"rows_last":500,"rows_between":2000,"halvings":0,"cell_chars":16384,"cell_head_chars":4096},"cells_cut":0,"cells_raw":0,"read":"whole","date_system":"1900"}

{"sheet":"Instructivo","index":0,"n_rows":6,"n_cols":10,"rows_kept":6,"cut":false,"hidden":false,"merged":[]}
[]
[]
[null,null,null,null,null,null,null,null,null,"Herramienta Simulador de créditos"]
[]
[]
[null,"El libro contiene MACROS, por lo tanto debe habilitar los MACROS al abrir el archivo."]

{"sheet":"Alternativas","index":1,"n_rows":973,"n_cols":36,"rows_kept":973,"cut":false,"hidden":false,"merged":[[7,19,7,21],[10,20,10,21],[8,20,8,21],[9,20,9,21],[14,2,14,3],[14,20,14,21],[16,2,16,3],[17,2,17,3],[10,2,10,3],[7,1,7,3],[8,2,8,3],[9,2,9,3],[12,2,12,3],[13,2,13,3],[19,20,19,21],[21,4,21,7],[21,8,21,11],[18,2,18,3],[19,2,19,3],[16,20,16,21],[17,20,17,21],[13,20,13,21],[12,20,12,21],[18,20,18,21]]}
[]
[]
[null,null,null,null,null,null,null,null,null,null,null,null,null,null,null,null,null,"Herramienta Simulador de créditos"]
[]
[]
[null,"Volver al Instructivo"]
[]
[null,"ALTERNATIVA FINANCIAMIENTO 1",null,null,null,null,null,null,null,null,null,null,"?",null,null,null,null,null,null,"ALTERNATIVA FINANCIAMIENTO 2",null,null,null,null,null,null,null,null,null,null,"?"]
[null,"Entidad Bancaria","BBVA",null,null,null,null,null,null,null,null,null,null,null,null,null,null,null,null,"Entidad Bancaria","Santander"]
[null,"Línea Crediticia","Sola Firma",null,null,null,null,null,null,null,null,null,null,null,null,null,null,null,null,"Línea Crediticia","Sola Firma"]
[null,"Moneda","Dólares",null,null,null,null,null,null,null,null,null,"Celda Ajustable",null,null,null,null,null,null,"Moneda","Dólares",null,null,null,null,null,null,null,null,null,"Celda Ajustable"]
[null,"Monto",{"$f":"IF(C11=\"Pesos\",\"ARS\",\"USD\")","v":"USD"},20000,null,null,null,null,null,null,null,null,"Celda Ajustable",null,null,null,null,null,null,"Monto",{"$f":"IF(U11=\"Pesos\",\"ARS\",\"USD\")","v":"USD"},30000,null,null,null,null,null,null,null,null,"Celda Ajustable"]
[null,"Gastos Otorgamiento",0,null,null,null,null,null,null,null,null,null,"Celda Ajustable",null,null,null,null,null,null,"Gasto Otorgamiento",5000,null,null,null,null,null,null,null,null,null,"Celda Ajustable"]
[null,"Sistema amortización","Alemán",null,null,null,null,null,null,null,null,null,"Celda Ajustable",null,null,null,null,null,null,"Sistema amortización","Francés",null,null,null,null,null,null,null,null,null,"Celda Ajustable"]
[null,"Tasa anual",0.28000000000000003,null,null,null,null,null,null,null,null,null,"Celda Ajustable",null,null,null,null,null,null,"Tasa anual",0.1,null,null,null,null,null,null,null,null,null,"Celda Ajustable"]
[null,"Periodos por año",12,{"$f":"VLOOKUP(C16,'Para Ocultar'!A2:B7,2)","v":"Mensual"},null,null,null,null,null,null,null,null,"Celda Ajustable",null,null,null,null,null,null,"Periodos por año",12,{"$f":"VLOOKUP(U16,'Para Ocultar'!A2:B7,2)","v":"Mensual"},null,null,null,null,null,null,null,null,"Celda Ajustable"]
[null,"Cantidad de Cuotas",25,null,null,null,null,null,null,null,null,null,"Celda Ajustable",null,null,null,null,null,null,"Cantidad de Cuotas",50,null,null,null,null,null,null,null,null,null,"Celda Ajustable"]
[null,"Cuotas de Gracia",1,null,null,null,null,null,null,null,null,null,"Celda Ajustable",null,null,null,null,null,null,"Cuotas de Gracia",0,null,null,null,null,null,null,null,null,null,"Celda Ajustable"]
[null,"Mes otorgamiento",1,null,null,null,null,null,null,null,null,null,"Celda Ajustable",null,null,null,null,null,null,"Mes otorgamiento",{"$f":"C19","v":1}]
[null,"Año otorgamiento",2022,null,null,null,{"$f":"(1+IRR(G24:G144))^C16-1","v":0.31888050590823225},null,"Anualidad",{"$f":"(C15/C16)/(1-(1/(1+(C15/C16))^C17))","v":5.3246603160135783E-2},{"$f":"(1+IRR(K24:K144))^C16-1","v":0.31888050590928252},null,"Celda Ajustable",null,null,null,null,null,null,"Año otorgamiento",2022,null,null,null,{"$f":"(1+IRR(Y24:Y144))^U16-1","v":0.10471306744129949},null,"Anualidad",{"$f":"(U15/U16)/(1-(1/(1+(U15/U16))^U17))","v":2.4537214109460258E-2},{"$f":"(1+IRR(AC24:AC144))^U16-1","v":0.10471306744129949},null,"Celda Ajustable"]
[]
[null,null,null,null,"Alemán",null,null,null,"Francés"]
[null,null,"Mes","Año","Capital","Interés","Cuota","Saldo","Capital","Interés","Cuota","Saldo",{"$f":"E23","v":"Capital"},{"$f":"F23","v":"Interés"},"Cuota","Saldo","CASH $","CASH U$S",null,null,"Mes"," ","Capital","Interés","Cuota","Saldo","Capital","Interés","Cuota","Saldo",{"$f":"W23","v":"Capital"},{"$f":"X23","v":"Interés"},{"$f":"Y23","v":"Cuota"},{"$f":"Z23","v":"Saldo"},"CASH $","CASH U$S"]
[null,"Otorgamiento",{"$f":"C19","v":1},{"$f":"C20","v":2022},null,null,{"$f":"H24","v":20000},{"$f":"D12","v":20000},null,null,{"$f":"D12","v":20000},{"$f":"D12","v":20000},{"$f":"IF($C$14=\"Alemán\",E24,I24)","v":0},{"$f":"IF($C$14=\"Alemán\",F24,J24)","v":0},{"$f":"-C13","v":0},{"$f":"IF($C$14=\"Alemán\",H24,L24)","v":20000},{"$f":"SUMPRODUCT((C24='Comparación Alternativas'!$Z$5:$Z$246)*(Alternativas!D24='Comparación Alternativas'!$AA$5:$AA$246)*('Comparación Alternativas'!$AQ$5:$AQ$246))","v":20000},{"$f":"SUMPRODUCT((C24='Comparación Alternativas'!$Z$5:$Z$246)*('Comparación Alternativas'!$AA$5:$AA$246=Alternativas!D24)*('Comparación Alternativas'!$BA$5:$BA$246))","v":200},null,"Otorgamiento",{"$f":"U19","v":1},{"$f":"U20","v":2022},null,null,{"$f":"Z24","v":30000},{"$f":"V12","v":30000},null,null,{"$f":"V12","v":30000},{"$f":"V12","v":30000},{"$f":"IF($U$14=\"Alemán\",W24,AA24)","v":0},{"$f":"IF($U$14=\"Alemán\",X24,AB24)","v":0},{"$f":"-U13","v":-5000},30000,{"$f":"SUMPRODUCT((U24='Comparación Alternativas'!$Z$5:$Z$246)*('Comparación Alternativas'!$AA$5:$AA$246=Alternativas!V24)*('Comparación Alternativas'!$AV$5:$AV$246))","v":2500000},{"$f":"SUMPRODUCT((U24='Comparación Alternativas'!$Z$5:$Z$246)*('Comparación Alternativas'!$AA$5:$AA$246=Alternativas!V24)*('Comparación Alternativas'!$BF$5:$BF$246))","v":25000}]
[null,1,{"$f":"IF(C24+SUMPRODUCT(($C$16='Para Ocultar'!$A$2:$A$7)*('Para Ocultar'!$C$2:$C$7))>12,(C24+SUMPRODUCT(($C$16='Para Ocultar'!$A$2:$A$7)*('Para Ocultar'!$C$2:$C$7)))-12,C24+SUMPRODUCT(($C$16='Para Ocultar'!$A$2:$A$7)*('Para Ocultar'!$C$2:$C$7)))","v":2},{"$f":"IF(C25<=C24,D24+1,D24)","v":2022},{"$f":"IF($C$18>=B25,0,-IF(B25<=$C$17+$C$18,$D$12/$C$17,0))","v":0},{"$f":"-H24*($C$15/$C$16)","v":-466.66666666666669},{"$f":"F25+E25","v":-466.66666666666669},{"$f":"E25+H24","v":20000},{"$f":"L24-L24+K25-J25","v":0},{"$f":"-L24*$C$15/$C$16","v":-466.66666666666674},{"$f":"-IF($C$18>=B25,$D$12*$C$15/$C$16,IF($C$17+$C$18>=B25,$D$12*$J$20,0))","v":-466.66666666666674},{"$f":"L24+I25","v":20000},{"$f":"IF($C$14=\"Alemán\",E25,I25)","v":0},{"$f":"IF($C$14=\"Alemán\",F25,J25)","v":-466.66666666666669},{"$f":"IF($C$14=\"Alemán\",G25,K25)","v":-466.66666666666669},{"$f":"IF($C$14=\"Alemán\",H25,L25)","v":20000},{"$f":"SUMPRODUCT((C25='Comparación Alternativas'!$Z$5:$Z$246)*(Alternativas!D25='Comparación Alternativas'!$AA$5:$AA$246)*('Comparación Alternativas'!$AQ$5:$AQ$246))","v":-466.66666666666669},{"$f":"SUMPRODUCT((C25='Comparación Alternativas'!$Z$5:$Z$246)*('Comparación Alternativas'!$AA$5:$AA$246=Alternativas!D25)*('Comparación Alternativas'!$BA$5:$BA$246))","v":-4.1770901550909789},null,1,{"$f":"IF(U24+SUMPRODUCT(($U$16='Para Ocultar'!$A$2:$A$7)*('Para Ocultar'!$C$2:$C$7))>12,(U24+SUMPRODUCT(($U$16='Para Ocultar'!$A$2:$A$7)*('Para Ocultar'!$C$2:$C$7)))-12,U24+SUMPRODUCT(($U$16='Para Ocultar'!$A$2:$A$7)*('Para Ocultar'!$C$2:$C$7)))","v":2},{"$f":"IF(U25<=U24,V24+1,V24)","v":2022},{"$f":"IF($U$18>=T25,0,-IF(T25<=$U$17+$U$18,$V$12/$U$17,0))","v":-600},{"$f":"-Z24*($U$15/$U$16)","v":-250},{"$f":"X25+W25","v":-850},{"$f":"W25+Z24","v":29400},{"$f":"AD24-AD24+AC25-AB25","v":-486.11642328380776},{"$f":"-AD24*$U$15/$U$16","v":-250},{"$f":"-IF($U$18>=T25,$V$12*$U$15/$U$16,IF($U$17+$U$18>=T25,$V$12*$AB$20,0))","v":-736.11642328380776},{"$f":"AD24+AA25","v":29513.883576716191},{"$f":"IF($U$14=\"Alemán\",W25,AA25)","v":-486.11642328380776},{"$f":"IF($U$14=\"Alemán\",X25,AB25)","v":-250},{"$f":"IF($U$14=\"Alemán\",Y25,AC25)","v":-736.11642328380776},{"$f":"IF($U$14=\"Alemán\",Z25,AD25)","v":29513.883576716191},{"$f":"SUMPRODUCT((U25='Comparación Alternativas'!$Z$5:$Z$246)*('Comparación Alternativas'!$AA$5:$AA$246=Alternativas!V25)*('Comparación Alternativas'!$AV$5:$AV$246))","v":-82239.306497554309},{"$f":"SUMPRODUCT((U25='Comparación Alternativas'!$Z$5:$Z$246)*('Comparación Alternativas'!$AA$5:$AA$246=Alternativas!V25)*('Comparación Alternativas'!$BF$5:$BF$246))","v":-736.11642328380776}]
[null,2,{"$f":"IF(C25+SUMPRODUCT(($C$16='Para Ocultar'!$A$2:$A$7)*('Para Ocultar'!$C$2:$C$7))>12,(C25+SUMPRODUCT(($C$16='Para Ocultar'!$A$2:$A$7)*('Para Ocultar'!$C$2:$C$7)))-12,C25+SUMPRODUCT(($C$16='Para Ocultar'!$A$2:$A$7)*('Para Ocultar'!$C$2:$C$7)))","v":3},{"$f":"IF(C26<=C25,D25+1,D25)","v":2022},{"$f":"IF($C$18>=B26,0,-IF(B26<=$C$17+$C$18,$D$12/$C$17,0))","v":-800},{"$f":"-H25*($C$15/$C$16)","v":-466.66666666666669},-1266.6666666666667,{"$f":"E26+H25","v":19200},{"$f":"L25-L25+K26-J26","v":-598.26539653604891},{"$f":"-L25*$C$15/$C$16","v":-466.66666666666674},{"$f":"-IF($C$18>=B26,$D$12*$C$15/$C$16,IF($C$17+$C$18>=B26,$D$12*$J$20,0))","v":-1064.9320632027157},{"$f":"L25+I26","v":19401.734603463952},-800,-466.66666666666669,-1266.6666666666667,19200,{"$f":"SUMPRODUCT((C26='Comparación Alternativas'!$Z$5:$Z$246)*(Alternativas!D26='Comparación Alternativas'!$AA$5:$AA$246)*('Comparación Alternativas'!$AQ$5:$AQ$246))","v":-1266.6666666666667},{"$f":"SUMPRODUCT((C26='Comparación Alternativas'!$Z$5:$Z$246)*('Comparación Alternativas'!$AA$5:$AA$246=Alternativas!D26)*('Comparación Alternativas'!$BA$5:$BA$246))","v":-10.261309795165273},null,2,{"$f":"IF(U25+SUMPRODUCT(($U$16='Para Ocultar'!$A$2:$A$7)*('Para Ocultar'!$C$2:$C$7))>12,(U25+SUMPRODUCT(($U$16='Para Ocultar'!$A$2:$A$7)*('Para Ocultar'!$C$2:$C$7)))-12,U25+SUMPRODUCT(($U$16='Para Ocultar'!$A$2:$A$7)*('Para Ocultar'!$C$2:$C$7)))","v":3},{"$f":"IF(U26<=U25,V25+1,V25)","v":2022},{"$f":"IF($U$18>=T26,0,-IF(T26<=$U$17+$U$18,$V$12/$U$17,0))","v":-600},{"$f":"-Z25*($U$15/$U$16)","v":-245},-845,{"$f":"W26+Z25","v":28800},{"$f":"AD25-AD25+AC26-AB26","v":-490.16739347783948},{"$f":"-AD25*$U$15/$U$16","v":-245.94902980596828},{"$f":"-IF($U$18>=T26,$V$12*$U$15/$U$16,IF($U$17+$U$18>=T26,$V$12*$AB$20,0))","v":-736.11642328380776},{"$f":"AD25+AA26","v":29023.71618323835},-490.16739347783948,-245.94902980596828,-736.11642328380776,29023.71618323835,{"$f":"SUMPRODUCT((U26='Comparación Alternativas'!$Z$5:$Z$246)*('Comparación Alternativas'!$AA$5:$AA$246=Alternativas!V26)*('Comparación Alternativas'!$AV$5:$AV$246))","v":-90866.970666727837},{"$f":"SUMPRODUCT((U26='Comparación Alternativas'!$Z$5:$Z$246)*('Comparación Alternativas'!$AA$5:$AA$246=Alternativas!V26)*('Comparación Alternativas'!$BF$5:$BF$246))","v":-736.11642328380776}]
[null,3,{"$f":"IF(C26+SUMPRODUCT(($C$16='Para Ocultar'!$A$2:$A$7)*('Para Ocultar'!$C$2:$C$7))>12,(C26+SUMPRODUCT(($C$16='Para Ocultar'!$A$2:$A$7)*('Para Ocultar'!$C$2:$C$7)))-12,C26+SUMPRODUCT(($C$16='Para Ocultar'!$A$2:$A$7)*('Para Ocultar'!$C$2:$C$7)))","v":4},{"$f":"IF(C27<=C26,D26+1,D26)","v":2022},{"$f":"IF($C$18>=B27,0,-IF(B27<=$C$17+$C$18,$D$12/$C$17,0))","v":-800},-448,-1248,{"$f":"E27+H26","v":18400},-612.22492245522335,-452.70714074749225,-1064.9320632027157,18789.509681008727,-800,-448,-1248,18400,{"$f":"SUMPRODUCT((C27='Comparación Alternativas'!$Z$5:$Z$246)*(Alternativas!D27='Comparación Alternativas'!$AA$5:$AA$246)*('Comparación Alternativas'!$AQ$5:$AQ$246))","v":-1248},{"$f":"SUMPRODUCT((C27='Comparación Alternativas'!$Z$5:$Z$246)*('Comparación Alternativas'!$AA$5:$AA$246=Alternativas!D27)*('Comparación Alternativas'!$BA$5:$BA$246))","v":-9.2333953260231532},null,3,{"$f":"IF(U26+SUMPRODUCT(($U$16='Para Ocultar'!$A$2:$A$7)*('Para Ocultar'!$C$2:$C$7))>12,(U26+SUMPRODUCT(($U$16='Para Ocultar'!$A$2:$A$7)*('Para Ocultar'!$C$2:$C$7)))-12,U26+SUMPRODUCT(($U$16='Para Ocultar'!$A$2:$A$7)*('Para Ocultar'!$C$2:$C$7)))","v":4},2022,-600,-240,-840,28200,-494.25212175682145,{"$f":"-AD26*$U$15/$U$16","v":-241.86430152698628},{"$f":"-IF($U$18>=T27,$V$12*$U$15/$U$16,IF($U$17+$U$18>=T27,$V$12*$AB$20,0))","v":-736.11642328380776},{"$f":"AD26+AA27","v":28529.464061481529},-494.25212175682145,-241.86430152698628,-736.11642328380776,28529.464061481529,{"$f":"SUMPRODUCT((U27='Comparación Alternativas'!$Z$5:$Z$246)*('Comparación Alternativas'!$AA$5:$AA$246=Alternativas!V27)*('Comparación Alternativas'!$AV$5:$AV$246))","v":-99494.634835901365},{"$f":"SUMPRODUCT((U27='Comparación Alternativas'!$Z$5:$Z$246)*('Comparación Alternativas'!$AA$5:$AA$246=Alternativas!V27)*('Comparación Alternativas'!$BF$5:$BF$246))","v":-736.11642328380776}]
[null,4,{"$f":"IF(C27+SUMPRODUCT(($C$16='Para Ocultar'!$A$2:$A$7)*('Para Ocultar'!$C$2:$C$7))>12,(C27+SUMPRODUCT(($C$16='Para Ocultar'!$A$2:$A$7)*('Para Ocultar'!$C$2:$C$7)))-12,C27+SUMPRODUCT(($C$16='Para Ocultar'!$A$2:$A$7)*('Para Ocultar'!$C$2:$C$7)))","v":5},2022,{"$f":"IF($C$18>=B28,0,-IF(B28<=$C$17+$C$18,$D$12/$C$17,0))","v":-800},-429.33333333333337,-1229.3333333333335,17600,-626.51017064584539,-438.42189255687032,-1064.9320632027157,18162.999510362883,-800,-429.33333333333337,-1229.3333333333335,17600,{"$f":"SUMPRODUCT((C28='Comparación Alternativas'!$Z$5:$Z$246)*(Alternativas!D28='Comparación Alternativas'!$AA$5:$AA$246)*('Comparación Alternativas'!$AQ$5:$AQ$246))","v":-1229.3333333333335},{"$f":"SUMPRODUCT((C28='Comparación Alternativas'!$Z$5:$Z$246)*('Comparación Alternativas'!$AA$5:$AA$246=Alternativas!D28)*('Comparación Alternativas'!$BA$5:$BA$246))","v":-8.3695265887235717},null,4,{"$f":"IF(U27+SUMPRODUCT(($U$16='Para Ocultar'!$A$2:$A$7)*('Para Ocultar'!$C$2:$C$7))>12,(U27+SUMPRODUCT(($U$16='Para Ocultar'!$A$2:$A$7)*('Para Ocultar'!$C$2:$C$7)))-12,U27+SUMPRODUCT(($U$16='Para Ocultar'!$A$2:$A$7)*('Para Ocultar'!$C$2:$C$7)))","v":5},2022,-600,-235,-835,27600,-498.3708894381283,-237.74553384567943,-736.11642328380776,28031.093172043402,-498.3708894381283,-237.74553384567943,-736.11642328380776,28031.093172043402,{"$f":"SUMPRODUCT((U28='Comparación Alternativas'!$Z$5:$Z$246)*('Comparación Alternativas'!$AA$5:$AA$246=Alternativas!V28)*('Comparación Alternativas'!$AV$5:$AV$246))","v":-108122.29900507489},{"$f":"SUMPRODUCT((U28='Comparación Alternativas'!$Z$5:$Z$246)*('Comparación Alternativas'!$AA$5:$AA$246=Alternativas!V28)*('Comparación Alternativas'!$BF$5:$BF$246))","v":-736.11642328380776}]
[null,5,{"$f":"IF(C28+SUMPRODUCT(($C$16='Para Ocultar'!$A$2:$A$7)*('Para Ocultar'!$C$2:$C$7))>12,(C28+SUMPRODUCT(($C$16='Para Ocultar'!$A$2:$A$7)*('Para Ocultar'!$C$2:$C$7)))-12,C28+SUMPRODUCT(($C$16='Para Ocultar'!$A$2:$A$7)*('Para Ocultar'!$C$2:$C$7)))","v":6},2022,{"$f":"IF($C$18>=B29,0,-IF(B29<=$C$17+$C$18,$D$12/$C$17,0))","v":-800},-410.66666666666669,-1210.6666666666667,16800,-641.12874129424836,-423.8033219084673,-1064.9320632027157,17521.870769068635,-800,-410.66666666666669,-1210.6666666666667,16800,{"$f":"SUMPRODUCT((C29='Comparación Alternativas'!$Z$5:$Z$246)*(Alternativas!D29='Comparación Alternativas'!$AA$5:$AA$246)*('Comparación Alternativas'!$AQ$5:$AQ$246))","v":-1210.6666666666667},{"$f":"SUMPRODUCT((C29='Comparación Alternativas'!$Z$5:$Z$246)*('Comparación Alternativas'!$AA$5:$AA$246=Alternativas!D29)*('Comparación Alternativas'!$BA$5:$BA$246))","v":-7.6333353109970581},null,5,{"$f":"IF(U28+SUMPRODUCT(($U$16='Para Ocultar'!$A$2:$A$7)*('Para Ocultar'!$C$2:$C$7))>12,(U28+SUMPRODUCT(($U$16='Para Ocultar'!$A$2:$A$7)*('Para Ocultar'!$C$2:$C$7)))-12,U28+SUMPRODUCT(($U$16='Para Ocultar'!$A$2:$A$7)*('Para Ocultar'!$C$2:$C$7)))","v":6},2022,-600,-230,-830,27000,-502.52398018344604,-233.59244310036169,-736.11642328380776,27528.569191859955,-502.52398018344604,-233.59244310036169,-736.11642328380776,27528.569191859955,{"$f":"SUMPRODUCT((U29='Comparación Alternativas'!$Z$5:$Z$246)*('Comparación Alternativas'!$AA$5:$AA$246=Alternativas!V29)*('Comparación Alternativas'!$AV$5:$AV$246))","v":-116749.96317424842},{"$f":"SUMPRODUCT((U29='Comparación Alternativas'!$Z$5:$Z$246)*('Comparación Alternativas'!$AA$5:$AA$246=Alternativas!V29)*('Comparación Alternativas'!$BF$5:$BF$246))","v":-736.11642328380776}]
[null,6,{"$f":"IF(C29+SUMPRODUCT(($C$16='Para Ocultar'!$A$2:$A$7)*('Para Ocultar'!$C$2:$C$7))>12,(C29+SUMPRODUCT(($C$16='Para Ocultar'!$A$2:$A$7)*('Para Ocultar'!$C$2:$C$7)))-12,C29+SUMPRODUCT(($C$16='Para Ocultar'!$A$2:$A$7)*('Para Ocultar'!$C$2:$C$7)))","v":7},2022,{"$f":"IF($C$18>=B30,0,-IF(B30<=$C$17+$C$18,$D$12/$C$17,0))","v":-800},-392,-1192,16000,-656.08841192444743,-408.84365127826823,-1064.9320632027157,16865.782357144188,-800,-392,-1192,16000,{"$f":"SUMPRODUCT((C30='Comparación Alternativas'!$Z$5:$Z$246)*(Alternativas!D30='Comparación Alternativas'!$AA$5:$AA$246)*('Comparación Alternativas'!$AQ$5:$AQ$246))","v":-1192},{"$f":"SUMPRODUCT((C30='Comparación Alternativas'!$Z$5:$Z$246)*('Comparación Alternativas'!$AA$5:$AA$246=Alternativas!D30)*('Comparación Alternativas'!$BA$5:$BA$246))","v":-6.9984637223264148},null,6,{"$f":"IF(U29+SUMPRODUCT(($U$16='Para Ocultar'!$A$2:$A$7)*('Para Ocultar'!$C$2:$C$7))>12,(U29+SUMPRODUCT(($U$16='Para Ocultar'!$A$2:$A$7)*('Para Ocultar'!$C$2:$C$7)))-12,U29+SUMPRODUCT(($U$16='Para Ocultar'!$A$2:$A$7)*('Para Ocultar'!$C$2:$C$7)))","v":7},2022,-600,-225,-825,26400,-506.71168001830813,-229.40474326549963,-736.11642328380776,27021.857511841648,-506.71168001830813,-229.40474326549963,-736.11642328380776,27021.857511841648,{"$f":"SUMPRODUCT((U30='Comparación Alternativas'!$Z$5:$Z$246)*('Comparación Alternativas'!$AA$5:$AA$246=Alternativas!V30)*('Comparación Alternativas'!$AV$5:$AV$246))","v":-125377.62734342195},{"$f":"SUMPRODUCT((U30='Comparación Alternativas'!$Z$5:$Z$246)*('Comparación Alternativas'!$AA$5:$AA$246=Alternativas!V30)*('Comparación Alternativas'!$BF$5:$BF$246))","v":-736.11642328380776}]
[null,7,{"$f":"IF(C30+SUMPRODUCT(($C$16='Para Ocultar'!$A$2:$A$7)*('Para Ocultar'!$C$2:$C$7))>12,(C30+SUMPRODUCT(($C$16='Para Ocultar'!$A$2:$A$7)*('Para Ocultar'!$C$2:$C$7)))-12,C30+SUMPRODUCT(($C$16='Para Ocultar'!$A$2:$A$7)*('Para Ocultar'!$C$2:$C$7)))","v":8},2022,-800,-373.33333333333337,-1173.3333333333335,15200,-671.3971415360179,-393.53492166669776,-1064.9320632027157,16194.38521560817,-800,-373.33333333333337,-1173.3333333333335,15200,{"$f":"SUMPRODUCT((C31='Comparación Alternativas'!$Z$5:$Z$246)*(Alternativas!D31='Comparación Alternativas'!$AA$5:$AA$246)*('Comparación Alternativas'!$AQ$5:$AQ$246))","v":-1173.3333333333335},{"$f":"SUMPRODUCT((C31='Comparación Alternativas'!$Z$5:$Z$246)*('Comparación Alternativas'!$AA$5:$AA$246=Alternativas!D31)*('Comparación Alternativas'!$BA$5:$BA$246))","v":-6.445342022720193},null,7,{"$f":"IF(U30+SUMPRODUCT(($U$16='Para Ocultar'!$A$2:$A$7)*('Para Ocultar'!$C$2:$C$7))>12,(U30+SUMPRODUCT(($U$16='Para Ocultar'!$A$2:$A$7)*('Para Ocultar'!$C$2:$C$7)))-12,U30+SUMPRODUCT(($U$16='Para Ocultar'!$A$2:$A$7)*('Para Ocultar'!$C$2:$C$7)))","v":8},2022,-600,-220,-820,25800,-510.93427735179398,-225.18214593201375,-736.11642328380776,26510.923234489856,-510.93427735179398,-225.18214593201375,-736.11642328380776,26510.923234489856,{"$f":"SUMPRODUCT((U31='Comparación Alternativas'!$Z$5:$Z$246)*('Comparación Alternativas'!$AA$5:$AA$246=Alternativas!V31)*('Comparación Alternativas'!$AV$5:$AV$246))","v":-134005.29151259549},{"$f":"SUMPRODUCT((U31='Comparación Alternativas'!$Z$5:$Z$246)*('Comparación Alternativas'!$AA$5:$AA$246=Alternativas!V31)*('Comparación Alternativas'!$BF$5:$BF$246))","v":-736.11642328380788}]
[null,8,{"$f":"IF(C31+SUMPRODUCT(($C$16='Para Ocultar'!$A$2:$A$7)*('Para Ocultar'!$C$2:$C$7))>12,(C31+SUMPRODUCT(($C$16='Para Ocultar'!$A$2:$A$7)*('Para Ocultar'!$C$2:$C$7)))-12,C31+SUMPRODUCT(($C$16='Para Ocultar'!$A$2:$A$7)*('Para Ocultar'!$C$2:$C$7)))","v":9},2022,-800,-354.66666666666669,-1154.6666666666667,14400,-687.06307483852493,-377.86898836419067,-1064.9320632027157,15507.322140769646,-800,-354.66666666666669,-1154.6666666666667,14400,{"$f":"SUMPRODUCT((C32='Comparación Alternativas'!$Z$5:$Z$246)*(Alternativas!D32='Comparación Alternativas'!$AA$5:$AA$246)*('Comparación Alternativas'!$AQ$5:$AQ$246))","v":-1154.6666666666667},{"$f":"SUMPRODUCT((C32='Comparación Alternativas'!$Z$5:$Z$246)*('Comparación Alternativas'!$AA$5:$AA$246=Alternativas!D32)*('Comparación Alternativas'!$BA$5:$BA$246))","v":-5.9591354094076614},null,8,{"$f":"IF(U31+SUMPRODUCT(($U$16='Para Ocultar'!$A$2:$A$7)*('Para Ocultar'!$C$2:$C$7))>12,(U31+SUMPRODUCT(($U$16='Para Ocultar'!$A$2:$A$7)*('Para Ocultar'!$C$2:$C$7)))-12,U31+SUMPRODUCT(($U$16='Para Ocultar'!$A$2:$A$7)*('Para Ocultar'!$C$2:$C$7)))","v":9},2022,-600,-215,-815,25200,-515.19206299639234,-220.92436028741545,-736.11642328380776,25995.731171493462,-515.19206299639234,-220.92436028741545,-736.11642328380776,25995.731171493462,{"$f":"SUMPRODUCT((U32='Comparación Alternativas'!$Z$5:$Z$246)*('Comparación Alternativas'!$AA$5:$AA$246=Alternativas!V32)*('Comparación Alternativas'!$AV$5:$AV$246))","v":-142632.955681769},{"$f":"SUMPRODUCT((U32='Comparación Alternativas'!$Z$5:$Z$246)*('Comparación Alternativas'!$AA$5:$AA$246=Alternativas!V32)*('Comparación Alternativas'!$BF$5:$BF$246))","v":-736.11642328380776}]
[null,9,{"$f":"IF(C32+SUMPRODUCT(($C$16='Para Ocultar'!$A$2:$A$7)*('Para Ocultar'!$C$2:$C$7))>12,(C32+SUMPRODUCT(($C$16='Para Ocultar'!$A$2:$A$7)*('Para Ocultar'!$C$2:$C$7)))-12,C32+SUMPRODUCT(($C$16='Para Ocultar'!$A$2:$A$7)*('Para Ocultar'!$C$2:$C$7)))","v":10},2022,-800,-336,-1136,13600,-703.09454658475715,-361.83751661795844,-1064.9320632027157,14804.227594184889,-800,-336,-1136,13600,{"$f":"SUMPRODUCT((C33='Comparación Alternativas'!$Z$5:$Z$246)*(Alternativas!D33='Comparación Alternativas'!$AA$5:$AA$246)*('Comparación Alternativas'!$AQ$5:$AQ$246))","v":-1136},{"$f":"SUMPRODUCT((C33='Comparación Alternativas'!$Z$5:$Z$246)*('Comparación Alternativas'!$AA$5:$AA$246=Alternativas!D33)*('Comparación Alternativas'!$BA$5:$BA$246))","v":-5.5283936934441629},null,9,{"$f":"IF(U32+SUMPRODUCT(($U$16='Para Ocultar'!$A$2:$A$7)*('Para Ocultar'!$C$2:$C$7))>12,(U32+SUMPRODUCT(($U$16='Para Ocultar'!$A$2:$A$7)*('Para Ocultar'!$C$2:$C$7)))-12,U32+SUMPRODUCT(($U$16='Para Ocultar'!$A$2:$A$7)*('Para Ocultar'!$C$2:$C$7)))","v":10},2022,-600,-210,-810,24600,-519.48533018802891,-216.63109309577885,-736.11642328380776,25476.245841305434,-519.48533018802891,-216.63109309577885,-736.11642328380776,25476.245841305434,{"$f":"SUMPRODUCT((U33='Comparación Alternativas'!$Z$5:$Z$246)*('Comparación Alternativas'!$AA$5:$AA$246=Alternativas!V33)*('Comparación Alternativas'!$AV$5:$AV$246))","v":-151260.61985094254},{"$f":"SUMPRODUCT((U33='Comparación Alternativas'!$Z$5:$Z$246)*('Comparación Alternativas'!$AA$5:$AA$246=Alternativas!V33)*('Comparación Alternativas'!$BF$5:$BF$246))","v":-736.11642328380776}]
[null,10,{"$f":"IF(C33+SUMPRODUCT(($C$16='Para Ocultar'!$A$2:$A$7)*('Para Ocultar'!$C$2:$C$7))>12,(C33+SUMPRODUCT(($C$16='Para Ocultar'!$A$2:$A$7)*('Para Ocultar'!$C$2:$C$7)))-12,C33+SUMPRODUCT(($C$16='Para Ocultar'!$A$2:$A$7)*('Para Ocultar'!$C$2:$C$7)))","v":11},2022,-800,-317.33333333333337,-1117.3333333333335,12800,-719.50008600506817,-345.43197719764748,-1064.9320632027157,14084.727508179822,-800,-317.33333333333337,-1117.3333333333335,12800,{"$f":"SUMPRODUCT((C34='Comparación Alternativas'!$Z$5:$Z$246)*(Alternativas!D34='Comparación Alternativas'!$AA$5:$AA$246)*('Comparación Alternativas'!$AQ$5:$AQ$246))","v":-1117.3333333333335},{"$f":"SUMPRODUCT((C34='Comparación Alternativas'!$Z$5:$Z$246)*('Comparación Alternativas'!$AA$5:$AA$246=Alternativas!D34)*('Comparación Alternativas'!$BA$5:$BA$246))","v":-5.1441381211247981},null,10,{"$f":"IF(U33+SUMPRODUCT(($U$16='Para Ocultar'!$A$2:$A$7)*('Para Ocultar'!$C$2:$C$7))>12,(U33+SUMPRODUCT(($U$16='Para Ocultar'!$A$2:$A$7)*('Para Ocultar'!$C$2:$C$7)))-12,U33+SUMPRODUCT(($U$16='Para Ocultar'!$A$2:$A$7)*('Para Ocultar'!$C$2:$C$7)))","v":11},2022,-600,-205,-805,24000,-523.8143746062625,-212.30204867754529,-736.11642328380776,24952.43146669917,-523.8143746062625,-212.30204867754529,-736.11642328380776,24952.43146669917,{"$f":"SUMPRODUCT((U34='Comparación Alternativas'!$Z$5:$Z$246)*('Comparación Alternativas'!$AA$5:$AA$246=Alternativas!V34)*('Comparación Alternativas'!$AV$5:$AV$246))","v":-159888.28402011606},{"$f":"SUMPRODUCT((U34='Comparación Alternativas'!$Z$5:$Z$246)*('Comparación Alternativas'!$AA$5:$AA$246=Alternativas!V34)*('Comparación Alternativas'!$BF$5:$BF$246))","v":-736.11642328380776}]
[null,11,{"$f":"IF(C34+SUMPRODUCT(($C$16='Para Ocultar'!$A$2:$A$7)*('Para Ocultar'!$C$2:$C$7))>12,(C34+SUMPRODUCT(($C$16='Para Ocultar'!$A$2:$A$7)*('Para Ocultar'!$C$2:$C$7)))-12,C34+SUMPRODUCT(($C$16='Para Ocultar'!$A$2:$A$7)*('Para Ocultar'!$C$2:$C$7)))","v":12},2022,-800,-298.66666666666669,-1098.6666666666667,12000,-736.28842134518641,-328.64364185752919,-1064.9320632027157,13348.439086834635,-800,-298.66666666666669,-1098.6666666666667,12000,{"$f":"SUMPRODUCT((C35='Comparación Alternativas'!$Z$5:$Z$246)*(Alternativas!D35='Comparación Alternativas'!$AA$5:$AA$246)*('Comparación Alternativas'!$AQ$5:$AQ$246))","v":-1098.6666666666667},{"$f":"SUMPRODUCT((C35='Comparación Alternativas'!$Z$5:$Z$246)*('Comparación Alternativas'!$AA$5:$AA$246=Alternativas!D35)*('Comparación Alternativas'!$BA$5:$BA$246))","v":-7.8115636823371597},null,11,{"$f":"IF(U34+SUMPRODUCT(($U$16='Para Ocultar'!$A$2:$A$7)*('Para Ocultar'!$C$2:$C$7))>12,(U34+SUMPRODUCT(($U$16='Para Ocultar'!$A$2:$A$7)*('Para Ocultar'!$C$2:$C$7)))-12,U34+SUMPRODUCT(($U$16='Para Ocultar'!$A$2:$A$7)*('Para Ocultar'!$C$2:$C$7)))","v":12},2022,-600,-200,-800,23400,-528.17949439464803,-207.93692888915976,-736.11642328380776,24424.251972304522,-528.17949439464803,-207.93692888915976,-736.11642328380776,24424.251972304522,{"$f":"SUMPRODUCT((U35='Comparación Alternativas'!$Z$5:$Z$246)*('Comparación Alternativas'!$AA$5:$AA$246=Alternativas!V35)*('Comparación Alternativas'!$AV$5:$AV$246))","v":-103531.9700300823},{"$f":"SUMPRODUCT((U35='Comparación Alternativas'!$Z$5:$Z$246)*('Comparación Alternativas'!$AA$5:$AA$246=Alternativas!V35)*('Comparación Alternativas'!$BF$5:$BF$246))","v":-736.11642328380776}]
[null,12,{"$f":"IF(C35+SUMPRODUCT(($C$16='Para Ocultar'!$A$2:$A$7)*('Para Ocultar'!$C$2:$C$7))>12,(C35+SUMPRODUCT(($C$16='Para Ocultar'!$A$2:$A$7)*('Para Ocultar'!$C$2:$C$7)))-12,C35+SUMPRODUCT(($C$16='Para Ocultar'!$A$2:$A$7)*('Para Ocultar'!$C$2:$C$7)))","v":1},2023,-800,-280,-1080,11200,-753.46848450990751,-311.4635786928082,-1064.9320632027157,12594.970602324727,-800,-280,-1080,11200,{"$f":"SUMPRODUCT((C36='Comparación Alternativas'!$Z$5:$Z$246)*(Alternativas!D36='Comparación Alternativas'!$AA$5:$AA$246)*('Comparación Alternativas'!$AQ$5:$AQ$246))","v":-1080},{"$f":"SUMPRODUCT((C36='Comparación Alternativas'!$Z$5:$Z$246)*('Comparación Alternativas'!$AA$5:$AA$246=Alternativas!D36)*('Comparación Alternativas'!$BA$5:$BA$246))","v":-7.5076877680785499},null,12,{"$f":"IF(U35+SUMPRODUCT(($U$16='Para Ocultar'!$A$2:$A$7)*('Para Ocultar'!$C$2:$C$7))>12,(U35+SUMPRODUCT(($U$16='Para Ocultar'!$A$2:$A$7)*('Para Ocultar'!$C$2:$C$7)))-12,U35+SUMPRODUCT(($U$16='Para Ocultar'!$A$2:$A$7)*('Para Ocultar'!$C$2:$C$7)))","v":1},2023,-600,-195,-795,22800,-532.58099018127007,-203.5354331025377,-736.11642328380776,23891.670982123251,-532.58099018127007,-203.5354331025377,-736.11642328380776,23891.670982123251,{"$f":"SUMPRODUCT((U36='Comparación Alternativas'!$Z$5:$Z$246)*('Comparación Alternativas'!$AA$5:$AA$246=Alternativas!V36)*('Comparación Alternativas'!$AV$5:$AV$246))","v":-105892.22164069551},{"$f":"SUMPRODUCT((U36='Comparación Alternativas'!$Z$5:$Z$246)*('Comparación Alternativas'!$AA$5:$AA$246=Alternativas!V36)*('Comparación Alternativas'!$BF$5:$BF$246))","v":-736.11642328380776}]
[null,13,{"$f":"IF(C36+SUMPRODUCT(($C$16='Para Ocultar'!$A$2:$A$7)*('Para Ocultar'!$C$2:$C$7))>12,(C36+SUMPRODUCT(($C$16='Para Ocultar'!$A$2:$A$7)*('Para Ocultar'!$C$2:$C$7)))-12,C36+SUMPRODUCT(($C$16='Para Ocultar'!$A$2:$A$7)*('Para Ocultar'!$C$2:$C$7)))","v":2},2023,-800,-261.33333333333337,-1061.3333333333335,10400,-771.04941581513867,-293.88264738757698,-1064.9320632027157,11823.921186509589,-800,-261.33333333333337,-1061.3333333333335,10400,{"$f":"SUMPRODUCT((C37='Comparación Alternativas'!$Z$5:$Z$246)*(Alternativas!D37='Comparación Alternativas'!$AA$5:$AA$246)*('Comparación Alternativas'!$AQ$5:$AQ$246))","v":-1061.3333333333335},{"$f":"SUMPRODUCT((C37='Comparación Alternativas'!$Z$5:$Z$246)*('Comparación Alternativas'!$AA$5:$AA$246=Alternativas!D37)*('Comparación Alternativas'!$BA$5:$BA$246))","v":-7.2170627957063296},null,13,{"$f":"IF(U36+SUMPRODUCT(($U$16='Para Ocultar'!$A$2:$A$7)*('Para Ocultar'!$C$2:$C$7))>12,(U36+SUMPRODUCT(($U$16='Para Ocultar'!$A$2:$A$7)*('Para Ocultar'!$C$2:$C$7)))-12,U36+SUMPRODUCT(($U$16='Para Ocultar'!$A$2:$A$7)*('Para Ocultar'!$C$2:$C$7)))","v":2},2023,-600,-190,-790,22200,-537.01916509944738,-199.09725818436041,-736.11642328380776,23354.651817023805,-537.01916509944738,-199.09725818436041,-736.11642328380776,23354.651817023805,{"$f":"SUMPRODUCT((U37='Comparación Alternativas'!$Z$5:$Z$246)*('Comparación Alternativas'!$AA$5:$AA$246=Alternativas!V37)*('Comparación Alternativas'!$AV$5:$AV$246))","v":-108252.47325130872},{"$f":"SUMPRODUCT((U37='Comparación Alternativas'!$Z$5:$Z$246)*('Comparación Alternativas'!$AA$5:$AA$246=Alternativas!V37)*('Comparación Alternativas'!$BF$5:$BF$246))","v":-736.11642328380776}]
[null,14,{"$f":"IF(C37+SUMPRODUCT(($C$16='Para Ocultar'!$A$2:$A$7)*('Para Ocultar'!$C$2:$C$7))>12,(C37+SUMPRODUCT(($C$16='Para Ocultar'!$A$2:$A$7)*('Para Ocultar'!$C$2:$C$7)))-12,C37+SUMPRODUCT(($C$16='Para Ocultar'!$A$2:$A$7)*('Para Ocultar'!$C$2:$C$7)))","v":3},2023,-800,-242.66666666666669,-1042.6666666666667,9600,-789.04056885082514,-275.89149435189046,-1064.9320632027157,11034.880617658764,-800,-242.66666666666669,-1042.6666666666667,9600,{"$f":"SUMPRODUCT((C38='Comparación Alternativas'!$Z$5:$Z$246)*(Alternativas!D38='Comparación Alternativas'!$AA$5:$AA$246)*('Comparación Alternativas'!$AQ$5:$AQ$246))","v":-1042.6666666666667},{"$f":"SUMPRODUCT((C38='Comparación Alternativas'!$Z$5:$Z$246)*('Comparación Alternativas'!$AA$5:$AA$246=Alternativas!D38)*('Comparación Alternativas'!$BA$5:$BA$246))","v":-6.9388405204014161},null,14,{"$f":"IF(U37+SUMPRODUCT(($U$16='Para Ocultar'!$A$2:$A$7)*('Para Ocultar'!$C$2:$C$7))>12,(U37+SUMPRODUCT(($U$16='Para Ocultar'!$A$2:$A$7)*('Para Ocultar'!$C$2:$C$7)))-12,U37+SUMPRODUCT(($U$16='Para Ocultar'!$A$2:$A$7)*('Para Ocultar'!$C$2:$C$7)))","v":3},2023,-600,-185,-785,21600,-541.49432480860935,-194.62209847519838,-736.11642328380776,22813.157492215196,-541.49432480860935,-194.62209847519838,-736.11642328380776,22813.157492215196,{"$f":"SUMPRODUCT((U38='Comparación Alternativas'!$Z$5:$Z$246)*('Comparación Alternativas'!$AA$5:$AA$246=Alternativas!V38)*('Comparación Alternativas'!$AV$5:$AV$246))","v":-110612.72486192192},{"$f":"SUMPRODUCT((U38='Comparación Alternativas'!$Z$5:$Z$246)*('Comparación Alternativas'!$AA$5:$AA$246=Alternativas!V38)*('Comparación Alternativas'!$BF$5:$BF$246))","v":-736.11642328380776}]
[null,15,{"$f":"IF(C38+SUMPRODUCT(($C$16='Para Ocultar'!$A$2:$A$7)*('Para Ocultar'!$C$2:$C$7))>12,(C38+SUMPRODUCT(($C$16='Para Ocultar'!$A$2:$A$7)*('Para Ocultar'!$C$2:$C$7)))-12,C38+SUMPRODUCT(($C$16='Para Ocultar'!$A$2:$A$7)*('Para Ocultar'!$C$2:$C$7)))","v":4},2023,-800,-224,-1024,8800,-807.45151545734439,-257.48054774537121,-1064.9320632027157,10227.42910220142,-800,-224,-1024,8800,{"$f":"SUMPRODUCT((C39='Comparación Alternativas'!$Z$5:$Z$246)*(Alternativas!D39='Comparación Alternativas'!$AA$5:$AA$246)*('Comparación Alternativas'!$AQ$5:$AQ$246))","v":-1024},{"$f":"SUMPRODUCT((C39='Comparación Alternativas'!$Z$5:$Z$246)*('Comparación Alternativas'!$AA$5:$AA$246=Alternativas!D39)*('Comparación Alternativas'!$BA$5:$BA$246))","v":-6.6722435840740326},null,15,{"$f":"IF(U38+SUMPRODUCT(($U$16='Para Ocultar'!$A$2:$A$7)*('Para Ocultar'!$C$2:$C$7))>12,(U38+SUMPRODUCT(($U$16='Para Ocultar'!$A$2:$A$7)*('Para Ocultar'!$C$2:$C$7)))-12,U38+SUMPRODUCT(($U$16='Para Ocultar'!$A$2:$A$7)*('Para Ocultar'!$C$2:$C$7)))","v":4},2023,-600,-180,-780,21000,-546.00677751534784,-190.10964576845996,-736.11642328380776,22267.150714699848,-546.00677751534784,-190.10964576845996,-736.11642328380776,22267.150714699848,{"$f":"SUMPRODUCT((U39='Comparación Alternativas'!$Z$5:$Z$246)*('Comparación Alternativas'!$AA$5:$AA$246=Alternativas!V39)*('Comparación Alternativas'!$AV$5:$AV$246))","v":-112972.97647253513},{"$f":"SUMPRODUCT((U39='Comparación Alternativas'!$Z$5:$Z$246)*('Comparación Alternativas'!$AA$5:$AA$246=Alternativas!V39)*('Comparación Alternativas'!$BF$5:$BF$246))","v":-736.11642328380776}]
[null,16,{"$f":"IF(C39+SUMPRODUCT(($C$16='Para Ocultar'!$A$2:$A$7)*('Para Ocultar'!$C$2:$C$7))>12,(C39+SUMPRODUCT(($C$16='Para Ocultar'!$A$2:$A$7)*('Para Ocultar'!$C$2:$C$7)))-12,C39+SUMPRODUCT(($C$16='Para Ocultar'!$A$2:$A$7)*('Para Ocultar'!$C$2:$C$7)))","v":5},2023,-800,-205.33333333333334,-1005.3333333333334,8000,-826.29205081801581,-238.64001238469984,-1064.9320632027157,9401.1370513834045,-800,-205.33333333333334,-1005.3333333333334,8000,{"$f":"SUMPRODUCT((C40='Comparación Alternativas'!$Z$5:$Z$246)*(Alternativas!D40='Comparación Alternativas'!$AA$5:$AA$246)*('Comparación Alternativas'!$AQ$5:$AQ$246))","v":-1005.3333333333334},{"$f":"SUMPRODUCT((C40='Comparación Alternativas'!$Z$5:$Z$246)*('Comparación Alternativas'!$AA$5:$AA$246=Alternativas!D40)*('Comparación Alternativas'!$BA$5:$BA$246))","v":-6.4165582620109731},null,16,{"$f":"IF(U39+SUMPRODUCT(($U$16='Para Ocultar'!$A$2:$A$7)*('Para Ocultar'!$C$2:$C$7))>12,(U39+SUMPRODUCT(($U$16='Para Ocultar'!$A$2:$A$7)*('Para Ocultar'!$C$2:$C$7)))-12,U39+SUMPRODUCT(($U$16='Para Ocultar'!$A$2:$A$7)*('Para Ocultar'!$C$2:$C$7)))","v":5},2023,-600,-175,-775,20400,-550.55683399464237,-185.55958928916542,-736.11642328380776,21716.593880705204,-550.55683399464237,-185.55958928916542,-736.11642328380776,21716.593880705204,{"$f":"SUMPRODUCT((U40='Comparación Alternativas'!$Z$5:$Z$246)*('Comparación Alternativas'!$AA$5:$AA$246=Alternativas!V40)*('Comparación Alternativas'!$AV$5:$AV$246))","v":-115333.22808314834},{"$f":"SUMPRODUCT((U40='Comparación Alternativas'!$Z$5:$Z$246)*('Comparación Alternativas'!$AA$5:$AA$246=Alternativas!V40)*('Comparación Alternativas'!$BF$5:$BF$246))","v":-736.11642328380776}]
[null,17,{"$f":"IF(C40+SUMPRODUCT(($C$16='Para Ocultar'!$A$2:$A$7)*('Para Ocultar'!$C$2:$C$7))>12,(C40+SUMPRODUCT(($C$16='Para Ocultar'!$A$2:$A$7)*('Para Ocultar'!$C$2:$C$7)))-12,C40+SUMPRODUCT(($C$16='Para Ocultar'!$A$2:$A$7)*('Para Ocultar'!$C$2:$C$7)))","v":6},2023,-800,-186.66666666666669,-986.66666666666674,7200,-845.57219867043625,-219.35986453227943,-1064.9320632027157,8555.5648527129688,-800,-186.66666666666669,-986.66666666666674,7200,{"$f":"SUMPRODUCT((C41='Comparación Alternativas'!$Z$5:$Z$246)*(Alternativas!D41='Comparación Alternativas'!$AA$5:$AA$246)*('Comparación Alternativas'!$AQ$5:$AQ$246))","v":-986.66666666666674},{"$f":"SUMPRODUCT((C41='Comparación Alternativas'!$Z$5:$Z$246)*('Comparación Alternativas'!$AA$5:$AA$246=Alternativas!D41)*('Comparación Alternativas'!$BA$5:$BA$246))","v":-6.1711280822851062},null,17,{"$f":"IF(U40+SUMPRODUCT(($U$16='Para Ocultar'!$A$2:$A$7)*('Para Ocultar'!$C$2:$C$7))>12,(U40+SUMPRODUCT(($U$16='Para Ocultar'!$A$2:$A$7)*('Para Ocultar'!$C$2:$C$7)))-12,U40+SUMPRODUCT(($U$16='Para Ocultar'!$A$2:$A$7)*('Para Ocultar'!$C$2:$C$7)))","v":6},2023,-600,-170,-770,19800,-555.14480761126435,-180.97161567254338,-736.11642328380776,21161.44907309394,-555.14480761126435,-180.97161567254338,-736.11642328380776,21161.44907309394,{"$f":"SUMPRODUCT((U41='Comparación Alternativas'!$Z$5:$Z$246)*('Comparación Alternativas'!$AA$5:$AA$246=Alternativas!V41)*('Comparación Alternativas'!$AV$5:$AV$246))","v":-117693.47969376155},{"$f":"SUMPRODUCT((U41='Comparación Alternativas'!$Z$5:$Z$246)*('Comparación Alternativas'!$AA$5:$AA$246=Alternativas!V41)*('Comparación Alternativas'!$BF$5:$BF$246))","v":-736.11642328380776}]
[null,18,{"$f":"IF(C41+SUMPRODUCT(($C$16='Para Ocultar'!$A$2:$A$7)*('Para Ocultar'!$C$2:$C$7))>12,(C41+SUMPRODUCT(($C$16='Para Ocultar'!$A$2:$A$7)*('Para Ocultar'!$C$2:$C$7)))-12,C41+SUMPRODUCT(($C$16='Para Ocultar'!$A$2:$A$7)*('Para Ocultar'!$C$2:$C$7)))","v":7},2023,-800,-168,-968,6400,-865.30221663941302,-199.62984656330264,-1064.9320632027157,7690.2626360735558,-800,-168,-968,6400,{"$f":"SUMPRODUCT((C42='Comparación Alternativas'!$Z$5:$Z$246)*(Alternativas!D42='Comparación Alternativas'!$AA$5:$AA$246)*('Comparación Alternativas'!$AQ$5:$AQ$246))","v":-968},{"$f":"SUMPRODUCT((C42='Comparación Alternativas'!$Z$5:$Z$246)*('Comparación Alternativas'!$AA$5:$AA$246=Alternativas!D42)*('Comparación Alternativas'!$BA$5:$BA$246))","v":-5.9353481978178237},null,18,{"$f":"IF(U41+SUMPRODUCT(($U$16='Para Ocultar'!$A$2:$A$7)*('Para Ocultar'!$C$2:$C$7))>12,(U41+SUMPRODUCT(($U$16='Para Ocultar'!$A$2:$A$7)*('Para Ocultar'!$C$2:$C$7)))-12,U41+SUMPRODUCT(($U$16='Para Ocultar'!$A$2:$A$7)*('Para Ocultar'!$C$2:$C$7)))","v":7},2023,-600,-165,-765,19200,-559.7710143413583,-176.3454089424495,-736.11642328380776,20601.678058752583,-559.7710143413583,-176.3454089424495,-736.11642328380776,20601.678058752583,{"$f":"SUMPRODUCT((U42='Comparación Alternativas'!$Z$5:$Z$246)*('Comparación Alternativas'!$AA$5:$AA$246=Alternativas!V42)*('Comparación Alternativas'!$AV$5:$AV$246))","v":-120053.73130437474},{"$f":"SUMPRODUCT((U42='Comparación Alternativas'!$Z$5:$Z$246)*('Comparación Alternativas'!$AA$5:$AA$246=Alternativas!V42)*('Comparación Alternativas'!$BF$5:$BF$246))","v":-736.11642328380776}]
[null,19,{"$f":"IF(C42+SUMPRODUCT(($C$16='Para Ocultar'!$A$2:$A$7)*('Para Ocultar'!$C$2:$C$7))>12,(C42+SUMPRODUCT(($C$16='Para Ocultar'!$A$2:$A$7)*('Para Ocultar'!$C$2:$C$7)))-12,C42+SUMPRODUCT(($C$16='Para Ocultar'!$A$2:$A$7)*('Para Ocultar'!$C$2:$C$7)))","v":8},2023,-800,-149.33333333333334,-949.33333333333337,5600,-885.49260169433262,-179.439461508383,-1064.9320632027157,6804.770034379223,-800,-149.33333333333334,-949.33333333333337,5600,{"$f":"SUMPRODUCT((C43='Comparación Alternativas'!$Z$5:$Z$246)*(Alternativas!D43='Comparación Alternativas'!$AA$5:$AA$246)*('Comparación Alternativas'!$AQ$5:$AQ$246))","v":-949.33333333333337},{"$f":"SUMPRODUCT((C43='Comparación Alternativas'!$Z$5:$Z$246)*('Comparación Alternativas'!$AA$5:$AA$246=Alternativas!D43)*('Comparación Alternativas'!$BA$5:$BA$246))","v":-5.7086604095116575},null,19,{"$f":"IF(U42+SUMPRODUCT(($U$16='Para Ocultar'!$A$2:$A$7)*('Para Ocultar'!$C$2:$C$7))>12,(U42+SUMPRODUCT(($U$16='Para Ocultar'!$A$2:$A$7)*('Para Ocultar'!$C$2:$C$7)))-12,U42+SUMPRODUCT(($U$16='Para Ocultar'!$A$2:$A$7)*('Para Ocultar'!$C$2:$C$7)))","v":8},2023,-600,-160,-760,18600,-564.43577279420288,-171.68065048960486,-736.11642328380776,20037.242285958378,-564.43577279420288,-171.68065048960486,-736.11642328380776,20037.242285958378,{"$f":"SUMPRODUCT((U43='Comparación Alternativas'!$Z$5:$Z$246)*('Comparación Alternativas'!$AA$5:$AA$246=Alternativas!V43)*('Comparación Alternativas'!$AV$5:$AV$246))","v":-122413.98291498795},{"$f":"SUMPRODUCT((U43='Comparación Alternativas'!$Z$5:$Z$246)*('Comparación Alternativas'!$AA$5:$AA$246=Alternativas!V43)*('Comparación Alternativas'!$BF$5:$BF$246))","v":-736.11642328380776}]
[null,20,{"$f":"IF(C43+SUMPRODUCT(($C$16='Para Ocultar'!$A$2:$A$7)*('Para Ocultar'!$C$2:$C$7))>12,(C43+SUMPRODUCT(($C$16='Para Ocultar'!$A$2:$A$7)*('Para Ocultar'!$C$2:$C$7)))-12,C43+SUMPRODUCT(($C$16='Para Ocultar'!$A$2:$A$7)*('Para Ocultar'!$C$2:$C$7)))","v":9},2023,-800,-130.66666666666669,-930.66666666666674,4800,-906.15409573386705,-158.77796746884854,-1064.9320632027157,5898.6159386453564,-800,-130.66666666666669,-930.66666666666674,4800,{"$f":"SUMPRODUCT((C44='Comparación Alternativas'!$Z$5:$Z$246)*(Alternativas!D44='Comparación Alternativas'!$AA$5:$AA$246)*('Comparación Alternativas'!$AQ$5:$AQ$246))","v":-930.66666666666674},{"$f":"SUMPRODUCT((C44='Comparación Alternativas'!$Z$5:$Z$246)*('Comparación Alternativas'!$AA$5:$AA$246=Alternativas!D44)*('Comparación Alternativas'!$BA$5:$BA$246))","v":-5.4905487542427363},null,20,{"$f":"IF(U43+SUMPRODUCT(($U$16='Para Ocultar'!$A$2:$A$7)*('Para Ocultar'!$C$2:$C$7))>12,(U43+SUMPRODUCT(($U$16='Para Ocultar'!$A$2:$A$7)*('Para Ocultar'!$C$2:$C$7)))-12,U43+SUMPRODUCT(($U$16='Para Ocultar'!$A$2:$A$7)*('Para Ocultar'!$C$2:$C$7)))","v":9},2023,-600,-155,-755,18000,-569.13940423415465,-166.97701904965317,-736.11642328380776,19468.102881724222,-569.13940423415465,-166.97701904965317,-736.11642328380776,19468.102881724222,{"$f":"SUMPRODUCT((U44='Comparación Alternativas'!$Z$5:$Z$246)*('Comparación Alternativas'!$AA$5:$AA$246=Alternativas!V44)*('Comparación Alternativas'!$AV$5:$AV$246))","v":-124774.23452560116},{"$f":"SUMPRODUCT((U44='Comparación Alternativas'!$Z$5:$Z$246)*('Comparación Alternativas'!$AA$5:$AA$246=Alternativas!V44)*('Comparación Alternativas'!$BF$5:$BF$246))","v":-736.11642328380776}]
[null,21,{"$f":"IF(C44+SUMPRODUCT(($C$16='Para Ocultar'!$A$2:$A$7)*('Para Ocultar'!$C$2:$C$7))>12,(C44+SUMPRODUCT(($C$16='Para Ocultar'!$A$2:$A$7)*('Para Ocultar'!$C$2:$C$7)))-12,C44+SUMPRODUCT(($C$16='Para Ocultar'!$A$2:$A$7)*('Para Ocultar'!$C$2:$C$7)))","v":10},2023,-800,-112,-912,4000,-927.29769130099066,-137.63437190172499,-1064.9320632027157,4971.3182473443658,-800,-112,-912,4000,{"$f":"SUMPRODUCT((C45='Comparación Alternativas'!$Z$5:$Z$246)*(Alternativas!D45='Comparación Alternativas'!$AA$5:$AA$246)*('Comparación Alternativas'!$AQ$5:$AQ$246))","v":-912},{"$f":"SUMPRODUCT((C45='Comparación Alternativas'!$Z$5:$Z$246)*('Comparación Alternativas'!$AA$5:$AA$246=Alternativas!D45)*('Comparación Alternativas'!$BA$5:$BA$246))","v":-5.2805355843067465},null,21,{"$f":"IF(U44+SUMPRODUCT(($U$16='Para Ocultar'!$A$2:$A$7)*('Para Ocultar'!$C$2:$C$7))>12,(U44+SUMPRODUCT(($U$16='Para Ocultar'!$A$2:$A$7)*('Para Ocultar'!$C$2:$C$7)))-12,U44+SUMPRODUCT(($U$16='Para Ocultar'!$A$2:$A$7)*('Para Ocultar'!$C$2:$C$7)))","v":10},2023,-600,-150,-750,17400,-573.88223260277255,-162.23419068103519,-736.11642328380776,18894.220649121449,-573.88223260277255,-162.23419068103519,-736.11642328380776,18894.220649121449,{"$f":"SUMPRODUCT((U45='Comparación Alternativas'!$Z$5:$Z$246)*('Comparación Alternativas'!$AA$5:$AA$246=Alternativas!V45)*('Comparación Alternativas'!$AV$5:$AV$246))","v":-127134.48613621437},{"$f":"SUMPRODUCT((U45='Comparación Alternativas'!$Z$5:$Z$246)*('Comparación Alternativas'!$AA$5:$AA$246=Alternativas!V45)*('Comparación Alternativas'!$BF$5:$BF$246))","v":-736.11642328380776}]
[null,22,{"$f":"IF(C45+SUMPRODUCT(($C$16='Para Ocultar'!$A$2:$A$7)*('Para Ocultar'!$C$2:$C$7))>12,(C45+SUMPRODUCT(($C$16='Para Ocultar'!$A$2:$A$7)*('Para Ocultar'!$C$2:$C$7)))-12,C45+SUMPRODUCT(($C$16='Para Ocultar'!$A$2:$A$7)*('Para Ocultar'!$C$2:$C$7)))","v":11},2023,-800,-93.333333333333343,-893.33333333333337,3200,-948.93463743134714,-115.99742577136855,-1064.9320632027157,4022.3836099130185,-800,-93.333333333333343,-893.33333333333337,3200,{"$f":"SUMPRODUCT((C46='Comparación Alternativas'!$Z$5:$Z$246)*(Alternativas!D46='Comparación Alternativas'!$AA$5:$AA$246)*('Comparación Alternativas'!$AQ$5:$AQ$246))","v":-893.33333333333337},{"$f":"SUMPRODUCT((C46='Comparación Alternativas'!$Z$5:$Z$246)*('Comparación Alternativas'!$AA$5:$AA$246=Alternativas!D46)*('Comparación Alternativas'!$BA$5:$BA$246))","v":-5.0781780756156252},null,22,{"$f":"IF(U45+SUMPRODUCT(($U$16='Para Ocultar'!$A$2:$A$7)*('Para Ocultar'!$C$2:$C$7))>12,(U45+SUMPRODUCT(($U$16='Para Ocultar'!$A$2:$A$7)*('Para Ocultar'!$C$2:$C$7)))-12,U45+SUMPRODUCT(($U$16='Para Ocultar'!$A$2:$A$7)*('Para Ocultar'!$C$2:$C$7)))","v":11},2023,-600,-145,-745,16800,-578.66458454112899,-157.45183874267875,-736.11642328380776,18315.55606458032,-578.66458454112899,-157.45183874267875,-736.11642328380776,18315.55606458032,{"$f":"SUMPRODUCT((U46='Comparación Alternativas'!$Z$5:$Z$246)*('Comparación Alternativas'!$AA$5:$AA$246=Alternativas!V46)*('Comparación Alternativas'!$AV$5:$AV$246))","v":-129494.73774682758},{"$f":"SUMPRODUCT((U46='Comparación Alternativas'!$Z$5:$Z$246)*('Comparación Alternativas'!$AA$5:$AA$246=Alternativas!V46)*('Comparación Alternativas'!$BF$5:$BF$246))","v":-736.11642328380776}]
[null,23,{"$f":"IF(C46+SUMPRODUCT(($C$16='Para Ocultar'!$A$2:$A$7)*('Para Ocultar'!$C$2:$C$7))>12,(C46+SUMPRODUCT(($C$16='Para Ocultar'!$A$2:$A$7)*('Para Ocultar'!$C$2:$C$7)))-12,C46+SUMPRODUCT(($C$16='Para Ocultar'!$A$2:$A$7)*('Para Ocultar'!$C$2:$C$7)))","v":12},2023,-800,-74.666666666666671,-874.66666666666663,2400,-971.07644563807855,-93.8556175646371,-1064.9320632027157,3051.3071642749401,-800,-74.666666666666671,-874.66666666666663,2400,{"$f":"SUMPRODUCT((C47='Comparación Alternativas'!$Z$5:$Z$246)*(Alternativas!D47='Comparación Alternativas'!$AA$5:$AA$246)*('Comparación Alternativas'!$AQ$5:$AQ$246))","v":-874.66666666666663},{"$f":"SUMPRODUCT((C47='Comparación Alternativas'!$Z$5:$Z$246)*('Comparación Alternativas'!$AA$5:$AA$246=Alternativas!D47)*('Comparación Alternativas'!$BA$5:$BA$246))","v":-4.8830651109214385},null,23,{"$f":"IF(U46+SUMPRODUCT(($U$16='Para Ocultar'!$A$2:$A$7)*('Para Ocultar'!$C$2:$C$7))>12,(U46+SUMPRODUCT(($U$16='Para Ocultar'!$A$2:$A$7)*('Para Ocultar'!$C$2:$C$7)))-12,U46+SUMPRODUCT(($U$16='Para Ocultar'!$A$2:$A$7)*('Para Ocultar'!$C$2:$C$7)))","v":12},2023,-600,-140,-740,16200,-583.48678941230514,-152.62963387150268,-736.11642328380776,17732.069275168014,-583.48678941230514,-152.62963387150268,-736.11642328380776,17732.069275168014,{"$f":"SUMPRODUCT((U47='Comparación Alternativas'!$Z$5:$Z$246)*('Comparación Alternativas'!$AA$5:$AA$246=Alternativas!V47)*('Comparación Alternativas'!$AV$5:$AV$246))","v":-131854.98935744088},{"$f":"SUMPRODUCT((U47='Comparación Alternativas'!$Z$5:$Z$246)*('Comparación Alternativas'!$AA$5:$AA$246=Alternativas!V47)*('Comparación Alternativas'!$BF$5:$BF$246))","v":-736.11642328380776}]
[null,24,{"$f":"IF(C47+SUMPRODUCT(($C$16='Para Ocultar'!$A$2:$A$7)*('Para Ocultar'!$C$2:$C$7))>12,(C47+SUMPRODUCT(($C$16='Para Ocultar'!$A$2:$A$7)*('Para Ocultar'!$C$2:$C$7)))-12,C47+SUMPRODUCT(($C$16='Para Ocultar'!$A$2:$A$7)*('Para Ocultar'!$C$2:$C$7)))","v":1},2024,-800,-56,-856,1600,-993.73489603630037,-71.197167166415269,-1064.9320632027157,2057.5722682386395,-800,-56,-856,1600,{"$f":"SUMPRODUCT((C48='Comparación Alternativas'!$Z$5:$Z$246)*(Alternativas!D48='Comparación Alternativas'!$AA$5:$AA$246)*('Comparación Alternativas'!$AQ$5:$AQ$246))","v":-856},{"$f":"SUMPRODUCT((C48='Comparación Alternativas'!$Z$5:$Z$246)*('Comparación Alternativas'!$AA$5:$AA$246=Alternativas!D48)*('Comparación Alternativas'!$BA$5:$BA$246))","v":-5.2132945696422892},null,24,{"$f":"IF(U47+SUMPRODUCT(($U$16='Para Ocultar'!$A$2:$A$7)*('Para Ocultar'!$C$2:$C$7))>12,(U47+SUMPRODUCT(($U$16='Para Ocultar'!$A$2:$A$7)*('Para Ocultar'!$C$2:$C$7)))-12,U47+SUMPRODUCT(($U$16='Para Ocultar'!$A$2:$A$7)*('Para Ocultar'!$C$2:$C$7)))","v":1},2024,-600,-135,-735,15600,-588.34917932407427,-147.76724395973346,-736.11642328380776,17143.720095843939,-588.34917932407427,-147.76724395973346,-736.11642328380776,17143.720095843939,{"$f":"SUMPRODUCT((U48='Comparación Alternativas'!$Z$5:$Z$246)*('Comparación Alternativas'!$AA$5:$AA$246=Alternativas!V48)*('Comparación Alternativas'!$AV$5:$AV$246))","v":-120867.07357765416},{"$f":"SUMPRODUCT((U48='Comparación Alternativas'!$Z$5:$Z$246)*('Comparación Alternativas'!$AA$5:$AA$246=Alternativas!V48)*('Comparación Alternativas'!$BF$5:$BF$246))","v":-736.11642328380776}]
[null,25,{"$f":"IF(C48+SUMPRODUCT(($C$16='Para Ocultar'!$A$2:$A$7)*('Para Ocultar'!$C$2:$C$7))>12,(C48+SUMPRODUCT(($C$16='Para Ocultar'!$A$2:$A$7)*('Para Ocultar'!$C$2:$C$7)))-12,C48+SUMPRODUCT(($C$16='Para Ocultar'!$A$2:$A$7)*('Para Ocultar'!$C$2:$C$7)))","v":2},2024,-800,-37.333333333333336,-837.33333333333337,800,-1016.9220436104807,-48.010019592234926,-1064.9320632027157,1040.6502246281589,-800,-37.333333333333336,-837.33333333333337,800,{"$f":"SUMPRODUCT((C49='Comparación Alternativas'!$Z$5:$Z$246)*(Alternativas!D49='Comparación Alternativas'!$AA$5:$AA$246)*('Comparación Alternativas'!$AQ$5:$AQ$246))","v":-837.33333333333337},{"$f":"SUMPRODUCT((C49='Comparación Alternativas'!$Z$5:$Z$246)*('Comparación Alternativas'!$AA$5:$AA$246=Alternativas!D49)*('Comparación Alternativas'!$BA$5:$BA$246))","v":-5.6095699201073108},null,25,{"$f":"IF(U48+SUMPRODUCT(($U$16='Para Ocultar'!$A$2:$A$7)*('Para Ocultar'!$C$2:$C$7))>12,(U48+SUMPRODUCT(($U$16='Para Ocultar'!$A$2:$A$7)*('Para Ocultar'!$C$2:$C$7)))-12,U48+SUMPRODUCT(($U$16='Para Ocultar'!$A$2:$A$7)*('Para Ocultar'!$C$2:$C$7)))","v":2},2024,-600,-130,-730,15000,-593.25208915177495,-142.86433413203284,-736.11642328380776,16550.468006692165,-593.25208915177495,-142.86433413203284,-736.11642328380776,16550.468006692165,{"$f":"SUMPRODUCT((U49='Comparación Alternativas'!$Z$5:$Z$246)*('Comparación Alternativas'!$AA$5:$AA$246=Alternativas!V49)*('Comparación Alternativas'!$AV$5:$AV$246))","v":-109879.15779786742},{"$f":"SUMPRODUCT((U49='Comparación Alternativas'!$Z$5:$Z$246)*('Comparación Alternativas'!$AA$5:$AA$246=Alternativas!V49)*('Comparación Alternativas'!$BF$5:$BF$246))","v":-736.11642328380776}]
[null,26,{"$f":"IF(C49+SUMPRODUCT(($C$16='Para Ocultar'!$A$2:$A$7)*('Para Ocultar'!$C$2:$C$7))>12,(C49+SUMPRODUCT(($C$16='Para Ocultar'!$A$2:$A$7)*('Para Ocultar'!$C$2:$C$7)))-12,C49+SUMPRODUCT(($C$16='Para Ocultar'!$A$2:$A$7)*('Para Ocultar'!$C$2:$C$7)))","v":3},2024,-800,-18.666666666666668,-818.66666666666663,0,-1040.6502246280586,-24.281838574657044,-1064.9320632027157,1.0027179087046534E-10,-800,-18.666666666666668,-818.66666666666663,0,{"$f":"SUMPRODUCT((C50='Comparación Alternativas'!$Z$5:$Z$246)*(Alternativas!D50='Comparación Alternativas'!$AA$5:$AA$246)*('Comparación Alternativas'!$AQ$5:$AQ$246))","v":-818.66666666666663},{"$f":"SUMPRODUCT((C50='Comparación Alternativas'!$Z$5:$Z$246)*('Comparación Alternativas'!$AA$5:$AA$246=Alternativas!D50)*('Comparación Alternativas'!$BA$5:$BA$246))","v":-6.0939064595645585},null,26,{"$f":"IF(U49+SUMPRODUCT(($U$16='Para Ocultar'!$A$2:$A$7)*('Para Ocultar'!$C$2:$C$7))>12,(U49+SUMPRODUCT(($U$16='Para Ocultar'!$A$2:$A$7)*('Para Ocultar'!$C$2:$C$7)))-12,U49+SUMPRODUCT(($U$16='Para Ocultar'!$A$2:$A$7)*('Para Ocultar'!$C$2:$C$7)))","v":3},2024,-600,-125,-725,14400,-598.19585656137303,-137.9205667224347,-736.11642328380776,15952.272150130791,-598.19585656137303,-137.9205667224347,-736.11642328380776,15952.272150130791,{"$f":"SUMPRODUCT((U50='Comparación Alternativas'!$Z$5:$Z$246)*('Comparación Alternativas'!$AA$5:$AA$246=Alternativas!V50)*('Comparación Alternativas'!$AV$5:$AV$246))","v":-98891.24201808068},{"$f":"SUMPRODUCT((U50='Comparación Alternativas'!$Z$5:$Z$246)*('Comparación Alternativas'!$AA$5:$AA$246=Alternativas!V50)*('Comparación Alternativas'!$BF$5:$BF$246))","v":-736.11642328380776}]
[null,27,{"$f":"IF(C50+SUMPRODUCT(($C$16='Para Ocultar'!$A$2:$A$7)*('Para Ocultar'!$C$2:$C$7))>12,(C50+SUMPRODUCT(($C$16='Para Ocultar'!$A$2:$A$7)*('Para Ocultar'!$C$2:$C$7)))-12,C50+SUMPRODUCT(($C$16='Para Ocultar'!$A$2:$A$7)*('Para Ocultar'!$C$2:$C$7)))","v":4},2024,0,0,0,0,2.3396751203108581E-12,-2.3396751203108581E-12,0,1.026114659907762E-10,0,0,0,0,{"$f":"SUMPRODUCT((C51='Comparación Alternativas'!$Z$5:$Z$246)*(Alternativas!D51='Comparación Alternativas'!$AA$5:$AA$246)*('Comparación Alternativas'!$AQ$5:$AQ$246))","v":0},{"$f":"SUMPRODUCT((C51='Comparación Alternativas'!$Z$5:$Z$246)*('Comparación Alternativas'!$AA$5:$AA$246=Alternativas!D51)*('Comparación Alternativas'!$BA$5:$BA$246))","v":0},null,27,{"$f":"IF(U50+SUMPRODUCT(($U$16='Para Ocultar'!$A$2:$A$7)*('Para Ocultar'!$C$2:$C$7))>12,(U50+SUMPRODUCT(($U$16='Para Ocultar'!$A$2:$A$7)*('Para Ocultar'!$C$2:$C$7)))-12,U50+SUMPRODUCT(($U$16='Para Ocultar'!$A$2:$A$7)*('Para Ocultar'!$C$2:$C$7)))","v":4},2024,-600,-120,-720,13800,-603.18082203271786,-132.93560125108993,-736.11642328380776,15349.091328098073,-603.18082203271786,-132.93560125108993,-736.11642328380776,15349.091328098073,{"$f":"SUMPRODUCT((U51='Comparación Alternativas'!$Z$5:$Z$246)*('Comparación Alternativas'!$AA$5:$AA$246=Alternativas!V51)*('Comparación Alternativas'!$AV$5:$AV$246))","v":-87903.326238293943},{"$f":"SUMPRODUCT((U51='Comparación Alternativas'!$Z$5:$Z$246)*('Comparación Alternativas'!$AA$5:$AA$246=Alternativas!V51)*('Comparación Alternativas'!$BF$5:$BF$246))","v":-736.11642328380776}]
[null,28,{"$f":"IF(C51+SUMPRODUCT(($C$16='Para Ocultar'!$A$2:$A$7)*('Para Ocultar'!$C$2:$C$7))>12,(C51+SUMPRODUCT(($C$16='Para Ocultar'!$A$2:$A$7)*('Para Ocultar'!$C$2:$C$7)))-12,C51+SUMPRODUCT(($C$16='Para Ocultar'!$A$2:$A$7)*('Para Ocultar'!$C$2:$C$7)))","v":5},2024,0,0,0,0,2.3942675397847781E-12,-2.3942675397847781E-12,0,1.0500573353056098E-10,0,0,0,0,{"$f":"SUMPRODUCT((C52='Comparación Alternativas'!$Z$5:$Z$246)*(Alternativas!D52='Comparación Alternativas'!$AA$5:$AA$246)*('Comparación Alternativas'!$AQ$5:$AQ$246))","v":0},{"$f":"SUMPRODUCT((C52='Comparación Alternativas'!$Z$5:$Z$246)*('Comparación Alternativas'!$AA$5:$AA$246=Alternativas!D52)*('Comparación Alternativas'!$BA$5:$BA$246))","v":0},null,28,{"$f":"IF(U51+SUMPRODUCT(($U$16='Para Ocultar'!$A$2:$A$7)*('Para Ocultar'!$C$2:$C$7))>12,(U51+SUMPRODUCT(($U$16='Para Ocultar'!$A$2:$A$7)*('Para Ocultar'!$C$2:$C$7)))-12,U51+SUMPRODUCT(($U$16='Para Ocultar'!$A$2:$A$7)*('Para Ocultar'!$C$2:$C$7)))","v":5},2024,-600,-115,-715,13200,-608.20732888299051,-127.9090944008173,-736.11642328380776,14740.883999215082,-608.20732888299051,-127.9090944008173,-736.11642328380776,14740.883999215082,{"$f":"SUMPRODUCT((U52='Comparación Alternativas'!$Z$5:$Z$246)*('Comparación Alternativas'!$AA$5:$AA$246=Alternativas!V52)*('Comparación Alternativas'!$AV$5:$AV$246))","v":-76915.410458507205},{"$f":"SUMPRODUCT((U52='Comparación Alternativas'!$Z$5:$Z$246)*('Comparación Alternativas'!$AA$5:$AA$246=Alternativas!V52)*('Comparación Alternativas'!$BF$5:$BF$246))","v":-736.11642328380776}]
[null,29,{"$f":"IF(C52+SUMPRODUCT(($C$16='Para Ocultar'!$A$2:$A$7)*('Para Ocultar'!$C$2:$C$7))>12,(C52+SUMPRODUCT(($C$16='Para Ocultar'!$A$2:$A$7)*('Para Ocultar'!$C$2:$C$7)))-12,C52+SUMPRODUCT(($C$16='Para Ocultar'!$A$2:$A$7)*('Para Ocultar'!$C$2:$C$7)))","v":6},2024,0,0,0,0,2.4501337823797568E-12,-2.4501337823797568E-12,0,1.0745586731294074E-10,0,0,0,0,{"$f":"SUMPRODUCT((C53='Comparación Alternativas'!$Z$5:$Z$246)*(Alternativas!D53='Comparación Alternativas'!$AA$5:$AA$246)*('Comparación Alternativas'!$AQ$5:$AQ$246))","v":0},{"$f":"SUMPRODUCT((C53='Comparación Alternativas'!$Z$5:$Z$246)*('Comparación Alternativas'!$AA$5:$AA$246=Alternativas!D53)*('Comparación Alternativas'!$BA$5:$BA$246))","v":0},null,29,{"$f":"IF(U52+SUMPRODUCT(($U$16='Para Ocultar'!$A$2:$A$7)*('Para Ocultar'!$C$2:$C$7))>12,(U52+SUMPRODUCT(($U$16='Para Ocultar'!$A$2:$A$7)*('Para Ocultar'!$C$2:$C$7)))-12,U52+SUMPRODUCT(($U$16='Para Ocultar'!$A$2:$A$7)*('Para Ocultar'!$C$2:$C$7)))","v":6},2024,-600,-110,-710,12600,-613.27572329034876,-122.84069999345904,-736.11642328380776,14127.608275924733,-613.27572329034876,-122.84069999345904,-736.11642328380776,14127.608275924733,{"$f":"SUMPRODUCT((U53='Comparación Alternativas'!$Z$5:$Z$246)*('Comparación Alternativas'!$AA$5:$AA$246=Alternativas!V53)*('Comparación Alternativas'!$AV$5:$AV$246))","v":-65927.494678720468},{"$f":"SUMPRODUCT((U53='Comparación Alternativas'!$Z$5:$Z$246)*('Comparación Alternativas'!$AA$5:$AA$246=Alternativas!V53)*('Comparación Alternativas'!$BF$5:$BF$246))","v":-736.11642328380765}]
[null,30,{"$f":"IF(C53+SUMPRODUCT(($C$16='Para Ocultar'!$A$2:$A$7)*('Para Ocultar'!$C$2:$C$7))>12,(C53+SUMPRODUCT(($C$16='Para Ocultar'!$A$2:$A$7)*('Para Ocultar'!$C$2:$C$7)))-12,C53+SUMPRODUCT(($C$16='Para Ocultar'!$A$2:$A$7)*('Para Ocultar'!$C$2:$C$7)))","v":7},2024,0,0,0,0,2.5073035706352842E-12,-2.5073035706352842E-12,0,1.0996317088357602E-10,0,0,0,0,{"$f":"SUMPRODUCT((C54='Comparación Alternativas'!$Z$5:$Z$246)*(Alternativas!D54='Comparación Alternativas'!$AA$5:$AA$246)*('Comparación Alternativas'!$AQ$5:$AQ$246))","v":0},{"$f":"SUMPRODUCT((C54='Comparación Alternativas'!$Z$5:$Z$246)*('Comparación Alternativas'!$AA$5:$AA$246=Alternativas!D54)*('Comparación Alternativas'!$BA$5:$BA$246))","v":0},null,30,{"$f":"IF(U53+SUMPRODUCT(($U$16='Para Ocultar'!$A$2:$A$7)*('Para Ocultar'!$C$2:$C$7))>12,(U53+SUMPRODUCT(($U$16='Para Ocultar'!$A$2:$A$7)*('Para Ocultar'!$C$2:$C$7)))-12,U53+SUMPRODUCT(($U$16='Para Ocultar'!$A$2:$A$7)*('Para Ocultar'!$C$2:$C$7)))","v":7},2024,-600,-105,-705,12000,-618.38635431776834,-117.73006896603944,-736.11642328380776,13509.221921606964,-618.38635431776834,-117.73006896603944,-736.11642328380776,13509.221921606964,{"$f":"SUMPRODUCT((U54='Comparación Alternativas'!$Z$5:$Z$246)*('Comparación Alternativas'!$AA$5:$AA$246=Alternativas!V54)*('Comparación Alternativas'!$AV$5:$AV$246))","v":-54939.578898933738},{"$f":"SUMPRODUCT((U54='Comparación Alternativas'!$Z$5:$Z$246)*('Comparación Alternativas'!$AA$5:$AA$246=Alternativas!V54)*('Comparación Alternativas'!$BF$5:$BF$246))","v":-736.11642328380776}]
[null,31,{"$f":"IF(C54+SUMPRODUCT(($C$16='Para Ocultar'!$A$2:$A$7)*('Para Ocultar'!$C$2:$C$7))>12,(C54+SUMPRODUCT(($C$16='Para Ocultar'!$A$2:$A$7)*('Para Ocultar'!$C$2:$C$7)))-12,C54+SUMPRODUCT(($C$16='Para Ocultar'!$A$2:$A$7)*('Para Ocultar'!$C$2:$C$7)))","v":8},2024,0,0,0,0,2.5658073206167744E-12,-2.5658073206167744E-12,0,1.1252897820419279E-10,0,0,0,0,{"$f":"SUMPRODUCT((C55='Comparación Alternativas'!$Z$5:$Z$246)*(Alternativas!D55='Comparación Alternativas'!$AA$5:$AA$246)*('Comparación Alternativas'!$AQ$5:$AQ$246))","v":0},{"$f":"SUMPRODUCT((C55='Comparación Alternativas'!$Z$5:$Z$246)*('Comparación Alternativas'!$AA$5:$AA$246=Alternativas!D55)*('Comparación Alternativas'!$BA$5:$BA$246))","v":0},null,31,{"$f":"IF(U54+SUMPRODUCT(($U$16='Para Ocultar'!$A$2:$A$7)*('Para Ocultar'!$C$2:$C$7))>12,(U54+SUMPRODUCT(($U$16='Para Ocultar'!$A$2:$A$7)*('Para Ocultar'!$C$2:$C$7)))-12,U54+SUMPRODUCT(($U$16='Para Ocultar'!$A$2:$A$7)*('Para Ocultar'!$C$2:$C$7)))","v":8},2024,-600,-100,-700,11400,-623.53957393708311,-112.57684934672471,-736.11642328380776,12885.682347669881,-623.53957393708311,-112.57684934672471,-736.11642328380776,{"$f":"IF($U$14=\"Alemán\",Z55,AD55)","v":12885.682347669881},{"$f":"SUMPRODUCT((U55='Comparación Alternativas'!$Z$5:$Z$246)*('Comparación Alternativas'!$AA$5:$AA$246=Alternativas!V55)*('Comparación Alternativas'!$AV$5:$AV$246))","v":-43951.663119147001},{"$f":"SUMPRODUCT((U55='Comparación Alternativas'!$Z$5:$Z$246)*('Comparación Alternativas'!$AA$5:$AA$246=Alternativas!V55)*('Comparación Alternativas'!$BF$5:$BF$246))","v":-736.11642328380776}]
[null,32,{"$f":"IF(C55+SUMPRODUCT(($C$16='Para Ocultar'!$A$2:$A$7)*('Para Ocultar'!$C$2:$C$7))>12,(C55+SUMPRODUCT(($C$16='Para Ocultar'!$A$2:$A$7)*('Para Ocultar'!$C$2:$C$7)))-12,C55+SUMPRODUCT(($C$16='Para Ocultar'!$A$2:$A$7)*('Para Ocultar'!$C$2:$C$7)))","v":9},2024,0,0,0,0,2.625676158097832E-12,-2.625676158097832E-12,0,1.1515465436229063E-10,0,0,0,0,{"$f":"SUMPRODUCT((C56='Comparación Alternativas'!$Z$5:$Z$246)*(Alternativas!D56='Comparación Alternativas'!$AA$5:$AA$246)*('Comparación Alternativas'!$AQ$5:$AQ$246))","v":0},{"$f":"SUMPRODUCT((C56='Comparación Alternativas'!$Z$5:$Z$246)*('Comparación Alternativas'!$AA$5:$AA$246=Alternativas!D56)*('Comparación Alternativas'!$BA$5:$BA$246))","v":0},null,32,{"$f":"IF(U55+SUMPRODUCT(($U$16='Para Ocultar'!$A$2:$A$7)*('Para Ocultar'!$C$2:$C$7))>12,(U55+SUMPRODUCT(($U$16='Para Ocultar'!$A$2:$A$7)*('Para Ocultar'!$C$2:$C$7)))-12,U55+SUMPRODUCT(($U$16='Para Ocultar'!$A$2:$A$7)*('Para Ocultar'!$C$2:$C$7)))","v":9},2024,-600,-95,-695,10800,-628.73573705322542,-107.38068623058234,-736.11642328380776,12256.946610616655,-628.73573705322542,-107.38068623058234,-736.11642328380776,{"$f":"IF($U$14=\"Alemán\",Z56,AD56)","v":12256.946610616655},{"$f":"SUMPRODUCT((U56='Comparación Alternativas'!$Z$5:$Z$246)*('Comparación Alternativas'!$AA$5:$AA$246=Alternativas!V56)*('Comparación Alternativas'!$AV$5:$AV$246))","v":0},{"$f":"SUMPRODUCT((U56='Comparación Alternativas'!$Z$5:$Z$246)*('Comparación Alternativas'!$AA$5:$AA$246=Alternativas!V56)*('Comparación Alternativas'!$BF$5:$BF$246))","v":0}]
[null,33,{"$f":"IF(C56+SUMPRODUCT(($C$16='Para Ocultar'!$A$2:$A$7)*('Para Ocultar'!$C$2:$C$7))>12,(C56+SUMPRODUCT(($C$16='Para Ocultar'!$A$2:$A$7)*('Para Ocultar'!$C$2:$C$7)))-12,C56+SUMPRODUCT(($C$16='Para Ocultar'!$A$2:$A$7)*('Para Ocultar'!$C$2:$C$7)))","v":10},2024,0,{"$f":"-H56*($C$15/$C$16)","v":0},{"$f":"F57+E57","v":0},{"$f":"E57+H56","v":0},{"$f":"L56-L56+K57-J57","v":2.6869419351201147E-12},{"$f":"-L56*$C$15/$C$16","v":-2.6869419351201147E-12},0,{"$f":"L56+I57","v":1.1784159629741074E-10},0,0,0,0,{"$f":"SUMPRODUCT((C57='Comparación Alternativas'!$Z$5:$Z$246)*(Alternativas!D57='Comparación Alternativas'!$AA$5:$AA$246)*('Comparación Alternativas'!$AQ$5:$AQ$246))","v":0},{"$f":"SUMPRODUCT((C57='Comparación Alternativas'!$Z$5:$Z$246)*('Comparación Alternativas'!$AA$5:$AA$246=Alternativas!D57)*('Comparación Alternativas'!$BA$5:$BA$246))","v":0},null,33,{"$f":"IF(U56+SUMPRODUCT(($U$16='Para Ocultar'!$A$2:$A$7)*('Para Ocultar'!$C$2:$C$7))>12,(U56+SUMPRODUCT(($U$16='Para Ocultar'!$A$2:$A$7)*('Para Ocultar'!$C$2:$C$7)))-12,U56+SUMPRODUCT(($U$16='Para Ocultar'!$A$2:$A$7)*('Para Ocultar'!$C$2:$C$7)))","v":10},2024,-600,-90,{"$f":"X57+W57","v":-690},{"$f":"W57+Z56","v":10200},{"$f":"AD56-AD56+AC57-AB57","v":-633.975201528669},-102.1412217551388,-736.11642328380776,{"$f":"AD56+AA57","v":11622.971409087986},-633.975201528669,-102.1412217551388,-736.11642328380776,11622.971409087986,{"$f":"SUMPRODUCT((U57='Comparación Alternativas'!$Z$5:$Z$246)*('Comparación Alternativas'!$AA$5:$AA$246=Alternativas!V57)*('Comparación Alternativas'!$AV$5:$AV$246))","v":0},{"$f":"SUMPRODUCT((U57='Comparación Alternativas'!$Z$5:$Z$246)*('Comparación Alternativas'!$AA$5:$AA$246=Alternativas!V57)*('Comparación Alternativas'!$BF$5:$BF$246))","v":0}]
[null,34,{"$f":"IF(C57+SUMPRODUCT(($C$16='Para Ocultar'!$A$2:$A$7)*('Para Ocultar'!$C$2:$C$7))>12,(C57+SUMPRODUCT(($C$16='Para Ocultar'!$A$2:$A$7)*('Para Ocultar'!$C$2:$C$7)))-12,C57+SUMPRODUCT(($C$16='Para Ocultar'!$A$2:$A$7)*('Para Ocultar'!$C$2:$C$7)))","v":11},2024,0,0,0,0,2.7496372469395844E-12,-2.7496372469395844E-12,0,1.2059123354435032E-10,0,0,0,0,{"$f":"SUMPRODUCT((C58='Comparación Alternativas'!$Z$5:$Z$246)*(Alternativas!D58='Comparación Alternativas'!$AA$5:$AA$246)*('Comparación Alternativas'!$AQ$5:$AQ$246))","v":0},{"$f":"SUMPRODUCT((C58='Comparación Alternativas'!$Z$5:$Z$246)*('Comparación Alternativas'!$AA$5:$AA$246=Alternativas!D58)*('Comparación Alternativas'!$BA$5:$BA$246))","v":0},null,34,{"$f":"IF(U57+SUMPRODUCT(($U$16='Para Ocultar'!$A$2:$A$7)*('Para Ocultar'!$C$2:$C$7))>12,(U57+SUMPRODUCT(($U$16='Para Ocultar'!$A$2:$A$7)*('Para Ocultar'!$C$2:$C$7)))-12,U57+SUMPRODUCT(($U$16='Para Ocultar'!$A$2:$A$7)*('Para Ocultar'!$C$2:$C$7)))","v":11},2024,-600,-85,-685,9600,-639.25832820807454,-96.858095075733218,-736.11642328380776,10983.713080879912,-639.25832820807454,-96.858095075733218,-736.11642328380776,10983.713080879912,{"$f":"SUMPRODUCT((U58='Comparación Alternativas'!$Z$5:$Z$246)*('Comparación Alternativas'!$AA$5:$AA$246=Alternativas!V58)*('Comparación Alternativas'!$AV$5:$AV$246))","v":0},{"$f":"SUMPRODUCT((U58='Comparación Alternativas'!$Z$5:$Z$246)*('Comparación Alternativas'!$AA$5:$AA$246=Alternativas!V58)*('Comparación Alternativas'!$BF$5:$BF$246))","v":0}]
[null,35,{"$f":"IF(C58+SUMPRODUCT(($C$16='Para Ocultar'!$A$2:$A$7)*('Para Ocultar'!$C$2:$C$7))>12,(C58+SUMPRODUCT(($C$16='Para Ocultar'!$A$2:$A$7)*('Para Ocultar'!$C$2:$C$7)))-12,C58+SUMPRODUCT(($C$16='Para Ocultar'!$A$2:$A$7)*('Para Ocultar'!$C$2:$C$7)))","v":12},2024,0,0,0,0,2.8137954493681744E-12,-2.8137954493681744E-12,0,1.234050289937185E-10,0,0,0,0,{"$f":"SUMPRODUCT((C59='Comparación Alternativas'!$Z$5:$Z$246)*(Alternativas!D59='Comparación Alternativas'!$AA$5:$AA$246)*('Comparación Alternativas'!$AQ$5:$AQ$246))","v":0},{"$f":"SUMPRODUCT((C59='Comparación Alternativas'!$Z$5:$Z$246)*('Comparación Alternativas'!$AA$5:$AA$246=Alternativas!D59)*('Comparación Alternativas'!$BA$5:$BA$246))","v":0},null,35,{"$f":"IF(U58+SUMPRODUCT(($U$16='Para Ocultar'!$A$2:$A$7)*('Para Ocultar'!$C$2:$C$7))>12,(U58+SUMPRODUCT(($U$16='Para Ocultar'!$A$2:$A$7)*('Para Ocultar'!$C$2:$C$7)))-12,U58+SUMPRODUCT(($U$16='Para Ocultar'!$A$2:$A$7)*('Para Ocultar'!$C$2:$C$7)))","v":12},2024,-600,-80,-680,9000,-644.58548094314187,-91.530942340665945,-736.11642328380776,10339.12759993677,-644.58548094314187,-91.530942340665945,-736.11642328380776,10339.12759993677,{"$f":"SUMPRODUCT((U59='Comparación Alternativas'!$Z$5:$Z$246)*('Comparación Alternativas'!$AA$5:$AA$246=Alternativas!V59)*('Comparación Alternativas'!$AV$5:$AV$246))","v":0},{"$f":"SUMPRODUCT((U59='Comparación Alternativas'!$Z$5:$Z$246)*('Comparación Alternativas'!$AA$5:$AA$246=Alternativas!V59)*('Comparación Alternativas'!$BF$5:$BF$246))","v":0}]
[null,36,{"$f":"IF(C59+SUMPRODUCT(($C$16='Para Ocultar'!$A$2:$A$7)*('Para Ocultar'!$C$2:$C$7))>12,(C59+SUMPRODUCT(($C$16='Para Ocultar'!$A$2:$A$7)*('Para Ocultar'!$C$2:$C$7)))-12,C59+SUMPRODUCT(($C$16='Para Ocultar'!$A$2:$A$7)*('Para Ocultar'!$C$2:$C$7)))","v":1},2025,0,0,0,0,2.8794506765200989E-12,-2.8794506765200989E-12,0,1.2628447967023861E-10,0,0,0,0,{"$f":"SUMPRODUCT((C60='Comparación Alternativas'!$Z$5:$Z$246)*(Alternativas!D60='Comparación Alternativas'!$AA$5:$AA$246)*('Comparación Alternativas'!$AQ$5:$AQ$246))","v":0},{"$f":"SUMPRODUCT((C60='Comparación Alternativas'!$Z$5:$Z$246)*('Comparación Alternativas'!$AA$5:$AA$246=Alternativas!D60)*('Comparación Alternativas'!$BA$5:$BA$246))","v":0},null,36,{"$f":"IF(U59+SUMPRODUCT(($U$16='Para Ocultar'!$A$2:$A$7)*('Para Ocultar'!$C$2:$C$7))>12,(U59+SUMPRODUCT(($U$16='Para Ocultar'!$A$2:$A$7)*('Para Ocultar'!$C$2:$C$7)))-12,U59+SUMPRODUCT(($U$16='Para Ocultar'!$A$2:$A$7)*('Para Ocultar'!$C$2:$C$7)))","v":1},2025,-600,-75,-675,8400,-649.95702661766802,-86.159396666139756,-736.11642328380776,9689.1705733191011,-649.95702661766802,-86.159396666139756,-736.11642328380776,{"$f":"IF($U$14=\"Alemán\",Z60,AD60)","v":9689.1705733191011},{"$f":"SUMPRODUCT((U60='Comparación Alternativas'!$Z$5:$Z$246)*('Comparación Alternativas'!$AA$5:$AA$246=Alternativas!V60)*('Comparación Alternativas'!$AV$5:$AV$246))","v":0},{"$f":"SUMPRODUCT((U60='Comparación Alternativas'!$Z$5:$Z$246)*('Comparación Alternativas'!$AA$5:$AA$246=Alternativas!V60)*('Comparación Alternativas'!$BF$5:$BF$246))","v":0}]
[null,37,{"$f":"IF(C60+SUMPRODUCT(($C$16='Para Ocultar'!$A$2:$A$7)*('Para Ocultar'!$C$2:$C$7))>12,(C60+SUMPRODUCT(($C$16='Para Ocultar'!$A$2:$A$7)*('Para Ocultar'!$C$2:$C$7)))-12,C60+SUMPRODUCT(($C$16='Para Ocultar'!$A$2:$A$7)*('Para Ocultar'!$C$2:$C$7)))","v":2},2025,0,0,0,0,2.9466378589722343E-12,-2.9466378589722343E-12,0,1.2923111752921084E-10,0,0,0,0,{"$f":"SUMPRODUCT((C61='Comparación Alternativas'!$Z$5:$Z$246)*(Alternativas!D61='Comparación Alternativas'!$AA$5:$AA$246)*('Comparación Alternativas'!$AQ$5:$AQ$246))","v":0},{"$f":"SUMPRODUCT((C61='Comparación Alternativas'!$Z$5:$Z$246)*('Comparación Alternativas'!$AA$5:$AA$246=Alternativas!D61)*('Comparación Alternativas'!$BA$5:$BA$246))","v":0},null,37,{"$f":"IF(U60+SUMPRODUCT(($U$16='Para Ocultar'!$A$2:$A$7)*('Para Ocultar'!$C$2:$C$7))>12,(U60+SUMPRODUCT(($U$16='Para Ocultar'!$A$2:$A$7)*('Para Ocultar'!$C$2:$C$7)))-12,U60+SUMPRODUCT(($U$16='Para Ocultar'!$A$2:$A$7)*('Para Ocultar'!$C$2:$C$7)))","v":2},2025,-600,-70,-670,7800,-655.37333517281525,-80.743088110992517,-736.11642328380776,{"$f":"AD60+AA61","v":9033.797238146286},-655.37333517281525,-80.743088110992517,-736.11642328380776,9033.797238146286,{"$f":"SUMPRODUCT((U61='Comparación Alternativas'!$Z$5:$Z$246)*('Comparación Alternativas'!$AA$5:$AA$246=Alternativas!V61)*('Comparación Alternativas'!$AV$5:$AV$246))","v":0},{"$f":"SUMPRODUCT((U61='Comparación Alternativas'!$Z$5:$Z$246)*('Comparación Alternativas'!$AA$5:$AA$246=Alternativas!V61)*('Comparación Alternativas'!$BF$5:$BF$246))","v":0}]
[null,38,{"$f":"IF(C61+SUMPRODUCT(($C$16='Para Ocultar'!$A$2:$A$7)*('Para Ocultar'!$C$2:$C$7))>12,(C61+SUMPRODUCT(($C$16='Para Ocultar'!$A$2:$A$7)*('Para Ocultar'!$C$2:$C$7)))-12,C61+SUMPRODUCT(($C$16='Para Ocultar'!$A$2:$A$7)*('Para Ocultar'!$C$2:$C$7)))","v":3},2025,0,0,0,0,3.0153927423482535E-12,-3.0153927423482535E-12,0,1.322465102715591E-10,0,0,0,0,{"$f":"SUMPRODUCT((C62='Comparación Alternativas'!$Z$5:$Z$246)*(Alternativas!D62='Comparación Alternativas'!$AA$5:$AA$246)*('Comparación Alternativas'!$AQ$5:$AQ$246))","v":0},{"$f":"SUMPRODUCT((C62='Comparación Alternativas'!$Z$5:$Z$246)*('Comparación Alternativas'!$AA$5:$AA$246=Alternativas!D62)*('Comparación Alternativas'!$BA$5:$BA$246))","v":0},null,38,{"$f":"IF(U61+SUMPRODUCT(($U$16='Para Ocultar'!$A$2:$A$7)*('Para Ocultar'!$C$2:$C$7))>12,(U61+SUMPRODUCT(($U$16='Para Ocultar'!$A$2:$A$7)*('Para Ocultar'!$C$2:$C$7)))-12,U61+SUMPRODUCT(($U$16='Para Ocultar'!$A$2:$A$7)*('Para Ocultar'!$C$2:$C$7)))","v":3},2025,-600,-65,-665,7200,-660.83477963258872,-75.281643651219056,-736.11642328380776,8372.9624585136971,-660.83477963258872,-75.281643651219056,-736.11642328380776,8372.9624585136971,{"$f":"SUMPRODUCT((U62='Comparación Alternativas'!$Z$5:$Z$246)*('Comparación Alternativas'!$AA$5:$AA$246=Alternativas!V62)*('Comparación Alternativas'!$AV$5:$AV$246))","v":0},{"$f":"SUMPRODUCT((U62='Comparación Alternativas'!$Z$5:$Z$246)*('Comparación Alternativas'!$AA$5:$AA$246=Alternativas!V62)*('Comparación Alternativas'!$BF$5:$BF$246))","v":0}]
[null,39,{"$f":"IF(C62+SUMPRODUCT(($C$16='Para Ocultar'!$A$2:$A$7)*('Para Ocultar'!$C$2:$C$7))>12,(C62+SUMPRODUCT(($C$16='Para Ocultar'!$A$2:$A$7)*('Para Ocultar'!$C$2:$C$7)))-12,C62+SUMPRODUCT(($C$16='Para Ocultar'!$A$2:$A$7)*('Para Ocultar'!$C$2:$C$7)))","v":4},2025,0,0,0,0,3.0857519063363793E-12,-3.0857519063363793E-12,0,1.3533226217789549E-10,0,0,0,0,{"$f":"SUMPRODUCT((C63='Comparación Alternativas'!$Z$5:$Z$246)*(Alternativas!D63='Comparación Alternativas'!$AA$5:$AA$246)*('Comparación Alternativas'!$AQ$5:$AQ$246))","v":0},{"$f":"SUMPRODUCT((C63='Comparación Alternativas'!$Z$5:$Z$246)*('Comparación Alternativas'!$AA$5:$AA$246=Alternativas!D63)*('Comparación Alternativas'!$BA$5:$BA$246))","v":0},null,39,{"$f":"IF(U62+SUMPRODUCT(($U$16='Para Ocultar'!$A$2:$A$7)*('Para Ocultar'!$C$2:$C$7))>12,(U62+SUMPRODUCT(($U$16='Para Ocultar'!$A$2:$A$7)*('Para Ocultar'!$C$2:$C$7)))-12,U62+SUMPRODUCT(($U$16='Para Ocultar'!$A$2:$A$7)*('Para Ocultar'!$C$2:$C$7)))","v":4},2025,-600,-60,-660,6600,-666.34173612952691,-69.774687154280812,-736.11642328380776,7706.6207223841702,-666.34173612952691,-69.774687154280812,-736.11642328380776,7706.6207223841702,{"$f":"SUMPRODUCT((U63='Comparación Alternativas'!$Z$5:$Z$246)*('Comparación Alternativas'!$AA$5:$AA$246=Alternativas!V63)*('Comparación Alternativas'!$AV$5:$AV$246))","v":0},{"$f":"SUMPRODUCT((U63='Comparación Alternativas'!$Z$5:$Z$246)*('Comparación Alternativas'!$AA$5:$AA$246=Alternativas!V63)*('Comparación Alternativas'!$BF$5:$BF$246))","v":0}]
[null,40,{"$f":"IF(C63+SUMPRODUCT(($C$16='Para Ocultar'!$A$2:$A$7)*('Para Ocultar'!$C$2:$C$7))>12,(C63+SUMPRODUCT(($C$16='Para Ocultar'!$A$2:$A$7)*('Para Ocultar'!$C$2:$C$7)))-12,C63+SUMPRODUCT(($C$16='Para Ocultar'!$A$2:$A$7)*('Para Ocultar'!$C$2:$C$7)))","v":5},2025,0,0,0,0,3.1577527841508951E-12,-3.1577527841508951E-12,0,1.3849001496204639E-10,0,0,0,0,{"$f":"SUMPRODUCT((C64='Comparación Alternativas'!$Z$5:$Z$246)*(Alternativas!D64='Comparación Alternativas'!$AA$5:$AA$246)*('Comparación Alternativas'!$AQ$5:$AQ$246))","v":0},{"$f":"SUMPRODUCT((C64='Comparación Alternativas'!$Z$5:$Z$246)*('Comparación Alternativas'!$AA$5:$AA$246=Alternativas!D64)*('Comparación Alternativas'!$BA$5:$BA$246))","v":0},null,40,{"$f":"IF(U63+SUMPRODUCT(($U$16='Para Ocultar'!$A$2:$A$7)*('Para Ocultar'!$C$2:$C$7))>12,(U63+SUMPRODUCT(($U$16='Para Ocultar'!$A$2:$A$7)*('Para Ocultar'!$C$2:$C$7)))-12,U63+SUMPRODUCT(($U$16='Para Ocultar'!$A$2:$A$7)*('Para Ocultar'!$C$2:$C$7)))","v":5},2025,-600,-55,-655,6000,-671.89458393060636,-64.221839353201418,-736.11642328380776,7034.7261384535641,-671.89458393060636,-64.221839353201418,-736.11642328380776,7034.7261384535641,{"$f":"SUMPRODUCT((U64='Comparación Alternativas'!$Z$5:$Z$246)*('Comparación Alternativas'!$AA$5:$AA$246=Alternativas!V64)*('Comparación Alternativas'!$AV$5:$AV$246))","v":0},{"$f":"SUMPRODUCT((U64='Comparación Alternativas'!$Z$5:$Z$246)*('Comparación Alternativas'!$AA$5:$AA$246=Alternativas!V64)*('Comparación Alternativas'!$BF$5:$BF$246))","v":0}]
[null,41,{"$f":"IF(C64+SUMPRODUCT(($C$16='Para Ocultar'!$A$2:$A$7)*('Para Ocultar'!$C$2:$C$7))>12,(C64+SUMPRODUCT(($C$16='Para Ocultar'!$A$2:$A$7)*('Para Ocultar'!$C$2:$C$7)))-12,C64+SUMPRODUCT(($C$16='Para Ocultar'!$A$2:$A$7)*('Para Ocultar'!$C$2:$C$7)))","v":6},2025,0,0,0,0,3.2314336824477494E-12,-3.2314336824477494E-12,0,1.4172144864449414E-10,0,0,0,0,{"$f":"SUMPRODUCT((C65='Comparación Alternativas'!$Z$5:$Z$246)*(Alternativas!D65='Comparación Alternativas'!$AA$5:$AA$246)*('Comparación Alternativas'!$AQ$5:$AQ$246))","v":0},{"$f":"SUMPRODUCT((C65='Comparación Alternativas'!$Z$5:$Z$246)*('Comparación Alternativas'!$AA$5:$AA$246=Alternativas!D65)*('Comparación Alternativas'!$BA$5:$BA$246))","v":0},null,41,{"$f":"IF(U64+SUMPRODUCT(($U$16='Para Ocultar'!$A$2:$A$7)*('Para Ocultar'!$C$2:$C$7))>12,(U64+SUMPRODUCT(($U$16='Para Ocultar'!$A$2:$A$7)*('Para Ocultar'!$C$2:$C$7)))-12,U64+SUMPRODUCT(($U$16='Para Ocultar'!$A$2:$A$7)*('Para Ocultar'!$C$2:$C$7)))","v":6},2025,-600,-50,-650,5400,-677.49370546336138,-58.622717820446375,-736.11642328380776,6357.2324329902031,-677.49370546336138,-58.622717820446375,-736.11642328380776,6357.2324329902031,{"$f":"SUMPRODUCT((U65='Comparación Alternativas'!$Z$5:$Z$246)*('Comparación Alternativas'!$AA$5:$AA$246=Alternativas!V65)*('Comparación Alternativas'!$AV$5:$AV$246))","v":0},{"$f":"SUMPRODUCT((U65='Comparación Alternativas'!$Z$5:$Z$246)*('Comparación Alternativas'!$AA$5:$AA$246=Alternativas!V65)*('Comparación Alternativas'!$BF$5:$BF$246))","v":0}]
[null,42,{"$f":"IF(C65+SUMPRODUCT(($C$16='Para Ocultar'!$A$2:$A$7)*('Para Ocultar'!$C$2:$C$7))>12,(C65+SUMPRODUCT(($C$16='Para Ocultar'!$A$2:$A$7)*('Para Ocultar'!$C$2:$C$7)))-12,C65+SUMPRODUCT(($C$16='Para Ocultar'!$A$2:$A$7)*('Para Ocultar'!$C$2:$C$7)))","v":7},2025,0,0,0,0,3.3068338017048634E-12,-3.3068338017048634E-12,0,1.45028282446199E-10,0,0,0,0,{"$f":"SUMPRODUCT((C66='Comparación Alternativas'!$Z$5:$Z$246)*(Alternativas!D66='Comparación Alternativas'!$AA$5:$AA$246)*('Comparación Alternativas'!$AQ$5:$AQ$246))","v":0},{"$f":"SUMPRODUCT((C66='Comparación Alternativas'!$Z$5:$Z$246)*('Comparación Alternativas'!$AA$5:$AA$246=Alternativas!D66)*('Comparación Alternativas'!$BA$5:$BA$246))","v":0},null,42,{"$f":"IF(U65+SUMPRODUCT(($U$16='Para Ocultar'!$A$2:$A$7)*('Para Ocultar'!$C$2:$C$7))>12,(U65+SUMPRODUCT(($U$16='Para Ocultar'!$A$2:$A$7)*('Para Ocultar'!$C$2:$C$7)))-12,U65+SUMPRODUCT(($U$16='Para Ocultar'!$A$2:$A$7)*('Para Ocultar'!$C$2:$C$7)))","v":7},2025,-600,-45,-645,4800,-683.13948634222277,-52.976936941585031,-736.11642328380776,5674.0929466479802,-683.13948634222277,-52.976936941585031,-736.11642328380776,5674.0929466479802,{"$f":"SUMPRODUCT((U66='Comparación Alternativas'!$Z$5:$Z$246)*('Comparación Alternativas'!$AA$5:$AA$246=Alternativas!V66)*('Comparación Alternativas'!$AV$5:$AV$246))","v":0},{"$f":"SUMPRODUCT((U66='Comparación Alternativas'!$Z$5:$Z$246)*('Comparación Alternativas'!$AA$5:$AA$246=Alternativas!V66)*('Comparación Alternativas'!$BF$5:$BF$246))","v":0}]
[null,43,{"$f":"IF(C66+SUMPRODUCT(($C$16='Para Ocultar'!$A$2:$A$7)*('Para Ocultar'!$C$2:$C$7))>12,(C66+SUMPRODUCT(($C$16='Para Ocultar'!$A$2:$A$7)*('Para Ocultar'!$C$2:$C$7)))-12,C66+SUMPRODUCT(($C$16='Para Ocultar'!$A$2:$A$7)*('Para Ocultar'!$C$2:$C$7)))","v":8},2025,0,0,0,0,3.3839932570779768E-12,-3.3839932570779768E-12,0,1.4841227570327698E-10,0,0,0,0,{"$f":"SUMPRODUCT((C67='Comparación Alternativas'!$Z$5:$Z$246)*(Alternativas!D67='Comparación Alternativas'!$AA$5:$AA$246)*('Comparación Alternativas'!$AQ$5:$AQ$246))","v":0},{"$f":"SUMPRODUCT((C67='Comparación Alternativas'!$Z$5:$Z$246)*('Comparación Alternativas'!$AA$5:$AA$246=Alternativas!D67)*('Comparación Alternativas'!$BA$5:$BA$246))","v":0},null,43,{"$f":"IF(U66+SUMPRODUCT(($U$16='Para Ocultar'!$A$2:$A$7)*('Para Ocultar'!$C$2:$C$7))>12,(U66+SUMPRODUCT(($U$16='Para Ocultar'!$A$2:$A$7)*('Para Ocultar'!$C$2:$C$7)))-12,U66+SUMPRODUCT(($U$16='Para Ocultar'!$A$2:$A$7)*('Para Ocultar'!$C$2:$C$7)))","v":8},2025,-600,-40,-640,4200,-688.8323153950746,-47.284107888733168,-736.11642328380776,4985.260631252906,-688.8323153950746,-47.284107888733168,-736.11642328380776,4985.260631252906,{"$f":"SUMPRODUCT((U67='Comparación Alternativas'!$Z$5:$Z$246)*('Comparación Alternativas'!$AA$5:$AA$246=Alternativas!V67)*('Comparación Alternativas'!$AV$5:$AV$246))","v":0},{"$f":"SUMPRODUCT((U67='Comparación Alternativas'!$Z$5:$Z$246)*('Comparación Alternativas'!$AA$5:$AA$246=Alternativas!V67)*('Comparación Alternativas'!$BF$5:$BF$246))","v":0}]
[null,44,{"$f":"IF(C67+SUMPRODUCT(($C$16='Para Ocultar'!$A$2:$A$7)*('Para Ocultar'!$C$2:$C$7))>12,(C67+SUMPRODUCT(($C$16='Para Ocultar'!$A$2:$A$7)*('Para Ocultar'!$C$2:$C$7)))-12,C67+SUMPRODUCT(($C$16='Para Ocultar'!$A$2:$A$7)*('Para Ocultar'!$C$2:$C$7)))","v":9},2025,0,0,0,0,3.4629530997431298E-12,-3.4629530997431298E-12,0,1.518752288030201E-10,0,0,0,0,{"$f":"SUMPRODUCT((C68='Comparación Alternativas'!$Z$5:$Z$246)*(Alternativas!D68='Comparación Alternativas'!$AA$5:$AA$246)*('Comparación Alternativas'!$AQ$5:$AQ$246))","v":0},{"$f":"SUMPRODUCT((C68='Comparación Alternativas'!$Z$5:$Z$246)*('Comparación Alternativas'!$AA$5:$AA$246=Alternativas!D68)*('Comparación Alternativas'!$BA$5:$BA$246))","v":0},null,44,{"$f":"IF(U67+SUMPRODUCT(($U$16='Para Ocultar'!$A$2:$A$7)*('Para Ocultar'!$C$2:$C$7))>12,(U67+SUMPRODUCT(($U$16='Para Ocultar'!$A$2:$A$7)*('Para Ocultar'!$C$2:$C$7)))-12,U67+SUMPRODUCT(($U$16='Para Ocultar'!$A$2:$A$7)*('Para Ocultar'!$C$2:$C$7)))","v":9},2025,-600,-35,-635,3600,-694.57258469003352,-41.543838593774218,-736.11642328380776,4290.6880465628728,-694.57258469003352,-41.543838593774218,-736.11642328380776,4290.6880465628728,{"$f":"SUMPRODUCT((U68='Comparación Alternativas'!$Z$5:$Z$246)*('Comparación Alternativas'!$AA$5:$AA$246=Alternativas!V68)*('Comparación Alternativas'!$AV$5:$AV$246))","v":0},{"$f":"SUMPRODUCT((U68='Comparación Alternativas'!$Z$5:$Z$246)*('Comparación Alternativas'!$AA$5:$AA$246=Alternativas!V68)*('Comparación Alternativas'!$BF$5:$BF$246))","v":0}]
[null,45,{"$f":"IF(C68+SUMPRODUCT(($C$16='Para Ocultar'!$A$2:$A$7)*('Para Ocultar'!$C$2:$C$7))>12,(C68+SUMPRODUCT(($C$16='Para Ocultar'!$A$2:$A$7)*('Para Ocultar'!$C$2:$C$7)))-12,C68+SUMPRODUCT(($C$16='Para Ocultar'!$A$2:$A$7)*('Para Ocultar'!$C$2:$C$7)))","v":10},2025,0,0,0,0,3.5437553387371358E-12,-3.5437553387371358E-12,0,1.5541898414175722E-10,0,0,0,0,{"$f":"SUMPRODUCT((C69='Comparación Alternativas'!$Z$5:$Z$246)*(Alternativas!D69='Comparación Alternativas'!$AA$5:$AA$246)*('Comparación Alternativas'!$AQ$5:$AQ$246))","v":0},{"$f":"SUMPRODUCT((C69='Comparación Alternativas'!$Z$5:$Z$246)*('Comparación Alternativas'!$AA$5:$AA$246=Alternativas!D69)*('Comparación Alternativas'!$BA$5:$BA$246))","v":0},null,45,{"$f":"IF(U68+SUMPRODUCT(($U$16='Para Ocultar'!$A$2:$A$7)*('Para Ocultar'!$C$2:$C$7))>12,(U68+SUMPRODUCT(($U$16='Para Ocultar'!$A$2:$A$7)*('Para Ocultar'!$C$2:$C$7)))-12,U68+SUMPRODUCT(($U$16='Para Ocultar'!$A$2:$A$7)*('Para Ocultar'!$C$2:$C$7)))","v":10},2025,-600,-30,-630,3000,-700.36068956245049,-35.755733721357274,-736.11642328380776,3590.3273570004221,-700.36068956245049,-35.755733721357274,-736.11642328380776,3590.3273570004221,{"$f":"SUMPRODUCT((U69='Comparación Alternativas'!$Z$5:$Z$246)*('Comparación Alternativas'!$AA$5:$AA$246=Alternativas!V69)*('Comparación Alternativas'!$AV$5:$AV$246))","v":0},{"$f":"SUMPRODUCT((U69='Comparación Alternativas'!$Z$5:$Z$246)*('Comparación Alternativas'!$AA$5:$AA$246=Alternativas!V69)*('Comparación Alternativas'!$BF$5:$BF$246))","v":0}]
[null,46,{"$f":"IF(C69+SUMPRODUCT(($C$16='Para Ocultar'!$A$2:$A$7)*('Para Ocultar'!$C$2:$C$7))>12,(C69+SUMPRODUCT(($C$16='Para Ocultar'!$A$2:$A$7)*('Para Ocultar'!$C$2:$C$7)))-12,C69+SUMPRODUCT(($C$16='Para Ocultar'!$A$2:$A$7)*('Para Ocultar'!$C$2:$C$7)))","v":11},2025,0,0,0,0,3.6264429633076689E-12,-3.6264429633076689E-12,0,1.590454271050649E-10,0,0,0,0,{"$f":"SUMPRODUCT((C70='Comparación Alternativas'!$Z$5:$Z$246)*(Alternativas!D70='Comparación Alternativas'!$AA$5:$AA$246)*('Comparación Alternativas'!$AQ$5:$AQ$246))","v":0},{"$f":"SUMPRODUCT((C70='Comparación Alternativas'!$Z$5:$Z$246)*('Comparación Alternativas'!$AA$5:$AA$246=Alternativas!D70)*('Comparación Alternativas'!$BA$5:$BA$246))","v":0},null,46,{"$f":"IF(U69+SUMPRODUCT(($U$16='Para Ocultar'!$A$2:$A$7)*('Para Ocultar'!$C$2:$C$7))>12,(U69+SUMPRODUCT(($U$16='Para Ocultar'!$A$2:$A$7)*('Para Ocultar'!$C$2:$C$7)))-12,U69+SUMPRODUCT(($U$16='Para Ocultar'!$A$2:$A$7)*('Para Ocultar'!$C$2:$C$7)))","v":11},2025,-600,-25,-625,2400,-706.19702864213752,-29.919394641670184,-736.11642328380776,2884.1303283582847,-706.19702864213752,-29.919394641670184,-736.11642328380776,2884.1303283582847,{"$f":"SUMPRODUCT((U70='Comparación Alternativas'!$Z$5:$Z$246)*('Comparación Alternativas'!$AA$5:$AA$246=Alternativas!V70)*('Comparación Alternativas'!$AV$5:$AV$246))","v":0},{"$f":"SUMPRODUCT((U70='Comparación Alternativas'!$Z$5:$Z$246)*('Comparación Alternativas'!$AA$5:$AA$246=Alternativas!V70)*('Comparación Alternativas'!$BF$5:$BF$246))","v":0}]
[null,47,{"$f":"IF(C70+SUMPRODUCT(($C$16='Para Ocultar'!$A$2:$A$7)*('Para Ocultar'!$C$2:$C$7))>12,(C70+SUMPRODUCT(($C$16='Para Ocultar'!$A$2:$A$7)*('Para Ocultar'!$C$2:$C$7)))-12,C70+SUMPRODUCT(($C$16='Para Ocultar'!$A$2:$A$7)*('Para Ocultar'!$C$2:$C$7)))","v":12},2025,0,0,0,0,3.7110599657848482E-12,-3.7110599657848482E-12,0,1.6275648707084976E-10,0,0,0,0,{"$f":"SUMPRODUCT((C71='Comparación Alternativas'!$Z$5:$Z$246)*(Alternativas!D71='Comparación Alternativas'!$AA$5:$AA$246)*('Comparación Alternativas'!$AQ$5:$AQ$246))","v":0},{"$f":"SUMPRODUCT((C71='Comparación Alternativas'!$Z$5:$Z$246)*('Comparación Alternativas'!$AA$5:$AA$246=Alternativas!D71)*('Comparación Alternativas'!$BA$5:$BA$246))","v":0},null,47,{"$f":"IF(U70+SUMPRODUCT(($U$16='Para Ocultar'!$A$2:$A$7)*('Para Ocultar'!$C$2:$C$7))>12,(U70+SUMPRODUCT(($U$16='Para Ocultar'!$A$2:$A$7)*('Para Ocultar'!$C$2:$C$7)))-12,U70+SUMPRODUCT(($U$16='Para Ocultar'!$A$2:$A$7)*('Para Ocultar'!$C$2:$C$7)))","v":12},2025,-600,-20,-620,1800,-712.08200388082207,-24.034419402985705,-736.11642328380776,2172.0483244774628,-712.08200388082207,-24.034419402985705,-736.11642328380776,2172.0483244774628,{"$f":"SUMPRODUCT((U71='Comparación Alternativas'!$Z$5:$Z$246)*('Comparación Alternativas'!$AA$5:$AA$246=Alternativas!V71)*('Comparación Alternativas'!$AV$5:$AV$246))","v":0},{"$f":"SUMPRODUCT((U71='Comparación Alternativas'!$Z$5:$Z$246)*('Comparación Alternativas'!$AA$5:$AA$246=Alternativas!V71)*('Comparación Alternativas'!$BF$5:$BF$246))","v":0}]
[null,48,{"$f":"IF(C71+SUMPRODUCT(($C$16='Para Ocultar'!$A$2:$A$7)*('Para Ocultar'!$C$2:$C$7))>12,(C71+SUMPRODUCT(($C$16='Para Ocultar'!$A$2:$A$7)*('Para Ocultar'!$C$2:$C$7)))-12,C71+SUMPRODUCT(($C$16='Para Ocultar'!$A$2:$A$7)*('Para Ocultar'!$C$2:$C$7)))","v":1},2026,0,0,0,0,3.7976513649864945E-12,-3.7976513649864945E-12,0,1.6655413843583625E-10,0,0,0,0,{"$f":"SUMPRODUCT((C72='Comparación Alternativas'!$Z$5:$Z$246)*(Alternativas!D72='Comparación Alternativas'!$AA$5:$AA$246)*('Comparación Alternativas'!$AQ$5:$AQ$246))","v":0},{"$f":"SUMPRODUCT((C72='Comparación Alternativas'!$Z$5:$Z$246)*('Comparación Alternativas'!$AA$5:$AA$246=Alternativas!D72)*('Comparación Alternativas'!$BA$5:$BA$246))","v":0},null,48,{"$f":"IF(U71+SUMPRODUCT(($U$16='Para Ocultar'!$A$2:$A$7)*('Para Ocultar'!$C$2:$C$7))>12,(U71+SUMPRODUCT(($U$16='Para Ocultar'!$A$2:$A$7)*('Para Ocultar'!$C$2:$C$7)))-12,U71+SUMPRODUCT(($U$16='Para Ocultar'!$A$2:$A$7)*('Para Ocultar'!$C$2:$C$7)))","v":1},2026,-600,-15,-615,1200,-718.01602057982893,-18.100402703978858,-736.11642328380776,1454.0323038976339,-718.01602057982893,-18.100402703978858,-736.11642328380776,1454.0323038976339,{"$f":"SUMPRODUCT((U72='Comparación Alternativas'!$Z$5:$Z$246)*('Comparación Alternativas'!$AA$5:$AA$246=Alternativas!V72)*('Comparación Alternativas'!$AV$5:$AV$246))","v":0},{"$f":"SUMPRODUCT((U72='Comparación Alternativas'!$Z$5:$Z$246)*('Comparación Alternativas'!$AA$5:$AA$246=Alternativas!V72)*('Comparación Alternativas'!$BF$5:$BF$246))","v":0}]
[null,49,{"$f":"IF(C72+SUMPRODUCT(($C$16='Para Ocultar'!$A$2:$A$7)*('Para Ocultar'!$C$2:$C$7))>12,(C72+SUMPRODUCT(($C$16='Para Ocultar'!$A$2:$A$7)*('Para Ocultar'!$C$2:$C$7)))-12,C72+SUMPRODUCT(($C$16='Para Ocultar'!$A$2:$A$7)*('Para Ocultar'!$C$2:$C$7)))","v":2},2026,0,0,0,0,3.8862632301695124E-12,-3.8862632301695124E-12,0,1.7044040166600576E-10,0,0,0,0,{"$f":"SUMPRODUCT((C73='Comparación Alternativas'!$Z$5:$Z$246)*(Alternativas!D73='Comparación Alternativas'!$AA$5:$AA$246)*('Comparación Alternativas'!$AQ$5:$AQ$246))","v":0},{"$f":"SUMPRODUCT((C73='Comparación Alternativas'!$Z$5:$Z$246)*('Comparación Alternativas'!$AA$5:$AA$246=Alternativas!D73)*('Comparación Alternativas'!$BA$5:$BA$246))","v":0},null,49,{"$f":"IF(U72+SUMPRODUCT(($U$16='Para Ocultar'!$A$2:$A$7)*('Para Ocultar'!$C$2:$C$7))>12,(U72+SUMPRODUCT(($U$16='Para Ocultar'!$A$2:$A$7)*('Para Ocultar'!$C$2:$C$7)))-12,U72+SUMPRODUCT(($U$16='Para Ocultar'!$A$2:$A$7)*('Para Ocultar'!$C$2:$C$7)))","v":2},2026,-600,-10,-610,600,-723.99948741799415,-12.116935865813616,-736.11642328380776,730.03281647963979,-723.99948741799415,-12.116935865813616,-736.11642328380776,730.03281647963979,{"$f":"SUMPRODUCT((U73='Comparación Alternativas'!$Z$5:$Z$246)*('Comparación Alternativas'!$AA$5:$AA$246=Alternativas!V73)*('Comparación Alternativas'!$AV$5:$AV$246))","v":0},{"$f":"SUMPRODUCT((U73='Comparación Alternativas'!$Z$5:$Z$246)*('Comparación Alternativas'!$AA$5:$AA$246=Alternativas!V73)*('Comparación Alternativas'!$BF$5:$BF$246))","v":0}]
[null,50,{"$f":"IF(C73+SUMPRODUCT(($C$16='Para Ocultar'!$A$2:$A$7)*('Para Ocultar'!$C$2:$C$7))>12,(C73+SUMPRODUCT(($C$16='Para Ocultar'!$A$2:$A$7)*('Para Ocultar'!$C$2:$C$7)))-12,C73+SUMPRODUCT(($C$16='Para Ocultar'!$A$2:$A$7)*('Para Ocultar'!$C$2:$C$7)))","v":3},2026,0,0,0,0,3.9769427055401348E-12,-3.9769427055401348E-12,0,1.744173443715459E-10,0,0,0,0,{"$f":"SUMPRODUCT((C74='Comparación Alternativas'!$Z$5:$Z$246)*(Alternativas!D74='Comparación Alternativas'!$AA$5:$AA$246)*('Comparación Alternativas'!$AQ$5:$AQ$246))","v":0},{"$f":"SUMPRODUCT((C74='Comparación Alternativas'!$Z$5:$Z$246)*('Comparación Alternativas'!$AA$5:$AA$246=Alternativas!D74)*('Comparación Alternativas'!$BA$5:$BA$246))","v":0},null,50,{"$f":"IF(U73+SUMPRODUCT(($U$16='Para Ocultar'!$A$2:$A$7)*('Para Ocultar'!$C$2:$C$7))>12,(U73+SUMPRODUCT(($U$16='Para Ocultar'!$A$2:$A$7)*('Para Ocultar'!$C$2:$C$7)))-12,U73+SUMPRODUCT(($U$16='Para Ocultar'!$A$2:$A$7)*('Para Ocultar'!$C$2:$C$7)))","v":3},2026,-600,-5,-605,0,-730.03281647981078,-6.0836068039969993,-736.11642328380776,-1.7098500393331051E-10,-730.03281647981078,-6.0836068039969993,-736.11642328380776,-1.7098500393331051E-10,{"$f":"SUMPRODUCT((U74='Comparación Alternativas'!$Z$5:$Z$246)*('Comparación Alternativas'!$AA$5:$AA$246=Alternativas!V74)*('Comparación Alternativas'!$AV$5:$AV$246))","v":0},{"$f":"SUMPRODUCT((U74='Comparación Alternativas'!$Z$5:$Z$246)*('Comparación Alternativas'!$AA$5:$AA$246=Alternativas!V74)*('Comparación Alternativas'!$BF$5:$BF$246))","v":0}]
[null,51,{"$f":"IF(C74+SUMPRODUCT(($C$16='Para Ocultar'!$A$2:$A$7)*('Para Ocultar'!$C$2:$C$7))>12,(C74+SUMPRODUCT(($C$16='Para Ocultar'!$A$2:$A$7)*('Para Ocultar'!$C$2:$C$7)))-12,C74+SUMPRODUCT(($C$16='Para Ocultar'!$A$2:$A$7)*('Para Ocultar'!$C$2:$C$7)))","v":4},2026,0,0,0,0,4.0697380353360718E-12,-4.0697380353360718E-12,0,1.7848708240688198E-10,0,0,0,0,{"$f":"SUMPRODUCT((C75='Comparación Alternativas'!$Z$5:$Z$246)*(Alternativas!D75='Comparación Alternativas'!$AA$5:$AA$246)*('Comparación Alternativas'!$AQ$5:$AQ$246))","v":0},{"$f":"SUMPRODUCT((C75='Comparación Alternativas'!$Z$5:$Z$246)*('Comparación Alternativas'!$AA$5:$AA$246=Alternativas!D75)*('Comparación Alternativas'!$BA$5:$BA$246))","v":0},null,51,{"$f":"IF(U74+SUMPRODUCT(($U$16='Para Ocultar'!$A$2:$A$7)*('Para Ocultar'!$C$2:$C$7))>12,(U74+SUMPRODUCT(($U$16='Para Ocultar'!$A$2:$A$7)*('Para Ocultar'!$C$2:$C$7)))-12,U74+SUMPRODUCT(($U$16='Para Ocultar'!$A$2:$A$7)*('Para Ocultar'!$C$2:$C$7)))","v":4},2026,0,0,0,0,-1.4248750327775876E-12,1.4248750327775876E-12,0,-1.7240987896608809E-10,-1.4248750327775876E-12,1.4248750327775876E-12,0,-1.7240987896608809E-10,{"$f":"SUMPRODUCT((U75='Comparación Alternativas'!$Z$5:$Z$246)*('Comparación Alternativas'!$AA$5:$AA$246=Alternativas!V75)*('Comparación Alternativas'!$AV$5:$AV$246))","v":0},{"$f":"SUMPRODUCT((U75='Comparación Alternativas'!$Z$5:$Z$246)*('Comparación Alternativas'!$AA$5:$AA$246=Alternativas!V75)*('Comparación Alternativas'!$BF$5:$BF$246))","v":0}]
[null,52,{"$f":"IF(C75+SUMPRODUCT(($C$16='Para Ocultar'!$A$2:$A$7)*('Para Ocultar'!$C$2:$C$7))>12,(C75+SUMPRODUCT(($C$16='Para Ocultar'!$A$2:$A$7)*('Para Ocultar'!$C$2:$C$7)))-12,C75+SUMPRODUCT(($C$16='Para Ocultar'!$A$2:$A$7)*('Para Ocultar'!$C$2:$C$7)))","v":5},2026,0,0,0,0,4.1646985894939134E-12,-4.1646985894939134E-12,0,1.8265178099637589E-10,0,0,0,0,{"$f":"SUMPRODUCT((C76='Comparación Alternativas'!$Z$5:$Z$246)*(Alternativas!D76='Comparación Alternativas'!$AA$5:$AA$246)*('Comparación Alternativas'!$AQ$5:$AQ$246))","v":0},{"$f":"SUMPRODUCT((C76='Comparación Alternativas'!$Z$5:$Z$246)*('Comparación Alternativas'!$AA$5:$AA$246=Alternativas!D76)*('Comparación Alternativas'!$BA$5:$BA$246))","v":0},null,52,{"$f":"IF(U75+SUMPRODUCT(($U$16='Para Ocultar'!$A$2:$A$7)*('Para Ocultar'!$C$2:$C$7))>12,(U75+SUMPRODUCT(($U$16='Para Ocultar'!$A$2:$A$7)*('Para Ocultar'!$C$2:$C$7)))-12,U75+SUMPRODUCT(($U$16='Para Ocultar'!$A$2:$A$7)*('Para Ocultar'!$C$2:$C$7)))","v":5},2026,0,0,0,0,-1.4367489913840675E-12,1.4367489913840675E-12,0,-1.7384662795747215E-10,-1.4367489913840675E-12,1.4367489913840675E-12,0,-1.7384662795747215E-10,{"$f":"SUMPRODUCT((U76='Comparación Alternativas'!$Z$5:$Z$246)*('Comparación Alternativas'!$AA$5:$AA$246=Alternativas!V76)*('Comparación Alternativas'!$AV$5:$AV$246))","v":0},{"$f":"SUMPRODUCT((U76='Comparación Alternativas'!$Z$5:$Z$246)*('Comparación Alternativas'!$AA$5:$AA$246=Alternativas!V76)*('Comparación Alternativas'!$BF$5:$BF$246))","v":0}]
[null,53,{"$f":"IF(C76+SUMPRODUCT(($C$16='Para Ocultar'!$A$2:$A$7)*('Para Ocultar'!$C$2:$C$7))>12,(C76+SUMPRODUCT(($C$16='Para Ocultar'!$A$2:$A$7)*('Para Ocultar'!$C$2:$C$7)))-12,C76+SUMPRODUCT(($C$16='Para Ocultar'!$A$2:$A$7)*('Para Ocultar'!$C$2:$C$7)))","v":6},2026,0,0,0,0,4.261874889915438E-12,-4.261874889915438E-12,0,1.8691365588629133E-10,0,0,0,0,{"$f":"SUMPRODUCT((C77='Comparación Alternativas'!$Z$5:$Z$246)*(Alternativas!D77='Comparación Alternativas'!$AA$5:$AA$246)*('Comparación Alternativas'!$AQ$5:$AQ$246))","v":0},{"$f":"SUMPRODUCT((C77='Comparación Alternativas'!$Z$5:$Z$246)*('Comparación Alternativas'!$AA$5:$AA$246=Alternativas!D77)*('Comparación Alternativas'!$BA$5:$BA$246))","v":0},null,53,{"$f":"IF(U76+SUMPRODUCT(($U$16='Para Ocultar'!$A$2:$A$7)*('Para Ocultar'!$C$2:$C$7))>12,(U76+SUMPRODUCT(($U$16='Para Ocultar'!$A$2:$A$7)*('Para Ocultar'!$C$2:$C$7)))-12,U76+SUMPRODUCT(($U$16='Para Ocultar'!$A$2:$A$7)*('Para Ocultar'!$C$2:$C$7)))","v":6},2026,0,0,0,0,-1.4487218996456012E-12,1.4487218996456012E-12,0,-1.7529534985711775E-10,-1.4487218996456012E-12,1.4487218996456012E-12,0,-1.7529534985711775E-10,{"$f":"SUMPRODUCT((U77='Comparación Alternativas'!$Z$5:$Z$246)*('Comparación Alternativas'!$AA$5:$AA$246=Alternativas!V77)*('Comparación Alternativas'!$AV$5:$AV$246))","v":0},{"$f":"SUMPRODUCT((U77='Comparación Alternativas'!$Z$5:$Z$246)*('Comparación Alternativas'!$AA$5:$AA$246=Alternativas!V77)*('Comparación Alternativas'!$BF$5:$BF$246))","v":0}]
[null,54,{"$f":"IF(C77+SUMPRODUCT(($C$16='Para Ocultar'!$A$2:$A$7)*('Para Ocultar'!$C$2:$C$7))>12,(C77+SUMPRODUCT(($C$16='Para Ocultar'!$A$2:$A$7)*('Para Ocultar'!$C$2:$C$7)))-12,C77+SUMPRODUCT(($C$16='Para Ocultar'!$A$2:$A$7)*('Para Ocultar'!$C$2:$C$7)))","v":7},2026,0,0,0,0,4.3613186373467986E-12,-4.3613186373467986E-12,{"$f":"-IF($C$18>=B78,$C$12*$C$15/$C$16,IF($C$17+$C$18>=B78,$C$12*$J$20,0))","v":0},1.9127497452363812E-10,0,0,0,0,{"$f":"SUMPRODUCT((C78='Comparación Alternativas'!$Z$5:$Z$246)*(Alternativas!D78='Comparación Alternativas'!$AA$5:$AA$246)*('Comparación Alternativas'!$AQ$5:$AQ$246))","v":0},{"$f":"SUMPRODUCT((C78='Comparación Alternativas'!$Z$5:$Z$246)*('Comparación Alternativas'!$AA$5:$AA$246=Alternativas!D78)*('Comparación Alternativas'!$BA$5:$BA$246))","v":0},null,54,{"$f":"IF(U77+SUMPRODUCT(($U$16='Para Ocultar'!$A$2:$A$7)*('Para Ocultar'!$C$2:$C$7))>12,(U77+SUMPRODUCT(($U$16='Para Ocultar'!$A$2:$A$7)*('Para Ocultar'!$C$2:$C$7)))-12,U77+SUMPRODUCT(($U$16='Para Ocultar'!$A$2:$A$7)*('Para Ocultar'!$C$2:$C$7)))","v":7},2026,0,0,0,0,-1.4607945821426479E-12,1.4607945821426479E-12,{"$f":"-IF($U$18>=T78,$U$12*$U$15/$U$16,IF($U$17+$U$18>=T78,$U$12*$AB$20,0))","v":0},-1.767561444392604E-10,{"$f":"IF($U$14=\"Alemán\",W78,AA78)","v":-1.4607945821426479E-12},1.4607945821426479E-12,0,-1.767561444392604E-10,{"$f":"SUMPRODUCT((U78='Comparación Alternativas'!$Z$5:$Z$246)*('Comparación Alternativas'!$AA$5:$AA$246=Alternativas!V78)*('Comparación Alternativas'!$AV$5:$AV$246))","v":0},{"$f":"SUMPRODUCT((U78='Comparación Alternativas'!$Z$5:$Z$246)*('Comparación Alternativas'!$AA$5:$AA$246=Alternativas!V78)*('Comparación Alternativas'!$BF$5:$BF$246))","v":0}]
[null,55,{"$f":"IF(C78+SUMPRODUCT(($C$16='Para Ocultar'!$A$2:$A$7)*('Para Ocultar'!$C$2:$C$7))>12,(C78+SUMPRODUCT(($C$16='Para Ocultar'!$A$2:$A$7)*('Para Ocultar'!$C$2:$C$7)))-12,C78+SUMPRODUCT(($C$16='Para Ocultar'!$A$2:$A$7)*('Para Ocultar'!$C$2:$C$7)))","v":8},2026,0,0,0,0,4.4630827388848897E-12,-4.4630827388848897E-12,0,1.9573805726252301E-10,0,0,0,0,{"$f":"SUMPRODUCT((C79='Comparación Alternativas'!$Z$5:$Z$246)*(Alternativas!D79='Comparación Alternativas'!$AA$5:$AA$246)*('Comparación Alternativas'!$AQ$5:$AQ$246))","v":0},{"$f":"SUMPRODUCT((C79='Comparación Alternativas'!$Z$5:$Z$246)*('Comparación Alternativas'!$AA$5:$AA$246=Alternativas!D79)*('Comparación Alternativas'!$BA$5:$BA$246))","v":0},null,55,{"$f":"IF(U78+SUMPRODUCT(($U$16='Para Ocultar'!$A$2:$A$7)*('Para Ocultar'!$C$2:$C$7))>12,(U78+SUMPRODUCT(($U$16='Para Ocultar'!$A$2:$A$7)*('Para Ocultar'!$C$2:$C$7)))-12,U78+SUMPRODUCT(($U$16='Para Ocultar'!$A$2:$A$7)*('Para Ocultar'!$C$2:$C$7)))","v":8},2026,0,0,0,0,-1.4729678703271702E-12,1.4729678703271702E-12,0,-1.7822911230958756E-10,-1.4729678703271702E-12,1.4729678703271702E-12,0,-1.7822911230958756E-10,{"$f":"SUMPRODUCT((U79='Comparación Alternativas'!$Z$5:$Z$246)*('Comparación Alternativas'!$AA$5:$AA$246=Alternativas!V79)*('Comparación Alternativas'!$AV$5:$AV$246))","v":0},{"$f":"SUMPRODUCT((U79='Comparación Alternativas'!$Z$5:$Z$246)*('Comparación Alternativas'!$AA$5:$AA$246=Alternativas!V79)*('Comparación Alternativas'!$BF$5:$BF$246))","v":0}]
[null,56,{"$f":"IF(C79+SUMPRODUCT(($C$16='Para Ocultar'!$A$2:$A$7)*('Para Ocultar'!$C$2:$C$7))>12,(C79+SUMPRODUCT(($C$16='Para Ocultar'!$A$2:$A$7)*('Para Ocultar'!$C$2:$C$7)))-12,C79+SUMPRODUCT(($C$16='Para Ocultar'!$A$2:$A$7)*('Para Ocultar'!$C$2:$C$7)))","v":9},2026,0,0,0,0,4.5672213361255376E-12,-4.5672213361255376E-12,0,2.0030527859864855E-10,0,0,0,0,{"$f":"SUMPRODUCT((C80='Comparación Alternativas'!$Z$5:$Z$246)*(Alternativas!D80='Comparación Alternativas'!$AA$5:$AA$246)*('Comparación Alternativas'!$AQ$5:$AQ$246))","v":0},{"$f":"SUMPRODUCT((C80='Comparación Alternativas'!$Z$5:$Z$246)*('Comparación Alternativas'!$AA$5:$AA$246=Alternativas!D80)*('Comparación Alternativas'!$BA$5:$BA$246))","v":0},null,56,{"$f":"IF(U79+SUMPRODUCT(($U$16='Para Ocultar'!$A$2:$A$7)*('Para Ocultar'!$C$2:$C$7))>12,(U79+SUMPRODUCT(($U$16='Para Ocultar'!$A$2:$A$7)*('Para Ocultar'!$C$2:$C$7)))-12,U79+SUMPRODUCT(($U$16='Para Ocultar'!$A$2:$A$7)*('Para Ocultar'!$C$2:$C$7)))","v":9},2026,0,0,0,0,-1.4852426025798963E-12,1.4852426025798963E-12,0,-1.7971435491216746E-10,-1.4852426025798963E-12,1.4852426025798963E-12,0,-1.7971435491216746E-10,{"$f":"SUMPRODUCT((U80='Comparación Alternativas'!$Z$5:$Z$246)*('Comparación Alternativas'!$AA$5:$AA$246=Alternativas!V80)*('Comparación Alternativas'!$AV$5:$AV$246))","v":0},{"$f":"SUMPRODUCT((U80='Comparación Alternativas'!$Z$5:$Z$246)*('Comparación Alternativas'!$AA$5:$AA$246=Alternativas!V80)*('Comparación Alternativas'!$BF$5:$BF$246))","v":0}]
[null,57,{"$f":"IF(C80+SUMPRODUCT(($C$16='Para Ocultar'!$A$2:$A$7)*('Para Ocultar'!$C$2:$C$7))>12,(C80+SUMPRODUCT(($C$16='Para Ocultar'!$A$2:$A$7)*('Para Ocultar'!$C$2:$C$7)))-12,C80+SUMPRODUCT(($C$16='Para Ocultar'!$A$2:$A$7)*('Para Ocultar'!$C$2:$C$7)))","v":10},2026,0,0,0,0,4.673789833968467E-12,-4.673789833968467E-12,0,2.0497906843261702E-10,0,0,0,0,{"$f":"SUMPRODUCT((C81='Comparación Alternativas'!$Z$5:$Z$246)*(Alternativas!D81='Comparación Alternativas'!$AA$5:$AA$246)*('Comparación Alternativas'!$AQ$5:$AQ$246))","v":0},{"$f":"SUMPRODUCT((C81='Comparación Alternativas'!$Z$5:$Z$246)*('Comparación Alternativas'!$AA$5:$AA$246=Alternativas!D81)*('Comparación Alternativas'!$BA$5:$BA$246))","v":0},null,57,{"$f":"IF(U80+SUMPRODUCT(($U$16='Para Ocultar'!$A$2:$A$7)*('Para Ocultar'!$C$2:$C$7))>12,(U80+SUMPRODUCT(($U$16='Para Ocultar'!$A$2:$A$7)*('Para Ocultar'!$C$2:$C$7)))-12,U80+SUMPRODUCT(($U$16='Para Ocultar'!$A$2:$A$7)*('Para Ocultar'!$C$2:$C$7)))","v":10},2026,0,0,0,0,-1.4976196242680621E-12,1.4976196242680621E-12,0,-1.8121197453643552E-10,-1.4976196242680621E-12,1.4976196242680621E-12,0,-1.8121197453643552E-10,{"$f":"SUMPRODUCT((U81='Comparación Alternativas'!$Z$5:$Z$246)*('Comparación Alternativas'!$AA$5:$AA$246=Alternativas!V81)*('Comparación Alternativas'!$AV$5:$AV$246))","v":0},{"$f":"SUMPRODUCT((U81='Comparación Alternativas'!$Z$5:$Z$246)*('Comparación Alternativas'!$AA$5:$AA$246=Alternativas!V81)*('Comparación Alternativas'!$BF$5:$BF$246))","v":0}]
[null,58,{"$f":"IF(C81+SUMPRODUCT(($C$16='Para Ocultar'!$A$2:$A$7)*('Para Ocultar'!$C$2:$C$7))>12,(C81+SUMPRODUCT(($C$16='Para Ocultar'!$A$2:$A$7)*('Para Ocultar'!$C$2:$C$7)))-12,C81+SUMPRODUCT(($C$16='Para Ocultar'!$A$2:$A$7)*('Para Ocultar'!$C$2:$C$7)))","v":11},2026,0,0,0,0,4.7828449300943972E-12,-4.7828449300943972E-12,0,2.097619133627114E-10,0,0,0,0,{"$f":"SUMPRODUCT((C82='Comparación Alternativas'!$Z$5:$Z$246)*(Alternativas!D82='Comparación Alternativas'!$AA$5:$AA$246)*('Comparación Alternativas'!$AQ$5:$AQ$246))","v":0},{"$f":"SUMPRODUCT((C82='Comparación Alternativas'!$Z$5:$Z$246)*('Comparación Alternativas'!$AA$5:$AA$246=Alternativas!D82)*('Comparación Alternativas'!$BA$5:$BA$246))","v":0},null,58,{"$f":"IF(U81+SUMPRODUCT(($U$16='Para Ocultar'!$A$2:$A$7)*('Para Ocultar'!$C$2:$C$7))>12,(U81+SUMPRODUCT(($U$16='Para Ocultar'!$A$2:$A$7)*('Para Ocultar'!$C$2:$C$7)))-12,U81+SUMPRODUCT(($U$16='Para Ocultar'!$A$2:$A$7)*('Para Ocultar'!$C$2:$C$7)))","v":11},2026,0,0,0,0,-1.5100997878036293E-12,1.5100997878036293E-12,0,-1.8272207432423915E-10,-1.5100997878036293E-12,1.5100997878036293E-12,0,-1.8272207432423915E-10,{"$f":"SUMPRODUCT((U82='Comparación Alternativas'!$Z$5:$Z$246)*('Comparación Alternativas'!$AA$5:$AA$246=Alternativas!V82)*('Comparación Alternativas'!$AV$5:$AV$246))","v":0},{"$f":"SUMPRODUCT((U82='Comparación Alternativas'!$Z$5:$Z$246)*('Comparación Alternativas'!$AA$5:$AA$246=Alternativas!V82)*('Comparación Alternativas'!$BF$5:$BF$246))","v":0}]
[null,59,{"$f":"IF(C82+SUMPRODUCT(($C$16='Para Ocultar'!$A$2:$A$7)*('Para Ocultar'!$C$2:$C$7))>12,(C82+SUMPRODUCT(($C$16='Para Ocultar'!$A$2:$A$7)*('Para Ocultar'!$C$2:$C$7)))-12,C82+SUMPRODUCT(($C$16='Para Ocultar'!$A$2:$A$7)*('Para Ocultar'!$C$2:$C$7)))","v":12},2026,0,0,0,0,4.8944446451299327E-12,-4.8944446451299327E-12,0,2.1465635800784133E-10,0,0,0,0,{"$f":"SUMPRODUCT((C83='Comparación Alternativas'!$Z$5:$Z$246)*(Alternativas!D83='Comparación Alternativas'!$AA$5:$AA$246)*('Comparación Alternativas'!$AQ$5:$AQ$246))","v":0},{"$f":"SUMPRODUCT((C83='Comparación Alternativas'!$Z$5:$Z$246)*('Comparación Alternativas'!$AA$5:$AA$246=Alternativas!D83)*('Comparación Alternativas'!$BA$5:$BA$246))","v":0},null,59,{"$f":"IF(U82+SUMPRODUCT(($U$16='Para Ocultar'!$A$2:$A$7)*('Para Ocultar'!$C$2:$C$7))>12,(U82+SUMPRODUCT(($U$16='Para Ocultar'!$A$2:$A$7)*('Para Ocultar'!$C$2:$C$7)))-12,U82+SUMPRODUCT(($U$16='Para Ocultar'!$A$2:$A$7)*('Para Ocultar'!$C$2:$C$7)))","v":12},2026,0,0,0,0,-1.5226839527019929E-12,1.5226839527019929E-12,0,-1.8424475827694115E-10,-1.5226839527019929E-12,1.5226839527019929E-12,0,-1.8424475827694115E-10,{"$f":"SUMPRODUCT((U83='Comparación Alternativas'!$Z$5:$Z$246)*('Comparación Alternativas'!$AA$5:$AA$246=Alternativas!V83)*('Comparación Alternativas'!$AV$5:$AV$246))","v":0},{"$f":"SUMPRODUCT((U83='Comparación Alternativas'!$Z$5:$Z$246)*('Comparación Alternativas'!$AA$5:$AA$246=Alternativas!V83)*('Comparación Alternativas'!$BF$5:$BF$246))","v":0}]
[null,60,{"$f":"IF(C83+SUMPRODUCT(($C$16='Para Ocultar'!$A$2:$A$7)*('Para Ocultar'!$C$2:$C$7))>12,(C83+SUMPRODUCT(($C$16='Para Ocultar'!$A$2:$A$7)*('Para Ocultar'!$C$2:$C$7)))-12,C83+SUMPRODUCT(($C$16='Para Ocultar'!$A$2:$A$7)*('Para Ocultar'!$C$2:$C$7)))","v":1},2027,0,0,0,0,5.0086483535162979E-12,-5.0086483535162979E-12,0,2.1966500636135763E-10,0,0,0,0,{"$f":"SUMPRODUCT((C84='Comparación Alternativas'!$Z$5:$Z$246)*(Alternativas!D84='Comparación Alternativas'!$AA$5:$AA$246)*('Comparación Alternativas'!$AQ$5:$AQ$246))","v":0},{"$f":"SUMPRODUCT((C84='Comparación Alternativas'!$Z$5:$Z$246)*('Comparación Alternativas'!$AA$5:$AA$246=Alternativas!D84)*('Comparación Alternativas'!$BA$5:$BA$246))","v":0},null,60,{"$f":"IF(U83+SUMPRODUCT(($U$16='Para Ocultar'!$A$2:$A$7)*('Para Ocultar'!$C$2:$C$7))>12,(U83+SUMPRODUCT(($U$16='Para Ocultar'!$A$2:$A$7)*('Para Ocultar'!$C$2:$C$7)))-12,U83+SUMPRODUCT(($U$16='Para Ocultar'!$A$2:$A$7)*('Para Ocultar'!$C$2:$C$7)))","v":1},2027,0,0,0,0,-1.5353729856411762E-12,1.5353729856411762E-12,0,-1.8578013126258232E-10,-1.5353729856411762E-12,1.5353729856411762E-12,0,-1.8578013126258232E-10,{"$f":"SUMPRODUCT((U84='Comparación Alternativas'!$Z$5:$Z$246)*('Comparación Alternativas'!$AA$5:$AA$246=Alternativas!V84)*('Comparación Alternativas'!$AV$5:$AV$246))","v":0},{"$f":"SUMPRODUCT((U84='Comparación Alternativas'!$Z$5:$Z$246)*('Comparación Alternativas'!$AA$5:$AA$246=Alternativas!V84)*('Comparación Alternativas'!$BF$5:$BF$246))","v":0}]
[null,61,{"$f":"IF(C84+SUMPRODUCT(($C$16='Para Ocultar'!$A$2:$A$7)*('Para Ocultar'!$C$2:$C$7))>12,(C84+SUMPRODUCT(($C$16='Para Ocultar'!$A$2:$A$7)*('Para Ocultar'!$C$2:$C$7)))-12,C84+SUMPRODUCT(($C$16='Para Ocultar'!$A$2:$A$7)*('Para Ocultar'!$C$2:$C$7)))","v":2},2027,0,0,0,0,5.1255168150983455E-12,-5.1255168150983455E-12,0,2.2479052317645598E-10,0,0,0,0,{"$f":"SUMPRODUCT((C85='Comparación Alternativas'!$Z$5:$Z$246)*(Alternativas!D85='Comparación Alternativas'!$AA$5:$AA$246)*('Comparación Alternativas'!$AQ$5:$AQ$246))","v":0},{"$f":"SUMPRODUCT((C85='Comparación Alternativas'!$Z$5:$Z$246)*('Comparación Alternativas'!$AA$5:$AA$246=Alternativas!D85)*('Comparación Alternativas'!$BA$5:$BA$246))","v":0},null,61,{"$f":"IF(U84+SUMPRODUCT(($U$16='Para Ocultar'!$A$2:$A$7)*('Para Ocultar'!$C$2:$C$7))>12,(U84+SUMPRODUCT(($U$16='Para Ocultar'!$A$2:$A$7)*('Para Ocultar'!$C$2:$C$7)))-12,U84+SUMPRODUCT(($U$16='Para Ocultar'!$A$2:$A$7)*('Para Ocultar'!$C$2:$C$7)))","v":2},2027,0,0,0,0,-1.5481677605215195E-12,1.5481677605215195E-12,0,-1.8732829902310385E-10,-1.5481677605215195E-12,1.5481677605215195E-12,0,-1.8732829902310385E-10,{"$f":"SUMPRODUCT((U85='Comparación Alternativas'!$Z$5:$Z$246)*('Comparación Alternativas'!$AA$5:$AA$246=Alternativas!V85)*('Comparación Alternativas'!$AV$5:$AV$246))","v":0},{"$f":"SUMPRODUCT((U85='Comparación Alternativas'!$Z$5:$Z$246)*('Comparación Alternativas'!$AA$5:$AA$246=Alternativas!V85)*('Comparación Alternativas'!$BF$5:$BF$246))","v":0}]
[null,62,{"$f":"IF(C85+SUMPRODUCT(($C$16='Para Ocultar'!$A$2:$A$7)*('Para Ocultar'!$C$2:$C$7))>12,(C85+SUMPRODUCT(($C$16='Para Ocultar'!$A$2:$A$7)*('Para Ocultar'!$C$2:$C$7)))-12,C85+SUMPRODUCT(($C$16='Para Ocultar'!$A$2:$A$7)*('Para Ocultar'!$C$2:$C$7)))","v":3},2027,0,0,0,0,5.2451122074506401E-12,-5.2451122074506401E-12,0,2.3003563538390663E-10,0,0,0,0,{"$f":"SUMPRODUCT((C86='Comparación Alternativas'!$Z$5:$Z$246)*(Alternativas!D86='Comparación Alternativas'!$AA$5:$AA$246)*('Comparación Alternativas'!$AQ$5:$AQ$246))","v":0},{"$f":"SUMPRODUCT((C86='Comparación Alternativas'!$Z$5:$Z$246)*('Comparación Alternativas'!$AA$5:$AA$246=Alternativas!D86)*('Comparación Alternativas'!$BA$5:$BA$246))","v":0},null,62,{"$f":"IF(U85+SUMPRODUCT(($U$16='Para Ocultar'!$A$2:$A$7)*('Para Ocultar'!$C$2:$C$7))>12,(U85+SUMPRODUCT(($U$16='Para Ocultar'!$A$2:$A$7)*('Para Ocultar'!$C$2:$C$7)))-12,U85+SUMPRODUCT(($U$16='Para Ocultar'!$A$2:$A$7)*('Para Ocultar'!$C$2:$C$7)))","v":3},2027,0,0,0,0,-1.5610691585258653E-12,1.5610691585258653E-12,0,-1.8888936818162971E-10,-1.5610691585258653E-12,1.5610691585258653E-12,0,-1.8888936818162971E-10,{"$f":"SUMPRODUCT((U86='Comparación Alternativas'!$Z$5:$Z$246)*('Comparación Alternativas'!$AA$5:$AA$246=Alternativas!V86)*('Comparación Alternativas'!$AV$5:$AV$246))","v":0},{"$f":"SUMPRODUCT((U86='Comparación Alternativas'!$Z$5:$Z$246)*('Comparación Alternativas'!$AA$5:$AA$246=Alternativas!V86)*('Comparación Alternativas'!$BF$5:$BF$246))","v":0}]
[null,63,{"$f":"IF(C86+SUMPRODUCT(($C$16='Para Ocultar'!$A$2:$A$7)*('Para Ocultar'!$C$2:$C$7))>12,(C86+SUMPRODUCT(($C$16='Para Ocultar'!$A$2:$A$7)*('Para Ocultar'!$C$2:$C$7)))-12,C86+SUMPRODUCT(($C$16='Para Ocultar'!$A$2:$A$7)*('Para Ocultar'!$C$2:$C$7)))","v":4},2027,0,0,0,0,5.3674981589578216E-12,-5.3674981589578216E-12,0,2.3540313354286447E-10,0,0,0,0,{"$f":"SUMPRODUCT((C87='Comparación Alternativas'!$Z$5:$Z$246)*(Alternativas!D87='Comparación Alternativas'!$AA$5:$AA$246)*('Comparación Alternativas'!$AQ$5:$AQ$246))","v":0},{"$f":"SUMPRODUCT((C87='Comparación Alternativas'!$Z$5:$Z$246)*('Comparación Alternativas'!$AA$5:$AA$246=Alternativas!D87)*('Comparación Alternativas'!$BA$5:$BA$246))","v":0},null,63,{"$f":"IF(U86+SUMPRODUCT(($U$16='Para Ocultar'!$A$2:$A$7)*('Para Ocultar'!$C$2:$C$7))>12,(U86+SUMPRODUCT(($U$16='Para Ocultar'!$A$2:$A$7)*('Para Ocultar'!$C$2:$C$7)))-12,U86+SUMPRODUCT(($U$16='Para Ocultar'!$A$2:$A$7)*('Para Ocultar'!$C$2:$C$7)))","v":4},2027,0,0,0,0,-1.5740780681802476E-12,1.5740780681802476E-12,0,-1.9046344624980996E-10,-1.5740780681802476E-12,1.5740780681802476E-12,0,-1.9046344624980996E-10,{"$f":"SUMPRODUCT((U87='Comparación Alternativas'!$Z$5:$Z$246)*('Comparación Alternativas'!$AA$5:$AA$246=Alternativas!V87)*('Comparación Alternativas'!$AV$5:$AV$246))","v":0},{"$f":"SUMPRODUCT((U87='Comparación Alternativas'!$Z$5:$Z$246)*('Comparación Alternativas'!$AA$5:$AA$246=Alternativas!V87)*('Comparación Alternativas'!$BF$5:$BF$246))","v":0}]
[null,64,{"$f":"IF(C87+SUMPRODUCT(($C$16='Para Ocultar'!$A$2:$A$7)*('Para Ocultar'!$C$2:$C$7))>12,(C87+SUMPRODUCT(($C$16='Para Ocultar'!$A$2:$A$7)*('Para Ocultar'!$C$2:$C$7)))-12,C87+SUMPRODUCT(($C$16='Para Ocultar'!$A$2:$A$7)*('Para Ocultar'!$C$2:$C$7)))","v":5},2027,0,0,0,0,5.4927397826668384E-12,-5.4927397826668384E-12,0,2.408958733255313E-10,0,0,0,0,{"$f":"SUMPRODUCT((C88='Comparación Alternativas'!$Z$5:$Z$246)*(Alternativas!D88='Comparación Alternativas'!$AA$5:$AA$246)*('Comparación Alternativas'!$AQ$5:$AQ$246))","v":0},{"$f":"SUMPRODUCT((C88='Comparación Alternativas'!$Z$5:$Z$246)*('Comparación Alternativas'!$AA$5:$AA$246=Alternativas!D88)*('Comparación Alternativas'!$BA$5:$BA$246))","v":0},null,64,{"$f":"IF(U87+SUMPRODUCT(($U$16='Para Ocultar'!$A$2:$A$7)*('Para Ocultar'!$C$2:$C$7))>12,(U87+SUMPRODUCT(($U$16='Para Ocultar'!$A$2:$A$7)*('Para Ocultar'!$C$2:$C$7)))-12,U87+SUMPRODUCT(($U$16='Para Ocultar'!$A$2:$A$7)*('Para Ocultar'!$C$2:$C$7)))","v":5},2027,0,0,0,0,-1.5871953854150831E-12,1.5871953854150831E-12,0,-1.9205064163522505E-10,-1.5871953854150831E-12,1.5871953854150831E-12,0,-1.9205064163522505E-10,{"$f":"SUMPRODUCT((U88='Comparación Alternativas'!$Z$5:$Z$246)*('Comparación Alternativas'!$AA$5:$AA$246=Alternativas!V88)*('Comparación Alternativas'!$AV$5:$AV$246))","v":0},{"$f":"SUMPRODUCT((U88='Comparación Alternativas'!$Z$5:$Z$246)*('Comparación Alternativas'!$AA$5:$AA$246=Alternativas!V88)*('Comparación Alternativas'!$BF$5:$BF$246))","v":0}]
[null,65,{"$f":"IF(C88+SUMPRODUCT(($C$16='Para Ocultar'!$A$2:$A$7)*('Para Ocultar'!$C$2:$C$7))>12,(C88+SUMPRODUCT(($C$16='Para Ocultar'!$A$2:$A$7)*('Para Ocultar'!$C$2:$C$7)))-12,C88+SUMPRODUCT(($C$16='Para Ocultar'!$A$2:$A$7)*('Para Ocultar'!$C$2:$C$7)))","v":6},2027,0,{"$f":"-H88*($C$15/$C$16)","v":0},{"$f":"F89+E89","v":0},{"$f":"E89+H88","v":0},{"$f":"L88-L88+K89-J89","v":5.6209037109290638E-12},{"$f":"-L88*$C$15/$C$16","v":-5.6209037109290638E-12},{"$f":"-IF($C$18>=B89,$C$12*$C$15/$C$16,IF($C$17+$C$18>=B89,$C$12*$J$20,0))","v":0},{"$f":"L88+I89","v":2.4651677703646035E-10},{"$f":"IF($C$14=\"Alemán\",E89,I89)","v":0},{"$f":"IF($C$14=\"Alemán\",F89,J89)","v":0},{"$f":"IF($C$14=\"Alemán\",G89,K89)","v":0},{"$f":"IF($C$14=\"Alemán\",H89,L89)","v":0},{"$f":"SUMPRODUCT((C89='Comparación Alternativas'!$Z$5:$Z$246)*(Alternativas!D89='Comparación Alternativas'!$AA$5:$AA$246)*('Comparación Alternativas'!$AQ$5:$AQ$246))","v":0},{"$f":"SUMPRODUCT((C89='Comparación Alternativas'!$Z$5:$Z$246)*('Comparación Alternativas'!$AA$5:$AA$246=Alternativas!D89)*('Comparación Alternativas'!$BA$5:$BA$246))","v":0},null,65,{"$f":"IF(U88+SUMPRODUCT(($U$16='Para Ocultar'!$A$2:$A$7)*('Para Ocultar'!$C$2:$C$7))>12,(U88+SUMPRODUCT(($U$16='Para Ocultar'!$A$2:$A$7)*('Para Ocultar'!$C$2:$C$7)))-12,U88+SUMPRODUCT(($U$16='Para Ocultar'!$A$2:$A$7)*('Para Ocultar'!$C$2:$C$7)))","v":6},2027,0,0,{"$f":"X89+W89","v":0},{"$f":"W89+Z88","v":0},{"$f":"AD88-AD88+AC89-AB89","v":-1.6004220136268756E-12},1.6004220136268756E-12,{"$f":"-IF($U$18>=T89,$U$12*$U$15/$U$16,IF($U$17+$U$18>=T89,$U$12*$AB$20,0))","v":0},{"$f":"AD88+AA89","v":-1.9365106364885192E-10},{"$f":"IF($U$14=\"Alemán\",W89,AA89)","v":-1.6004220136268756E-12},{"$f":"IF($U$14=\"Alemán\",X89,AB89)","v":1.6004220136268756E-12},{"$f":"IF($U$14=\"Alemán\",Y89,AC89)","v":0},{"$f":"IF($U$14=\"Alemán\",Z89,AD89)","v":-1.9365106364885192E-10},{"$f":"SUMPRODUCT((U89='Comparación Alternativas'!$Z$5:$Z$246)*('Comparación Alternativas'!$AA$5:$AA$246=Alternativas!V89)*('Comparación Alternativas'!$AV$5:$AV$246))","v":0},{"$f":"SUMPRODUCT((U89='Comparación Alternativas'!$Z$5:$Z$246)*('Comparación Alternativas'!$AA$5:$AA$246=Alternativas!V89)*('Comparación Alternativas'!$BF$5:$BF$246))","v":0}]
[null,66,{"$f":"IF(C89+SUMPRODUCT(($C$16='Para Ocultar'!$A$2:$A$7)*('Para Ocultar'!$C$2:$C$7))>12,(C89+SUMPRODUCT(($C$16='Para Ocultar'!$A$2:$A$7)*('Para Ocultar'!$C$2:$C$7)))-12,C89+SUMPRODUCT(($C$16='Para Ocultar'!$A$2:$A$7)*('Para Ocultar'!$C$2:$C$7)))","v":7},{"$f":"IF(C90<=C89,D89+1,D89)","v":2027},0,0,0,0,5.7520581308507423E-12,-5.7520581308507423E-12,0,2.5226883516731111E-10,0,0,0,0,{"$f":"SUMPRODUCT((C90='Comparación Alternativas'!$Z$5:$Z$246)*(Alternativas!D90='Comparación Alternativas'!$AA$5:$AA$246)*('Comparación Alternativas'!$AQ$5:$AQ$246))","v":0},{"$f":"SUMPRODUCT((C90='Comparación Alternativas'!$Z$5:$Z$246)*('Comparación Alternativas'!$AA$5:$AA$246=Alternativas!D90)*('Comparación Alternativas'!$BA$5:$BA$246))","v":0},null,66,{"$f":"IF(U89+SUMPRODUCT(($U$16='Para Ocultar'!$A$2:$A$7)*('Para Ocultar'!$C$2:$C$7))>12,(U89+SUMPRODUCT(($U$16='Para Ocultar'!$A$2:$A$7)*('Para Ocultar'!$C$2:$C$7)))-12,U89+SUMPRODUCT(($U$16='Para Ocultar'!$A$2:$A$7)*('Para Ocultar'!$C$2:$C$7)))","v":7},{"$f":"IF(U90<=U89,V89+1,V89)","v":2027},{"$f":"IF($U$18>=T90,0,-IF(T90<=$U$17+$U$18,$V$12/$U$17,0))","v":0},{"$f":"-Z89*($U$15/$U$16)","v":0},0,0,-1.6137588637404328E-12,{"$f":"-AD89*$U$15/$U$16","v":1.6137588637404328E-12},0,-1.9526482251259236E-10,-1.6137588637404328E-12,1.6137588637404328E-12,0,-1.9526482251259236E-10,{"$f":"SUMPRODUCT((U90='Comparación Alternativas'!$Z$5:$Z$246)*('Comparación Alternativas'!$AA$5:$AA$246=Alternativas!V90)*('Comparación Alternativas'!$AV$5:$AV$246))","v":0},{"$f":"SUMPRODUCT((U90='Comparación Alternativas'!$Z$5:$Z$246)*('Comparación Alternativas'!$AA$5:$AA$246=Alternativas!V90)*('Comparación Alternativas'!$BF$5:$BF$246))","v":0}]
[null,67,{"$f":"IF(C90+SUMPRODUCT(($C$16='Para Ocultar'!$A$2:$A$7)*('Para Ocultar'!$C$2:$C$7))>12,(C90+SUMPRODUCT(($C$16='Para Ocultar'!$A$2:$A$7)*('Para Ocultar'!$C$2:$C$7)))-12,C90+SUMPRODUCT(($C$16='Para Ocultar'!$A$2:$A$7)*('Para Ocultar'!$C$2:$C$7)))","v":8},2027,0,0,0,0,5.8862728205705938E-12,-5.8862728205705938E-12,0,2.5815510798788171E-10,0,0,0,0,{"$f":"SUMPRODUCT((C91='Comparación Alternativas'!$Z$5:$Z$246)*(Alternativas!D91='Comparación Alternativas'!$AA$5:$AA$246)*('Comparación Alternativas'!$AQ$5:$AQ$246))","v":0},{"$f":"SUMPRODUCT((C91='Comparación Alternativas'!$Z$5:$Z$246)*('Comparación Alternativas'!$AA$5:$AA$246=Alternativas!D91)*('Comparación Alternativas'!$BA$5:$BA$246))","v":0},null,67,{"$f":"IF(U90+SUMPRODUCT(($U$16='Para Ocultar'!$A$2:$A$7)*('Para Ocultar'!$C$2:$C$7))>12,(U90+SUMPRODUCT(($U$16='Para Ocultar'!$A$2:$A$7)*('Para Ocultar'!$C$2:$C$7)))-12,U90+SUMPRODUCT(($U$16='Para Ocultar'!$A$2:$A$7)*('Para Ocultar'!$C$2:$C$7)))","v":8},2027,0,0,0,0,-1.627206854271603E-12,1.627206854271603E-12,0,-1.9689202936686397E-10,-1.627206854271603E-12,1.627206854271603E-12,0,-1.9689202936686397E-10,{"$f":"SUMPRODUCT((U91='Comparación Alternativas'!$Z$5:$Z$246)*('Comparación Alternativas'!$AA$5:$AA$246=Alternativas!V91)*('Comparación Alternativas'!$AV$5:$AV$246))","v":0},{"$f":"SUMPRODUCT((U91='Comparación Alternativas'!$Z$5:$Z$246)*('Comparación Alternativas'!$AA$5:$AA$246=Alternativas!V91)*('Comparación Alternativas'!$BF$5:$BF$246))","v":0}]
[null,68,{"$f":"IF(C91+SUMPRODUCT(($C$16='Para Ocultar'!$A$2:$A$7)*('Para Ocultar'!$C$2:$C$7))>12,(C91+SUMPRODUCT(($C$16='Para Ocultar'!$A$2:$A$7)*('Para Ocultar'!$C$2:$C$7)))-12,C91+SUMPRODUCT(($C$16='Para Ocultar'!$A$2:$A$7)*('Para Ocultar'!$C$2:$C$7)))","v":9},2027,0,0,0,0,6.0236191863839068E-12,-6.0236191863839068E-12,0,2.6417872717426561E-10,0,0,0,0,{"$f":"SUMPRODUCT((C92='Comparación Alternativas'!$Z$5:$Z$246)*(Alternativas!D92='Comparación Alternativas'!$AA$5:$AA$246)*('Comparación Alternativas'!$AQ$5:$AQ$246))","v":0},{"$f":"SUMPRODUCT((C92='Comparación Alternativas'!$Z$5:$Z$246)*('Comparación Alternativas'!$AA$5:$AA$246=Alternativas!D92)*('Comparación Alternativas'!$BA$5:$BA$246))","v":0},null,68,{"$f":"IF(U91+SUMPRODUCT(($U$16='Para Ocultar'!$A$2:$A$7)*('Para Ocultar'!$C$2:$C$7))>12,(U91+SUMPRODUCT(($U$16='Para Ocultar'!$A$2:$A$7)*('Para Ocultar'!$C$2:$C$7)))-12,U91+SUMPRODUCT(($U$16='Para Ocultar'!$A$2:$A$7)*('Para Ocultar'!$C$2:$C$7)))","v":9},2027,0,0,0,0,-1.6407669113905332E-12,1.6407669113905332E-12,0,-1.9853279627825451E-10,-1.6407669113905332E-12,1.6407669113905332E-12,0,-1.9853279627825451E-10,{"$f":"SUMPRODUCT((U92='Comparación Alternativas'!$Z$5:$Z$246)*('Comparación Alternativas'!$AA$5:$AA$246=Alternativas!V92)*('Comparación Alternativas'!$AV$5:$AV$246))","v":0},{"$f":"SUMPRODUCT((U92='Comparación Alternativas'!$Z$5:$Z$246)*('Comparación Alternativas'!$AA$5:$AA$246=Alternativas!V92)*('Comparación Alternativas'!$BF$5:$BF$246))","v":0}]
[null,69,{"$f":"IF(C92+SUMPRODUCT(($C$16='Para Ocultar'!$A$2:$A$7)*('Para Ocultar'!$C$2:$C$7))>12,(C92+SUMPRODUCT(($C$16='Para Ocultar'!$A$2:$A$7)*('Para Ocultar'!$C$2:$C$7)))-12,C92+SUMPRODUCT(($C$16='Para Ocultar'!$A$2:$A$7)*('Para Ocultar'!$C$2:$C$7)))","v":10},2027,0,0,0,0,6.1641703007328648E-12,-6.1641703007328648E-12,0,2.7034289747499847E-10,0,0,0,0,{"$f":"SUMPRODUCT((C93='Comparación Alternativas'!$Z$5:$Z$246)*(Alternativas!D93='Comparación Alternativas'!$AA$5:$AA$246)*('Comparación Alternativas'!$AQ$5:$AQ$246))","v":0},{"$f":"SUMPRODUCT((C93='Comparación Alternativas'!$Z$5:$Z$246)*('Comparación Alternativas'!$AA$5:$AA$246=Alternativas!D93)*('Comparación Alternativas'!$BA$5:$BA$246))","v":0},null,69,{"$f":"IF(U92+SUMPRODUCT(($U$16='Para Ocultar'!$A$2:$A$7)*('Para Ocultar'!$C$2:$C$7))>12,(U92+SUMPRODUCT(($U$16='Para Ocultar'!$A$2:$A$7)*('Para Ocultar'!$C$2:$C$7)))-12,U92+SUMPRODUCT(($U$16='Para Ocultar'!$A$2:$A$7)*('Para Ocultar'!$C$2:$C$7)))","v":10},2027,0,0,0,0,-1.6544399689854544E-12,1.6544399689854544E-12,0,-2.0018723624723996E-10,-1.6544399689854544E-12,1.6544399689854544E-12,0,-2.0018723624723996E-10,{"$f":"SUMPRODUCT((U93='Comparación Alternativas'!$Z$5:$Z$246)*('Comparación Alternativas'!$AA$5:$AA$246=Alternativas!V93)*('Comparación Alternativas'!$AV$5:$AV$246))","v":0},{"$f":"SUMPRODUCT((U93='Comparación Alternativas'!$Z$5:$Z$246)*('Comparación Alternativas'!$AA$5:$AA$246=Alternativas!V93)*('Comparación Alternativas'!$BF$5:$BF$246))","v":0}]
[null,70,{"$f":"IF(C93+SUMPRODUCT(($C$16='Para Ocultar'!$A$2:$A$7)*('Para Ocultar'!$C$2:$C$7))>12,(C93+SUMPRODUCT(($C$16='Para Ocultar'!$A$2:$A$7)*('Para Ocultar'!$C$2:$C$7)))-12,C93+SUMPRODUCT(($C$16='Para Ocultar'!$A$2:$A$7)*('Para Ocultar'!$C$2:$C$7)))","v":11},2027,{"$f":"IF($C$18>=B94,0,-IF(B94<=$C$17+$C$18,$D$12/$C$17,0))","v":0},0,0,0,6.3080009410832975E-12,-6.3080009410832975E-12,0,2.7665089841608178E-10,0,0,0,0,{"$f":"SUMPRODUCT((C94='Comparación Alternativas'!$Z$5:$Z$246)*(Alternativas!D94='Comparación Alternativas'!$AA$5:$AA$246)*('Comparación Alternativas'!$AQ$5:$AQ$246))","v":0},{"$f":"SUMPRODUCT((C94='Comparación Alternativas'!$Z$5:$Z$246)*('Comparación Alternativas'!$AA$5:$AA$246=Alternativas!D94)*('Comparación Alternativas'!$BA$5:$BA$246))","v":0},null,70,{"$f":"IF(U93+SUMPRODUCT(($U$16='Para Ocultar'!$A$2:$A$7)*('Para Ocultar'!$C$2:$C$7))>12,(U93+SUMPRODUCT(($U$16='Para Ocultar'!$A$2:$A$7)*('Para Ocultar'!$C$2:$C$7)))-12,U93+SUMPRODUCT(($U$16='Para Ocultar'!$A$2:$A$7)*('Para Ocultar'!$C$2:$C$7)))","v":11},2027,0,0,0,0,-1.6682269687269998E-12,1.6682269687269998E-12,0,-2.0185546321596697E-10,-1.6682269687269998E-12,1.6682269687269998E-12,0,-2.0185546321596697E-10,{"$f":"SUMPRODUCT((U94='Comparación Alternativas'!$Z$5:$Z$246)*('Comparación Alternativas'!$AA$5:$AA$246=Alternativas!V94)*('Comparación Alternativas'!$AV$5:$AV$246))","v":0},{"$f":"SUMPRODUCT((U94='Comparación Alternativas'!$Z$5:$Z$246)*('Comparación Alternativas'!$AA$5:$AA$246=Alternativas!V94)*('Comparación Alternativas'!$BF$5:$BF$246))","v":0}]
[null,71,{"$f":"IF(C94+SUMPRODUCT(($C$16='Para Ocultar'!$A$2:$A$7)*('Para Ocultar'!$C$2:$C$7))>12,(C94+SUMPRODUCT(($C$16='Para Ocultar'!$A$2:$A$7)*('Para Ocultar'!$C$2:$C$7)))-12,C94+SUMPRODUCT(($C$16='Para Ocultar'!$A$2:$A$7)*('Para Ocultar'!$C$2:$C$7)))","v":12},2027,0,0,0,0,6.4551876297085757E-12,-6.4551876297085757E-12,0,2.8310608604579034E-10,0,0,0,0,{"$f":"SUMPRODUCT((C95='Comparación Alternativas'!$Z$5:$Z$246)*(Alternativas!D95='Comparación Alternativas'!$AA$5:$AA$246)*('Comparación Alternativas'!$AQ$5:$AQ$246))","v":0},{"$f":"SUMPRODUCT((C95='Comparación Alternativas'!$Z$5:$Z$246)*('Comparación Alternativas'!$AA$5:$AA$246=Alternativas!D95)*('Comparación Alternativas'!$BA$5:$BA$246))","v":0},null,71,{"$f":"IF(U94+SUMPRODUCT(($U$16='Para Ocultar'!$A$2:$A$7)*('Para Ocultar'!$C$2:$C$7))>12,(U94+SUMPRODUCT(($U$16='Para Ocultar'!$A$2:$A$7)*('Para Ocultar'!$C$2:$C$7)))-12,U94+SUMPRODUCT(($U$16='Para Ocultar'!$A$2:$A$7)*('Para Ocultar'!$C$2:$C$7)))","v":12},2027,0,0,0,0,-1.6821288601330582E-12,1.6821288601330582E-12,0,-2.0353759207610003E-10,-1.6821288601330582E-12,1.6821288601330582E-12,0,-2.0353759207610003E-10,{"$f":"SUMPRODUCT((U95='Comparación Alternativas'!$Z$5:$Z$246)*('Comparación Alternativas'!$AA$5:$AA$246=Alternativas!V95)*('Comparación Alternativas'!$AV$5:$AV$246))","v":0},{"$f":"SUMPRODUCT((U95='Comparación Alternativas'!$Z$5:$Z$246)*('Comparación Alternativas'!$AA$5:$AA$246=Alternativas!V95)*('Comparación Alternativas'!$BF$5:$BF$246))","v":0}]
[null,72,{"$f":"IF(C95+SUMPRODUCT(($C$16='Para Ocultar'!$A$2:$A$7)*('Para Ocultar'!$C$2:$C$7))>12,(C95+SUMPRODUCT(($C$16='Para Ocultar'!$A$2:$A$7)*('Para Ocultar'!$C$2:$C$7)))-12,C95+SUMPRODUCT(($C$16='Para Ocultar'!$A$2:$A$7)*('Para Ocultar'!$C$2:$C$7)))","v":1},2028,0,0,0,0,6.6058086744017749E-12,-6.6058086744017749E-12,0,2.8971189472019209E-10,0,0,0,0,{"$f":"SUMPRODUCT((C96='Comparación Alternativas'!$Z$5:$Z$246)*(Alternativas!D96='Comparación Alternativas'!$AA$5:$AA$246)*('Comparación Alternativas'!$AQ$5:$AQ$246))","v":0},{"$f":"SUMPRODUCT((C96='Comparación Alternativas'!$Z$5:$Z$246)*('Comparación Alternativas'!$AA$5:$AA$246=Alternativas!D96)*('Comparación Alternativas'!$BA$5:$BA$246))","v":0},null,72,{"$f":"IF(U95+SUMPRODUCT(($U$16='Para Ocultar'!$A$2:$A$7)*('Para Ocultar'!$C$2:$C$7))>12,(U95+SUMPRODUCT(($U$16='Para Ocultar'!$A$2:$A$7)*('Para Ocultar'!$C$2:$C$7)))-12,U95+SUMPRODUCT(($U$16='Para Ocultar'!$A$2:$A$7)*('Para Ocultar'!$C$2:$C$7)))","v":1},2028,0,0,0,0,-1.6961466006341671E-12,1.6961466006341671E-12,0,-2.0523373867673419E-10,-1.6961466006341671E-12,1.6961466006341671E-12,0,-2.0523373867673419E-10,{"$f":"SUMPRODUCT((U96='Comparación Alternativas'!$Z$5:$Z$246)*('Comparación Alternativas'!$AA$5:$AA$246=Alternativas!V96)*('Comparación Alternativas'!$AV$5:$AV$246))","v":0},{"$f":"SUMPRODUCT((U96='Comparación Alternativas'!$Z$5:$Z$246)*('Comparación Alternativas'!$AA$5:$AA$246=Alternativas!V96)*('Comparación Alternativas'!$BF$5:$BF$246))","v":0}]
[null,73,{"$f":"IF(C96+SUMPRODUCT(($C$16='Para Ocultar'!$A$2:$A$7)*('Para Ocultar'!$C$2:$C$7))>12,(C96+SUMPRODUCT(($C$16='Para Ocultar'!$A$2:$A$7)*('Para Ocultar'!$C$2:$C$7)))-12,C96+SUMPRODUCT(($C$16='Para Ocultar'!$A$2:$A$7)*('Para Ocultar'!$C$2:$C$7)))","v":2},2028,0,0,0,0,6.7599442101378161E-12,-6.7599442101378161E-12,0,2.9647183893032988E-10,0,0,0,0,{"$f":"SUMPRODUCT((C97='Comparación Alternativas'!$Z$5:$Z$246)*(Alternativas!D97='Comparación Alternativas'!$AA$5:$AA$246)*('Comparación Alternativas'!$AQ$5:$AQ$246))","v":0},{"$f":"SUMPRODUCT((C97='Comparación Alternativas'!$Z$5:$Z$246)*('Comparación Alternativas'!$AA$5:$AA$246=Alternativas!D97)*('Comparación Alternativas'!$BA$5:$BA$246))","v":0},null,73,{"$f":"IF(U96+SUMPRODUCT(($U$16='Para Ocultar'!$A$2:$A$7)*('Para Ocultar'!$C$2:$C$7))>12,(U96+SUMPRODUCT(($U$16='Para Ocultar'!$A$2:$A$7)*('Para Ocultar'!$C$2:$C$7)))-12,U96+SUMPRODUCT(($U$16='Para Ocultar'!$A$2:$A$7)*('Para Ocultar'!$C$2:$C$7)))","v":2},2028,0,0,0,0,-1.7102811556394516E-12,1.7102811556394516E-12,0,-2.0694401983237364E-10,-1.7102811556394516E-12,1.7102811556394516E-12,0,-2.0694401983237364E-10,{"$f":"SUMPRODUCT((U97='Comparación Alternativas'!$Z$5:$Z$246)*('Comparación Alternativas'!$AA$5:$AA$246=Alternativas!V97)*('Comparación Alternativas'!$AV$5:$AV$246))","v":0},{"$f":"SUMPRODUCT((U97='Comparación Alternativas'!$Z$5:$Z$246)*('Comparación Alternativas'!$AA$5:$AA$246=Alternativas!V97)*('Comparación Alternativas'!$BF$5:$BF$246))","v":0}]
[null,74,{"$f":"IF(C97+SUMPRODUCT(($C$16='Para Ocultar'!$A$2:$A$7)*('Para Ocultar'!$C$2:$C$7))>12,(C97+SUMPRODUCT(($C$16='Para Ocultar'!$A$2:$A$7)*('Para Ocultar'!$C$2:$C$7)))-12,C97+SUMPRODUCT(($C$16='Para Ocultar'!$A$2:$A$7)*('Para Ocultar'!$C$2:$C$7)))","v":3},2028,0,0,0,0,6.9176762417076976E-12,-6.9176762417076976E-12,0,3.0338951517203758E-10,0,0,0,0,{"$f":"SUMPRODUCT((C98='Comparación Alternativas'!$Z$5:$Z$246)*(Alternativas!D98='Comparación Alternativas'!$AA$5:$AA$246)*('Comparación Alternativas'!$AQ$5:$AQ$246))","v":0},{"$f":"SUMPRODUCT((C98='Comparación Alternativas'!$Z$5:$Z$246)*('Comparación Alternativas'!$AA$5:$AA$246=Alternativas!D98)*('Comparación Alternativas'!$BA$5:$BA$246))","v":0},null,74,{"$f":"IF(U97+SUMPRODUCT(($U$16='Para Ocultar'!$A$2:$A$7)*('Para Ocultar'!$C$2:$C$7))>12,(U97+SUMPRODUCT(($U$16='Para Ocultar'!$A$2:$A$7)*('Para Ocultar'!$C$2:$C$7)))-12,U97+SUMPRODUCT(($U$16='Para Ocultar'!$A$2:$A$7)*('Para Ocultar'!$C$2:$C$7)))","v":3},2028,0,0,0,0,-1.7245334986031138E-12,1.7245334986031138E-12,0,-2.0866855333097675E-10,-1.7245334986031138E-12,1.7245334986031138E-12,0,-2.0866855333097675E-10,{"$f":"SUMPRODUCT((U98='Comparación Alternativas'!$Z$5:$Z$246)*('Comparación Alternativas'!$AA$5:$AA$246=Alternativas!V98)*('Comparación Alternativas'!$AV$5:$AV$246))","v":0},{"$f":"SUMPRODUCT((U98='Comparación Alternativas'!$Z$5:$Z$246)*('Comparación Alternativas'!$AA$5:$AA$246=Alternativas!V98)*('Comparación Alternativas'!$BF$5:$BF$246))","v":0}]
[null,75,{"$f":"IF(C98+SUMPRODUCT(($C$16='Para Ocultar'!$A$2:$A$7)*('Para Ocultar'!$C$2:$C$7))>12,(C98+SUMPRODUCT(($C$16='Para Ocultar'!$A$2:$A$7)*('Para Ocultar'!$C$2:$C$7)))-12,C98+SUMPRODUCT(($C$16='Para Ocultar'!$A$2:$A$7)*('Para Ocultar'!$C$2:$C$7)))","v":4},2028,0,0,0,0,7.0790886873475434E-12,-7.0790886873475434E-12,0,3.104686038593851E-10,0,0,0,0,{"$f":"SUMPRODUCT((C99='Comparación Alternativas'!$Z$5:$Z$246)*(Alternativas!D99='Comparación Alternativas'!$AA$5:$AA$246)*('Comparación Alternativas'!$AQ$5:$AQ$246))","v":0},{"$f":"SUMPRODUCT((C99='Comparación Alternativas'!$Z$5:$Z$246)*('Comparación Alternativas'!$AA$5:$AA$246=Alternativas!D99)*('Comparación Alternativas'!$BA$5:$BA$246))","v":0},null,75,{"$f":"IF(U98+SUMPRODUCT(($U$16='Para Ocultar'!$A$2:$A$7)*('Para Ocultar'!$C$2:$C$7))>12,(U98+SUMPRODUCT(($U$16='Para Ocultar'!$A$2:$A$7)*('Para Ocultar'!$C$2:$C$7)))-12,U98+SUMPRODUCT(($U$16='Para Ocultar'!$A$2:$A$7)*('Para Ocultar'!$C$2:$C$7)))","v":4},2028,0,0,0,0,-1.738904611091473E-12,1.738904611091473E-12,0,-2.1040745794206822E-10,-1.738904611091473E-12,1.738904611091473E-12,0,-2.1040745794206822E-10,{"$f":"SUMPRODUCT((U99='Comparación Alternativas'!$Z$5:$Z$246)*('Comparación Alternativas'!$AA$5:$AA$246=Alternativas!V99)*('Comparación Alternativas'!$AV$5:$AV$246))","v":0},{"$f":"SUMPRODUCT((U99='Comparación Alternativas'!$Z$5:$Z$246)*('Comparación Alternativas'!$AA$5:$AA$246=Alternativas!V99)*('Comparación Alternativas'!$BF$5:$BF$246))","v":0}]
[null,76,{"$f":"IF(C99+SUMPRODUCT(($C$16='Para Ocultar'!$A$2:$A$7)*('Para Ocultar'!$C$2:$C$7))>12,(C99+SUMPRODUCT(($C$16='Para Ocultar'!$A$2:$A$7)*('Para Ocultar'!$C$2:$C$7)))-12,C99+SUMPRODUCT(($C$16='Para Ocultar'!$A$2:$A$7)*('Para Ocultar'!$C$2:$C$7)))","v":5},2028,0,0,0,0,7.2442674233856531E-12,-7.2442674233856531E-12,0,3.1771287128277075E-10,0,0,0,0,{"$f":"SUMPRODUCT((C100='Comparación Alternativas'!$Z$5:$Z$246)*(Alternativas!D100='Comparación Alternativas'!$AA$5:$AA$246)*('Comparación Alternativas'!$AQ$5:$AQ$246))","v":0},{"$f":"SUMPRODUCT((C100='Comparación Alternativas'!$Z$5:$Z$246)*('Comparación Alternativas'!$AA$5:$AA$246=Alternativas!D100)*('Comparación Alternativas'!$BA$5:$BA$246))","v":0},null,76,{"$f":"IF(U99+SUMPRODUCT(($U$16='Para Ocultar'!$A$2:$A$7)*('Para Ocultar'!$C$2:$C$7))>12,(U99+SUMPRODUCT(($U$16='Para Ocultar'!$A$2:$A$7)*('Para Ocultar'!$C$2:$C$7)))-12,U99+SUMPRODUCT(($U$16='Para Ocultar'!$A$2:$A$7)*('Para Ocultar'!$C$2:$C$7)))","v":5},2028,0,0,0,0,-1.7533954828505686E-12,1.7533954828505686E-12,0,-2.1216085342491879E-10,-1.7533954828505686E-12,1.7533954828505686E-12,0,-2.1216085342491879E-10,{"$f":"SUMPRODUCT((U100='Comparación Alternativas'!$Z$5:$Z$246)*('Comparación Alternativas'!$AA$5:$AA$246=Alternativas!V100)*('Comparación Alternativas'!$AV$5:$AV$246))","v":0},{"$f":"SUMPRODUCT((U100='Comparación Alternativas'!$Z$5:$Z$246)*('Comparación Alternativas'!$AA$5:$AA$246=Alternativas!V100)*('Comparación Alternativas'!$BF$5:$BF$246))","v":0}]
[null,77,{"$f":"IF(C100+SUMPRODUCT(($C$16='Para Ocultar'!$A$2:$A$7)*('Para Ocultar'!$C$2:$C$7))>12,(C100+SUMPRODUCT(($C$16='Para Ocultar'!$A$2:$A$7)*('Para Ocultar'!$C$2:$C$7)))-12,C100+SUMPRODUCT(($C$16='Para Ocultar'!$A$2:$A$7)*('Para Ocultar'!$C$2:$C$7)))","v":6},2028,0,0,0,0,7.4133003299313177E-12,-7.4133003299313177E-12,0,3.2512617161270208E-10,0,0,0,0,{"$f":"SUMPRODUCT((C101='Comparación Alternativas'!$Z$5:$Z$246)*(Alternativas!D101='Comparación Alternativas'!$AA$5:$AA$246)*('Comparación Alternativas'!$AQ$5:$AQ$246))","v":0},{"$f":"SUMPRODUCT((C101='Comparación Alternativas'!$Z$5:$Z$246)*('Comparación Alternativas'!$AA$5:$AA$246=Alternativas!D101)*('Comparación Alternativas'!$BA$5:$BA$246))","v":0},null,77,{"$f":"IF(U100+SUMPRODUCT(($U$16='Para Ocultar'!$A$2:$A$7)*('Para Ocultar'!$C$2:$C$7))>12,(U100+SUMPRODUCT(($U$16='Para Ocultar'!$A$2:$A$7)*('Para Ocultar'!$C$2:$C$7)))-12,U100+SUMPRODUCT(($U$16='Para Ocultar'!$A$2:$A$7)*('Para Ocultar'!$C$2:$C$7)))","v":6},2028,0,0,0,0,-1.7680071118743235E-12,1.7680071118743235E-12,0,-2.1392886053679311E-10,-1.7680071118743235E-12,1.7680071118743235E-12,0,-2.1392886053679311E-10,{"$f":"SUMPRODUCT((U101='Comparación Alternativas'!$Z$5:$Z$246)*('Comparación Alternativas'!$AA$5:$AA$246=Alternativas!V101)*('Comparación Alternativas'!$AV$5:$AV$246))","v":0},{"$f":"SUMPRODUCT((U101='Comparación Alternativas'!$Z$5:$Z$246)*('Comparación Alternativas'!$AA$5:$AA$246=Alternativas!V101)*('Comparación Alternativas'!$BF$5:$BF$246))","v":0}]
[null,78,{"$f":"IF(C101+SUMPRODUCT(($C$16='Para Ocultar'!$A$2:$A$7)*('Para Ocultar'!$C$2:$C$7))>12,(C101+SUMPRODUCT(($C$16='Para Ocultar'!$A$2:$A$7)*('Para Ocultar'!$C$2:$C$7)))-12,C101+SUMPRODUCT(($C$16='Para Ocultar'!$A$2:$A$7)*('Para Ocultar'!$C$2:$C$7)))","v":7},2028,0,0,0,0,7.5862773376297154E-12,-7.5862773376297154E-12,0,3.3271244895033178E-10,0,0,0,0,{"$f":"SUMPRODUCT((C102='Comparación Alternativas'!$Z$5:$Z$246)*(Alternativas!D102='Comparación Alternativas'!$AA$5:$AA$246)*('Comparación Alternativas'!$AQ$5:$AQ$246))","v":0},{"$f":"SUMPRODUCT((C102='Comparación Alternativas'!$Z$5:$Z$246)*('Comparación Alternativas'!$AA$5:$AA$246=Alternativas!D102)*('Comparación Alternativas'!$BA$5:$BA$246))","v":0},null,78,{"$f":"IF(U101+SUMPRODUCT(($U$16='Para Ocultar'!$A$2:$A$7)*('Para Ocultar'!$C$2:$C$7))>12,(U101+SUMPRODUCT(($U$16='Para Ocultar'!$A$2:$A$7)*('Para Ocultar'!$C$2:$C$7)))-12,U101+SUMPRODUCT(($U$16='Para Ocultar'!$A$2:$A$7)*('Para Ocultar'!$C$2:$C$7)))","v":7},2028,0,0,0,0,-1.782740504473276E-12,1.782740504473276E-12,0,-2.157116010412664E-10,-1.782740504473276E-12,1.782740504473276E-12,0,-2.157116010412664E-10,{"$f":"SUMPRODUCT((U102='Comparación Alternativas'!$Z$5:$Z$246)*('Comparación Alternativas'!$AA$5:$AA$246=Alternativas!V102)*('Comparación Alternativas'!$AV$5:$AV$246))","v":0},{"$f":"SUMPRODUCT((U102='Comparación Alternativas'!$Z$5:$Z$246)*('Comparación Alternativas'!$AA$5:$AA$246=Alternativas!V102)*('Comparación Alternativas'!$BF$5:$BF$246))","v":0}]
[null,79,{"$f":"IF(C102+SUMPRODUCT(($C$16='Para Ocultar'!$A$2:$A$7)*('Para Ocultar'!$C$2:$C$7))>12,(C102+SUMPRODUCT(($C$16='Para Ocultar'!$A$2:$A$7)*('Para Ocultar'!$C$2:$C$7)))-12,C102+SUMPRODUCT(($C$16='Para Ocultar'!$A$2:$A$7)*('Para Ocultar'!$C$2:$C$7)))","v":8},2028,0,0,0,0,7.7632904755077431E-12,-7.7632904755077431E-12,0,3.4047573942583951E-10,0,0,0,0,{"$f":"SUMPRODUCT((C103='Comparación Alternativas'!$Z$5:$Z$246)*(Alternativas!D103='Comparación Alternativas'!$AA$5:$AA$246)*('Comparación Alternativas'!$AQ$5:$AQ$246))","v":0},{"$f":"SUMPRODUCT((C103='Comparación Alternativas'!$Z$5:$Z$246)*('Comparación Alternativas'!$AA$5:$AA$246=Alternativas!D103)*('Comparación Alternativas'!$BA$5:$BA$246))","v":0},null,79,{"$f":"IF(U102+SUMPRODUCT(($U$16='Para Ocultar'!$A$2:$A$7)*('Para Ocultar'!$C$2:$C$7))>12,(U102+SUMPRODUCT(($U$16='Para Ocultar'!$A$2:$A$7)*('Para Ocultar'!$C$2:$C$7)))-12,U102+SUMPRODUCT(($U$16='Para Ocultar'!$A$2:$A$7)*('Para Ocultar'!$C$2:$C$7)))","v":8},2028,0,0,0,0,-1.7975966753438866E-12,1.7975966753438866E-12,0,-2.1750919771661027E-10,-1.7975966753438866E-12,1.7975966753438866E-12,0,-2.1750919771661027E-10,{"$f":"SUMPRODUCT((U103='Comparación Alternativas'!$Z$5:$Z$246)*('Comparación Alternativas'!$AA$5:$AA$246=Alternativas!V103)*('Comparación Alternativas'!$AV$5:$AV$246))","v":0},{"$f":"SUMPRODUCT((U103='Comparación Alternativas'!$Z$5:$Z$246)*('Comparación Alternativas'!$AA$5:$AA$246=Alternativas!V103)*('Comparación Alternativas'!$BF$5:$BF$246))","v":0}]
[null,80,{"$f":"IF(C103+SUMPRODUCT(($C$16='Para Ocultar'!$A$2:$A$7)*('Para Ocultar'!$C$2:$C$7))>12,(C103+SUMPRODUCT(($C$16='Para Ocultar'!$A$2:$A$7)*('Para Ocultar'!$C$2:$C$7)))-12,C103+SUMPRODUCT(($C$16='Para Ocultar'!$A$2:$A$7)*('Para Ocultar'!$C$2:$C$7)))","v":9},2028,0,0,0,0,7.9444339199362557E-12,-7.9444339199362557E-12,0,3.4842017334577575E-10,0,0,0,0,{"$f":"SUMPRODUCT((C104='Comparación Alternativas'!$Z$5:$Z$246)*(Alternativas!D104='Comparación Alternativas'!$AA$5:$AA$246)*('Comparación Alternativas'!$AQ$5:$AQ$246))","v":0},{"$f":"SUMPRODUCT((C104='Comparación Alternativas'!$Z$5:$Z$246)*('Comparación Alternativas'!$AA$5:$AA$246=Alternativas!D104)*('Comparación Alternativas'!$BA$5:$BA$246))","v":0},null,80,{"$f":"IF(U103+SUMPRODUCT(($U$16='Para Ocultar'!$A$2:$A$7)*('Para Ocultar'!$C$2:$C$7))>12,(U103+SUMPRODUCT(($U$16='Para Ocultar'!$A$2:$A$7)*('Para Ocultar'!$C$2:$C$7)))-12,U103+SUMPRODUCT(($U$16='Para Ocultar'!$A$2:$A$7)*('Para Ocultar'!$C$2:$C$7)))","v":9},2028,0,0,0,0,-1.812576647638419E-12,1.812576647638419E-12,0,-2.193217743642487E-10,-1.812576647638419E-12,1.812576647638419E-12,0,-2.193217743642487E-10,{"$f":"SUMPRODUCT((U104='Comparación Alternativas'!$Z$5:$Z$246)*('Comparación Alternativas'!$AA$5:$AA$246=Alternativas!V104)*('Comparación Alternativas'!$AV$5:$AV$246))","v":0},{"$f":"SUMPRODUCT((U104='Comparación Alternativas'!$Z$5:$Z$246)*('Comparación Alternativas'!$AA$5:$AA$246=Alternativas!V104)*('Comparación Alternativas'!$BF$5:$BF$246))","v":0}]
[null,81,{"$f":"IF(C104+SUMPRODUCT(($C$16='Para Ocultar'!$A$2:$A$7)*('Para Ocultar'!$C$2:$C$7))>12,(C104+SUMPRODUCT(($C$16='Para Ocultar'!$A$2:$A$7)*('Para Ocultar'!$C$2:$C$7)))-12,C104+SUMPRODUCT(($C$16='Para Ocultar'!$A$2:$A$7)*('Para Ocultar'!$C$2:$C$7)))","v":10},2028,0,0,0,0,8.1298040447347679E-12,-8.1298040447347679E-12,0,3.5654997739051052E-10,0,0,0,0,{"$f":"SUMPRODUCT((C105='Comparación Alternativas'!$Z$5:$Z$246)*(Alternativas!D105='Comparación Alternativas'!$AA$5:$AA$246)*('Comparación Alternativas'!$AQ$5:$AQ$246))","v":0},{"$f":"SUMPRODUCT((C105='Comparación Alternativas'!$Z$5:$Z$246)*('Comparación Alternativas'!$AA$5:$AA$246=Alternativas!D105)*('Comparación Alternativas'!$BA$5:$BA$246))","v":0},null,81,{"$f":"IF(U104+SUMPRODUCT(($U$16='Para Ocultar'!$A$2:$A$7)*('Para Ocultar'!$C$2:$C$7))>12,(U104+SUMPRODUCT(($U$16='Para Ocultar'!$A$2:$A$7)*('Para Ocultar'!$C$2:$C$7)))-12,U104+SUMPRODUCT(($U$16='Para Ocultar'!$A$2:$A$7)*('Para Ocultar'!$C$2:$C$7)))","v":10},2028,0,0,0,0,-1.8276814530354061E-12,1.8276814530354061E-12,0,-2.211494558172841E-10,-1.8276814530354061E-12,1.8276814530354061E-12,0,-2.211494558172841E-10,{"$f":"SUMPRODUCT((U105='Comparación Alternativas'!$Z$5:$Z$246)*('Comparación Alternativas'!$AA$5:$AA$246=Alternativas!V105)*('Comparación Alternativas'!$AV$5:$AV$246))","v":0},{"$f":"SUMPRODUCT((U105='Comparación Alternativas'!$Z$5:$Z$246)*('Comparación Alternativas'!$AA$5:$AA$246=Alternativas!V105)*('Comparación Alternativas'!$BF$5:$BF$246))","v":0}]
[null,82,{"$f":"IF(C105+SUMPRODUCT(($C$16='Para Ocultar'!$A$2:$A$7)*('Para Ocultar'!$C$2:$C$7))>12,(C105+SUMPRODUCT(($C$16='Para Ocultar'!$A$2:$A$7)*('Para Ocultar'!$C$2:$C$7)))-12,C105+SUMPRODUCT(($C$16='Para Ocultar'!$A$2:$A$7)*('Para Ocultar'!$C$2:$C$7)))","v":11},2028,0,0,0,0,8.3194994724452474E-12,-8.3194994724452474E-12,0,3.648694768629558E-10,0,0,0,0,{"$f":"SUMPRODUCT((C106='Comparación Alternativas'!$Z$5:$Z$246)*(Alternativas!D106='Comparación Alternativas'!$AA$5:$AA$246)*('Comparación Alternativas'!$AQ$5:$AQ$246))","v":0},{"$f":"SUMPRODUCT((C106='Comparación Alternativas'!$Z$5:$Z$246)*('Comparación Alternativas'!$AA$5:$AA$246=Alternativas!D106)*('Comparación Alternativas'!$BA$5:$BA$246))","v":0},null,82,{"$f":"IF(U105+SUMPRODUCT(($U$16='Para Ocultar'!$A$2:$A$7)*('Para Ocultar'!$C$2:$C$7))>12,(U105+SUMPRODUCT(($U$16='Para Ocultar'!$A$2:$A$7)*('Para Ocultar'!$C$2:$C$7)))-12,U105+SUMPRODUCT(($U$16='Para Ocultar'!$A$2:$A$7)*('Para Ocultar'!$C$2:$C$7)))","v":11},2028,0,0,0,0,-1.8429121318107009E-12,1.8429121318107009E-12,0,-2.2299236794909481E-10,-1.8429121318107009E-12,1.8429121318107009E-12,0,-2.2299236794909481E-10,{"$f":"SUMPRODUCT((U106='Comparación Alternativas'!$Z$5:$Z$246)*('Comparación Alternativas'!$AA$5:$AA$246=Alternativas!V106)*('Comparación Alternativas'!$AV$5:$AV$246))","v":0},{"$f":"SUMPRODUCT((U106='Comparación Alternativas'!$Z$5:$Z$246)*('Comparación Alternativas'!$AA$5:$AA$246=Alternativas!V106)*('Comparación Alternativas'!$BF$5:$BF$246))","v":0}]
[null,83,{"$f":"IF(C106+SUMPRODUCT(($C$16='Para Ocultar'!$A$2:$A$7)*('Para Ocultar'!$C$2:$C$7))>12,(C106+SUMPRODUCT(($C$16='Para Ocultar'!$A$2:$A$7)*('Para Ocultar'!$C$2:$C$7)))-12,C106+SUMPRODUCT(($C$16='Para Ocultar'!$A$2:$A$7)*('Para Ocultar'!$C$2:$C$7)))","v":12},2028,0,0,0,0,8.5136211268023026E-12,-8.5136211268023026E-12,0,3.7338309798975808E-10,0,0,0,0,{"$f":"SUMPRODUCT((C107='Comparación Alternativas'!$Z$5:$Z$246)*(Alternativas!D107='Comparación Alternativas'!$AA$5:$AA$246)*('Comparación Alternativas'!$AQ$5:$AQ$246))","v":0},{"$f":"SUMPRODUCT((C107='Comparación Alternativas'!$Z$5:$Z$246)*('Comparación Alternativas'!$AA$5:$AA$246=Alternativas!D107)*('Comparación Alternativas'!$BA$5:$BA$246))","v":0},null,83,{"$f":"IF(U106+SUMPRODUCT(($U$16='Para Ocultar'!$A$2:$A$7)*('Para Ocultar'!$C$2:$C$7))>12,(U106+SUMPRODUCT(($U$16='Para Ocultar'!$A$2:$A$7)*('Para Ocultar'!$C$2:$C$7)))-12,U106+SUMPRODUCT(($U$16='Para Ocultar'!$A$2:$A$7)*('Para Ocultar'!$C$2:$C$7)))","v":12},2028,0,0,0,0,-1.8582697329091235E-12,1.8582697329091235E-12,0,-2.2485063768200393E-10,-1.8582697329091235E-12,1.8582697329091235E-12,0,-2.2485063768200393E-10,{"$f":"SUMPRODUCT((U107='Comparación Alternativas'!$Z$5:$Z$246)*('Comparación Alternativas'!$AA$5:$AA$246=Alternativas!V107)*('Comparación Alternativas'!$AV$5:$AV$246))","v":0},{"$f":"SUMPRODUCT((U107='Comparación Alternativas'!$Z$5:$Z$246)*('Comparación Alternativas'!$AA$5:$AA$246=Alternativas!V107)*('Comparación Alternativas'!$BF$5:$BF$246))","v":0}]
[null,84,{"$f":"IF(C107+SUMPRODUCT(($C$16='Para Ocultar'!$A$2:$A$7)*('Para Ocultar'!$C$2:$C$7))>12,(C107+SUMPRODUCT(($C$16='Para Ocultar'!$A$2:$A$7)*('Para Ocultar'!$C$2:$C$7)))-12,C107+SUMPRODUCT(($C$16='Para Ocultar'!$A$2:$A$7)*('Para Ocultar'!$C$2:$C$7)))","v":1},2029,0,0,0,0,8.7122722864276897E-12,-8.7122722864276897E-12,0,3.8209537027618579E-10,0,0,0,0,{"$f":"SUMPRODUCT((C108='Comparación Alternativas'!$Z$5:$Z$246)*(Alternativas!D108='Comparación Alternativas'!$AA$5:$AA$246)*('Comparación Alternativas'!$AQ$5:$AQ$246))","v":0},{"$f":"SUMPRODUCT((C108='Comparación Alternativas'!$Z$5:$Z$246)*('Comparación Alternativas'!$AA$5:$AA$246=Alternativas!D108)*('Comparación Alternativas'!$BA$5:$BA$246))","v":0},null,84,{"$f":"IF(U107+SUMPRODUCT(($U$16='Para Ocultar'!$A$2:$A$7)*('Para Ocultar'!$C$2:$C$7))>12,(U107+SUMPRODUCT(($U$16='Para Ocultar'!$A$2:$A$7)*('Para Ocultar'!$C$2:$C$7)))-12,U107+SUMPRODUCT(($U$16='Para Ocultar'!$A$2:$A$7)*('Para Ocultar'!$C$2:$C$7)))","v":1},2029,0,0,0,0,-1.8737553140166995E-12,1.8737553140166995E-12,0,-2.2672439299602063E-10,-1.8737553140166995E-12,1.8737553140166995E-12,0,-2.2672439299602063E-10,{"$f":"SUMPRODUCT((U108='Comparación Alternativas'!$Z$5:$Z$246)*('Comparación Alternativas'!$AA$5:$AA$246=Alternativas!V108)*('Comparación Alternativas'!$AV$5:$AV$246))","v":0},{"$f":"SUMPRODUCT((U108='Comparación Alternativas'!$Z$5:$Z$246)*('Comparación Alternativas'!$AA$5:$AA$246=Alternativas!V108)*('Comparación Alternativas'!$BF$5:$BF$246))","v":0}]
[null,85,{"$f":"IF(C108+SUMPRODUCT(($C$16='Para Ocultar'!$A$2:$A$7)*('Para Ocultar'!$C$2:$C$7))>12,(C108+SUMPRODUCT(($C$16='Para Ocultar'!$A$2:$A$7)*('Para Ocultar'!$C$2:$C$7)))-12,C108+SUMPRODUCT(($C$16='Para Ocultar'!$A$2:$A$7)*('Para Ocultar'!$C$2:$C$7)))","v":2},2029,0,0,0,0,8.9155586397776697E-12,-8.9155586397776697E-12,0,3.9101092891596345E-10,0,0,0,0,{"$f":"SUMPRODUCT((C109='Comparación Alternativas'!$Z$5:$Z$246)*(Alternativas!D109='Comparación Alternativas'!$AA$5:$AA$246)*('Comparación Alternativas'!$AQ$5:$AQ$246))","v":0},{"$f":"SUMPRODUCT((C109='Comparación Alternativas'!$Z$5:$Z$246)*('Comparación Alternativas'!$AA$5:$AA$246=Alternativas!D109)*('Comparación Alternativas'!$BA$5:$BA$246))","v":0},null,85,{"$f":"IF(U108+SUMPRODUCT(($U$16='Para Ocultar'!$A$2:$A$7)*('Para Ocultar'!$C$2:$C$7))>12,(U108+SUMPRODUCT(($U$16='Para Ocultar'!$A$2:$A$7)*('Para Ocultar'!$C$2:$C$7)))-12,U108+SUMPRODUCT(($U$16='Para Ocultar'!$A$2:$A$7)*('Para Ocultar'!$C$2:$C$7)))","v":2},2029,0,0,0,0,-1.8893699416335056E-12,1.8893699416335056E-12,0,-2.2861376293765414E-10,-1.8893699416335056E-12,1.8893699416335056E-12,0,-2.2861376293765414E-10,{"$f":"SUMPRODUCT((U109='Comparación Alternativas'!$Z$5:$Z$246)*('Comparación Alternativas'!$AA$5:$AA$246=Alternativas!V109)*('Comparación Alternativas'!$AV$5:$AV$246))","v":0},{"$f":"SUMPRODUCT((U109='Comparación Alternativas'!$Z$5:$Z$246)*('Comparación Alternativas'!$AA$5:$AA$246=Alternativas!V109)*('Comparación Alternativas'!$BF$5:$BF$246))","v":0}]
[null,86,{"$f":"IF(C109+SUMPRODUCT(($C$16='Para Ocultar'!$A$2:$A$7)*('Para Ocultar'!$C$2:$C$7))>12,(C109+SUMPRODUCT(($C$16='Para Ocultar'!$A$2:$A$7)*('Para Ocultar'!$C$2:$C$7)))-12,C109+SUMPRODUCT(($C$16='Para Ocultar'!$A$2:$A$7)*('Para Ocultar'!$C$2:$C$7)))","v":3},2029,0,0,0,0,9.1235883413724805E-12,-9.1235883413724805E-12,0,4.0013451725733592E-10,0,0,0,0,{"$f":"SUMPRODUCT((C110='Comparación Alternativas'!$Z$5:$Z$246)*(Alternativas!D110='Comparación Alternativas'!$AA$5:$AA$246)*('Comparación Alternativas'!$AQ$5:$AQ$246))","v":0},{"$f":"SUMPRODUCT((C110='Comparación Alternativas'!$Z$5:$Z$246)*('Comparación Alternativas'!$AA$5:$AA$246=Alternativas!D110)*('Comparación Alternativas'!$BA$5:$BA$246))","v":0},null,86,{"$f":"IF(U109+SUMPRODUCT(($U$16='Para Ocultar'!$A$2:$A$7)*('Para Ocultar'!$C$2:$C$7))>12,(U109+SUMPRODUCT(($U$16='Para Ocultar'!$A$2:$A$7)*('Para Ocultar'!$C$2:$C$7)))-12,U109+SUMPRODUCT(($U$16='Para Ocultar'!$A$2:$A$7)*('Para Ocultar'!$C$2:$C$7)))","v":3},2029,0,0,0,0,-1.9051146911471181E-12,1.9051146911471181E-12,0,-2.3051887762880126E-10,-1.9051146911471181E-12,1.9051146911471181E-12,0,-2.3051887762880126E-10,{"$f":"SUMPRODUCT((U110='Comparación Alternativas'!$Z$5:$Z$246)*('Comparación Alternativas'!$AA$5:$AA$246=Alternativas!V110)*('Comparación Alternativas'!$AV$5:$AV$246))","v":0},{"$f":"SUMPRODUCT((U110='Comparación Alternativas'!$Z$5:$Z$246)*('Comparación Alternativas'!$AA$5:$AA$246=Alternativas!V110)*('Comparación Alternativas'!$BF$5:$BF$246))","v":0}]
[null,87,{"$f":"IF(C110+SUMPRODUCT(($C$16='Para Ocultar'!$A$2:$A$7)*('Para Ocultar'!$C$2:$C$7))>12,(C110+SUMPRODUCT(($C$16='Para Ocultar'!$A$2:$A$7)*('Para Ocultar'!$C$2:$C$7)))-12,C110+SUMPRODUCT(($C$16='Para Ocultar'!$A$2:$A$7)*('Para Ocultar'!$C$2:$C$7)))","v":4},2029,0,0,0,0,9.3364720693378389E-12,-9.3364720693378389E-12,0,4.0947098932667374E-10,0,0,0,0,{"$f":"SUMPRODUCT((C111='Comparación Alternativas'!$Z$5:$Z$246)*(Alternativas!D111='Comparación Alternativas'!$AA$5:$AA$246)*('Comparación Alternativas'!$AQ$5:$AQ$246))","v":0},{"$f":"SUMPRODUCT((C111='Comparación Alternativas'!$Z$5:$Z$246)*('Comparación Alternativas'!$AA$5:$AA$246=Alternativas!D111)*('Comparación Alternativas'!$BA$5:$BA$246))","v":0},null,87,{"$f":"IF(U110+SUMPRODUCT(($U$16='Para Ocultar'!$A$2:$A$7)*('Para Ocultar'!$C$2:$C$7))>12,(U110+SUMPRODUCT(($U$16='Para Ocultar'!$A$2:$A$7)*('Para Ocultar'!$C$2:$C$7)))-12,U110+SUMPRODUCT(($U$16='Para Ocultar'!$A$2:$A$7)*('Para Ocultar'!$C$2:$C$7)))","v":4},2029,0,0,0,0,-1.9209906469066772E-12,1.9209906469066772E-12,0,-2.3243986827570793E-10,-1.9209906469066772E-12,1.9209906469066772E-12,0,-2.3243986827570793E-10,{"$f":"SUMPRODUCT((U111='Comparación Alternativas'!$Z$5:$Z$246)*('Comparación Alternativas'!$AA$5:$AA$246=Alternativas!V111)*('Comparación Alternativas'!$AV$5:$AV$246))","v":0},{"$f":"SUMPRODUCT((U111='Comparación Alternativas'!$Z$5:$Z$246)*('Comparación Alternativas'!$AA$5:$AA$246=Alternativas!V111)*('Comparación Alternativas'!$BF$5:$BF$246))","v":0}]
[null,88,{"$f":"IF(C111+SUMPRODUCT(($C$16='Para Ocultar'!$A$2:$A$7)*('Para Ocultar'!$C$2:$C$7))>12,(C111+SUMPRODUCT(($C$16='Para Ocultar'!$A$2:$A$7)*('Para Ocultar'!$C$2:$C$7)))-12,C111+SUMPRODUCT(($C$16='Para Ocultar'!$A$2:$A$7)*('Para Ocultar'!$C$2:$C$7)))","v":5},2029,0,0,0,0,9.5543230842890547E-12,-9.5543230842890547E-12,0,4.190253124109628E-10,0,0,0,0,{"$f":"SUMPRODUCT((C112='Comparación Alternativas'!$Z$5:$Z$246)*(Alternativas!D112='Comparación Alternativas'!$AA$5:$AA$246)*('Comparación Alternativas'!$AQ$5:$AQ$246))","v":0},{"$f":"SUMPRODUCT((C112='Comparación Alternativas'!$Z$5:$Z$246)*('Comparación Alternativas'!$AA$5:$AA$246=Alternativas!D112)*('Comparación Alternativas'!$BA$5:$BA$246))","v":0},null,88,{"$f":"IF(U111+SUMPRODUCT(($U$16='Para Ocultar'!$A$2:$A$7)*('Para Ocultar'!$C$2:$C$7))>12,(U111+SUMPRODUCT(($U$16='Para Ocultar'!$A$2:$A$7)*('Para Ocultar'!$C$2:$C$7)))-12,U111+SUMPRODUCT(($U$16='Para Ocultar'!$A$2:$A$7)*('Para Ocultar'!$C$2:$C$7)))","v":5},2029,0,0,0,0,-1.9369989022975661E-12,1.9369989022975661E-12,0,-2.343768671780055E-10,-1.9369989022975661E-12,1.9369989022975661E-12,0,-2.343768671780055E-10,{"$f":"SUMPRODUCT((U112='Comparación Alternativas'!$Z$5:$Z$246)*('Comparación Alternativas'!$AA$5:$AA$246=Alternativas!V112)*('Comparación Alternativas'!$AV$5:$AV$246))","v":0},{"$f":"SUMPRODUCT((U112='Comparación Alternativas'!$Z$5:$Z$246)*('Comparación Alternativas'!$AA$5:$AA$246=Alternativas!V112)*('Comparación Alternativas'!$BF$5:$BF$246))","v":0}]
[null,89,{"$f":"IF(C112+SUMPRODUCT(($C$16='Para Ocultar'!$A$2:$A$7)*('Para Ocultar'!$C$2:$C$7))>12,(C112+SUMPRODUCT(($C$16='Para Ocultar'!$A$2:$A$7)*('Para Ocultar'!$C$2:$C$7)))-12,C112+SUMPRODUCT(($C$16='Para Ocultar'!$A$2:$A$7)*('Para Ocultar'!$C$2:$C$7)))","v":6},2029,0,0,0,0,9.777257289589133E-12,-9.777257289589133E-12,0,4.2880256970055191E-10,0,0,0,0,{"$f":"SUMPRODUCT((C113='Comparación Alternativas'!$Z$5:$Z$246)*(Alternativas!D113='Comparación Alternativas'!$AA$5:$AA$246)*('Comparación Alternativas'!$AQ$5:$AQ$246))","v":0},{"$f":"SUMPRODUCT((C113='Comparación Alternativas'!$Z$5:$Z$246)*('Comparación Alternativas'!$AA$5:$AA$246=Alternativas!D113)*('Comparación Alternativas'!$BA$5:$BA$246))","v":0},null,89,{"$f":"IF(U112+SUMPRODUCT(($U$16='Para Ocultar'!$A$2:$A$7)*('Para Ocultar'!$C$2:$C$7))>12,(U112+SUMPRODUCT(($U$16='Para Ocultar'!$A$2:$A$7)*('Para Ocultar'!$C$2:$C$7)))-12,U112+SUMPRODUCT(($U$16='Para Ocultar'!$A$2:$A$7)*('Para Ocultar'!$C$2:$C$7)))","v":6},2029,0,0,0,0,-1.9531405598167123E-12,1.9531405598167123E-12,0,-2.3633000773782221E-10,-1.9531405598167123E-12,1.9531405598167123E-12,0,-2.3633000773782221E-10,{"$f":"SUMPRODUCT((U113='Comparación Alternativas'!$Z$5:$Z$246)*('Comparación Alternativas'!$AA$5:$AA$246=Alternativas!V113)*('Comparación Alternativas'!$AV$5:$AV$246))","v":0},{"$f":"SUMPRODUCT((U113='Comparación Alternativas'!$Z$5:$Z$246)*('Comparación Alternativas'!$AA$5:$AA$246=Alternativas!V113)*('Comparación Alternativas'!$BF$5:$BF$246))","v":0}]
[null,90,{"$f":"IF(C113+SUMPRODUCT(($C$16='Para Ocultar'!$A$2:$A$7)*('Para Ocultar'!$C$2:$C$7))>12,(C113+SUMPRODUCT(($C$16='Para Ocultar'!$A$2:$A$7)*('Para Ocultar'!$C$2:$C$7)))-12,C113+SUMPRODUCT(($C$16='Para Ocultar'!$A$2:$A$7)*('Para Ocultar'!$C$2:$C$7)))","v":7},2029,0,0,0,0,1.0005393293012878E-11,-1.0005393293012878E-11,0,4.3880796299356479E-10,0,0,0,0,{"$f":"SUMPRODUCT((C114='Comparación Alternativas'!$Z$5:$Z$246)*(Alternativas!D114='Comparación Alternativas'!$AA$5:$AA$246)*('Comparación Alternativas'!$AQ$5:$AQ$246))","v":0},{"$f":"SUMPRODUCT((C114='Comparación Alternativas'!$Z$5:$Z$246)*('Comparación Alternativas'!$AA$5:$AA$246=Alternativas!D114)*('Comparación Alternativas'!$BA$5:$BA$246))","v":0},null,90,{"$f":"IF(U113+SUMPRODUCT(($U$16='Para Ocultar'!$A$2:$A$7)*('Para Ocultar'!$C$2:$C$7))>12,(U113+SUMPRODUCT(($U$16='Para Ocultar'!$A$2:$A$7)*('Para Ocultar'!$C$2:$C$7)))-12,U113+SUMPRODUCT(($U$16='Para Ocultar'!$A$2:$A$7)*('Para Ocultar'!$C$2:$C$7)))","v":7},2029,0,0,0,0,-1.9694167311485187E-12,1.9694167311485187E-12,0,-2.3829942446897074E-10,-1.9694167311485187E-12,1.9694167311485187E-12,0,-2.3829942446897074E-10,{"$f":"SUMPRODUCT((U114='Comparación Alternativas'!$Z$5:$Z$246)*('Comparación Alternativas'!$AA$5:$AA$246=Alternativas!V114)*('Comparación Alternativas'!$AV$5:$AV$246))","v":0},{"$f":"SUMPRODUCT((U114='Comparación Alternativas'!$Z$5:$Z$246)*('Comparación Alternativas'!$AA$5:$AA$246=Alternativas!V114)*('Comparación Alternativas'!$BF$5:$BF$246))","v":0}]
[null,91,{"$f":"IF(C114+SUMPRODUCT(($C$16='Para Ocultar'!$A$2:$A$7)*('Para Ocultar'!$C$2:$C$7))>12,(C114+SUMPRODUCT(($C$16='Para Ocultar'!$A$2:$A$7)*('Para Ocultar'!$C$2:$C$7)))-12,C114+SUMPRODUCT(($C$16='Para Ocultar'!$A$2:$A$7)*('Para Ocultar'!$C$2:$C$7)))","v":8},2029,0,0,0,0,1.0238852469849845E-11,-1.0238852469849845E-11,0,4.4904681546341464E-10,0,0,0,0,{"$f":"SUMPRODUCT((C115='Comparación Alternativas'!$Z$5:$Z$246)*(Alternativas!D115='Comparación Alternativas'!$AA$5:$AA$246)*('Comparación Alternativas'!$AQ$5:$AQ$246))","v":0},{"$f":"SUMPRODUCT((C115='Comparación Alternativas'!$Z$5:$Z$246)*('Comparación Alternativas'!$AA$5:$AA$246=Alternativas!D115)*('Comparación Alternativas'!$BA$5:$BA$246))","v":0},null,91,{"$f":"IF(U114+SUMPRODUCT(($U$16='Para Ocultar'!$A$2:$A$7)*('Para Ocultar'!$C$2:$C$7))>12,(U114+SUMPRODUCT(($U$16='Para Ocultar'!$A$2:$A$7)*('Para Ocultar'!$C$2:$C$7)))-12,U114+SUMPRODUCT(($U$16='Para Ocultar'!$A$2:$A$7)*('Para Ocultar'!$C$2:$C$7)))","v":8},2029,0,0,0,0,-1.9858285372414231E-12,1.9858285372414231E-12,0,-2.4028525300621215E-10,-1.9858285372414231E-12,1.9858285372414231E-12,0,-2.4028525300621215E-10,{"$f":"SUMPRODUCT((U115='Comparación Alternativas'!$Z$5:$Z$246)*('Comparación Alternativas'!$AA$5:$AA$246=Alternativas!V115)*('Comparación Alternativas'!$AV$5:$AV$246))","v":0},{"$f":"SUMPRODUCT((U115='Comparación Alternativas'!$Z$5:$Z$246)*('Comparación Alternativas'!$AA$5:$AA$246=Alternativas!V115)*('Comparación Alternativas'!$BF$5:$BF$246))","v":0}]
[null,92,{"$f":"IF(C115+SUMPRODUCT(($C$16='Para Ocultar'!$A$2:$A$7)*('Para Ocultar'!$C$2:$C$7))>12,(C115+SUMPRODUCT(($C$16='Para Ocultar'!$A$2:$A$7)*('Para Ocultar'!$C$2:$C$7)))-12,C115+SUMPRODUCT(($C$16='Para Ocultar'!$A$2:$A$7)*('Para Ocultar'!$C$2:$C$7)))","v":9},2029,0,0,0,0,1.0477759027479676E-11,-1.0477759027479676E-11,0,4.5952457449089431E-10,0,0,0,0,{"$f":"SUMPRODUCT((C116='Comparación Alternativas'!$Z$5:$Z$246)*(Alternativas!D116='Comparación Alternativas'!$AA$5:$AA$246)*('Comparación Alternativas'!$AQ$5:$AQ$246))","v":0},{"$f":"SUMPRODUCT((C116='Comparación Alternativas'!$Z$5:$Z$246)*('Comparación Alternativas'!$AA$5:$AA$246=Alternativas!D116)*('Comparación Alternativas'!$BA$5:$BA$246))","v":0},null,92,{"$f":"IF(U115+SUMPRODUCT(($U$16='Para Ocultar'!$A$2:$A$7)*('Para Ocultar'!$C$2:$C$7))>12,(U115+SUMPRODUCT(($U$16='Para Ocultar'!$A$2:$A$7)*('Para Ocultar'!$C$2:$C$7)))-12,U115+SUMPRODUCT(($U$16='Para Ocultar'!$A$2:$A$7)*('Para Ocultar'!$C$2:$C$7)))","v":9},2029,0,0,0,0,-2.0023771083851013E-12,2.0023771083851013E-12,0,-2.4228763011459723E-10,-2.0023771083851013E-12,2.0023771083851013E-12,0,-2.4228763011459723E-10,{"$f":"SUMPRODUCT((U116='Comparación Alternativas'!$Z$5:$Z$246)*('Comparación Alternativas'!$AA$5:$AA$246=Alternativas!V116)*('Comparación Alternativas'!$AV$5:$AV$246))","v":0},{"$f":"SUMPRODUCT((U116='Comparación Alternativas'!$Z$5:$Z$246)*('Comparación Alternativas'!$AA$5:$AA$246=Alternativas!V116)*('Comparación Alternativas'!$BF$5:$BF$246))","v":0}]
[null,93,{"$f":"IF(C116+SUMPRODUCT(($C$16='Para Ocultar'!$A$2:$A$7)*('Para Ocultar'!$C$2:$C$7))>12,(C116+SUMPRODUCT(($C$16='Para Ocultar'!$A$2:$A$7)*('Para Ocultar'!$C$2:$C$7)))-12,C116+SUMPRODUCT(($C$16='Para Ocultar'!$A$2:$A$7)*('Para Ocultar'!$C$2:$C$7)))","v":10},2029,0,0,0,0,1.0722240071454202E-11,-1.0722240071454202E-11,0,4.7024681456234854E-10,0,0,0,0,{"$f":"SUMPRODUCT((C117='Comparación Alternativas'!$Z$5:$Z$246)*(Alternativas!D117='Comparación Alternativas'!$AA$5:$AA$246)*('Comparación Alternativas'!$AQ$5:$AQ$246))","v":0},{"$f":"SUMPRODUCT((C117='Comparación Alternativas'!$Z$5:$Z$246)*('Comparación Alternativas'!$AA$5:$AA$246=Alternativas!D117)*('Comparación Alternativas'!$BA$5:$BA$246))","v":0},null,93,{"$f":"IF(U116+SUMPRODUCT(($U$16='Para Ocultar'!$A$2:$A$7)*('Para Ocultar'!$C$2:$C$7))>12,(U116+SUMPRODUCT(($U$16='Para Ocultar'!$A$2:$A$7)*('Para Ocultar'!$C$2:$C$7)))-12,U116+SUMPRODUCT(($U$16='Para Ocultar'!$A$2:$A$7)*('Para Ocultar'!$C$2:$C$7)))","v":10},2029,0,0,0,0,-2.0190635842883103E-12,2.0190635842883103E-12,0,-2.4430669369888555E-10,-2.0190635842883103E-12,2.0190635842883103E-12,0,-2.4430669369888555E-10,{"$f":"SUMPRODUCT((U117='Comparación Alternativas'!$Z$5:$Z$246)*('Comparación Alternativas'!$AA$5:$AA$246=Alternativas!V117)*('Comparación Alternativas'!$AV$5:$AV$246))","v":0},{"$f":"SUMPRODUCT((U117='Comparación Alternativas'!$Z$5:$Z$246)*('Comparación Alternativas'!$AA$5:$AA$246=Alternativas!V117)*('Comparación Alternativas'!$BF$5:$BF$246))","v":0}]
[null,94,{"$f":"IF(C117+SUMPRODUCT(($C$16='Para Ocultar'!$A$2:$A$7)*('Para Ocultar'!$C$2:$C$7))>12,(C117+SUMPRODUCT(($C$16='Para Ocultar'!$A$2:$A$7)*('Para Ocultar'!$C$2:$C$7)))-12,C117+SUMPRODUCT(($C$16='Para Ocultar'!$A$2:$A$7)*('Para Ocultar'!$C$2:$C$7)))","v":11},2029,0,0,0,0,1.0972425673121467E-11,-1.0972425673121467E-11,0,4.8121924023547004E-10,0,0,0,0,{"$f":"SUMPRODUCT((C118='Comparación Alternativas'!$Z$5:$Z$246)*(Alternativas!D118='Comparación Alternativas'!$AA$5:$AA$246)*('Comparación Alternativas'!$AQ$5:$AQ$246))","v":0},{"$f":"SUMPRODUCT((C118='Comparación Alternativas'!$Z$5:$Z$246)*('Comparación Alternativas'!$AA$5:$AA$246=Alternativas!D118)*('Comparación Alternativas'!$BA$5:$BA$246))","v":0},null,94,{"$f":"IF(U117+SUMPRODUCT(($U$16='Para Ocultar'!$A$2:$A$7)*('Para Ocultar'!$C$2:$C$7))>12,(U117+SUMPRODUCT(($U$16='Para Ocultar'!$A$2:$A$7)*('Para Ocultar'!$C$2:$C$7)))-12,U117+SUMPRODUCT(($U$16='Para Ocultar'!$A$2:$A$7)*('Para Ocultar'!$C$2:$C$7)))","v":11},2029,0,0,0,0,-2.0358891141573796E-12,2.0358891141573796E-12,0,-2.4634258281304291E-10,-2.0358891141573796E-12,2.0358891141573796E-12,0,-2.4634258281304291E-10,{"$f":"SUMPRODUCT((U118='Comparación Alternativas'!$Z$5:$Z$246)*('Comparación Alternativas'!$AA$5:$AA$246=Alternativas!V118)*('Comparación Alternativas'!$AV$5:$AV$246))","v":0},{"$f":"SUMPRODUCT((U118='Comparación Alternativas'!$Z$5:$Z$246)*('Comparación Alternativas'!$AA$5:$AA$246=Alternativas!V118)*('Comparación Alternativas'!$BF$5:$BF$246))","v":0}]
[null,95,{"$f":"IF(C118+SUMPRODUCT(($C$16='Para Ocultar'!$A$2:$A$7)*('Para Ocultar'!$C$2:$C$7))>12,(C118+SUMPRODUCT(($C$16='Para Ocultar'!$A$2:$A$7)*('Para Ocultar'!$C$2:$C$7)))-12,C118+SUMPRODUCT(($C$16='Para Ocultar'!$A$2:$A$7)*('Para Ocultar'!$C$2:$C$7)))","v":12},2029,0,0,0,0,1.1228448938827634E-11,-1.1228448938827634E-11,0,4.924476891742977E-10,0,0,0,0,{"$f":"SUMPRODUCT((C119='Comparación Alternativas'!$Z$5:$Z$246)*(Alternativas!D119='Comparación Alternativas'!$AA$5:$AA$246)*('Comparación Alternativas'!$AQ$5:$AQ$246))","v":0},{"$f":"SUMPRODUCT((C119='Comparación Alternativas'!$Z$5:$Z$246)*('Comparación Alternativas'!$AA$5:$AA$246=Alternativas!D119)*('Comparación Alternativas'!$BA$5:$BA$246))","v":0},null,95,{"$f":"IF(U118+SUMPRODUCT(($U$16='Para Ocultar'!$A$2:$A$7)*('Para Ocultar'!$C$2:$C$7))>12,(U118+SUMPRODUCT(($U$16='Para Ocultar'!$A$2:$A$7)*('Para Ocultar'!$C$2:$C$7)))-12,U118+SUMPRODUCT(($U$16='Para Ocultar'!$A$2:$A$7)*('Para Ocultar'!$C$2:$C$7)))","v":12},2029,0,0,0,0,-2.0528548567753577E-12,2.0528548567753577E-12,0,-2.4839543766981825E-10,-2.0528548567753577E-12,2.0528548567753577E-12,0,-2.4839543766981825E-10,{"$f":"SUMPRODUCT((U119='Comparación Alternativas'!$Z$5:$Z$246)*('Comparación Alternativas'!$AA$5:$AA$246=Alternativas!V119)*('Comparación Alternativas'!$AV$5:$AV$246))","v":0},{"$f":"SUMPRODUCT((U119='Comparación Alternativas'!$Z$5:$Z$246)*('Comparación Alternativas'!$AA$5:$AA$246=Alternativas!V119)*('Comparación Alternativas'!$BF$5:$BF$246))","v":0}]
[null,96,{"$f":"IF(C119+SUMPRODUCT(($C$16='Para Ocultar'!$A$2:$A$7)*('Para Ocultar'!$C$2:$C$7))>12,(C119+SUMPRODUCT(($C$16='Para Ocultar'!$A$2:$A$7)*('Para Ocultar'!$C$2:$C$7)))-12,C119+SUMPRODUCT(($C$16='Para Ocultar'!$A$2:$A$7)*('Para Ocultar'!$C$2:$C$7)))","v":1},2030,0,0,0,0,1.1490446080733614E-11,-1.1490446080733614E-11,0,5.0393813525503135E-10,0,0,0,0,{"$f":"SUMPRODUCT((C120='Comparación Alternativas'!$Z$5:$Z$246)*(Alternativas!D120='Comparación Alternativas'!$AA$5:$AA$246)*('Comparación Alternativas'!$AQ$5:$AQ$246))","v":0},{"$f":"SUMPRODUCT((C120='Comparación Alternativas'!$Z$5:$Z$246)*('Comparación Alternativas'!$AA$5:$AA$246=Alternativas!D120)*('Comparación Alternativas'!$BA$5:$BA$246))","v":0},null,96,{"$f":"IF(U119+SUMPRODUCT(($U$16='Para Ocultar'!$A$2:$A$7)*('Para Ocultar'!$C$2:$C$7))>12,(U119+SUMPRODUCT(($U$16='Para Ocultar'!$A$2:$A$7)*('Para Ocultar'!$C$2:$C$7)))-12,U119+SUMPRODUCT(($U$16='Para Ocultar'!$A$2:$A$7)*('Para Ocultar'!$C$2:$C$7)))","v":1},2030,0,0,0,0,-2.0699619805818189E-12,2.0699619805818189E-12,0,-2.5046539965040007E-10,-2.0699619805818189E-12,2.0699619805818189E-12,0,-2.5046539965040007E-10,{"$f":"SUMPRODUCT((U120='Comparación Alternativas'!$Z$5:$Z$246)*('Comparación Alternativas'!$AA$5:$AA$246=Alternativas!V120)*('Comparación Alternativas'!$AV$5:$AV$246))","v":0},{"$f":"SUMPRODUCT((U120='Comparación Alternativas'!$Z$5:$Z$246)*('Comparación Alternativas'!$AA$5:$AA$246=Alternativas!V120)*('Comparación Alternativas'!$BF$5:$BF$246))","v":0}]
[null,97,{"$f":"IF(C120+SUMPRODUCT(($C$16='Para Ocultar'!$A$2:$A$7)*('Para Ocultar'!$C$2:$C$7))>12,(C120+SUMPRODUCT(($C$16='Para Ocultar'!$A$2:$A$7)*('Para Ocultar'!$C$2:$C$7)))-12,C120+SUMPRODUCT(($C$16='Para Ocultar'!$A$2:$A$7)*('Para Ocultar'!$C$2:$C$7)))","v":2},2030,0,{"$f":"-H120*($C$15/$C$16)","v":0},{"$f":"F121+E121","v":0},{"$f":"E121+H120","v":0},{"$f":"L120-L120+K121-J121","v":1.1758556489284066E-11},{"$f":"-L120*$C$15/$C$16","v":-1.1758556489284066E-11},0,{"$f":"L120+I121","v":5.1569669174431539E-10},0,0,0,0,{"$f":"SUMPRODUCT((C121='Comparación Alternativas'!$Z$5:$Z$246)*(Alternativas!D121='Comparación Alternativas'!$AA$5:$AA$246)*('Comparación Alternativas'!$AQ$5:$AQ$246))","v":0},{"$f":"SUMPRODUCT((C121='Comparación Alternativas'!$Z$5:$Z$246)*('Comparación Alternativas'!$AA$5:$AA$246=Alternativas!D121)*('Comparación Alternativas'!$BA$5:$BA$246))","v":0},null,97,{"$f":"IF(U120+SUMPRODUCT(($U$16='Para Ocultar'!$A$2:$A$7)*('Para Ocultar'!$C$2:$C$7))>12,(U120+SUMPRODUCT(($U$16='Para Ocultar'!$A$2:$A$7)*('Para Ocultar'!$C$2:$C$7)))-12,U120+SUMPRODUCT(($U$16='Para Ocultar'!$A$2:$A$7)*('Para Ocultar'!$C$2:$C$7)))","v":2},2030,0,0,{"$f":"X121+W121","v":0},{"$f":"W121+Z120","v":0},{"$f":"AD120-AD120+AC121-AB121","v":-2.0872116637533342E-12},2.0872116637533342E-12,{"$f":"-IF($U$18>=T121,$U$12*$U$15/$U$16,IF($U$17+$U$18>=T121,$U$12*$AB$20,0))","v":0},{"$f":"AD120+AA121","v":-2.5255261131415338E-10},-2.0872116637533342E-12,2.0872116637533342E-12,0,-2.5255261131415338E-10,{"$f":"SUMPRODUCT((U121='Comparación Alternativas'!$Z$5:$Z$246)*('Comparación Alternativas'!$AA$5:$AA$246=Alternativas!V121)*('Comparación Alternativas'!$AV$5:$AV$246))","v":0},{"$f":"SUMPRODUCT((U121='Comparación Alternativas'!$Z$5:$Z$246)*('Comparación Alternativas'!$AA$5:$AA$246=Alternativas!V121)*('Comparación Alternativas'!$BF$5:$BF$246))","v":0}]
[null,98,{"$f":"IF(C121+SUMPRODUCT(($C$16='Para Ocultar'!$A$2:$A$7)*('Para Ocultar'!$C$2:$C$7))>12,(C121+SUMPRODUCT(($C$16='Para Ocultar'!$A$2:$A$7)*('Para Ocultar'!$C$2:$C$7)))-12,C121+SUMPRODUCT(($C$16='Para Ocultar'!$A$2:$A$7)*('Para Ocultar'!$C$2:$C$7)))","v":3},2030,0,0,0,0,1.203292280736736E-11,-1.203292280736736E-11,0,5.2772961455168273E-10,0,0,0,0,{"$f":"SUMPRODUCT((C122='Comparación Alternativas'!$Z$5:$Z$246)*(Alternativas!D122='Comparación Alternativas'!$AA$5:$AA$246)*('Comparación Alternativas'!$AQ$5:$AQ$246))","v":0},{"$f":"SUMPRODUCT((C122='Comparación Alternativas'!$Z$5:$Z$246)*('Comparación Alternativas'!$AA$5:$AA$246=Alternativas!D122)*('Comparación Alternativas'!$BA$5:$BA$246))","v":0},null,98,{"$f":"IF(U121+SUMPRODUCT(($U$16='Para Ocultar'!$A$2:$A$7)*('Para Ocultar'!$C$2:$C$7))>12,(U121+SUMPRODUCT(($U$16='Para Ocultar'!$A$2:$A$7)*('Para Ocultar'!$C$2:$C$7)))-12,U121+SUMPRODUCT(($U$16='Para Ocultar'!$A$2:$A$7)*('Para Ocultar'!$C$2:$C$7)))","v":3},2030,0,0,0,0,-2.1046050942846116E-12,2.1046050942846116E-12,0,-2.5465721640843798E-10,-2.1046050942846116E-12,2.1046050942846116E-12,0,-2.5465721640843798E-10,{"$f":"SUMPRODUCT((U122='Comparación Alternativas'!$Z$5:$Z$246)*('Comparación Alternativas'!$AA$5:$AA$246=Alternativas!V122)*('Comparación Alternativas'!$AV$5:$AV$246))","v":0},{"$f":"SUMPRODUCT((U122='Comparación Alternativas'!$Z$5:$Z$246)*('Comparación Alternativas'!$AA$5:$AA$246=Alternativas!V122)*('Comparación Alternativas'!$BF$5:$BF$246))","v":0}]
[null,99,{"$f":"IF(C122+SUMPRODUCT(($C$16='Para Ocultar'!$A$2:$A$7)*('Para Ocultar'!$C$2:$C$7))>12,(C122+SUMPRODUCT(($C$16='Para Ocultar'!$A$2:$A$7)*('Para Ocultar'!$C$2:$C$7)))-12,C122+SUMPRODUCT(($C$16='Para Ocultar'!$A$2:$A$7)*('Para Ocultar'!$C$2:$C$7)))","v":4},2030,0,0,0,0,1.2313691006205933E-11,-1.2313691006205933E-11,0,5.4004330555788862E-10,0,0,0,0,{"$f":"SUMPRODUCT((C123='Comparación Alternativas'!$Z$5:$Z$246)*(Alternativas!D123='Comparación Alternativas'!$AA$5:$AA$246)*('Comparación Alternativas'!$AQ$5:$AQ$246))","v":0},{"$f":"SUMPRODUCT((C123='Comparación Alternativas'!$Z$5:$Z$246)*('Comparación Alternativas'!$AA$5:$AA$246=Alternativas!D123)*('Comparación Alternativas'!$BA$5:$BA$246))","v":0},null,99,{"$f":"IF(U122+SUMPRODUCT(($U$16='Para Ocultar'!$A$2:$A$7)*('Para Ocultar'!$C$2:$C$7))>12,(U122+SUMPRODUCT(($U$16='Para Ocultar'!$A$2:$A$7)*('Para Ocultar'!$C$2:$C$7)))-12,U122+SUMPRODUCT(($U$16='Para Ocultar'!$A$2:$A$7)*('Para Ocultar'!$C$2:$C$7)))","v":4},2030,0,0,0,0,-2.1221434700703166E-12,2.1221434700703166E-12,0,-2.5677935987850827E-10,-2.1221434700703166E-12,2.1221434700703166E-12,0,-2.5677935987850827E-10,{"$f":"SUMPRODUCT((U123='Comparación Alternativas'!$Z$5:$Z$246)*('Comparación Alternativas'!$AA$5:$AA$246=Alternativas!V123)*('Comparación Alternativas'!$AV$5:$AV$246))","v":0},{"$f":"SUMPRODUCT((U123='Comparación Alternativas'!$Z$5:$Z$246)*('Comparación Alternativas'!$AA$5:$AA$246=Alternativas!V123)*('Comparación Alternativas'!$BF$5:$BF$246))","v":0}]
[null,100,{"$f":"IF(C123+SUMPRODUCT(($C$16='Para Ocultar'!$A$2:$A$7)*('Para Ocultar'!$C$2:$C$7))>12,(C123+SUMPRODUCT(($C$16='Para Ocultar'!$A$2:$A$7)*('Para Ocultar'!$C$2:$C$7)))-12,C123+SUMPRODUCT(($C$16='Para Ocultar'!$A$2:$A$7)*('Para Ocultar'!$C$2:$C$7)))","v":5},2030,0,0,0,0,1.2601010463017402E-11,-1.2601010463017402E-11,0,5.5264431602090606E-10,0,0,0,0,{"$f":"SUMPRODUCT((C124='Comparación Alternativas'!$Z$5:$Z$246)*(Alternativas!D124='Comparación Alternativas'!$AA$5:$AA$246)*('Comparación Alternativas'!$AQ$5:$AQ$246))","v":0},{"$f":"SUMPRODUCT((C124='Comparación Alternativas'!$Z$5:$Z$246)*('Comparación Alternativas'!$AA$5:$AA$246=Alternativas!D124)*('Comparación Alternativas'!$BA$5:$BA$246))","v":0},null,100,{"$f":"IF(U123+SUMPRODUCT(($U$16='Para Ocultar'!$A$2:$A$7)*('Para Ocultar'!$C$2:$C$7))>12,(U123+SUMPRODUCT(($U$16='Para Ocultar'!$A$2:$A$7)*('Para Ocultar'!$C$2:$C$7)))-12,U123+SUMPRODUCT(($U$16='Para Ocultar'!$A$2:$A$7)*('Para Ocultar'!$C$2:$C$7)))","v":5},2030,0,0,0,0,-2.1398279989875691E-12,2.1398279989875691E-12,0,-2.5891918787749584E-10,-2.1398279989875691E-12,2.1398279989875691E-12,0,-2.5891918787749584E-10,{"$f":"SUMPRODUCT((U124='Comparación Alternativas'!$Z$5:$Z$246)*('Comparación Alternativas'!$AA$5:$AA$246=Alternativas!V124)*('Comparación Alternativas'!$AV$5:$AV$246))","v":0},{"$f":"SUMPRODUCT((U124='Comparación Alternativas'!$Z$5:$Z$246)*('Comparación Alternativas'!$AA$5:$AA$246=Alternativas!V124)*('Comparación Alternativas'!$BF$5:$BF$246))","v":0}]
[null,101,{"$f":"IF(C124+SUMPRODUCT(($C$16='Para Ocultar'!$A$2:$A$7)*('Para Ocultar'!$C$2:$C$7))>12,(C124+SUMPRODUCT(($C$16='Para Ocultar'!$A$2:$A$7)*('Para Ocultar'!$C$2:$C$7)))-12,C124+SUMPRODUCT(($C$16='Para Ocultar'!$A$2:$A$7)*('Para Ocultar'!$C$2:$C$7)))","v":6},2030,0,0,0,0,1.2895034040487809E-11,-1.2895034040487809E-11,0,5.6553935006139385E-10,0,0,0,0,{"$f":"SUMPRODUCT((C125='Comparación Alternativas'!$Z$5:$Z$246)*(Alternativas!D125='Comparación Alternativas'!$AA$5:$AA$246)*('Comparación Alternativas'!$AQ$5:$AQ$246))","v":0},{"$f":"SUMPRODUCT((C125='Comparación Alternativas'!$Z$5:$Z$246)*('Comparación Alternativas'!$AA$5:$AA$246=Alternativas!D125)*('Comparación Alternativas'!$BA$5:$BA$246))","v":0},null,101,{"$f":"IF(U124+SUMPRODUCT(($U$16='Para Ocultar'!$A$2:$A$7)*('Para Ocultar'!$C$2:$C$7))>12,(U124+SUMPRODUCT(($U$16='Para Ocultar'!$A$2:$A$7)*('Para Ocultar'!$C$2:$C$7)))-12,U124+SUMPRODUCT(($U$16='Para Ocultar'!$A$2:$A$7)*('Para Ocultar'!$C$2:$C$7)))","v":6},2030,0,0,0,0,-2.1576598989791322E-12,2.1576598989791322E-12,0,-2.6107684777647495E-10,-2.1576598989791322E-12,2.1576598989791322E-12,0,-2.6107684777647495E-10,{"$f":"SUMPRODUCT((U125='Comparación Alternativas'!$Z$5:$Z$246)*('Comparación Alternativas'!$AA$5:$AA$246=Alternativas!V125)*('Comparación Alternativas'!$AV$5:$AV$246))","v":0},{"$f":"SUMPRODUCT((U125='Comparación Alternativas'!$Z$5:$Z$246)*('Comparación Alternativas'!$AA$5:$AA$246=Alternativas!V125)*('Comparación Alternativas'!$BF$5:$BF$246))","v":0}]
[null,102,{"$f":"IF(C125+SUMPRODUCT(($C$16='Para Ocultar'!$A$2:$A$7)*('Para Ocultar'!$C$2:$C$7))>12,(C125+SUMPRODUCT(($C$16='Para Ocultar'!$A$2:$A$7)*('Para Ocultar'!$C$2:$C$7)))-12,C125+SUMPRODUCT(($C$16='Para Ocultar'!$A$2:$A$7)*('Para Ocultar'!$C$2:$C$7)))","v":7},2030,0,0,0,0,1.3195918168099191E-11,-1.3195918168099191E-11,0,5.7873526822949303E-10,0,0,0,0,{"$f":"SUMPRODUCT((C126='Comparación Alternativas'!$Z$5:$Z$246)*(Alternativas!D126='Comparación Alternativas'!$AA$5:$AA$246)*('Comparación Alternativas'!$AQ$5:$AQ$246))","v":0},{"$f":"SUMPRODUCT((C126='Comparación Alternativas'!$Z$5:$Z$246)*('Comparación Alternativas'!$AA$5:$AA$246=Alternativas!D126)*('Comparación Alternativas'!$BA$5:$BA$246))","v":0},null,102,{"$f":"IF(U125+SUMPRODUCT(($U$16='Para Ocultar'!$A$2:$A$7)*('Para Ocultar'!$C$2:$C$7))>12,(U125+SUMPRODUCT(($U$16='Para Ocultar'!$A$2:$A$7)*('Para Ocultar'!$C$2:$C$7)))-12,U125+SUMPRODUCT(($U$16='Para Ocultar'!$A$2:$A$7)*('Para Ocultar'!$C$2:$C$7)))","v":7},2030,0,0,0,0,-2.1756403981372911E-12,2.1756403981372911E-12,0,-2.6325248817461223E-10,-2.1756403981372911E-12,2.1756403981372911E-12,0,-2.6325248817461223E-10,{"$f":"SUMPRODUCT((U126='Comparación Alternativas'!$Z$5:$Z$246)*('Comparación Alternativas'!$AA$5:$AA$246=Alternativas!V126)*('Comparación Alternativas'!$AV$5:$AV$246))","v":0},{"$f":"SUMPRODUCT((U126='Comparación Alternativas'!$Z$5:$Z$246)*('Comparación Alternativas'!$AA$5:$AA$246=Alternativas!V126)*('Comparación Alternativas'!$BF$5:$BF$246))","v":0}]
[null,103,{"$f":"IF(C126+SUMPRODUCT(($C$16='Para Ocultar'!$A$2:$A$7)*('Para Ocultar'!$C$2:$C$7))>12,(C126+SUMPRODUCT(($C$16='Para Ocultar'!$A$2:$A$7)*('Para Ocultar'!$C$2:$C$7)))-12,C126+SUMPRODUCT(($C$16='Para Ocultar'!$A$2:$A$7)*('Para Ocultar'!$C$2:$C$7)))","v":8},2030,0,0,0,0,1.3503822925354837E-11,-1.3503822925354837E-11,0,5.9223909115484784E-10,0,0,0,0,{"$f":"SUMPRODUCT((C127='Comparación Alternativas'!$Z$5:$Z$246)*(Alternativas!D127='Comparación Alternativas'!$AA$5:$AA$246)*('Comparación Alternativas'!$AQ$5:$AQ$246))","v":0},{"$f":"SUMPRODUCT((C127='Comparación Alternativas'!$Z$5:$Z$246)*('Comparación Alternativas'!$AA$5:$AA$246=Alternativas!D127)*('Comparación Alternativas'!$BA$5:$BA$246))","v":0},null,103,{"$f":"IF(U126+SUMPRODUCT(($U$16='Para Ocultar'!$A$2:$A$7)*('Para Ocultar'!$C$2:$C$7))>12,(U126+SUMPRODUCT(($U$16='Para Ocultar'!$A$2:$A$7)*('Para Ocultar'!$C$2:$C$7)))-12,U126+SUMPRODUCT(($U$16='Para Ocultar'!$A$2:$A$7)*('Para Ocultar'!$C$2:$C$7)))","v":8},2030,0,0,0,0,-2.1937707347884356E-12,2.1937707347884356E-12,0,-2.6544625890940066E-10,-2.1937707347884356E-12,2.1937707347884356E-12,0,-2.6544625890940066E-10,{"$f":"SUMPRODUCT((U127='Comparación Alternativas'!$Z$5:$Z$246)*('Comparación Alternativas'!$AA$5:$AA$246=Alternativas!V127)*('Comparación Alternativas'!$AV$5:$AV$246))","v":0},{"$f":"SUMPRODUCT((U127='Comparación Alternativas'!$Z$5:$Z$246)*('Comparación Alternativas'!$AA$5:$AA$246=Alternativas!V127)*('Comparación Alternativas'!$BF$5:$BF$246))","v":0}]
[null,104,{"$f":"IF(C127+SUMPRODUCT(($C$16='Para Ocultar'!$A$2:$A$7)*('Para Ocultar'!$C$2:$C$7))>12,(C127+SUMPRODUCT(($C$16='Para Ocultar'!$A$2:$A$7)*('Para Ocultar'!$C$2:$C$7)))-12,C127+SUMPRODUCT(($C$16='Para Ocultar'!$A$2:$A$7)*('Para Ocultar'!$C$2:$C$7)))","v":9},2030,0,0,0,0,1.381891212694645E-11,-1.381891212694645E-11,0,6.0605800328179427E-10,0,0,0,0,{"$f":"SUMPRODUCT((C128='Comparación Alternativas'!$Z$5:$Z$246)*(Alternativas!D128='Comparación Alternativas'!$AA$5:$AA$246)*('Comparación Alternativas'!$AQ$5:$AQ$246))","v":0},{"$f":"SUMPRODUCT((C128='Comparación Alternativas'!$Z$5:$Z$246)*('Comparación Alternativas'!$AA$5:$AA$246=Alternativas!D128)*('Comparación Alternativas'!$BA$5:$BA$246))","v":0},null,104,{"$f":"IF(U127+SUMPRODUCT(($U$16='Para Ocultar'!$A$2:$A$7)*('Para Ocultar'!$C$2:$C$7))>12,(U127+SUMPRODUCT(($U$16='Para Ocultar'!$A$2:$A$7)*('Para Ocultar'!$C$2:$C$7)))-12,U127+SUMPRODUCT(($U$16='Para Ocultar'!$A$2:$A$7)*('Para Ocultar'!$C$2:$C$7)))","v":9},2030,0,0,0,0,-2.2120521575783389E-12,2.2120521575783389E-12,0,-2.6765831106697898E-10,-2.2120521575783389E-12,2.2120521575783389E-12,0,-2.6765831106697898E-10,{"$f":"SUMPRODUCT((U128='Comparación Alternativas'!$Z$5:$Z$246)*('Comparación Alternativas'!$AA$5:$AA$246=Alternativas!V128)*('Comparación Alternativas'!$AV$5:$AV$246))","v":0},{"$f":"SUMPRODUCT((U128='Comparación Alternativas'!$Z$5:$Z$246)*('Comparación Alternativas'!$AA$5:$AA$246=Alternativas!V128)*('Comparación Alternativas'!$BF$5:$BF$246))","v":0}]
[null,105,{"$f":"IF(C128+SUMPRODUCT(($C$16='Para Ocultar'!$A$2:$A$7)*('Para Ocultar'!$C$2:$C$7))>12,(C128+SUMPRODUCT(($C$16='Para Ocultar'!$A$2:$A$7)*('Para Ocultar'!$C$2:$C$7)))-12,C128+SUMPRODUCT(($C$16='Para Ocultar'!$A$2:$A$7)*('Para Ocultar'!$C$2:$C$7)))","v":10},2030,0,0,0,0,1.4141353409908533E-11,-1.4141353409908533E-11,0,6.2019935669170275E-10,0,0,0,0,{"$f":"SUMPRODUCT((C129='Comparación Alternativas'!$Z$5:$Z$246)*(Alternativas!D129='Comparación Alternativas'!$AA$5:$AA$246)*('Comparación Alternativas'!$AQ$5:$AQ$246))","v":0},{"$f":"SUMPRODUCT((C129='Comparación Alternativas'!$Z$5:$Z$246)*('Comparación Alternativas'!$AA$5:$AA$246=Alternativas!D129)*('Comparación Alternativas'!$BA$5:$BA$246))","v":0},null,105,{"$f":"IF(U128+SUMPRODUCT(($U$16='Para Ocultar'!$A$2:$A$7)*('Para Ocultar'!$C$2:$C$7))>12,(U128+SUMPRODUCT(($U$16='Para Ocultar'!$A$2:$A$7)*('Para Ocultar'!$C$2:$C$7)))-12,U128+SUMPRODUCT(($U$16='Para Ocultar'!$A$2:$A$7)*('Para Ocultar'!$C$2:$C$7)))","v":10},2030,0,0,0,0,-2.2304859255581585E-12,2.2304859255581585E-12,0,-2.6988879699253716E-10,-2.2304859255581585E-12,2.2304859255581585E-12,0,-2.6988879699253716E-10,{"$f":"SUMPRODUCT((U129='Comparación Alternativas'!$Z$5:$Z$246)*('Comparación Alternativas'!$AA$5:$AA$246=Alternativas!V129)*('Comparación Alternativas'!$AV$5:$AV$246))","v":0},{"$f":"SUMPRODUCT((U129='Comparación Alternativas'!$Z$5:$Z$246)*('Comparación Alternativas'!$AA$5:$AA$246=Alternativas!V129)*('Comparación Alternativas'!$BF$5:$BF$246))","v":0}]
[null,106,{"$f":"IF(C129+SUMPRODUCT(($C$16='Para Ocultar'!$A$2:$A$7)*('Para Ocultar'!$C$2:$C$7))>12,(C129+SUMPRODUCT(($C$16='Para Ocultar'!$A$2:$A$7)*('Para Ocultar'!$C$2:$C$7)))-12,C129+SUMPRODUCT(($C$16='Para Ocultar'!$A$2:$A$7)*('Para Ocultar'!$C$2:$C$7)))","v":11},2030,0,0,0,0,1.44713183228064E-11,-1.44713183228064E-11,0,6.3467067501450911E-10,0,0,0,0,{"$f":"SUMPRODUCT((C130='Comparación Alternativas'!$Z$5:$Z$246)*(Alternativas!D130='Comparación Alternativas'!$AA$5:$AA$246)*('Comparación Alternativas'!$AQ$5:$AQ$246))","v":0},{"$f":"SUMPRODUCT((C130='Comparación Alternativas'!$Z$5:$Z$246)*('Comparación Alternativas'!$AA$5:$AA$246=Alternativas!D130)*('Comparación Alternativas'!$BA$5:$BA$246))","v":0},null,106,{"$f":"IF(U129+SUMPRODUCT(($U$16='Para Ocultar'!$A$2:$A$7)*('Para Ocultar'!$C$2:$C$7))>12,(U129+SUMPRODUCT(($U$16='Para Ocultar'!$A$2:$A$7)*('Para Ocultar'!$C$2:$C$7)))-12,U129+SUMPRODUCT(($U$16='Para Ocultar'!$A$2:$A$7)*('Para Ocultar'!$C$2:$C$7)))","v":11},2030,0,0,0,0,-2.249073308271143E-12,2.249073308271143E-12,0,-2.7213787030080829E-10,-2.249073308271143E-12,2.249073308271143E-12,0,-2.7213787030080829E-10,{"$f":"SUMPRODUCT((U130='Comparación Alternativas'!$Z$5:$Z$246)*('Comparación Alternativas'!$AA$5:$AA$246=Alternativas!V130)*('Comparación Alternativas'!$AV$5:$AV$246))","v":0},{"$f":"SUMPRODUCT((U130='Comparación Alternativas'!$Z$5:$Z$246)*('Comparación Alternativas'!$AA$5:$AA$246=Alternativas!V130)*('Comparación Alternativas'!$BF$5:$BF$246))","v":0}]
[null,107,{"$f":"IF(C130+SUMPRODUCT(($C$16='Para Ocultar'!$A$2:$A$7)*('Para Ocultar'!$C$2:$C$7))>12,(C130+SUMPRODUCT(($C$16='Para Ocultar'!$A$2:$A$7)*('Para Ocultar'!$C$2:$C$7)))-12,C130+SUMPRODUCT(($C$16='Para Ocultar'!$A$2:$A$7)*('Para Ocultar'!$C$2:$C$7)))","v":12},2030,0,0,0,0,1.4808982417005214E-11,-1.4808982417005214E-11,0,6.4947965743151429E-10,0,0,0,0,{"$f":"SUMPRODUCT((C131='Comparación Alternativas'!$Z$5:$Z$246)*(Alternativas!D131='Comparación Alternativas'!$AA$5:$AA$246)*('Comparación Alternativas'!$AQ$5:$AQ$246))","v":0},{"$f":"SUMPRODUCT((C131='Comparación Alternativas'!$Z$5:$Z$246)*('Comparación Alternativas'!$AA$5:$AA$246=Alternativas!D131)*('Comparación Alternativas'!$BA$5:$BA$246))","v":0},null,107,{"$f":"IF(U130+SUMPRODUCT(($U$16='Para Ocultar'!$A$2:$A$7)*('Para Ocultar'!$C$2:$C$7))>12,(U130+SUMPRODUCT(($U$16='Para Ocultar'!$A$2:$A$7)*('Para Ocultar'!$C$2:$C$7)))-12,U130+SUMPRODUCT(($U$16='Para Ocultar'!$A$2:$A$7)*('Para Ocultar'!$C$2:$C$7)))","v":12},2030,0,0,0,0,-2.2678155858400692E-12,2.2678155858400692E-12,0,-2.7440568588664838E-10,-2.2678155858400692E-12,2.2678155858400692E-12,0,-2.7440568588664838E-10,{"$f":"SUMPRODUCT((U131='Comparación Alternativas'!$Z$5:$Z$246)*('Comparación Alternativas'!$AA$5:$AA$246=Alternativas!V131)*('Comparación Alternativas'!$AV$5:$AV$246))","v":0},{"$f":"SUMPRODUCT((U131='Comparación Alternativas'!$Z$5:$Z$246)*('Comparación Alternativas'!$AA$5:$AA$246=Alternativas!V131)*('Comparación Alternativas'!$BF$5:$BF$246))","v":0}]
[null,108,{"$f":"IF(C131+SUMPRODUCT(($C$16='Para Ocultar'!$A$2:$A$7)*('Para Ocultar'!$C$2:$C$7))>12,(C131+SUMPRODUCT(($C$16='Para Ocultar'!$A$2:$A$7)*('Para Ocultar'!$C$2:$C$7)))-12,C131+SUMPRODUCT(($C$16='Para Ocultar'!$A$2:$A$7)*('Para Ocultar'!$C$2:$C$7)))","v":1},2031,0,0,0,0,1.515452534006867E-11,-1.515452534006867E-11,0,6.6463418277158292E-10,0,0,0,0,{"$f":"SUMPRODUCT((C132='Comparación Alternativas'!$Z$5:$Z$246)*(Alternativas!D132='Comparación Alternativas'!$AA$5:$AA$246)*('Comparación Alternativas'!$AQ$5:$AQ$246))","v":0},{"$f":"SUMPRODUCT((C132='Comparación Alternativas'!$Z$5:$Z$246)*('Comparación Alternativas'!$AA$5:$AA$246=Alternativas!D132)*('Comparación Alternativas'!$BA$5:$BA$246))","v":0},null,108,{"$f":"IF(U131+SUMPRODUCT(($U$16='Para Ocultar'!$A$2:$A$7)*('Para Ocultar'!$C$2:$C$7))>12,(U131+SUMPRODUCT(($U$16='Para Ocultar'!$A$2:$A$7)*('Para Ocultar'!$C$2:$C$7)))-12,U131+SUMPRODUCT(($U$16='Para Ocultar'!$A$2:$A$7)*('Para Ocultar'!$C$2:$C$7)))","v":1},2031,0,0,0,0,-2.2867140490554033E-12,2.2867140490554033E-12,0,-2.7669239993570376E-10,-2.2867140490554033E-12,2.2867140490554033E-12,0,-2.7669239993570376E-10,{"$f":"SUMPRODUCT((U132='Comparación Alternativas'!$Z$5:$Z$246)*('Comparación Alternativas'!$AA$5:$AA$246=Alternativas!V132)*('Comparación Alternativas'!$AV$5:$AV$246))","v":0},{"$f":"SUMPRODUCT((U132='Comparación Alternativas'!$Z$5:$Z$246)*('Comparación Alternativas'!$AA$5:$AA$246=Alternativas!V132)*('Comparación Alternativas'!$BF$5:$BF$246))","v":0}]
[null,109,{"$f":"IF(C132+SUMPRODUCT(($C$16='Para Ocultar'!$A$2:$A$7)*('Para Ocultar'!$C$2:$C$7))>12,(C132+SUMPRODUCT(($C$16='Para Ocultar'!$A$2:$A$7)*('Para Ocultar'!$C$2:$C$7)))-12,C132+SUMPRODUCT(($C$16='Para Ocultar'!$A$2:$A$7)*('Para Ocultar'!$C$2:$C$7)))","v":2},2031,0,0,0,0,1.5508130931336936E-11,-1.5508130931336936E-11,0,6.8014231370291986E-10,0,0,0,0,{"$f":"SUMPRODUCT((C133='Comparación Alternativas'!$Z$5:$Z$246)*(Alternativas!D133='Comparación Alternativas'!$AA$5:$AA$246)*('Comparación Alternativas'!$AQ$5:$AQ$246))","v":0},{"$f":"SUMPRODUCT((C133='Comparación Alternativas'!$Z$5:$Z$246)*('Comparación Alternativas'!$AA$5:$AA$246=Alternativas!D133)*('Comparación Alternativas'!$BA$5:$BA$246))","v":0},null,109,{"$f":"IF(U132+SUMPRODUCT(($U$16='Para Ocultar'!$A$2:$A$7)*('Para Ocultar'!$C$2:$C$7))>12,(U132+SUMPRODUCT(($U$16='Para Ocultar'!$A$2:$A$7)*('Para Ocultar'!$C$2:$C$7)))-12,U132+SUMPRODUCT(($U$16='Para Ocultar'!$A$2:$A$7)*('Para Ocultar'!$C$2:$C$7)))","v":2},2031,0,0,0,0,-2.305769999464198E-12,2.305769999464198E-12,0,-2.7899816993516795E-10,-2.305769999464198E-12,2.305769999464198E-12,0,-2.7899816993516795E-10,{"$f":"SUMPRODUCT((U133='Comparación Alternativas'!$Z$5:$Z$246)*('Comparación Alternativas'!$AA$5:$AA$246=Alternativas!V133)*('Comparación Alternativas'!$AV$5:$AV$246))","v":0},{"$f":"SUMPRODUCT((U133='Comparación Alternativas'!$Z$5:$Z$246)*('Comparación Alternativas'!$AA$5:$AA$246=Alternativas!V133)*('Comparación Alternativas'!$BF$5:$BF$246))","v":0}]
[null,110,{"$f":"IF(C133+SUMPRODUCT(($C$16='Para Ocultar'!$A$2:$A$7)*('Para Ocultar'!$C$2:$C$7))>12,(C133+SUMPRODUCT(($C$16='Para Ocultar'!$A$2:$A$7)*('Para Ocultar'!$C$2:$C$7)))-12,C133+SUMPRODUCT(($C$16='Para Ocultar'!$A$2:$A$7)*('Para Ocultar'!$C$2:$C$7)))","v":3},2031,0,0,0,0,1.5869987319734799E-11,-1.5869987319734799E-11,0,6.9601230102265463E-10,0,0,0,0,{"$f":"SUMPRODUCT((C134='Comparación Alternativas'!$Z$5:$Z$246)*(Alternativas!D134='Comparación Alternativas'!$AA$5:$AA$246)*('Comparación Alternativas'!$AQ$5:$AQ$246))","v":0},{"$f":"SUMPRODUCT((C134='Comparación Alternativas'!$Z$5:$Z$246)*('Comparación Alternativas'!$AA$5:$AA$246=Alternativas!D134)*('Comparación Alternativas'!$BA$5:$BA$246))","v":0},null,110,{"$f":"IF(U133+SUMPRODUCT(($U$16='Para Ocultar'!$A$2:$A$7)*('Para Ocultar'!$C$2:$C$7))>12,(U133+SUMPRODUCT(($U$16='Para Ocultar'!$A$2:$A$7)*('Para Ocultar'!$C$2:$C$7)))-12,U133+SUMPRODUCT(($U$16='Para Ocultar'!$A$2:$A$7)*('Para Ocultar'!$C$2:$C$7)))","v":3},2031,0,0,0,0,-2.3249847494597331E-12,2.3249847494597331E-12,0,-2.8132315468462768E-10,-2.3249847494597331E-12,2.3249847494597331E-12,0,-2.8132315468462768E-10,{"$f":"SUMPRODUCT((U134='Comparación Alternativas'!$Z$5:$Z$246)*('Comparación Alternativas'!$AA$5:$AA$246=Alternativas!V134)*('Comparación Alternativas'!$AV$5:$AV$246))","v":0},{"$f":"SUMPRODUCT((U134='Comparación Alternativas'!$Z$5:$Z$246)*('Comparación Alternativas'!$AA$5:$AA$246=Alternativas!V134)*('Comparación Alternativas'!$BF$5:$BF$246))","v":0}]
[null,111,{"$f":"IF(C134+SUMPRODUCT(($C$16='Para Ocultar'!$A$2:$A$7)*('Para Ocultar'!$C$2:$C$7))>12,(C134+SUMPRODUCT(($C$16='Para Ocultar'!$A$2:$A$7)*('Para Ocultar'!$C$2:$C$7)))-12,C134+SUMPRODUCT(($C$16='Para Ocultar'!$A$2:$A$7)*('Para Ocultar'!$C$2:$C$7)))","v":4},2031,0,0,0,0,1.6240287023861942E-11,-1.6240287023861942E-11,0,7.1225258804651657E-10,0,0,0,0,{"$f":"SUMPRODUCT((C135='Comparación Alternativas'!$Z$5:$Z$246)*(Alternativas!D135='Comparación Alternativas'!$AA$5:$AA$246)*('Comparación Alternativas'!$AQ$5:$AQ$246))","v":0},{"$f":"SUMPRODUCT((C135='Comparación Alternativas'!$Z$5:$Z$246)*('Comparación Alternativas'!$AA$5:$AA$246=Alternativas!D135)*('Comparación Alternativas'!$BA$5:$BA$246))","v":0},null,111,{"$f":"IF(U134+SUMPRODUCT(($U$16='Para Ocultar'!$A$2:$A$7)*('Para Ocultar'!$C$2:$C$7))>12,(U134+SUMPRODUCT(($U$16='Para Ocultar'!$A$2:$A$7)*('Para Ocultar'!$C$2:$C$7)))-12,U134+SUMPRODUCT(($U$16='Para Ocultar'!$A$2:$A$7)*('Para Ocultar'!$C$2:$C$7)))","v":4},2031,0,0,0,0,-2.3443596223718975E-12,2.3443596223718975E-12,0,-2.8366751430699957E-10,-2.3443596223718975E-12,2.3443596223718975E-12,0,-2.8366751430699957E-10,{"$f":"SUMPRODUCT((U135='Comparación Alternativas'!$Z$5:$Z$246)*('Comparación Alternativas'!$AA$5:$AA$246=Alternativas!V135)*('Comparación Alternativas'!$AV$5:$AV$246))","v":0},{"$f":"SUMPRODUCT((U135='Comparación Alternativas'!$Z$5:$Z$246)*('Comparación Alternativas'!$AA$5:$AA$246=Alternativas!V135)*('Comparación Alternativas'!$BF$5:$BF$246))","v":0}]
[null,112,{"$f":"IF(C135+SUMPRODUCT(($C$16='Para Ocultar'!$A$2:$A$7)*('Para Ocultar'!$C$2:$C$7))>12,(C135+SUMPRODUCT(($C$16='Para Ocultar'!$A$2:$A$7)*('Para Ocultar'!$C$2:$C$7)))-12,C135+SUMPRODUCT(($C$16='Para Ocultar'!$A$2:$A$7)*('Para Ocultar'!$C$2:$C$7)))","v":5},2031,0,0,0,0,1.6619227054418722E-11,-1.6619227054418722E-11,0,7.2887181510093527E-10,0,0,0,0,{"$f":"SUMPRODUCT((C136='Comparación Alternativas'!$Z$5:$Z$246)*(Alternativas!D136='Comparación Alternativas'!$AA$5:$AA$246)*('Comparación Alternativas'!$AQ$5:$AQ$246))","v":0},{"$f":"SUMPRODUCT((C136='Comparación Alternativas'!$Z$5:$Z$246)*('Comparación Alternativas'!$AA$5:$AA$246=Alternativas!D136)*('Comparación Alternativas'!$BA$5:$BA$246))","v":0},null,112,{"$f":"IF(U135+SUMPRODUCT(($U$16='Para Ocultar'!$A$2:$A$7)*('Para Ocultar'!$C$2:$C$7))>12,(U135+SUMPRODUCT(($U$16='Para Ocultar'!$A$2:$A$7)*('Para Ocultar'!$C$2:$C$7)))-12,U135+SUMPRODUCT(($U$16='Para Ocultar'!$A$2:$A$7)*('Para Ocultar'!$C$2:$C$7)))","v":5},2031,0,0,0,0,-2.36389595255833E-12,2.36389595255833E-12,0,-2.8603141025955792E-10,-2.36389595255833E-12,2.36389595255833E-12,0,-2.8603141025955792E-10,{"$f":"SUMPRODUCT((U136='Comparación Alternativas'!$Z$5:$Z$246)*('Comparación Alternativas'!$AA$5:$AA$246=Alternativas!V136)*('Comparación Alternativas'!$AV$5:$AV$246))","v":0},{"$f":"SUMPRODUCT((U136='Comparación Alternativas'!$Z$5:$Z$246)*('Comparación Alternativas'!$AA$5:$AA$246=Alternativas!V136)*('Comparación Alternativas'!$BF$5:$BF$246))","v":0}]
[null,113,{"$f":"IF(C136+SUMPRODUCT(($C$16='Para Ocultar'!$A$2:$A$7)*('Para Ocultar'!$C$2:$C$7))>12,(C136+SUMPRODUCT(($C$16='Para Ocultar'!$A$2:$A$7)*('Para Ocultar'!$C$2:$C$7)))-12,C136+SUMPRODUCT(($C$16='Para Ocultar'!$A$2:$A$7)*('Para Ocultar'!$C$2:$C$7)))","v":6},2031,0,0,0,0,1.7007009019021823E-11,-1.7007009019021823E-11,0,7.4587882411995712E-10,0,0,0,0,{"$f":"SUMPRODUCT((C137='Comparación Alternativas'!$Z$5:$Z$246)*(Alternativas!D137='Comparación Alternativas'!$AA$5:$AA$246)*('Comparación Alternativas'!$AQ$5:$AQ$246))","v":0},{"$f":"SUMPRODUCT((C137='Comparación Alternativas'!$Z$5:$Z$246)*('Comparación Alternativas'!$AA$5:$AA$246=Alternativas!D137)*('Comparación Alternativas'!$BA$5:$BA$246))","v":0},null,113,{"$f":"IF(U136+SUMPRODUCT(($U$16='Para Ocultar'!$A$2:$A$7)*('Para Ocultar'!$C$2:$C$7))>12,(U136+SUMPRODUCT(($U$16='Para Ocultar'!$A$2:$A$7)*('Para Ocultar'!$C$2:$C$7)))-12,U136+SUMPRODUCT(($U$16='Para Ocultar'!$A$2:$A$7)*('Para Ocultar'!$C$2:$C$7)))","v":6},2031,0,0,0,0,-2.3835950854963162E-12,2.3835950854963162E-12,0,-2.8841500534505426E-10,-2.3835950854963162E-12,2.3835950854963162E-12,0,-2.8841500534505426E-10,{"$f":"SUMPRODUCT((U137='Comparación Alternativas'!$Z$5:$Z$246)*('Comparación Alternativas'!$AA$5:$AA$246=Alternativas!V137)*('Comparación Alternativas'!$AV$5:$AV$246))","v":0},{"$f":"SUMPRODUCT((U137='Comparación Alternativas'!$Z$5:$Z$246)*('Comparación Alternativas'!$AA$5:$AA$246=Alternativas!V137)*('Comparación Alternativas'!$BF$5:$BF$246))","v":0}]
[null,114,{"$f":"IF(C137+SUMPRODUCT(($C$16='Para Ocultar'!$A$2:$A$7)*('Para Ocultar'!$C$2:$C$7))>12,(C137+SUMPRODUCT(($C$16='Para Ocultar'!$A$2:$A$7)*('Para Ocultar'!$C$2:$C$7)))-12,C137+SUMPRODUCT(($C$16='Para Ocultar'!$A$2:$A$7)*('Para Ocultar'!$C$2:$C$7)))","v":7},2031,0,0,0,0,1.7403839229465668E-11,-1.7403839229465668E-11,0,7.6328266334942277E-10,0,0,0,0,{"$f":"SUMPRODUCT((C138='Comparación Alternativas'!$Z$5:$Z$246)*(Alternativas!D138='Comparación Alternativas'!$AA$5:$AA$246)*('Comparación Alternativas'!$AQ$5:$AQ$246))","v":0},{"$f":"SUMPRODUCT((C138='Comparación Alternativas'!$Z$5:$Z$246)*('Comparación Alternativas'!$AA$5:$AA$246=Alternativas!D138)*('Comparación Alternativas'!$BA$5:$BA$246))","v":0},null,114,{"$f":"IF(U137+SUMPRODUCT(($U$16='Para Ocultar'!$A$2:$A$7)*('Para Ocultar'!$C$2:$C$7))>12,(U137+SUMPRODUCT(($U$16='Para Ocultar'!$A$2:$A$7)*('Para Ocultar'!$C$2:$C$7)))-12,U137+SUMPRODUCT(($U$16='Para Ocultar'!$A$2:$A$7)*('Para Ocultar'!$C$2:$C$7)))","v":7},2031,0,0,0,0,-2.4034583778754521E-12,2.4034583778754521E-12,0,-2.9081846372292973E-10,-2.4034583778754521E-12,2.4034583778754521E-12,0,-2.9081846372292973E-10,{"$f":"SUMPRODUCT((U138='Comparación Alternativas'!$Z$5:$Z$246)*('Comparación Alternativas'!$AA$5:$AA$246=Alternativas!V138)*('Comparación Alternativas'!$AV$5:$AV$246))","v":0},{"$f":"SUMPRODUCT((U138='Comparación Alternativas'!$Z$5:$Z$246)*('Comparación Alternativas'!$AA$5:$AA$246=Alternativas!V138)*('Comparación Alternativas'!$BF$5:$BF$246))","v":0}]
[null,115,{"$f":"IF(C138+SUMPRODUCT(($C$16='Para Ocultar'!$A$2:$A$7)*('Para Ocultar'!$C$2:$C$7))>12,(C138+SUMPRODUCT(($C$16='Para Ocultar'!$A$2:$A$7)*('Para Ocultar'!$C$2:$C$7)))-12,C138+SUMPRODUCT(($C$16='Para Ocultar'!$A$2:$A$7)*('Para Ocultar'!$C$2:$C$7)))","v":8},2031,0,0,0,0,1.7809928811486532E-11,-1.7809928811486532E-11,0,7.8109259216090926E-10,0,0,0,0,{"$f":"SUMPRODUCT((C139='Comparación Alternativas'!$Z$5:$Z$246)*(Alternativas!D139='Comparación Alternativas'!$AA$5:$AA$246)*('Comparación Alternativas'!$AQ$5:$AQ$246))","v":0},{"$f":"SUMPRODUCT((C139='Comparación Alternativas'!$Z$5:$Z$246)*('Comparación Alternativas'!$AA$5:$AA$246=Alternativas!D139)*('Comparación Alternativas'!$BA$5:$BA$246))","v":0},null,115,{"$f":"IF(U138+SUMPRODUCT(($U$16='Para Ocultar'!$A$2:$A$7)*('Para Ocultar'!$C$2:$C$7))>12,(U138+SUMPRODUCT(($U$16='Para Ocultar'!$A$2:$A$7)*('Para Ocultar'!$C$2:$C$7)))-12,U138+SUMPRODUCT(($U$16='Para Ocultar'!$A$2:$A$7)*('Para Ocultar'!$C$2:$C$7)))","v":8},2031,0,0,0,0,-2.4234871976910814E-12,2.4234871976910814E-12,0,-2.9324195092062081E-10,-2.4234871976910814E-12,2.4234871976910814E-12,0,-2.9324195092062081E-10,{"$f":"SUMPRODUCT((U139='Comparación Alternativas'!$Z$5:$Z$246)*('Comparación Alternativas'!$AA$5:$AA$246=Alternativas!V139)*('Comparación Alternativas'!$AV$5:$AV$246))","v":0},{"$f":"SUMPRODUCT((U139='Comparación Alternativas'!$Z$5:$Z$246)*('Comparación Alternativas'!$AA$5:$AA$246=Alternativas!V139)*('Comparación Alternativas'!$BF$5:$BF$246))","v":0}]
[null,116,{"$f":"IF(C139+SUMPRODUCT(($C$16='Para Ocultar'!$A$2:$A$7)*('Para Ocultar'!$C$2:$C$7))>12,(C139+SUMPRODUCT(($C$16='Para Ocultar'!$A$2:$A$7)*('Para Ocultar'!$C$2:$C$7)))-12,C139+SUMPRODUCT(($C$16='Para Ocultar'!$A$2:$A$7)*('Para Ocultar'!$C$2:$C$7)))","v":9},2031,0,{"$f":"-H139*($C$15/$C$16)","v":0},{"$f":"F140+E140","v":0},{"$f":"E140+H139","v":0},{"$f":"L139-L139+K140-J140","v":1.8225493817087885E-11},{"$f":"-L139*$C$15/$C$16","v":-1.8225493817087885E-11},0,{"$f":"L139+I140","v":7.9931808597799718E-10},0,0,0,0,{"$f":"SUMPRODUCT((C140='Comparación Alternativas'!$Z$5:$Z$246)*(Alternativas!D140='Comparación Alternativas'!$AA$5:$AA$246)*('Comparación Alternativas'!$AQ$5:$AQ$246))","v":0},{"$f":"SUMPRODUCT((C140='Comparación Alternativas'!$Z$5:$Z$246)*('Comparación Alternativas'!$AA$5:$AA$246=Alternativas!D140)*('Comparación Alternativas'!$BA$5:$BA$246))","v":0},null,116,{"$f":"IF(U139+SUMPRODUCT(($U$16='Para Ocultar'!$A$2:$A$7)*('Para Ocultar'!$C$2:$C$7))>12,(U139+SUMPRODUCT(($U$16='Para Ocultar'!$A$2:$A$7)*('Para Ocultar'!$C$2:$C$7)))-12,U139+SUMPRODUCT(($U$16='Para Ocultar'!$A$2:$A$7)*('Para Ocultar'!$C$2:$C$7)))","v":9},2031,0,0,{"$f":"X140+W140","v":0},{"$f":"W140+Z139","v":0},{"$f":"AD139-AD139+AC140-AB140","v":-2.4436829243385067E-12},2.4436829243385067E-12,0,{"$f":"AD139+AA140","v":-2.956856338449593E-10},-2.4436829243385067E-12,2.4436829243385067E-12,0,-2.956856338449593E-10,{"$f":"SUMPRODUCT((U140='Comparación Alternativas'!$Z$5:$Z$246)*('Comparación Alternativas'!$AA$5:$AA$246=Alternativas!V140)*('Comparación Alternativas'!$AV$5:$AV$246))","v":0},{"$f":"SUMPRODUCT((U140='Comparación Alternativas'!$Z$5:$Z$246)*('Comparación Alternativas'!$AA$5:$AA$246=Alternativas!V140)*('Comparación Alternativas'!$BF$5:$BF$246))","v":0}]
[null,117,{"$f":"IF(C140+SUMPRODUCT(($C$16='Para Ocultar'!$A$2:$A$7)*('Para Ocultar'!$C$2:$C$7))>12,(C140+SUMPRODUCT(($C$16='Para Ocultar'!$A$2:$A$7)*('Para Ocultar'!$C$2:$C$7)))-12,C140+SUMPRODUCT(($C$16='Para Ocultar'!$A$2:$A$7)*('Para Ocultar'!$C$2:$C$7)))","v":10},2031,0,0,0,0,1.8650755339486602E-11,-1.8650755339486602E-11,0,8.1796884131748377E-10,0,0,0,0,{"$f":"SUMPRODUCT((C141='Comparación Alternativas'!$Z$5:$Z$246)*(Alternativas!D141='Comparación Alternativas'!$AA$5:$AA$246)*('Comparación Alternativas'!$AQ$5:$AQ$246))","v":0},{"$f":"SUMPRODUCT((C141='Comparación Alternativas'!$Z$5:$Z$246)*('Comparación Alternativas'!$AA$5:$AA$246=Alternativas!D141)*('Comparación Alternativas'!$BA$5:$BA$246))","v":0},null,117,{"$f":"IF(U140+SUMPRODUCT(($U$16='Para Ocultar'!$A$2:$A$7)*('Para Ocultar'!$C$2:$C$7))>12,(U140+SUMPRODUCT(($U$16='Para Ocultar'!$A$2:$A$7)*('Para Ocultar'!$C$2:$C$7)))-12,U140+SUMPRODUCT(($U$16='Para Ocultar'!$A$2:$A$7)*('Para Ocultar'!$C$2:$C$7)))","v":10},2031,0,0,0,0,-2.4640469487079944E-12,2.4640469487079944E-12,0,-2.9814968079366731E-10,-2.4640469487079944E-12,2.4640469487079944E-12,0,-2.9814968079366731E-10,{"$f":"SUMPRODUCT((U141='Comparación Alternativas'!$Z$5:$Z$246)*('Comparación Alternativas'!$AA$5:$AA$246=Alternativas!V141)*('Comparación Alternativas'!$AV$5:$AV$246))","v":0},{"$f":"SUMPRODUCT((U141='Comparación Alternativas'!$Z$5:$Z$246)*('Comparación Alternativas'!$AA$5:$AA$246=Alternativas!V141)*('Comparación Alternativas'!$BF$5:$BF$246))","v":0}]
[null,118,{"$f":"IF(C141+SUMPRODUCT(($C$16='Para Ocultar'!$A$2:$A$7)*('Para Ocultar'!$C$2:$C$7))>12,(C141+SUMPRODUCT(($C$16='Para Ocultar'!$A$2:$A$7)*('Para Ocultar'!$C$2:$C$7)))-12,C141+SUMPRODUCT(($C$16='Para Ocultar'!$A$2:$A$7)*('Para Ocultar'!$C$2:$C$7)))","v":11},2031,0,0,0,0,1.9085939630741289E-11,-1.9085939630741289E-11,0,8.3705478094822507E-10,0,0,0,0,{"$f":"SUMPRODUCT((C142='Comparación Alternativas'!$Z$5:$Z$246)*(Alternativas!D142='Comparación Alternativas'!$AA$5:$AA$246)*('Comparación Alternativas'!$AQ$5:$AQ$246))","v":0},{"$f":"SUMPRODUCT((C142='Comparación Alternativas'!$Z$5:$Z$246)*('Comparación Alternativas'!$AA$5:$AA$246=Alternativas!D142)*('Comparación Alternativas'!$BA$5:$BA$246))","v":0},null,118,{"$f":"IF(U141+SUMPRODUCT(($U$16='Para Ocultar'!$A$2:$A$7)*('Para Ocultar'!$C$2:$C$7))>12,(U141+SUMPRODUCT(($U$16='Para Ocultar'!$A$2:$A$7)*('Para Ocultar'!$C$2:$C$7)))-12,U141+SUMPRODUCT(($U$16='Para Ocultar'!$A$2:$A$7)*('Para Ocultar'!$C$2:$C$7)))","v":11},2031,0,0,0,0,-2.4845806732805608E-12,2.4845806732805608E-12,0,-3.0063426146694787E-10,-2.4845806732805608E-12,2.4845806732805608E-12,0,-3.0063426146694787E-10,{"$f":"SUMPRODUCT((U142='Comparación Alternativas'!$Z$5:$Z$246)*('Comparación Alternativas'!$AA$5:$AA$246=Alternativas!V142)*('Comparación Alternativas'!$AV$5:$AV$246))","v":0},{"$f":"SUMPRODUCT((U142='Comparación Alternativas'!$Z$5:$Z$246)*('Comparación Alternativas'!$AA$5:$AA$246=Alternativas!V142)*('Comparación Alternativas'!$BF$5:$BF$246))","v":0}]
[null,119,{"$f":"IF(C142+SUMPRODUCT(($C$16='Para Ocultar'!$A$2:$A$7)*('Para Ocultar'!$C$2:$C$7))>12,(C142+SUMPRODUCT(($C$16='Para Ocultar'!$A$2:$A$7)*('Para Ocultar'!$C$2:$C$7)))-12,C142+SUMPRODUCT(($C$16='Para Ocultar'!$A$2:$A$7)*('Para Ocultar'!$C$2:$C$7)))","v":12},2031,0,0,0,0,1.9531278222125253E-11,-1.9531278222125253E-11,0,8.5658605917035032E-10,0,0,0,0,{"$f":"SUMPRODUCT((C143='Comparación Alternativas'!$Z$5:$Z$246)*(Alternativas!D143='Comparación Alternativas'!$AA$5:$AA$246)*('Comparación Alternativas'!$AQ$5:$AQ$246))","v":0},{"$f":"SUMPRODUCT((C143='Comparación Alternativas'!$Z$5:$Z$246)*('Comparación Alternativas'!$AA$5:$AA$246=Alternativas!D143)*('Comparación Alternativas'!$BA$5:$BA$246))","v":0},null,119,{"$f":"IF(U142+SUMPRODUCT(($U$16='Para Ocultar'!$A$2:$A$7)*('Para Ocultar'!$C$2:$C$7))>12,(U142+SUMPRODUCT(($U$16='Para Ocultar'!$A$2:$A$7)*('Para Ocultar'!$C$2:$C$7)))-12,U142+SUMPRODUCT(($U$16='Para Ocultar'!$A$2:$A$7)*('Para Ocultar'!$C$2:$C$7)))","v":12},2031,0,0,0,0,-2.5052855122245654E-12,2.5052855122245654E-12,0,-3.0313954697917245E-10,-2.5052855122245654E-12,2.5052855122245654E-12,0,-3.0313954697917245E-10,{"$f":"SUMPRODUCT((U143='Comparación Alternativas'!$Z$5:$Z$246)*('Comparación Alternativas'!$AA$5:$AA$246=Alternativas!V143)*('Comparación Alternativas'!$AV$5:$AV$246))","v":0},{"$f":"SUMPRODUCT((U143='Comparación Alternativas'!$Z$5:$Z$246)*('Comparación Alternativas'!$AA$5:$AA$246=Alternativas!V143)*('Comparación Alternativas'!$BF$5:$BF$246))","v":0}]
[null,120,{"$f":"IF(C143+SUMPRODUCT(($C$16='Para Ocultar'!$A$2:$A$7)*('Para Ocultar'!$C$2:$C$7))>12,(C143+SUMPRODUCT(($C$16='Para Ocultar'!$A$2:$A$7)*('Para Ocultar'!$C$2:$C$7)))-12,C143+SUMPRODUCT(($C$16='Para Ocultar'!$A$2:$A$7)*('Para Ocultar'!$C$2:$C$7)))","v":1},2032,0,0,0,0,1.9987008047308174E-11,-1.9987008047308174E-11,0,8.7657306721765851E-10,0,0,0,0,{"$f":"SUMPRODUCT((C144='Comparación Alternativas'!$Z$5:$Z$246)*(Alternativas!D144='Comparación Alternativas'!$AA$5:$AA$246)*('Comparación Alternativas'!$AQ$5:$AQ$246))","v":0},{"$f":"SUMPRODUCT((C144='Comparación Alternativas'!$Z$5:$Z$246)*('Comparación Alternativas'!$AA$5:$AA$246=Alternativas!D144)*('Comparación Alternativas'!$BA$5:$BA$246))","v":0},null,120,{"$f":"IF(U143+SUMPRODUCT(($U$16='Para Ocultar'!$A$2:$A$7)*('Para Ocultar'!$C$2:$C$7))>12,(U143+SUMPRODUCT(($U$16='Para Ocultar'!$A$2:$A$7)*('Para Ocultar'!$C$2:$C$7)))-12,U143+SUMPRODUCT(($U$16='Para Ocultar'!$A$2:$A$7)*('Para Ocultar'!$C$2:$C$7)))","v":1},2032,0,0,0,0,-2.5261628914931036E-12,2.5261628914931036E-12,0,-3.0566570987066556E-10,-2.5261628914931036E-12,2.5261628914931036E-12,0,-3.0566570987066556E-10,{"$f":"SUMPRODUCT((U144='Comparación Alternativas'!$Z$5:$Z$246)*('Comparación Alternativas'!$AA$5:$AA$246=Alternativas!V144)*('Comparación Alternativas'!$AV$5:$AV$246))","v":0},{"$f":"SUMPRODUCT((U144='Comparación Alternativas'!$Z$5:$Z$246)*('Comparación Alternativas'!$AA$5:$AA$246=Alternativas!V144)*('Comparación Alternativas'!$BF$5:$BF$246))","v":0}]
[null,121,{"$f":"IF(C144+SUMPRODUCT(($C$16='Para Ocultar'!$A$2:$A$7)*('Para Ocultar'!$C$2:$C$7))>12,(C144+SUMPRODUCT(($C$16='Para Ocultar'!$A$2:$A$7)*('Para Ocultar'!$C$2:$C$7)))-12,C144+SUMPRODUCT(($C$16='Para Ocultar'!$A$2:$A$7)*('Para Ocultar'!$C$2:$C$7)))","v":2},2032,0,0,0,0,2.0453371568412036E-11,-2.0453371568412036E-11,0,8.9702643878607059E-10,0,0,0,0,{"$f":"SUMPRODUCT((C145='Comparación Alternativas'!$Z$5:$Z$246)*(Alternativas!D145='Comparación Alternativas'!$AA$5:$AA$246)*('Comparación Alternativas'!$AQ$5:$AQ$246))","v":0},{"$f":"SUMPRODUCT((C145='Comparación Alternativas'!$Z$5:$Z$246)*('Comparación Alternativas'!$AA$5:$AA$246=Alternativas!D145)*('Comparación Alternativas'!$BA$5:$BA$246))","v":0},null,121,{"$f":"IF(U144+SUMPRODUCT(($U$16='Para Ocultar'!$A$2:$A$7)*('Para Ocultar'!$C$2:$C$7))>12,(U144+SUMPRODUCT(($U$16='Para Ocultar'!$A$2:$A$7)*('Para Ocultar'!$C$2:$C$7)))-12,U144+SUMPRODUCT(($U$16='Para Ocultar'!$A$2:$A$7)*('Para Ocultar'!$C$2:$C$7)))","v":2},2032,0,0,0,0,-2.5472142489222128E-12,2.5472142489222128E-12,0,-3.082129241195878E-10,-2.5472142489222128E-12,2.5472142489222128E-12,0,-3.082129241195878E-10,{"$f":"SUMPRODUCT((U145='Comparación Alternativas'!$Z$5:$Z$246)*('Comparación Alternativas'!$AA$5:$AA$246=Alternativas!V145)*('Comparación Alternativas'!$AV$5:$AV$246))","v":0},{"$f":"SUMPRODUCT((U145='Comparación Alternativas'!$Z$5:$Z$246)*('Comparación Alternativas'!$AA$5:$AA$246=Alternativas!V145)*('Comparación Alternativas'!$BF$5:$BF$246))","v":0}]
[null,122,{"$f":"IF(C145+SUMPRODUCT(($C$16='Para Ocultar'!$A$2:$A$7)*('Para Ocultar'!$C$2:$C$7))>12,(C145+SUMPRODUCT(($C$16='Para Ocultar'!$A$2:$A$7)*('Para Ocultar'!$C$2:$C$7)))-12,C145+SUMPRODUCT(($C$16='Para Ocultar'!$A$2:$A$7)*('Para Ocultar'!$C$2:$C$7)))","v":3},2032,0,0,0,0,2.0930616905008313E-11,-2.0930616905008313E-11,0,9.1795705569107891E-10,0,0,0,0,{"$f":"SUMPRODUCT((C146='Comparación Alternativas'!$Z$5:$Z$246)*(Alternativas!D146='Comparación Alternativas'!$AA$5:$AA$246)*('Comparación Alternativas'!$AQ$5:$AQ$246))","v":0},{"$f":"SUMPRODUCT((C146='Comparación Alternativas'!$Z$5:$Z$246)*('Comparación Alternativas'!$AA$5:$AA$246=Alternativas!D146)*('Comparación Alternativas'!$BA$5:$BA$246))","v":0},null,122,{"$f":"IF(U145+SUMPRODUCT(($U$16='Para Ocultar'!$A$2:$A$7)*('Para Ocultar'!$C$2:$C$7))>12,(U145+SUMPRODUCT(($U$16='Para Ocultar'!$A$2:$A$7)*('Para Ocultar'!$C$2:$C$7)))-12,U145+SUMPRODUCT(($U$16='Para Ocultar'!$A$2:$A$7)*('Para Ocultar'!$C$2:$C$7)))","v":3},2032,0,0,0,0,-2.5684410343298987E-12,2.5684410343298987E-12,0,-3.107813651539177E-10,-2.5684410343298987E-12,2.5684410343298987E-12,0,-3.107813651539177E-10,{"$f":"SUMPRODUCT((U146='Comparación Alternativas'!$Z$5:$Z$246)*('Comparación Alternativas'!$AA$5:$AA$246=Alternativas!V146)*('Comparación Alternativas'!$AV$5:$AV$246))","v":0},{"$f":"SUMPRODUCT((U146='Comparación Alternativas'!$Z$5:$Z$246)*('Comparación Alternativas'!$AA$5:$AA$246=Alternativas!V146)*('Comparación Alternativas'!$BF$5:$BF$246))","v":0}]
[null,123,{"$f":"IF(C146+SUMPRODUCT(($C$16='Para Ocultar'!$A$2:$A$7)*('Para Ocultar'!$C$2:$C$7))>12,(C146+SUMPRODUCT(($C$16='Para Ocultar'!$A$2:$A$7)*('Para Ocultar'!$C$2:$C$7)))-12,C146+SUMPRODUCT(($C$16='Para Ocultar'!$A$2:$A$7)*('Para Ocultar'!$C$2:$C$7)))","v":4},2032,0,0,0,0,2.1418997966125176E-11,-2.1418997966125176E-11,0,9.3937605365720403E-10,0,0,0,0,{"$f":"SUMPRODUCT((C147='Comparación Alternativas'!$Z$5:$Z$246)*(Alternativas!D147='Comparación Alternativas'!$AA$5:$AA$246)*('Comparación Alternativas'!$AQ$5:$AQ$246))","v":0},{"$f":"SUMPRODUCT((C147='Comparación Alternativas'!$Z$5:$Z$246)*('Comparación Alternativas'!$AA$5:$AA$246=Alternativas!D147)*('Comparación Alternativas'!$BA$5:$BA$246))","v":0},null,123,{"$f":"IF(U146+SUMPRODUCT(($U$16='Para Ocultar'!$A$2:$A$7)*('Para Ocultar'!$C$2:$C$7))>12,(U146+SUMPRODUCT(($U$16='Para Ocultar'!$A$2:$A$7)*('Para Ocultar'!$C$2:$C$7)))-12,U146+SUMPRODUCT(($U$16='Para Ocultar'!$A$2:$A$7)*('Para Ocultar'!$C$2:$C$7)))","v":4},2032,0,0,0,0,-2.5898447096159812E-12,2.5898447096159812E-12,0,-3.1337120986353369E-10,-2.5898447096159812E-12,2.5898447096159812E-12,0,-3.1337120986353369E-10,{"$f":"SUMPRODUCT((U147='Comparación Alternativas'!$Z$5:$Z$246)*('Comparación Alternativas'!$AA$5:$AA$246=Alternativas!V147)*('Comparación Alternativas'!$AV$5:$AV$246))","v":0},{"$f":"SUMPRODUCT((U147='Comparación Alternativas'!$Z$5:$Z$246)*('Comparación Alternativas'!$AA$5:$AA$246=Alternativas!V147)*('Comparación Alternativas'!$BF$5:$BF$246))","v":0}]
[null,124,{"$f":"IF(C147+SUMPRODUCT(($C$16='Para Ocultar'!$A$2:$A$7)*('Para Ocultar'!$C$2:$C$7))>12,(C147+SUMPRODUCT(($C$16='Para Ocultar'!$A$2:$A$7)*('Para Ocultar'!$C$2:$C$7)))-12,C147+SUMPRODUCT(($C$16='Para Ocultar'!$A$2:$A$7)*('Para Ocultar'!$C$2:$C$7)))","v":5},2032,0,0,0,0,2.191877458533476E-11,-2.191877458533476E-11,0,9.6129482824253889E-10,0,0,0,0,{"$f":"SUMPRODUCT((C148='Comparación Alternativas'!$Z$5:$Z$246)*(Alternativas!D148='Comparación Alternativas'!$AA$5:$AA$246)*('Comparación Alternativas'!$AQ$5:$AQ$246))","v":0},{"$f":"SUMPRODUCT((C148='Comparación Alternativas'!$Z$5:$Z$246)*('Comparación Alternativas'!$AA$5:$AA$246=Alternativas!D148)*('Comparación Alternativas'!$BA$5:$BA$246))","v":0},null,124,{"$f":"IF(U147+SUMPRODUCT(($U$16='Para Ocultar'!$A$2:$A$7)*('Para Ocultar'!$C$2:$C$7))>12,(U147+SUMPRODUCT(($U$16='Para Ocultar'!$A$2:$A$7)*('Para Ocultar'!$C$2:$C$7)))-12,U147+SUMPRODUCT(($U$16='Para Ocultar'!$A$2:$A$7)*('Para Ocultar'!$C$2:$C$7)))","v":5},2032,0,0,0,0,-2.611426748862781E-12,2.611426748862781E-12,0,-3.1598263661239647E-10,-2.611426748862781E-12,2.611426748862781E-12,0,-3.1598263661239647E-10,{"$f":"SUMPRODUCT((U148='Comparación Alternativas'!$Z$5:$Z$246)*('Comparación Alternativas'!$AA$5:$AA$246=Alternativas!V148)*('Comparación Alternativas'!$AV$5:$AV$246))","v":0},{"$f":"SUMPRODUCT((U148='Comparación Alternativas'!$Z$5:$Z$246)*('Comparación Alternativas'!$AA$5:$AA$246=Alternativas!V148)*('Comparación Alternativas'!$BF$5:$BF$246))","v":0}]
[null,125,{"$f":"IF(C148+SUMPRODUCT(($C$16='Para Ocultar'!$A$2:$A$7)*('Para Ocultar'!$C$2:$C$7))>12,(C148+SUMPRODUCT(($C$16='Para Ocultar'!$A$2:$A$7)*('Para Ocultar'!$C$2:$C$7)))-12,C148+SUMPRODUCT(($C$16='Para Ocultar'!$A$2:$A$7)*('Para Ocultar'!$C$2:$C$7)))","v":6},2032,0,0,0,0,2.2430212658992576E-11,-2.2430212658992576E-11,0,9.8372504090153144E-10,0,0,0,0,{"$f":"SUMPRODUCT((C149='Comparación Alternativas'!$Z$5:$Z$246)*(Alternativas!D149='Comparación Alternativas'!$AA$5:$AA$246)*('Comparación Alternativas'!$AQ$5:$AQ$246))","v":0},{"$f":"SUMPRODUCT((C149='Comparación Alternativas'!$Z$5:$Z$246)*('Comparación Alternativas'!$AA$5:$AA$246=Alternativas!D149)*('Comparación Alternativas'!$BA$5:$BA$246))","v":0},null,125,{"$f":"IF(U148+SUMPRODUCT(($U$16='Para Ocultar'!$A$2:$A$7)*('Para Ocultar'!$C$2:$C$7))>12,(U148+SUMPRODUCT(($U$16='Para Ocultar'!$A$2:$A$7)*('Para Ocultar'!$C$2:$C$7)))-12,U148+SUMPRODUCT(($U$16='Para Ocultar'!$A$2:$A$7)*('Para Ocultar'!$C$2:$C$7)))","v":6},2032,0,0,0,0,-2.6331886384366375E-12,2.6331886384366375E-12,0,-3.1861582525083311E-10,-2.6331886384366375E-12,2.6331886384366375E-12,0,-3.1861582525083311E-10,{"$f":"SUMPRODUCT((U149='Comparación Alternativas'!$Z$5:$Z$246)*('Comparación Alternativas'!$AA$5:$AA$246=Alternativas!V149)*('Comparación Alternativas'!$AV$5:$AV$246))","v":0},{"$f":"SUMPRODUCT((U149='Comparación Alternativas'!$Z$5:$Z$246)*('Comparación Alternativas'!$AA$5:$AA$246=Alternativas!V149)*('Comparación Alternativas'!$BF$5:$BF$246))","v":0}]
[null,126,{"$f":"IF(C149+SUMPRODUCT(($C$16='Para Ocultar'!$A$2:$A$7)*('Para Ocultar'!$C$2:$C$7))>12,(C149+SUMPRODUCT(($C$16='Para Ocultar'!$A$2:$A$7)*('Para Ocultar'!$C$2:$C$7)))-12,C149+SUMPRODUCT(($C$16='Para Ocultar'!$A$2:$A$7)*('Para Ocultar'!$C$2:$C$7)))","v":7},2032,0,0,0,0,2.29535842877024E-11,-2.29535842877024E-11,0,1.0066786251892338E-9,0,0,0,0,{"$f":"SUMPRODUCT((C150='Comparación Alternativas'!$Z$5:$Z$246)*(Alternativas!D150='Comparación Alternativas'!$AA$5:$AA$246)*('Comparación Alternativas'!$AQ$5:$AQ$246))","v":0},{"$f":"SUMPRODUCT((C150='Comparación Alternativas'!$Z$5:$Z$246)*('Comparación Alternativas'!$AA$5:$AA$246=Alternativas!D150)*('Comparación Alternativas'!$BA$5:$BA$246))","v":0},null,126,{"$f":"IF(U149+SUMPRODUCT(($U$16='Para Ocultar'!$A$2:$A$7)*('Para Ocultar'!$C$2:$C$7))>12,(U149+SUMPRODUCT(($U$16='Para Ocultar'!$A$2:$A$7)*('Para Ocultar'!$C$2:$C$7)))-12,U149+SUMPRODUCT(($U$16='Para Ocultar'!$A$2:$A$7)*('Para Ocultar'!$C$2:$C$7)))","v":7},2032,0,0,0,0,-2.6551318770902762E-12,2.6551318770902762E-12,0,-3.212709571279234E-10,-2.6551318770902762E-12,2.6551318770902762E-12,0,-3.212709571279234E-10,{"$f":"SUMPRODUCT((U150='Comparación Alternativas'!$Z$5:$Z$246)*('Comparación Alternativas'!$AA$5:$AA$246=Alternativas!V150)*('Comparación Alternativas'!$AV$5:$AV$246))","v":0},{"$f":"SUMPRODUCT((U150='Comparación Alternativas'!$Z$5:$Z$246)*('Comparación Alternativas'!$AA$5:$AA$246=Alternativas!V150)*('Comparación Alternativas'!$BF$5:$BF$246))","v":0}]
[null,127,{"$f":"IF(C150+SUMPRODUCT(($C$16='Para Ocultar'!$A$2:$A$7)*('Para Ocultar'!$C$2:$C$7))>12,(C150+SUMPRODUCT(($C$16='Para Ocultar'!$A$2:$A$7)*('Para Ocultar'!$C$2:$C$7)))-12,C150+SUMPRODUCT(($C$16='Para Ocultar'!$A$2:$A$7)*('Para Ocultar'!$C$2:$C$7)))","v":8},2032,0,0,0,0,2.3489167921082122E-11,-2.3489167921082122E-11,0,1.0301677931103158E-9,0,0,0,0,{"$f":"SUMPRODUCT((C151='Comparación Alternativas'!$Z$5:$Z$246)*(Alternativas!D151='Comparación Alternativas'!$AA$5:$AA$246)*('Comparación Alternativas'!$AQ$5:$AQ$246))","v":0},{"$f":"SUMPRODUCT((C151='Comparación Alternativas'!$Z$5:$Z$246)*('Comparación Alternativas'!$AA$5:$AA$246=Alternativas!D151)*('Comparación Alternativas'!$BA$5:$BA$246))","v":0},null,127,{"$f":"IF(U150+SUMPRODUCT(($U$16='Para Ocultar'!$A$2:$A$7)*('Para Ocultar'!$C$2:$C$7))>12,(U150+SUMPRODUCT(($U$16='Para Ocultar'!$A$2:$A$7)*('Para Ocultar'!$C$2:$C$7)))-12,U150+SUMPRODUCT(($U$16='Para Ocultar'!$A$2:$A$7)*('Para Ocultar'!$C$2:$C$7)))","v":8},2032,0,0,0,0,-2.6772579760660281E-12,2.6772579760660281E-12,0,-3.2394821510398944E-10,-2.6772579760660281E-12,2.6772579760660281E-12,0,-3.2394821510398944E-10,{"$f":"SUMPRODUCT((U151='Comparación Alternativas'!$Z$5:$Z$246)*('Comparación Alternativas'!$AA$5:$AA$246=Alternativas!V151)*('Comparación Alternativas'!$AV$5:$AV$246))","v":0},{"$f":"SUMPRODUCT((U151='Comparación Alternativas'!$Z$5:$Z$246)*('Comparación Alternativas'!$AA$5:$AA$246=Alternativas!V151)*('Comparación Alternativas'!$BF$5:$BF$246))","v":0}]
[null,128,{"$f":"IF(C151+SUMPRODUCT(($C$16='Para Ocultar'!$A$2:$A$7)*('Para Ocultar'!$C$2:$C$7))>12,(C151+SUMPRODUCT(($C$16='Para Ocultar'!$A$2:$A$7)*('Para Ocultar'!$C$2:$C$7)))-12,C151+SUMPRODUCT(($C$16='Para Ocultar'!$A$2:$A$7)*('Para Ocultar'!$C$2:$C$7)))","v":9},2032,0,0,0,0,2.4037248505907372E-11,-2.4037248505907372E-11,0,1.0542050416162231E-9,0,0,0,0,{"$f":"SUMPRODUCT((C152='Comparación Alternativas'!$Z$5:$Z$246)*(Alternativas!D152='Comparación Alternativas'!$AA$5:$AA$246)*('Comparación Alternativas'!$AQ$5:$AQ$246))","v":0},{"$f":"SUMPRODUCT((C152='Comparación Alternativas'!$Z$5:$Z$246)*('Comparación Alternativas'!$AA$5:$AA$246=Alternativas!D152)*('Comparación Alternativas'!$BA$5:$BA$246))","v":0},null,128,{"$f":"IF(U151+SUMPRODUCT(($U$16='Para Ocultar'!$A$2:$A$7)*('Para Ocultar'!$C$2:$C$7))>12,(U151+SUMPRODUCT(($U$16='Para Ocultar'!$A$2:$A$7)*('Para Ocultar'!$C$2:$C$7)))-12,U151+SUMPRODUCT(($U$16='Para Ocultar'!$A$2:$A$7)*('Para Ocultar'!$C$2:$C$7)))","v":9},2032,0,0,0,0,-2.699568459199912E-12,2.699568459199912E-12,0,-3.2664778356318936E-10,-2.699568459199912E-12,2.699568459199912E-12,0,-3.2664778356318936E-10,{"$f":"SUMPRODUCT((U152='Comparación Alternativas'!$Z$5:$Z$246)*('Comparación Alternativas'!$AA$5:$AA$246=Alternativas!V152)*('Comparación Alternativas'!$AV$5:$AV$246))","v":0},{"$f":"SUMPRODUCT((U152='Comparación Alternativas'!$Z$5:$Z$246)*('Comparación Alternativas'!$AA$5:$AA$246=Alternativas!V152)*('Comparación Alternativas'!$BF$5:$BF$246))","v":0}]
[null,129,{"$f":"IF(C152+SUMPRODUCT(($C$16='Para Ocultar'!$A$2:$A$7)*('Para Ocultar'!$C$2:$C$7))>12,(C152+SUMPRODUCT(($C$16='Para Ocultar'!$A$2:$A$7)*('Para Ocultar'!$C$2:$C$7)))-12,C152+SUMPRODUCT(($C$16='Para Ocultar'!$A$2:$A$7)*('Para Ocultar'!$C$2:$C$7)))","v":10},2032,0,0,0,0,2.4598117637711875E-11,-2.4598117637711875E-11,{"$f":"-IF($C$18>=B153,$C$12*$C$15/$C$16,IF($C$17+$C$18>=B153,$C$12*$J$20,0))","v":0},1.078803159253935E-9,{"$f":"IF($C$14=\"Alemán\",E153,I153)","v":0},{"$f":"IF($C$14=\"Alemán\",F153,J153)","v":0},{"$f":"IF($C$14=\"Alemán\",G153,K153)","v":0},{"$f":"IF($C$14=\"Alemán\",H153,L153)","v":0},{"$f":"SUMPRODUCT((C153='Comparación Alternativas'!$Z$5:$Z$246)*(Alternativas!D153='Comparación Alternativas'!$AA$5:$AA$246)*('Comparación Alternativas'!$AQ$5:$AQ$246))","v":0},{"$f":"SUMPRODUCT((C153='Comparación Alternativas'!$Z$5:$Z$246)*('Comparación Alternativas'!$AA$5:$AA$246=Alternativas!D153)*('Comparación Alternativas'!$BA$5:$BA$246))","v":0},null,129,{"$f":"IF(U152+SUMPRODUCT(($U$16='Para Ocultar'!$A$2:$A$7)*('Para Ocultar'!$C$2:$C$7))>12,(U152+SUMPRODUCT(($U$16='Para Ocultar'!$A$2:$A$7)*('Para Ocultar'!$C$2:$C$7)))-12,U152+SUMPRODUCT(($U$16='Para Ocultar'!$A$2:$A$7)*('Para Ocultar'!$C$2:$C$7)))","v":10},2032,0,0,0,0,-2.7220648630265782E-12,2.7220648630265782E-12,{"$f":"-IF($U$18>=T153,$U$12*$U$15/$U$16,IF($U$17+$U$18>=T153,$U$12*$AB$20,0))","v":0},-3.2936984842621591E-10,{"$f":"IF($U$14=\"Alemán\",W153,AA153)","v":-2.7220648630265782E-12},{"$f":"IF($U$14=\"Alemán\",X153,AB153)","v":2.7220648630265782E-12},{"$f":"IF($U$14=\"Alemán\",Y153,AC153)","v":0},{"$f":"IF($U$14=\"Alemán\",Z153,AD153)","v":-3.2936984842621591E-10},{"$f":"SUMPRODUCT((U153='Comparación Alternativas'!$Z$5:$Z$246)*('Comparación Alternativas'!$AA$5:$AA$246=Alternativas!V153)*('Comparación Alternativas'!$AV$5:$AV$246))","v":0},{"$f":"SUMPRODUCT((U153='Comparación Alternativas'!$Z$5:$Z$246)*('Comparación Alternativas'!$AA$5:$AA$246=Alternativas!V153)*('Comparación Alternativas'!$BF$5:$BF$246))","v":0}]
[null,130,{"$f":"IF(C153+SUMPRODUCT(($C$16='Para Ocultar'!$A$2:$A$7)*('Para Ocultar'!$C$2:$C$7))>12,(C153+SUMPRODUCT(($C$16='Para Ocultar'!$A$2:$A$7)*('Para Ocultar'!$C$2:$C$7)))-12,C153+SUMPRODUCT(($C$16='Para Ocultar'!$A$2:$A$7)*('Para Ocultar'!$C$2:$C$7)))","v":11},{"$f":"IF(C154<=C153,D153+1,D153)","v":2032},0,0,0,0,2.5172073715925156E-11,-2.5172073715925156E-11,0,1.1039752329698603E-9,0,0,0,0,{"$f":"SUMPRODUCT((C154='Comparación Alternativas'!$Z$5:$Z$246)*(Alternativas!D154='Comparación Alternativas'!$AA$5:$AA$246)*('Comparación Alternativas'!$AQ$5:$AQ$246))","v":0},{"$f":"SUMPRODUCT((C154='Comparación Alternativas'!$Z$5:$Z$246)*('Comparación Alternativas'!$AA$5:$AA$246=Alternativas!D154)*('Comparación Alternativas'!$BA$5:$BA$246))","v":0},null,130,{"$f":"IF(U153+SUMPRODUCT(($U$16='Para Ocultar'!$A$2:$A$7)*('Para Ocultar'!$C$2:$C$7))>12,(U153+SUMPRODUCT(($U$16='Para Ocultar'!$A$2:$A$7)*('Para Ocultar'!$C$2:$C$7)))-12,U153+SUMPRODUCT(($U$16='Para Ocultar'!$A$2:$A$7)*('Para Ocultar'!$C$2:$C$7)))","v":11},{"$f":"IF(U154<=U153,V153+1,V153)","v":2032},{"$f":"IF($U$18>=T154,0,-IF(T154<=$U$17+$U$18,$V$12/$U$17,0))","v":0},{"$f":"-Z153*($U$15/$U$16)","v":0},0,0,-2.7447487368851331E-12,{"$f":"-AD153*$U$15/$U$16","v":2.7447487368851331E-12},0,-3.3211459716310103E-10,-2.7447487368851331E-12,2.7447487368851331E-12,0,-3.3211459716310103E-10,{"$f":"SUMPRODUCT((U154='Comparación Alternativas'!$Z$5:$Z$246)*('Comparación Alternativas'!$AA$5:$AA$246=Alternativas!V154)*('Comparación Alternativas'!$AV$5:$AV$246))","v":0},{"$f":"SUMPRODUCT((U154='Comparación Alternativas'!$Z$5:$Z$246)*('Comparación Alternativas'!$AA$5:$AA$246=Alternativas!V154)*('Comparación Alternativas'!$BF$5:$BF$246))","v":0}]
[null,131,{"$f":"IF(C154+SUMPRODUCT(($C$16='Para Ocultar'!$A$2:$A$7)*('Para Ocultar'!$C$2:$C$7))>12,(C154+SUMPRODUCT(($C$16='Para Ocultar'!$A$2:$A$7)*('Para Ocultar'!$C$2:$C$7)))-12,C154+SUMPRODUCT(($C$16='Para Ocultar'!$A$2:$A$7)*('Para Ocultar'!$C$2:$C$7)))","v":12},2032,0,0,0,0,2.5759422102630078E-11,-2.5759422102630078E-11,0,1.1297346550724903E-9,0,0,0,0,{"$f":"SUMPRODUCT((C155='Comparación Alternativas'!$Z$5:$Z$246)*(Alternativas!D155='Comparación Alternativas'!$AA$5:$AA$246)*('Comparación Alternativas'!$AQ$5:$AQ$246))","v":0},{"$f":"SUMPRODUCT((C155='Comparación Alternativas'!$Z$5:$Z$246)*('Comparación Alternativas'!$AA$5:$AA$246=Alternativas!D155)*('Comparación Alternativas'!$BA$5:$BA$246))","v":0},null,131,{"$f":"IF(U154+SUMPRODUCT(($U$16='Para Ocultar'!$A$2:$A$7)*('Para Ocultar'!$C$2:$C$7))>12,(U154+SUMPRODUCT(($U$16='Para Ocultar'!$A$2:$A$7)*('Para Ocultar'!$C$2:$C$7)))-12,U154+SUMPRODUCT(($U$16='Para Ocultar'!$A$2:$A$7)*('Para Ocultar'!$C$2:$C$7)))","v":12},2032,0,0,0,0,-2.767621643025842E-12,2.767621643025842E-12,0,-3.3488221880612686E-10,-2.767621643025842E-12,2.767621643025842E-12,0,-3.3488221880612686E-10,{"$f":"SUMPRODUCT((U155='Comparación Alternativas'!$Z$5:$Z$246)*('Comparación Alternativas'!$AA$5:$AA$246=Alternativas!V155)*('Comparación Alternativas'!$AV$5:$AV$246))","v":0},{"$f":"SUMPRODUCT((U155='Comparación Alternativas'!$Z$5:$Z$246)*('Comparación Alternativas'!$AA$5:$AA$246=Alternativas!V155)*('Comparación Alternativas'!$BF$5:$BF$246))","v":0}]
[null,132,{"$f":"IF(C155+SUMPRODUCT(($C$16='Para Ocultar'!$A$2:$A$7)*('Para Ocultar'!$C$2:$C$7))>12,(C155+SUMPRODUCT(($C$16='Para Ocultar'!$A$2:$A$7)*('Para Ocultar'!$C$2:$C$7)))-12,C155+SUMPRODUCT(($C$16='Para Ocultar'!$A$2:$A$7)*('Para Ocultar'!$C$2:$C$7)))","v":1},2033,0,0,0,0,2.6360475285024777E-11,-2.6360475285024777E-11,0,1.1560951303575151E-9,0,0,0,0,{"$f":"SUMPRODUCT((C156='Comparación Alternativas'!$Z$5:$Z$246)*(Alternativas!D156='Comparación Alternativas'!$AA$5:$AA$246)*('Comparación Alternativas'!$AQ$5:$AQ$246))","v":0},{"$f":"SUMPRODUCT((C156='Comparación Alternativas'!$Z$5:$Z$246)*('Comparación Alternativas'!$AA$5:$AA$246=Alternativas!D156)*('Comparación Alternativas'!$BA$5:$BA$246))","v":0},null,132,{"$f":"IF(U155+SUMPRODUCT(($U$16='Para Ocultar'!$A$2:$A$7)*('Para Ocultar'!$C$2:$C$7))>12,(U155+SUMPRODUCT(($U$16='Para Ocultar'!$A$2:$A$7)*('Para Ocultar'!$C$2:$C$7)))-12,U155+SUMPRODUCT(($U$16='Para Ocultar'!$A$2:$A$7)*('Para Ocultar'!$C$2:$C$7)))","v":1},2033,0,0,0,0,-2.7906851567177237E-12,2.7906851567177237E-12,0,-3.376729039628446E-10,-2.7906851567177237E-12,2.7906851567177237E-12,0,-3.376729039628446E-10,{"$f":"SUMPRODUCT((U156='Comparación Alternativas'!$Z$5:$Z$246)*('Comparación Alternativas'!$AA$5:$AA$246=Alternativas!V156)*('Comparación Alternativas'!$AV$5:$AV$246))","v":0},{"$f":"SUMPRODUCT((U156='Comparación Alternativas'!$Z$5:$Z$246)*('Comparación Alternativas'!$AA$5:$AA$246=Alternativas!V156)*('Comparación Alternativas'!$BF$5:$BF$246))","v":0}]
[null,133,{"$f":"IF(C156+SUMPRODUCT(($C$16='Para Ocultar'!$A$2:$A$7)*('Para Ocultar'!$C$2:$C$7))>12,(C156+SUMPRODUCT(($C$16='Para Ocultar'!$A$2:$A$7)*('Para Ocultar'!$C$2:$C$7)))-12,C156+SUMPRODUCT(($C$16='Para Ocultar'!$A$2:$A$7)*('Para Ocultar'!$C$2:$C$7)))","v":2},2033,0,0,0,0,2.6975553041675355E-11,-2.6975553041675355E-11,0,1.1830706833991904E-9,0,0,0,0,{"$f":"SUMPRODUCT((C157='Comparación Alternativas'!$Z$5:$Z$246)*(Alternativas!D157='Comparación Alternativas'!$AA$5:$AA$246)*('Comparación Alternativas'!$AQ$5:$AQ$246))","v":0},{"$f":"SUMPRODUCT((C157='Comparación Alternativas'!$Z$5:$Z$246)*('Comparación Alternativas'!$AA$5:$AA$246=Alternativas!D157)*('Comparación Alternativas'!$BA$5:$BA$246))","v":0},null,133,{"$f":"IF(U156+SUMPRODUCT(($U$16='Para Ocultar'!$A$2:$A$7)*('Para Ocultar'!$C$2:$C$7))>12,(U156+SUMPRODUCT(($U$16='Para Ocultar'!$A$2:$A$7)*('Para Ocultar'!$C$2:$C$7)))-12,U156+SUMPRODUCT(($U$16='Para Ocultar'!$A$2:$A$7)*('Para Ocultar'!$C$2:$C$7)))","v":2},2033,0,0,0,0,-2.8139408663570387E-12,2.8139408663570387E-12,0,-3.4048684482920167E-10,-2.8139408663570387E-12,2.8139408663570387E-12,0,-3.4048684482920167E-10,{"$f":"SUMPRODUCT((U157='Comparación Alternativas'!$Z$5:$Z$246)*('Comparación Alternativas'!$AA$5:$AA$246=Alternativas!V157)*('Comparación Alternativas'!$AV$5:$AV$246))","v":0},{"$f":"SUMPRODUCT((U157='Comparación Alternativas'!$Z$5:$Z$246)*('Comparación Alternativas'!$AA$5:$AA$246=Alternativas!V157)*('Comparación Alternativas'!$BF$5:$BF$246))","v":0}]
[null,134,{"$f":"IF(C157+SUMPRODUCT(($C$16='Para Ocultar'!$A$2:$A$7)*('Para Ocultar'!$C$2:$C$7))>12,(C157+SUMPRODUCT(($C$16='Para Ocultar'!$A$2:$A$7)*('Para Ocultar'!$C$2:$C$7)))-12,C157+SUMPRODUCT(($C$16='Para Ocultar'!$A$2:$A$7)*('Para Ocultar'!$C$2:$C$7)))","v":3},2033,{"$f":"IF($C$18>=B158,0,-IF(B158<=$C$17+$C$18,$D$12/$C$17,0))","v":0},0,0,0,2.7604982612647777E-11,-2.7604982612647777E-11,0,1.2106756660118382E-9,0,0,0,0,{"$f":"SUMPRODUCT((C158='Comparación Alternativas'!$Z$5:$Z$246)*(Alternativas!D158='Comparación Alternativas'!$AA$5:$AA$246)*('Comparación Alternativas'!$AQ$5:$AQ$246))","v":0},{"$f":"SUMPRODUCT((C158='Comparación Alternativas'!$Z$5:$Z$246)*('Comparación Alternativas'!$AA$5:$AA$246=Alternativas!D158)*('Comparación Alternativas'!$BA$5:$BA$246))","v":0},null,134,{"$f":"IF(U157+SUMPRODUCT(($U$16='Para Ocultar'!$A$2:$A$7)*('Para Ocultar'!$C$2:$C$7))>12,(U157+SUMPRODUCT(($U$16='Para Ocultar'!$A$2:$A$7)*('Para Ocultar'!$C$2:$C$7)))-12,U157+SUMPRODUCT(($U$16='Para Ocultar'!$A$2:$A$7)*('Para Ocultar'!$C$2:$C$7)))","v":3},2033,0,0,0,0,-2.8373903735766808E-12,2.8373903735766808E-12,0,-3.4332423520277837E-10,-2.8373903735766808E-12,2.8373903735766808E-12,0,-3.4332423520277837E-10,{"$f":"SUMPRODUCT((U158='Comparación Alternativas'!$Z$5:$Z$246)*('Comparación Alternativas'!$AA$5:$AA$246=Alternativas!V158)*('Comparación Alternativas'!$AV$5:$AV$246))","v":0},{"$f":"SUMPRODUCT((U158='Comparación Alternativas'!$Z$5:$Z$246)*('Comparación Alternativas'!$AA$5:$AA$246=Alternativas!V158)*('Comparación Alternativas'!$BF$5:$BF$246))","v":0}]
[null,135,{"$f":"IF(C158+SUMPRODUCT(($C$16='Para Ocultar'!$A$2:$A$7)*('Para Ocultar'!$C$2:$C$7))>12,(C158+SUMPRODUCT(($C$16='Para Ocultar'!$A$2:$A$7)*('Para Ocultar'!$C$2:$C$7)))-12,C158+SUMPRODUCT(($C$16='Para Ocultar'!$A$2:$A$7)*('Para Ocultar'!$C$2:$C$7)))","v":4},2033,0,0,0,0,2.8249098873609561E-11,-2.8249098873609561E-11,0,1.2389247648854478E-9,0,0,0,0,{"$f":"SUMPRODUCT((C159='Comparación Alternativas'!$Z$5:$Z$246)*(Alternativas!D159='Comparación Alternativas'!$AA$5:$AA$246)*('Comparación Alternativas'!$AQ$5:$AQ$246))","v":0},{"$f":"SUMPRODUCT((C159='Comparación Alternativas'!$Z$5:$Z$246)*('Comparación Alternativas'!$AA$5:$AA$246=Alternativas!D159)*('Comparación Alternativas'!$BA$5:$BA$246))","v":0},null,135,{"$f":"IF(U158+SUMPRODUCT(($U$16='Para Ocultar'!$A$2:$A$7)*('Para Ocultar'!$C$2:$C$7))>12,(U158+SUMPRODUCT(($U$16='Para Ocultar'!$A$2:$A$7)*('Para Ocultar'!$C$2:$C$7)))-12,U158+SUMPRODUCT(($U$16='Para Ocultar'!$A$2:$A$7)*('Para Ocultar'!$C$2:$C$7)))","v":4},2033,0,0,0,0,-2.8610352933564866E-12,2.8610352933564866E-12,0,-3.4618527049613486E-10,-2.8610352933564866E-12,2.8610352933564866E-12,0,-3.4618527049613486E-10,{"$f":"SUMPRODUCT((U159='Comparación Alternativas'!$Z$5:$Z$246)*('Comparación Alternativas'!$AA$5:$AA$246=Alternativas!V159)*('Comparación Alternativas'!$AV$5:$AV$246))","v":0},{"$f":"SUMPRODUCT((U159='Comparación Alternativas'!$Z$5:$Z$246)*('Comparación Alternativas'!$AA$5:$AA$246=Alternativas!V159)*('Comparación Alternativas'!$BF$5:$BF$246))","v":0}]
[null,136,{"$f":"IF(C159+SUMPRODUCT(($C$16='Para Ocultar'!$A$2:$A$7)*('Para Ocultar'!$C$2:$C$7))>12,(C159+SUMPRODUCT(($C$16='Para Ocultar'!$A$2:$A$7)*('Para Ocultar'!$C$2:$C$7)))-12,C159+SUMPRODUCT(($C$16='Para Ocultar'!$A$2:$A$7)*('Para Ocultar'!$C$2:$C$7)))","v":5},2033,0,0,0,0,2.8908244513993784E-11,-2.8908244513993784E-11,0,1.2678330093994416E-9,0,0,0,0,{"$f":"SUMPRODUCT((C160='Comparación Alternativas'!$Z$5:$Z$246)*(Alternativas!D160='Comparación Alternativas'!$AA$5:$AA$246)*('Comparación Alternativas'!$AQ$5:$AQ$246))","v":0},{"$f":"SUMPRODUCT((C160='Comparación Alternativas'!$Z$5:$Z$246)*('Comparación Alternativas'!$AA$5:$AA$246=Alternativas!D160)*('Comparación Alternativas'!$BA$5:$BA$246))","v":0},null,136,{"$f":"IF(U159+SUMPRODUCT(($U$16='Para Ocultar'!$A$2:$A$7)*('Para Ocultar'!$C$2:$C$7))>12,(U159+SUMPRODUCT(($U$16='Para Ocultar'!$A$2:$A$7)*('Para Ocultar'!$C$2:$C$7)))-12,U159+SUMPRODUCT(($U$16='Para Ocultar'!$A$2:$A$7)*('Para Ocultar'!$C$2:$C$7)))","v":5},2033,0,0,0,0,-2.8848772541344573E-12,2.8848772541344573E-12,0,-3.4907014775026934E-10,-2.8848772541344573E-12,2.8848772541344573E-12,0,-3.4907014775026934E-10,{"$f":"SUMPRODUCT((U160='Comparación Alternativas'!$Z$5:$Z$246)*('Comparación Alternativas'!$AA$5:$AA$246=Alternativas!V160)*('Comparación Alternativas'!$AV$5:$AV$246))","v":0},{"$f":"SUMPRODUCT((U160='Comparación Alternativas'!$Z$5:$Z$246)*('Comparación Alternativas'!$AA$5:$AA$246=Alternativas!V160)*('Comparación Alternativas'!$BF$5:$BF$246))","v":0}]
[null,137,{"$f":"IF(C160+SUMPRODUCT(($C$16='Para Ocultar'!$A$2:$A$7)*('Para Ocultar'!$C$2:$C$7))>12,(C160+SUMPRODUCT(($C$16='Para Ocultar'!$A$2:$A$7)*('Para Ocultar'!$C$2:$C$7)))-12,C160+SUMPRODUCT(($C$16='Para Ocultar'!$A$2:$A$7)*('Para Ocultar'!$C$2:$C$7)))","v":6},2033,0,0,0,0,2.9582770219320302E-11,-2.9582770219320302E-11,0,1.2974157796187618E-9,0,0,0,0,{"$f":"SUMPRODUCT((C161='Comparación Alternativas'!$Z$5:$Z$246)*(Alternativas!D161='Comparación Alternativas'!$AA$5:$AA$246)*('Comparación Alternativas'!$AQ$5:$AQ$246))","v":0},{"$f":"SUMPRODUCT((C161='Comparación Alternativas'!$Z$5:$Z$246)*('Comparación Alternativas'!$AA$5:$AA$246=Alternativas!D161)*('Comparación Alternativas'!$BA$5:$BA$246))","v":0},null,137,{"$f":"IF(U160+SUMPRODUCT(($U$16='Para Ocultar'!$A$2:$A$7)*('Para Ocultar'!$C$2:$C$7))>12,(U160+SUMPRODUCT(($U$16='Para Ocultar'!$A$2:$A$7)*('Para Ocultar'!$C$2:$C$7)))-12,U160+SUMPRODUCT(($U$16='Para Ocultar'!$A$2:$A$7)*('Para Ocultar'!$C$2:$C$7)))","v":6},2033,0,0,0,0,-2.908917897918911E-12,2.908917897918911E-12,0,-3.5197906564818827E-10,-2.908917897918911E-12,2.908917897918911E-12,0,-3.5197906564818827E-10,{"$f":"SUMPRODUCT((U161='Comparación Alternativas'!$Z$5:$Z$246)*('Comparación Alternativas'!$AA$5:$AA$246=Alternativas!V161)*('Comparación Alternativas'!$AV$5:$AV$246))","v":0},{"$f":"SUMPRODUCT((U161='Comparación Alternativas'!$Z$5:$Z$246)*('Comparación Alternativas'!$AA$5:$AA$246=Alternativas!V161)*('Comparación Alternativas'!$BF$5:$BF$246))","v":0}]
[null,138,{"$f":"IF(C161+SUMPRODUCT(($C$16='Para Ocultar'!$A$2:$A$7)*('Para Ocultar'!$C$2:$C$7))>12,(C161+SUMPRODUCT(($C$16='Para Ocultar'!$A$2:$A$7)*('Para Ocultar'!$C$2:$C$7)))-12,C161+SUMPRODUCT(($C$16='Para Ocultar'!$A$2:$A$7)*('Para Ocultar'!$C$2:$C$7)))","v":7},2033,0,0,0,0,3.0273034857771111E-11,-3.0273034857771111E-11,0,1.327688814476533E-9,0,0,0,0,{"$f":"SUMPRODUCT((C162='Comparación Alternativas'!$Z$5:$Z$246)*(Alternativas!D162='Comparación Alternativas'!$AA$5:$AA$246)*('Comparación Alternativas'!$AQ$5:$AQ$246))","v":0},{"$f":"SUMPRODUCT((C162='Comparación Alternativas'!$Z$5:$Z$246)*('Comparación Alternativas'!$AA$5:$AA$246=Alternativas!D162)*('Comparación Alternativas'!$BA$5:$BA$246))","v":0},null,138,{"$f":"IF(U161+SUMPRODUCT(($U$16='Para Ocultar'!$A$2:$A$7)*('Para Ocultar'!$C$2:$C$7))>12,(U161+SUMPRODUCT(($U$16='Para Ocultar'!$A$2:$A$7)*('Para Ocultar'!$C$2:$C$7)))-12,U161+SUMPRODUCT(($U$16='Para Ocultar'!$A$2:$A$7)*('Para Ocultar'!$C$2:$C$7)))","v":7},2033,0,0,0,0,-2.9331588804015691E-12,2.9331588804015691E-12,0,-3.5491222452858982E-10,-2.9331588804015691E-12,2.9331588804015691E-12,0,-3.5491222452858982E-10,{"$f":"SUMPRODUCT((U162='Comparación Alternativas'!$Z$5:$Z$246)*('Comparación Alternativas'!$AA$5:$AA$246=Alternativas!V162)*('Comparación Alternativas'!$AV$5:$AV$246))","v":0},{"$f":"SUMPRODUCT((U162='Comparación Alternativas'!$Z$5:$Z$246)*('Comparación Alternativas'!$AA$5:$AA$246=Alternativas!V162)*('Comparación Alternativas'!$BF$5:$BF$246))","v":0}]
[null,139,{"$f":"IF(C162+SUMPRODUCT(($C$16='Para Ocultar'!$A$2:$A$7)*('Para Ocultar'!$C$2:$C$7))>12,(C162+SUMPRODUCT(($C$16='Para Ocultar'!$A$2:$A$7)*('Para Ocultar'!$C$2:$C$7)))-12,C162+SUMPRODUCT(($C$16='Para Ocultar'!$A$2:$A$7)*('Para Ocultar'!$C$2:$C$7)))","v":8},2033,0,0,0,0,3.0979405671119107E-11,-3.0979405671119107E-11,0,1.3586682201476521E-9,0,0,0,0,{"$f":"SUMPRODUCT((C163='Comparación Alternativas'!$Z$5:$Z$246)*(Alternativas!D163='Comparación Alternativas'!$AA$5:$AA$246)*('Comparación Alternativas'!$AQ$5:$AQ$246))","v":0},{"$f":"SUMPRODUCT((C163='Comparación Alternativas'!$Z$5:$Z$246)*('Comparación Alternativas'!$AA$5:$AA$246=Alternativas!D163)*('Comparación Alternativas'!$BA$5:$BA$246))","v":0},null,139,{"$f":"IF(U162+SUMPRODUCT(($U$16='Para Ocultar'!$A$2:$A$7)*('Para Ocultar'!$C$2:$C$7))>12,(U162+SUMPRODUCT(($U$16='Para Ocultar'!$A$2:$A$7)*('Para Ocultar'!$C$2:$C$7)))-12,U162+SUMPRODUCT(($U$16='Para Ocultar'!$A$2:$A$7)*('Para Ocultar'!$C$2:$C$7)))","v":8},2033,0,0,0,0,-2.9576018710715821E-12,2.9576018710715821E-12,0,-3.5786982639966143E-10,-2.9576018710715821E-12,2.9576018710715821E-12,0,-3.5786982639966143E-10,{"$f":"SUMPRODUCT((U163='Comparación Alternativas'!$Z$5:$Z$246)*('Comparación Alternativas'!$AA$5:$AA$246=Alternativas!V163)*('Comparación Alternativas'!$AV$5:$AV$246))","v":0},{"$f":"SUMPRODUCT((U163='Comparación Alternativas'!$Z$5:$Z$246)*('Comparación Alternativas'!$AA$5:$AA$246=Alternativas!V163)*('Comparación Alternativas'!$BF$5:$BF$246))","v":0}]
[null,140,{"$f":"IF(C163+SUMPRODUCT(($C$16='Para Ocultar'!$A$2:$A$7)*('Para Ocultar'!$C$2:$C$7))>12,(C163+SUMPRODUCT(($C$16='Para Ocultar'!$A$2:$A$7)*('Para Ocultar'!$C$2:$C$7)))-12,C163+SUMPRODUCT(($C$16='Para Ocultar'!$A$2:$A$7)*('Para Ocultar'!$C$2:$C$7)))","v":9},2033,0,0,0,0,3.1702258470111889E-11,-3.1702258470111889E-11,0,1.3903704786177639E-9,0,0,0,0,{"$f":"SUMPRODUCT((C164='Comparación Alternativas'!$Z$5:$Z$246)*(Alternativas!D164='Comparación Alternativas'!$AA$5:$AA$246)*('Comparación Alternativas'!$AQ$5:$AQ$246))","v":0},{"$f":"SUMPRODUCT((C164='Comparación Alternativas'!$Z$5:$Z$246)*('Comparación Alternativas'!$AA$5:$AA$246=Alternativas!D164)*('Comparación Alternativas'!$BA$5:$BA$246))","v":0},null,140,{"$f":"IF(U163+SUMPRODUCT(($U$16='Para Ocultar'!$A$2:$A$7)*('Para Ocultar'!$C$2:$C$7))>12,(U163+SUMPRODUCT(($U$16='Para Ocultar'!$A$2:$A$7)*('Para Ocultar'!$C$2:$C$7)))-12,U163+SUMPRODUCT(($U$16='Para Ocultar'!$A$2:$A$7)*('Para Ocultar'!$C$2:$C$7)))","v":9},2033,0,0,0,0,-2.982248553330512E-12,2.982248553330512E-12,0,-3.6085207495299194E-10,-2.982248553330512E-12,2.982248553330512E-12,0,-3.6085207495299194E-10,{"$f":"SUMPRODUCT((U164='Comparación Alternativas'!$Z$5:$Z$246)*('Comparación Alternativas'!$AA$5:$AA$246=Alternativas!V164)*('Comparación Alternativas'!$AV$5:$AV$246))","v":0},{"$f":"SUMPRODUCT((U164='Comparación Alternativas'!$Z$5:$Z$246)*('Comparación Alternativas'!$AA$5:$AA$246=Alternativas!V164)*('Comparación Alternativas'!$BF$5:$BF$246))","v":0}]
[null,141,{"$f":"IF(C164+SUMPRODUCT(($C$16='Para Ocultar'!$A$2:$A$7)*('Para Ocultar'!$C$2:$C$7))>12,(C164+SUMPRODUCT(($C$16='Para Ocultar'!$A$2:$A$7)*('Para Ocultar'!$C$2:$C$7)))-12,C164+SUMPRODUCT(($C$16='Para Ocultar'!$A$2:$A$7)*('Para Ocultar'!$C$2:$C$7)))","v":10},2033,0,0,0,0,3.2441977834414498E-11,-3.2441977834414498E-11,0,1.4228124564521785E-9,0,0,0,0,{"$f":"SUMPRODUCT((C165='Comparación Alternativas'!$Z$5:$Z$246)*(Alternativas!D165='Comparación Alternativas'!$AA$5:$AA$246)*('Comparación Alternativas'!$AQ$5:$AQ$246))","v":0},{"$f":"SUMPRODUCT((C165='Comparación Alternativas'!$Z$5:$Z$246)*('Comparación Alternativas'!$AA$5:$AA$246=Alternativas!D165)*('Comparación Alternativas'!$BA$5:$BA$246))","v":0},null,141,{"$f":"IF(U164+SUMPRODUCT(($U$16='Para Ocultar'!$A$2:$A$7)*('Para Ocultar'!$C$2:$C$7))>12,(U164+SUMPRODUCT(($U$16='Para Ocultar'!$A$2:$A$7)*('Para Ocultar'!$C$2:$C$7)))-12,U164+SUMPRODUCT(($U$16='Para Ocultar'!$A$2:$A$7)*('Para Ocultar'!$C$2:$C$7)))","v":10},2033,0,0,0,0,-3.0071006246082661E-12,3.0071006246082661E-12,0,-3.6385917557760018E-10,-3.0071006246082661E-12,3.0071006246082661E-12,0,-3.6385917557760018E-10,{"$f":"SUMPRODUCT((U165='Comparación Alternativas'!$Z$5:$Z$246)*('Comparación Alternativas'!$AA$5:$AA$246=Alternativas!V165)*('Comparación Alternativas'!$AV$5:$AV$246))","v":0},{"$f":"SUMPRODUCT((U165='Comparación Alternativas'!$Z$5:$Z$246)*('Comparación Alternativas'!$AA$5:$AA$246=Alternativas!V165)*('Comparación Alternativas'!$BF$5:$BF$246))","v":0}]
[null,142,{"$f":"IF(C165+SUMPRODUCT(($C$16='Para Ocultar'!$A$2:$A$7)*('Para Ocultar'!$C$2:$C$7))>12,(C165+SUMPRODUCT(($C$16='Para Ocultar'!$A$2:$A$7)*('Para Ocultar'!$C$2:$C$7)))-12,C165+SUMPRODUCT(($C$16='Para Ocultar'!$A$2:$A$7)*('Para Ocultar'!$C$2:$C$7)))","v":11},2033,0,0,0,0,3.3198957317217501E-11,-3.3198957317217501E-11,0,1.456011413769396E-9,0,0,0,0,{"$f":"SUMPRODUCT((C166='Comparación Alternativas'!$Z$5:$Z$246)*(Alternativas!D166='Comparación Alternativas'!$AA$5:$AA$246)*('Comparación Alternativas'!$AQ$5:$AQ$246))","v":0},{"$f":"SUMPRODUCT((C166='Comparación Alternativas'!$Z$5:$Z$246)*('Comparación Alternativas'!$AA$5:$AA$246=Alternativas!D166)*('Comparación Alternativas'!$BA$5:$BA$246))","v":0},null,142,{"$f":"IF(U165+SUMPRODUCT(($U$16='Para Ocultar'!$A$2:$A$7)*('Para Ocultar'!$C$2:$C$7))>12,(U165+SUMPRODUCT(($U$16='Para Ocultar'!$A$2:$A$7)*('Para Ocultar'!$C$2:$C$7)))-12,U165+SUMPRODUCT(($U$16='Para Ocultar'!$A$2:$A$7)*('Para Ocultar'!$C$2:$C$7)))","v":11},2033,0,0,0,0,-3.0321597964800017E-12,3.0321597964800017E-12,0,-3.6689133537408019E-10,-3.0321597964800017E-12,3.0321597964800017E-12,0,-3.6689133537408019E-10,{"$f":"SUMPRODUCT((U166='Comparación Alternativas'!$Z$5:$Z$246)*('Comparación Alternativas'!$AA$5:$AA$246=Alternativas!V166)*('Comparación Alternativas'!$AV$5:$AV$246))","v":0},{"$f":"SUMPRODUCT((U166='Comparación Alternativas'!$Z$5:$Z$246)*('Comparación Alternativas'!$AA$5:$AA$246=Alternativas!V166)*('Comparación Alternativas'!$BF$5:$BF$246))","v":0}]
[null,143,{"$f":"IF(C166+SUMPRODUCT(($C$16='Para Ocultar'!$A$2:$A$7)*('Para Ocultar'!$C$2:$C$7))>12,(C166+SUMPRODUCT(($C$16='Para Ocultar'!$A$2:$A$7)*('Para Ocultar'!$C$2:$C$7)))-12,C166+SUMPRODUCT(($C$16='Para Ocultar'!$A$2:$A$7)*('Para Ocultar'!$C$2:$C$7)))","v":12},2033,0,0,0,0,3.3973599654619243E-11,-3.3973599654619243E-11,0,1.4899850134240151E-9,0,0,0,0,{"$f":"SUMPRODUCT((C167='Comparación Alternativas'!$Z$5:$Z$246)*(Alternativas!D167='Comparación Alternativas'!$AA$5:$AA$246)*('Comparación Alternativas'!$AQ$5:$AQ$246))","v":0},{"$f":"SUMPRODUCT((C167='Comparación Alternativas'!$Z$5:$Z$246)*('Comparación Alternativas'!$AA$5:$AA$246=Alternativas!D167)*('Comparación Alternativas'!$BA$5:$BA$246))","v":0},null,143,{"$f":"IF(U166+SUMPRODUCT(($U$16='Para Ocultar'!$A$2:$A$7)*('Para Ocultar'!$C$2:$C$7))>12,(U166+SUMPRODUCT(($U$16='Para Ocultar'!$A$2:$A$7)*('Para Ocultar'!$C$2:$C$7)))-12,U166+SUMPRODUCT(($U$16='Para Ocultar'!$A$2:$A$7)*('Para Ocultar'!$C$2:$C$7)))","v":12},2033,0,0,0,0,-3.0574277947840016E-12,3.0574277947840016E-12,0,-3.6994876316886421E-10,-3.0574277947840016E-12,3.0574277947840016E-12,0,-3.6994876316886421E-10,{"$f":"SUMPRODUCT((U167='Comparación Alternativas'!$Z$5:$Z$246)*('Comparación Alternativas'!$AA$5:$AA$246=Alternativas!V167)*('Comparación Alternativas'!$AV$5:$AV$246))","v":0},{"$f":"SUMPRODUCT((U167='Comparación Alternativas'!$Z$5:$Z$246)*('Comparación Alternativas'!$AA$5:$AA$246=Alternativas!V167)*('Comparación Alternativas'!$BF$5:$BF$246))","v":0}]
[null,144,{"$f":"IF(C167+SUMPRODUCT(($C$16='Para Ocultar'!$A$2:$A$7)*('Para Ocultar'!$C$2:$C$7))>12,(C167+SUMPRODUCT(($C$16='Para Ocultar'!$A$2:$A$7)*('Para Ocultar'!$C$2:$C$7)))-12,C167+SUMPRODUCT(($C$16='Para Ocultar'!$A$2:$A$7)*('Para Ocultar'!$C$2:$C$7)))","v":1},2034,0,0,0,0,3.4766316979893688E-11,-3.4766316979893688E-11,0,1.5247513304039088E-9,0,0,0,0,{"$f":"SUMPRODUCT((C168='Comparación Alternativas'!$Z$5:$Z$246)*(Alternativas!D168='Comparación Alternativas'!$AA$5:$AA$246)*('Comparación Alternativas'!$AQ$5:$AQ$246))","v":0},{"$f":"SUMPRODUCT((C168='Comparación Alternativas'!$Z$5:$Z$246)*('Comparación Alternativas'!$AA$5:$AA$246=Alternativas!D168)*('Comparación Alternativas'!$BA$5:$BA$246))","v":0},null,144,{"$f":"IF(U167+SUMPRODUCT(($U$16='Para Ocultar'!$A$2:$A$7)*('Para Ocultar'!$C$2:$C$7))>12,(U167+SUMPRODUCT(($U$16='Para Ocultar'!$A$2:$A$7)*('Para Ocultar'!$C$2:$C$7)))-12,U167+SUMPRODUCT(($U$16='Para Ocultar'!$A$2:$A$7)*('Para Ocultar'!$C$2:$C$7)))","v":1},2034,0,0,0,0,-3.0829063597405349E-12,3.0829063597405349E-12,0,-3.7303166952860476E-10,-3.0829063597405349E-12,3.0829063597405349E-12,0,-3.7303166952860476E-10,{"$f":"SUMPRODUCT((U168='Comparación Alternativas'!$Z$5:$Z$246)*('Comparación Alternativas'!$AA$5:$AA$246=Alternativas!V168)*('Comparación Alternativas'!$AV$5:$AV$246))","v":0},{"$f":"SUMPRODUCT((U168='Comparación Alternativas'!$Z$5:$Z$246)*('Comparación Alternativas'!$AA$5:$AA$246=Alternativas!V168)*('Comparación Alternativas'!$BF$5:$BF$246))","v":0}]
[null,145,{"$f":"IF(C168+SUMPRODUCT(($C$16='Para Ocultar'!$A$2:$A$7)*('Para Ocultar'!$C$2:$C$7))>12,(C168+SUMPRODUCT(($C$16='Para Ocultar'!$A$2:$A$7)*('Para Ocultar'!$C$2:$C$7)))-12,C168+SUMPRODUCT(($C$16='Para Ocultar'!$A$2:$A$7)*('Para Ocultar'!$C$2:$C$7)))","v":2},2034,0,0,0,0,3.5577531042757875E-11,-3.5577531042757875E-11,0,1.5603288614466667E-9,0,0,0,0,{"$f":"SUMPRODUCT((C169='Comparación Alternativas'!$Z$5:$Z$246)*(Alternativas!D169='Comparación Alternativas'!$AA$5:$AA$246)*('Comparación Alternativas'!$AQ$5:$AQ$246))","v":0},{"$f":"SUMPRODUCT((C169='Comparación Alternativas'!$Z$5:$Z$246)*('Comparación Alternativas'!$AA$5:$AA$246=Alternativas!D169)*('Comparación Alternativas'!$BA$5:$BA$246))","v":0},null,145,{"$f":"IF(U168+SUMPRODUCT(($U$16='Para Ocultar'!$A$2:$A$7)*('Para Ocultar'!$C$2:$C$7))>12,(U168+SUMPRODUCT(($U$16='Para Ocultar'!$A$2:$A$7)*('Para Ocultar'!$C$2:$C$7)))-12,U168+SUMPRODUCT(($U$16='Para Ocultar'!$A$2:$A$7)*('Para Ocultar'!$C$2:$C$7)))","v":2},2034,0,0,0,0,-3.1085972460717067E-12,3.1085972460717067E-12,0,-3.7614026677467645E-10,-3.1085972460717067E-12,3.1085972460717067E-12,0,-3.7614026677467645E-10,{"$f":"SUMPRODUCT((U169='Comparación Alternativas'!$Z$5:$Z$246)*('Comparación Alternativas'!$AA$5:$AA$246=Alternativas!V169)*('Comparación Alternativas'!$AV$5:$AV$246))","v":0},{"$f":"SUMPRODUCT((U169='Comparación Alternativas'!$Z$5:$Z$246)*('Comparación Alternativas'!$AA$5:$AA$246=Alternativas!V169)*('Comparación Alternativas'!$BF$5:$BF$246))","v":0}]
[null,146,{"$f":"IF(C169+SUMPRODUCT(($C$16='Para Ocultar'!$A$2:$A$7)*('Para Ocultar'!$C$2:$C$7))>12,(C169+SUMPRODUCT(($C$16='Para Ocultar'!$A$2:$A$7)*('Para Ocultar'!$C$2:$C$7)))-12,C169+SUMPRODUCT(($C$16='Para Ocultar'!$A$2:$A$7)*('Para Ocultar'!$C$2:$C$7)))","v":3},2034,0,0,0,0,3.6407673433755562E-11,-3.6407673433755562E-11,0,1.5967365348804223E-9,0,0,0,0,{"$f":"SUMPRODUCT((C170='Comparación Alternativas'!$Z$5:$Z$246)*(Alternativas!D170='Comparación Alternativas'!$AA$5:$AA$246)*('Comparación Alternativas'!$AQ$5:$AQ$246))","v":0},{"$f":"SUMPRODUCT((C170='Comparación Alternativas'!$Z$5:$Z$246)*('Comparación Alternativas'!$AA$5:$AA$246=Alternativas!D170)*('Comparación Alternativas'!$BA$5:$BA$246))","v":0},null,146,{"$f":"IF(U169+SUMPRODUCT(($U$16='Para Ocultar'!$A$2:$A$7)*('Para Ocultar'!$C$2:$C$7))>12,(U169+SUMPRODUCT(($U$16='Para Ocultar'!$A$2:$A$7)*('Para Ocultar'!$C$2:$C$7)))-12,U169+SUMPRODUCT(($U$16='Para Ocultar'!$A$2:$A$7)*('Para Ocultar'!$C$2:$C$7)))","v":3},2034,0,0,0,0,-3.1345022231223037E-12,3.1345022231223037E-12,0,-3.7927476899779875E-10,-3.1345022231223037E-12,3.1345022231223037E-12,0,-3.7927476899779875E-10,{"$f":"SUMPRODUCT((U170='Comparación Alternativas'!$Z$5:$Z$246)*('Comparación Alternativas'!$AA$5:$AA$246=Alternativas!V170)*('Comparación Alternativas'!$AV$5:$AV$246))","v":0},{"$f":"SUMPRODUCT((U170='Comparación Alternativas'!$Z$5:$Z$246)*('Comparación Alternativas'!$AA$5:$AA$246=Alternativas!V170)*('Comparación Alternativas'!$BF$5:$BF$246))","v":0}]
[null,147,{"$f":"IF(C170+SUMPRODUCT(($C$16='Para Ocultar'!$A$2:$A$7)*('Para Ocultar'!$C$2:$C$7))>12,(C170+SUMPRODUCT(($C$16='Para Ocultar'!$A$2:$A$7)*('Para Ocultar'!$C$2:$C$7)))-12,C170+SUMPRODUCT(($C$16='Para Ocultar'!$A$2:$A$7)*('Para Ocultar'!$C$2:$C$7)))","v":4},2034,0,0,0,0,3.7257185813876523E-11,-3.7257185813876523E-11,0,1.6339937206942989E-9,0,0,0,0,{"$f":"SUMPRODUCT((C171='Comparación Alternativas'!$Z$5:$Z$246)*(Alternativas!D171='Comparación Alternativas'!$AA$5:$AA$246)*('Comparación Alternativas'!$AQ$5:$AQ$246))","v":0},{"$f":"SUMPRODUCT((C171='Comparación Alternativas'!$Z$5:$Z$246)*('Comparación Alternativas'!$AA$5:$AA$246=Alternativas!D171)*('Comparación Alternativas'!$BA$5:$BA$246))","v":0},null,147,{"$f":"IF(U170+SUMPRODUCT(($U$16='Para Ocultar'!$A$2:$A$7)*('Para Ocultar'!$C$2:$C$7))>12,(U170+SUMPRODUCT(($U$16='Para Ocultar'!$A$2:$A$7)*('Para Ocultar'!$C$2:$C$7)))-12,U170+SUMPRODUCT(($U$16='Para Ocultar'!$A$2:$A$7)*('Para Ocultar'!$C$2:$C$7)))","v":4},2034,0,0,0,0,-3.1606230749816567E-12,3.1606230749816567E-12,0,-3.8243539207278042E-10,-3.1606230749816567E-12,3.1606230749816567E-12,0,-3.8243539207278042E-10,{"$f":"SUMPRODUCT((U171='Comparación Alternativas'!$Z$5:$Z$246)*('Comparación Alternativas'!$AA$5:$AA$246=Alternativas!V171)*('Comparación Alternativas'!$AV$5:$AV$246))","v":0},{"$f":"SUMPRODUCT((U171='Comparación Alternativas'!$Z$5:$Z$246)*('Comparación Alternativas'!$AA$5:$AA$246=Alternativas!V171)*('Comparación Alternativas'!$BF$5:$BF$246))","v":0}]
[null,148,{"$f":"IF(C171+SUMPRODUCT(($C$16='Para Ocultar'!$A$2:$A$7)*('Para Ocultar'!$C$2:$C$7))>12,(C171+SUMPRODUCT(($C$16='Para Ocultar'!$A$2:$A$7)*('Para Ocultar'!$C$2:$C$7)))-12,C171+SUMPRODUCT(($C$16='Para Ocultar'!$A$2:$A$7)*('Para Ocultar'!$C$2:$C$7)))","v":5},2034,0,0,0,0,3.8126520149533642E-11,-3.8126520149533642E-11,0,1.6721202408438326E-9,0,0,0,0,{"$f":"SUMPRODUCT((C172='Comparación Alternativas'!$Z$5:$Z$246)*(Alternativas!D172='Comparación Alternativas'!$AA$5:$AA$246)*('Comparación Alternativas'!$AQ$5:$AQ$246))","v":0},{"$f":"SUMPRODUCT((C172='Comparación Alternativas'!$Z$5:$Z$246)*('Comparación Alternativas'!$AA$5:$AA$246=Alternativas!D172)*('Comparación Alternativas'!$BA$5:$BA$246))","v":0},null,148,{"$f":"IF(U171+SUMPRODUCT(($U$16='Para Ocultar'!$A$2:$A$7)*('Para Ocultar'!$C$2:$C$7))>12,(U171+SUMPRODUCT(($U$16='Para Ocultar'!$A$2:$A$7)*('Para Ocultar'!$C$2:$C$7)))-12,U171+SUMPRODUCT(($U$16='Para Ocultar'!$A$2:$A$7)*('Para Ocultar'!$C$2:$C$7)))","v":5},2034,0,0,0,0,-3.1869616006065036E-12,3.1869616006065036E-12,0,-3.8562235367338692E-10,-3.1869616006065036E-12,3.1869616006065036E-12,0,-3.8562235367338692E-10,{"$f":"SUMPRODUCT((U172='Comparación Alternativas'!$Z$5:$Z$246)*('Comparación Alternativas'!$AA$5:$AA$246=Alternativas!V172)*('Comparación Alternativas'!$AV$5:$AV$246))","v":0},{"$f":"SUMPRODUCT((U172='Comparación Alternativas'!$Z$5:$Z$246)*('Comparación Alternativas'!$AA$5:$AA$246=Alternativas!V172)*('Comparación Alternativas'!$BF$5:$BF$246))","v":0}]
[null,149,{"$f":"IF(C172+SUMPRODUCT(($C$16='Para Ocultar'!$A$2:$A$7)*('Para Ocultar'!$C$2:$C$7))>12,(C172+SUMPRODUCT(($C$16='Para Ocultar'!$A$2:$A$7)*('Para Ocultar'!$C$2:$C$7)))-12,C172+SUMPRODUCT(($C$16='Para Ocultar'!$A$2:$A$7)*('Para Ocultar'!$C$2:$C$7)))","v":6},2034,0,0,0,0,3.9016138953022764E-11,-3.9016138953022764E-11,0,1.7111363797968554E-9,0,0,0,0,{"$f":"SUMPRODUCT((C173='Comparación Alternativas'!$Z$5:$Z$246)*(Alternativas!D173='Comparación Alternativas'!$AA$5:$AA$246)*('Comparación Alternativas'!$AQ$5:$AQ$246))","v":0},{"$f":"SUMPRODUCT((C173='Comparación Alternativas'!$Z$5:$Z$246)*('Comparación Alternativas'!$AA$5:$AA$246=Alternativas!D173)*('Comparación Alternativas'!$BA$5:$BA$246))","v":0},null,149,{"$f":"IF(U172+SUMPRODUCT(($U$16='Para Ocultar'!$A$2:$A$7)*('Para Ocultar'!$C$2:$C$7))>12,(U172+SUMPRODUCT(($U$16='Para Ocultar'!$A$2:$A$7)*('Para Ocultar'!$C$2:$C$7)))-12,U172+SUMPRODUCT(($U$16='Para Ocultar'!$A$2:$A$7)*('Para Ocultar'!$C$2:$C$7)))","v":6},2034,0,0,0,0,-3.2135196139448911E-12,3.2135196139448911E-12,0,-3.888358732873318E-10,-3.2135196139448911E-12,3.2135196139448911E-12,0,-3.888358732873318E-10,{"$f":"SUMPRODUCT((U173='Comparación Alternativas'!$Z$5:$Z$246)*('Comparación Alternativas'!$AA$5:$AA$246=Alternativas!V173)*('Comparación Alternativas'!$AV$5:$AV$246))","v":0},{"$f":"SUMPRODUCT((U173='Comparación Alternativas'!$Z$5:$Z$246)*('Comparación Alternativas'!$AA$5:$AA$246=Alternativas!V173)*('Comparación Alternativas'!$BF$5:$BF$246))","v":0}]
[null,150,{"$f":"IF(C173+SUMPRODUCT(($C$16='Para Ocultar'!$A$2:$A$7)*('Para Ocultar'!$C$2:$C$7))>12,(C173+SUMPRODUCT(($C$16='Para Ocultar'!$A$2:$A$7)*('Para Ocultar'!$C$2:$C$7)))-12,C173+SUMPRODUCT(($C$16='Para Ocultar'!$A$2:$A$7)*('Para Ocultar'!$C$2:$C$7)))","v":7},2034,0,0,0,0,3.9926515528593294E-11,-3.9926515528593294E-11,0,1.7510628953254485E-9,0,0,0,0,{"$f":"SUMPRODUCT((C174='Comparación Alternativas'!$Z$5:$Z$246)*(Alternativas!D174='Comparación Alternativas'!$AA$5:$AA$246)*('Comparación Alternativas'!$AQ$5:$AQ$246))","v":0},{"$f":"SUMPRODUCT((C174='Comparación Alternativas'!$Z$5:$Z$246)*('Comparación Alternativas'!$AA$5:$AA$246=Alternativas!D174)*('Comparación Alternativas'!$BA$5:$BA$246))","v":0},null,150,{"$f":"IF(U173+SUMPRODUCT(($U$16='Para Ocultar'!$A$2:$A$7)*('Para Ocultar'!$C$2:$C$7))>12,(U173+SUMPRODUCT(($U$16='Para Ocultar'!$A$2:$A$7)*('Para Ocultar'!$C$2:$C$7)))-12,U173+SUMPRODUCT(($U$16='Para Ocultar'!$A$2:$A$7)*('Para Ocultar'!$C$2:$C$7)))","v":7},2034,0,0,0,0,-3.2402989440610985E-12,3.2402989440610985E-12,0,-3.9207617223139291E-10,-3.2402989440610985E-12,3.2402989440610985E-12,0,-3.9207617223139291E-10,{"$f":"SUMPRODUCT((U174='Comparación Alternativas'!$Z$5:$Z$246)*('Comparación Alternativas'!$AA$5:$AA$246=Alternativas!V174)*('Comparación Alternativas'!$AV$5:$AV$246))","v":0},{"$f":"SUMPRODUCT((U174='Comparación Alternativas'!$Z$5:$Z$246)*('Comparación Alternativas'!$AA$5:$AA$246=Alternativas!V174)*('Comparación Alternativas'!$BF$5:$BF$246))","v":0}]
[null,151,{"$f":"IF(C174+SUMPRODUCT(($C$16='Para Ocultar'!$A$2:$A$7)*('Para Ocultar'!$C$2:$C$7))>12,(C174+SUMPRODUCT(($C$16='Para Ocultar'!$A$2:$A$7)*('Para Ocultar'!$C$2:$C$7)))-12,C174+SUMPRODUCT(($C$16='Para Ocultar'!$A$2:$A$7)*('Para Ocultar'!$C$2:$C$7)))","v":8},2034,0,0,0,0,4.0858134224260468E-11,-4.0858134224260468E-11,0,1.7919210295497089E-9,0,0,0,0,{"$f":"SUMPRODUCT((C175='Comparación Alternativas'!$Z$5:$Z$246)*(Alternativas!D175='Comparación Alternativas'!$AA$5:$AA$246)*('Comparación Alternativas'!$AQ$5:$AQ$246))","v":0},{"$f":"SUMPRODUCT((C175='Comparación Alternativas'!$Z$5:$Z$246)*('Comparación Alternativas'!$AA$5:$AA$246=Alternativas!D175)*('Comparación Alternativas'!$BA$5:$BA$246))","v":0},null,151,{"$f":"IF(U174+SUMPRODUCT(($U$16='Para Ocultar'!$A$2:$A$7)*('Para Ocultar'!$C$2:$C$7))>12,(U174+SUMPRODUCT(($U$16='Para Ocultar'!$A$2:$A$7)*('Para Ocultar'!$C$2:$C$7)))-12,U174+SUMPRODUCT(($U$16='Para Ocultar'!$A$2:$A$7)*('Para Ocultar'!$C$2:$C$7)))","v":8},2034,0,0,0,0,-3.2673014352616077E-12,3.2673014352616077E-12,0,-3.9534347366665451E-10,-3.2673014352616077E-12,3.2673014352616077E-12,0,-3.9534347366665451E-10,{"$f":"SUMPRODUCT((U175='Comparación Alternativas'!$Z$5:$Z$246)*('Comparación Alternativas'!$AA$5:$AA$246=Alternativas!V175)*('Comparación Alternativas'!$AV$5:$AV$246))","v":0},{"$f":"SUMPRODUCT((U175='Comparación Alternativas'!$Z$5:$Z$246)*('Comparación Alternativas'!$AA$5:$AA$246=Alternativas!V175)*('Comparación Alternativas'!$BF$5:$BF$246))","v":0}]
[null,152,{"$f":"IF(C175+SUMPRODUCT(($C$16='Para Ocultar'!$A$2:$A$7)*('Para Ocultar'!$C$2:$C$7))>12,(C175+SUMPRODUCT(($C$16='Para Ocultar'!$A$2:$A$7)*('Para Ocultar'!$C$2:$C$7)))-12,C175+SUMPRODUCT(($C$16='Para Ocultar'!$A$2:$A$7)*('Para Ocultar'!$C$2:$C$7)))","v":9},2034,0,0,0,0,4.1811490689493216E-11,-4.1811490689493216E-11,0,1.8337325202392021E-9,0,0,0,0,{"$f":"SUMPRODUCT((C176='Comparación Alternativas'!$Z$5:$Z$246)*(Alternativas!D176='Comparación Alternativas'!$AA$5:$AA$246)*('Comparación Alternativas'!$AQ$5:$AQ$246))","v":0},{"$f":"SUMPRODUCT((C176='Comparación Alternativas'!$Z$5:$Z$246)*('Comparación Alternativas'!$AA$5:$AA$246=Alternativas!D176)*('Comparación Alternativas'!$BA$5:$BA$246))","v":0},null,152,{"$f":"IF(U175+SUMPRODUCT(($U$16='Para Ocultar'!$A$2:$A$7)*('Para Ocultar'!$C$2:$C$7))>12,(U175+SUMPRODUCT(($U$16='Para Ocultar'!$A$2:$A$7)*('Para Ocultar'!$C$2:$C$7)))-12,U175+SUMPRODUCT(($U$16='Para Ocultar'!$A$2:$A$7)*('Para Ocultar'!$C$2:$C$7)))","v":9},2034,0,0,0,0,-3.2945289472221214E-12,3.2945289472221214E-12,0,-3.9863800261387664E-10,-3.2945289472221214E-12,3.2945289472221214E-12,0,-3.9863800261387664E-10,{"$f":"SUMPRODUCT((U176='Comparación Alternativas'!$Z$5:$Z$246)*('Comparación Alternativas'!$AA$5:$AA$246=Alternativas!V176)*('Comparación Alternativas'!$AV$5:$AV$246))","v":0},{"$f":"SUMPRODUCT((U176='Comparación Alternativas'!$Z$5:$Z$246)*('Comparación Alternativas'!$AA$5:$AA$246=Alternativas!V176)*('Comparación Alternativas'!$BF$5:$BF$246))","v":0}]
[null,153,{"$f":"IF(C176+SUMPRODUCT(($C$16='Para Ocultar'!$A$2:$A$7)*('Para Ocultar'!$C$2:$C$7))>12,(C176+SUMPRODUCT(($C$16='Para Ocultar'!$A$2:$A$7)*('Para Ocultar'!$C$2:$C$7)))-12,C176+SUMPRODUCT(($C$16='Para Ocultar'!$A$2:$A$7)*('Para Ocultar'!$C$2:$C$7)))","v":10},2034,0,0,0,0,4.2787092138914718E-11,-4.2787092138914718E-11,0,1.8765196123781167E-9,0,0,0,0,{"$f":"SUMPRODUCT((C177='Comparación Alternativas'!$Z$5:$Z$246)*(Alternativas!D177='Comparación Alternativas'!$AA$5:$AA$246)*('Comparación Alternativas'!$AQ$5:$AQ$246))","v":0},{"$f":"SUMPRODUCT((C177='Comparación Alternativas'!$Z$5:$Z$246)*('Comparación Alternativas'!$AA$5:$AA$246=Alternativas!D177)*('Comparación Alternativas'!$BA$5:$BA$246))","v":0},null,153,{"$f":"IF(U176+SUMPRODUCT(($U$16='Para Ocultar'!$A$2:$A$7)*('Para Ocultar'!$C$2:$C$7))>12,(U176+SUMPRODUCT(($U$16='Para Ocultar'!$A$2:$A$7)*('Para Ocultar'!$C$2:$C$7)))-12,U176+SUMPRODUCT(($U$16='Para Ocultar'!$A$2:$A$7)*('Para Ocultar'!$C$2:$C$7)))","v":10},2034,0,0,0,0,-3.321983355115639E-12,3.321983355115639E-12,0,-4.0195998596899226E-10,-3.321983355115639E-12,3.321983355115639E-12,0,-4.0195998596899226E-10,{"$f":"SUMPRODUCT((U177='Comparación Alternativas'!$Z$5:$Z$246)*('Comparación Alternativas'!$AA$5:$AA$246=Alternativas!V177)*('Comparación Alternativas'!$AV$5:$AV$246))","v":0},{"$f":"SUMPRODUCT((U177='Comparación Alternativas'!$Z$5:$Z$246)*('Comparación Alternativas'!$AA$5:$AA$246=Alternativas!V177)*('Comparación Alternativas'!$BF$5:$BF$246))","v":0}]
[null,154,{"$f":"IF(C177+SUMPRODUCT(($C$16='Para Ocultar'!$A$2:$A$7)*('Para Ocultar'!$C$2:$C$7))>12,(C177+SUMPRODUCT(($C$16='Para Ocultar'!$A$2:$A$7)*('Para Ocultar'!$C$2:$C$7)))-12,C177+SUMPRODUCT(($C$16='Para Ocultar'!$A$2:$A$7)*('Para Ocultar'!$C$2:$C$7)))","v":11},2034,0,0,0,0,4.3785457622156058E-11,-4.3785457622156058E-11,0,1.9203050700002727E-9,0,0,0,0,{"$f":"SUMPRODUCT((C178='Comparación Alternativas'!$Z$5:$Z$246)*(Alternativas!D178='Comparación Alternativas'!$AA$5:$AA$246)*('Comparación Alternativas'!$AQ$5:$AQ$246))","v":0},{"$f":"SUMPRODUCT((C178='Comparación Alternativas'!$Z$5:$Z$246)*('Comparación Alternativas'!$AA$5:$AA$246=Alternativas!D178)*('Comparación Alternativas'!$BA$5:$BA$246))","v":0},null,154,{"$f":"IF(U177+SUMPRODUCT(($U$16='Para Ocultar'!$A$2:$A$7)*('Para Ocultar'!$C$2:$C$7))>12,(U177+SUMPRODUCT(($U$16='Para Ocultar'!$A$2:$A$7)*('Para Ocultar'!$C$2:$C$7)))-12,U177+SUMPRODUCT(($U$16='Para Ocultar'!$A$2:$A$7)*('Para Ocultar'!$C$2:$C$7)))","v":11},2034,0,0,0,0,-3.3496665497416024E-12,3.3496665497416024E-12,0,-4.0530965251873385E-10,-3.3496665497416024E-12,3.3496665497416024E-12,0,-4.0530965251873385E-10,{"$f":"SUMPRODUCT((U178='Comparación Alternativas'!$Z$5:$Z$246)*('Comparación Alternativas'!$AA$5:$AA$246=Alternativas!V178)*('Comparación Alternativas'!$AV$5:$AV$246))","v":0},{"$f":"SUMPRODUCT((U178='Comparación Alternativas'!$Z$5:$Z$246)*('Comparación Alternativas'!$AA$5:$AA$246=Alternativas!V178)*('Comparación Alternativas'!$BF$5:$BF$246))","v":0}]
[null,155,{"$f":"IF(C178+SUMPRODUCT(($C$16='Para Ocultar'!$A$2:$A$7)*('Para Ocultar'!$C$2:$C$7))>12,(C178+SUMPRODUCT(($C$16='Para Ocultar'!$A$2:$A$7)*('Para Ocultar'!$C$2:$C$7)))-12,C178+SUMPRODUCT(($C$16='Para Ocultar'!$A$2:$A$7)*('Para Ocultar'!$C$2:$C$7)))","v":12},2034,0,0,0,0,4.4807118300006364E-11,-4.4807118300006364E-11,0,1.9651121883002792E-9,0,0,0,0,{"$f":"SUMPRODUCT((C179='Comparación Alternativas'!$Z$5:$Z$246)*(Alternativas!D179='Comparación Alternativas'!$AA$5:$AA$246)*('Comparación Alternativas'!$AQ$5:$AQ$246))","v":0},{"$f":"SUMPRODUCT((C179='Comparación Alternativas'!$Z$5:$Z$246)*('Comparación Alternativas'!$AA$5:$AA$246=Alternativas!D179)*('Comparación Alternativas'!$BA$5:$BA$246))","v":0},null,155,{"$f":"IF(U178+SUMPRODUCT(($U$16='Para Ocultar'!$A$2:$A$7)*('Para Ocultar'!$C$2:$C$7))>12,(U178+SUMPRODUCT(($U$16='Para Ocultar'!$A$2:$A$7)*('Para Ocultar'!$C$2:$C$7)))-12,U178+SUMPRODUCT(($U$16='Para Ocultar'!$A$2:$A$7)*('Para Ocultar'!$C$2:$C$7)))","v":12},2034,0,0,0,0,-3.3775804376561159E-12,3.3775804376561159E-12,0,-4.0868723295638996E-10,-3.3775804376561159E-12,3.3775804376561159E-12,0,-4.0868723295638996E-10,{"$f":"SUMPRODUCT((U179='Comparación Alternativas'!$Z$5:$Z$246)*('Comparación Alternativas'!$AA$5:$AA$246=Alternativas!V179)*('Comparación Alternativas'!$AV$5:$AV$246))","v":0},{"$f":"SUMPRODUCT((U179='Comparación Alternativas'!$Z$5:$Z$246)*('Comparación Alternativas'!$AA$5:$AA$246=Alternativas!V179)*('Comparación Alternativas'!$BF$5:$BF$246))","v":0}]
[null,156,{"$f":"IF(C179+SUMPRODUCT(($C$16='Para Ocultar'!$A$2:$A$7)*('Para Ocultar'!$C$2:$C$7))>12,(C179+SUMPRODUCT(($C$16='Para Ocultar'!$A$2:$A$7)*('Para Ocultar'!$C$2:$C$7)))-12,C179+SUMPRODUCT(($C$16='Para Ocultar'!$A$2:$A$7)*('Para Ocultar'!$C$2:$C$7)))","v":1},2035,0,0,0,0,4.5852617727006521E-11,-4.5852617727006521E-11,0,2.0109648060272856E-9,0,0,0,0,{"$f":"SUMPRODUCT((C180='Comparación Alternativas'!$Z$5:$Z$246)*(Alternativas!D180='Comparación Alternativas'!$AA$5:$AA$246)*('Comparación Alternativas'!$AQ$5:$AQ$246))","v":0},{"$f":"SUMPRODUCT((C180='Comparación Alternativas'!$Z$5:$Z$246)*('Comparación Alternativas'!$AA$5:$AA$246=Alternativas!D180)*('Comparación Alternativas'!$BA$5:$BA$246))","v":0},null,156,{"$f":"IF(U179+SUMPRODUCT(($U$16='Para Ocultar'!$A$2:$A$7)*('Para Ocultar'!$C$2:$C$7))>12,(U179+SUMPRODUCT(($U$16='Para Ocultar'!$A$2:$A$7)*('Para Ocultar'!$C$2:$C$7)))-12,U179+SUMPRODUCT(($U$16='Para Ocultar'!$A$2:$A$7)*('Para Ocultar'!$C$2:$C$7)))","v":1},2035,0,0,0,0,-3.4057269413032502E-12,3.4057269413032502E-12,0,-4.1209295989769319E-10,-3.4057269413032502E-12,3.4057269413032502E-12,0,-4.1209295989769319E-10,{"$f":"SUMPRODUCT((U180='Comparación Alternativas'!$Z$5:$Z$246)*('Comparación Alternativas'!$AA$5:$AA$246=Alternativas!V180)*('Comparación Alternativas'!$AV$5:$AV$246))","v":0},{"$f":"SUMPRODUCT((U180='Comparación Alternativas'!$Z$5:$Z$246)*('Comparación Alternativas'!$AA$5:$AA$246=Alternativas!V180)*('Comparación Alternativas'!$BF$5:$BF$246))","v":0}]
[null,157,{"$f":"IF(C180+SUMPRODUCT(($C$16='Para Ocultar'!$A$2:$A$7)*('Para Ocultar'!$C$2:$C$7))>12,(C180+SUMPRODUCT(($C$16='Para Ocultar'!$A$2:$A$7)*('Para Ocultar'!$C$2:$C$7)))-12,C180+SUMPRODUCT(($C$16='Para Ocultar'!$A$2:$A$7)*('Para Ocultar'!$C$2:$C$7)))","v":2},2035,0,0,0,0,4.6922512140636667E-11,-4.6922512140636667E-11,0,2.0578873181679222E-9,0,0,0,0,{"$f":"SUMPRODUCT((C181='Comparación Alternativas'!$Z$5:$Z$246)*(Alternativas!D181='Comparación Alternativas'!$AA$5:$AA$246)*('Comparación Alternativas'!$AQ$5:$AQ$246))","v":0},{"$f":"SUMPRODUCT((C181='Comparación Alternativas'!$Z$5:$Z$246)*('Comparación Alternativas'!$AA$5:$AA$246=Alternativas!D181)*('Comparación Alternativas'!$BA$5:$BA$246))","v":0},null,157,{"$f":"IF(U180+SUMPRODUCT(($U$16='Para Ocultar'!$A$2:$A$7)*('Para Ocultar'!$C$2:$C$7))>12,(U180+SUMPRODUCT(($U$16='Para Ocultar'!$A$2:$A$7)*('Para Ocultar'!$C$2:$C$7)))-12,U180+SUMPRODUCT(($U$16='Para Ocultar'!$A$2:$A$7)*('Para Ocultar'!$C$2:$C$7)))","v":2},2035,0,0,0,0,-3.4341079991474432E-12,3.4341079991474432E-12,0,-4.1552706789684065E-10,-3.4341079991474432E-12,3.4341079991474432E-12,0,-4.1552706789684065E-10,{"$f":"SUMPRODUCT((U181='Comparación Alternativas'!$Z$5:$Z$246)*('Comparación Alternativas'!$AA$5:$AA$246=Alternativas!V181)*('Comparación Alternativas'!$AV$5:$AV$246))","v":0},{"$f":"SUMPRODUCT((U181='Comparación Alternativas'!$Z$5:$Z$246)*('Comparación Alternativas'!$AA$5:$AA$246=Alternativas!V181)*('Comparación Alternativas'!$BF$5:$BF$246))","v":0}]
[null,158,{"$f":"IF(C181+SUMPRODUCT(($C$16='Para Ocultar'!$A$2:$A$7)*('Para Ocultar'!$C$2:$C$7))>12,(C181+SUMPRODUCT(($C$16='Para Ocultar'!$A$2:$A$7)*('Para Ocultar'!$C$2:$C$7)))-12,C181+SUMPRODUCT(($C$16='Para Ocultar'!$A$2:$A$7)*('Para Ocultar'!$C$2:$C$7)))","v":3},2035,0,0,0,0,4.8017370757251519E-11,-4.8017370757251519E-11,0,2.1059046889251739E-9,0,0,0,0,{"$f":"SUMPRODUCT((C182='Comparación Alternativas'!$Z$5:$Z$246)*(Alternativas!D182='Comparación Alternativas'!$AA$5:$AA$246)*('Comparación Alternativas'!$AQ$5:$AQ$246))","v":0},{"$f":"SUMPRODUCT((C182='Comparación Alternativas'!$Z$5:$Z$246)*('Comparación Alternativas'!$AA$5:$AA$246=Alternativas!D182)*('Comparación Alternativas'!$BA$5:$BA$246))","v":0},null,158,{"$f":"IF(U181+SUMPRODUCT(($U$16='Para Ocultar'!$A$2:$A$7)*('Para Ocultar'!$C$2:$C$7))>12,(U181+SUMPRODUCT(($U$16='Para Ocultar'!$A$2:$A$7)*('Para Ocultar'!$C$2:$C$7)))-12,U181+SUMPRODUCT(($U$16='Para Ocultar'!$A$2:$A$7)*('Para Ocultar'!$C$2:$C$7)))","v":3},2035,0,0,0,0,-3.4627255658070059E-12,3.4627255658070059E-12,0,-4.1898979346264764E-10,-3.4627255658070059E-12,3.4627255658070059E-12,0,-4.1898979346264764E-10,{"$f":"SUMPRODUCT((U182='Comparación Alternativas'!$Z$5:$Z$246)*('Comparación Alternativas'!$AA$5:$AA$246=Alternativas!V182)*('Comparación Alternativas'!$AV$5:$AV$246))","v":0},{"$f":"SUMPRODUCT((U182='Comparación Alternativas'!$Z$5:$Z$246)*('Comparación Alternativas'!$AA$5:$AA$246=Alternativas!V182)*('Comparación Alternativas'!$BF$5:$BF$246))","v":0}]
[null,159,{"$f":"IF(C182+SUMPRODUCT(($C$16='Para Ocultar'!$A$2:$A$7)*('Para Ocultar'!$C$2:$C$7))>12,(C182+SUMPRODUCT(($C$16='Para Ocultar'!$A$2:$A$7)*('Para Ocultar'!$C$2:$C$7)))-12,C182+SUMPRODUCT(($C$16='Para Ocultar'!$A$2:$A$7)*('Para Ocultar'!$C$2:$C$7)))","v":4},2035,0,0,0,0,4.9137776074920727E-11,-4.9137776074920727E-11,0,2.1550424650000945E-9,0,0,0,0,{"$f":"SUMPRODUCT((C183='Comparación Alternativas'!$Z$5:$Z$246)*(Alternativas!D183='Comparación Alternativas'!$AA$5:$AA$246)*('Comparación Alternativas'!$AQ$5:$AQ$246))","v":0},{"$f":"SUMPRODUCT((C183='Comparación Alternativas'!$Z$5:$Z$246)*('Comparación Alternativas'!$AA$5:$AA$246=Alternativas!D183)*('Comparación Alternativas'!$BA$5:$BA$246))","v":0},null,159,{"$f":"IF(U182+SUMPRODUCT(($U$16='Para Ocultar'!$A$2:$A$7)*('Para Ocultar'!$C$2:$C$7))>12,(U182+SUMPRODUCT(($U$16='Para Ocultar'!$A$2:$A$7)*('Para Ocultar'!$C$2:$C$7)))-12,U182+SUMPRODUCT(($U$16='Para Ocultar'!$A$2:$A$7)*('Para Ocultar'!$C$2:$C$7)))","v":4},2035,0,0,0,0,-3.4915816121887306E-12,3.4915816121887306E-12,0,-4.2248137507483637E-10,-3.4915816121887306E-12,3.4915816121887306E-12,0,-4.2248137507483637E-10,{"$f":"SUMPRODUCT((U183='Comparación Alternativas'!$Z$5:$Z$246)*('Comparación Alternativas'!$AA$5:$AA$246=Alternativas!V183)*('Comparación Alternativas'!$AV$5:$AV$246))","v":0},{"$f":"SUMPRODUCT((U183='Comparación Alternativas'!$Z$5:$Z$246)*('Comparación Alternativas'!$AA$5:$AA$246=Alternativas!V183)*('Comparación Alternativas'!$BF$5:$BF$246))","v":0}]
[null,160,{"$f":"IF(C183+SUMPRODUCT(($C$16='Para Ocultar'!$A$2:$A$7)*('Para Ocultar'!$C$2:$C$7))>12,(C183+SUMPRODUCT(($C$16='Para Ocultar'!$A$2:$A$7)*('Para Ocultar'!$C$2:$C$7)))-12,C183+SUMPRODUCT(($C$16='Para Ocultar'!$A$2:$A$7)*('Para Ocultar'!$C$2:$C$7)))","v":5},2035,0,0,0,0,5.0284324183335537E-11,-5.0284324183335537E-11,0,2.2053267891834299E-9,0,0,0,0,{"$f":"SUMPRODUCT((C184='Comparación Alternativas'!$Z$5:$Z$246)*(Alternativas!D184='Comparación Alternativas'!$AA$5:$AA$246)*('Comparación Alternativas'!$AQ$5:$AQ$246))","v":0},{"$f":"SUMPRODUCT((C184='Comparación Alternativas'!$Z$5:$Z$246)*('Comparación Alternativas'!$AA$5:$AA$246=Alternativas!D184)*('Comparación Alternativas'!$BA$5:$BA$246))","v":0},null,160,{"$f":"IF(U183+SUMPRODUCT(($U$16='Para Ocultar'!$A$2:$A$7)*('Para Ocultar'!$C$2:$C$7))>12,(U183+SUMPRODUCT(($U$16='Para Ocultar'!$A$2:$A$7)*('Para Ocultar'!$C$2:$C$7)))-12,U183+SUMPRODUCT(($U$16='Para Ocultar'!$A$2:$A$7)*('Para Ocultar'!$C$2:$C$7)))","v":5},2035,0,0,0,0,-3.5206781256236369E-12,3.5206781256236369E-12,0,-4.2600205320046003E-10,-3.5206781256236369E-12,3.5206781256236369E-12,0,-4.2600205320046003E-10,{"$f":"SUMPRODUCT((U184='Comparación Alternativas'!$Z$5:$Z$246)*('Comparación Alternativas'!$AA$5:$AA$246=Alternativas!V184)*('Comparación Alternativas'!$AV$5:$AV$246))","v":0},{"$f":"SUMPRODUCT((U184='Comparación Alternativas'!$Z$5:$Z$246)*('Comparación Alternativas'!$AA$5:$AA$246=Alternativas!V184)*('Comparación Alternativas'!$BF$5:$BF$246))","v":0}]
[null,161,{"$f":"IF(C184+SUMPRODUCT(($C$16='Para Ocultar'!$A$2:$A$7)*('Para Ocultar'!$C$2:$C$7))>12,(C184+SUMPRODUCT(($C$16='Para Ocultar'!$A$2:$A$7)*('Para Ocultar'!$C$2:$C$7)))-12,C184+SUMPRODUCT(($C$16='Para Ocultar'!$A$2:$A$7)*('Para Ocultar'!$C$2:$C$7)))","v":6},2035,0,0,0,0,5.1457625080946701E-11,-5.1457625080946701E-11,0,2.2567844142643768E-9,0,0,0,0,{"$f":"SUMPRODUCT((C185='Comparación Alternativas'!$Z$5:$Z$246)*(Alternativas!D185='Comparación Alternativas'!$AA$5:$AA$246)*('Comparación Alternativas'!$AQ$5:$AQ$246))","v":0},{"$f":"SUMPRODUCT((C185='Comparación Alternativas'!$Z$5:$Z$246)*('Comparación Alternativas'!$AA$5:$AA$246=Alternativas!D185)*('Comparación Alternativas'!$BA$5:$BA$246))","v":0},null,161,{"$f":"IF(U184+SUMPRODUCT(($U$16='Para Ocultar'!$A$2:$A$7)*('Para Ocultar'!$C$2:$C$7))>12,(U184+SUMPRODUCT(($U$16='Para Ocultar'!$A$2:$A$7)*('Para Ocultar'!$C$2:$C$7)))-12,U184+SUMPRODUCT(($U$16='Para Ocultar'!$A$2:$A$7)*('Para Ocultar'!$C$2:$C$7)))","v":6},2035,0,0,0,0,-3.5500171100038337E-12,3.5500171100038337E-12,{"$f":"-IF($U$18>=T185,$U$12*$U$15/$U$16,IF($U$17+$U$18>=T185,$U$12*$AB$20,0))","v":0},-4.2955207031046384E-10,-3.5500171100038337E-12,3.5500171100038337E-12,0,-4.2955207031046384E-10,{"$f":"SUMPRODUCT((U185='Comparación Alternativas'!$Z$5:$Z$246)*('Comparación Alternativas'!$AA$5:$AA$246=Alternativas!V185)*('Comparación Alternativas'!$AV$5:$AV$246))","v":0},{"$f":"SUMPRODUCT((U185='Comparación Alternativas'!$Z$5:$Z$246)*('Comparación Alternativas'!$AA$5:$AA$246=Alternativas!V185)*('Comparación Alternativas'!$BF$5:$BF$246))","v":0}]
[null,162,{"$f":"IF(C185+SUMPRODUCT(($C$16='Para Ocultar'!$A$2:$A$7)*('Para Ocultar'!$C$2:$C$7))>12,(C185+SUMPRODUCT(($C$16='Para Ocultar'!$A$2:$A$7)*('Para Ocultar'!$C$2:$C$7)))-12,C185+SUMPRODUCT(($C$16='Para Ocultar'!$A$2:$A$7)*('Para Ocultar'!$C$2:$C$7)))","v":7},2035,0,0,0,0,5.2658302999502126E-11,-5.2658302999502126E-11,0,2.3094427172638788E-9,0,0,0,0,{"$f":"SUMPRODUCT((C186='Comparación Alternativas'!$Z$5:$Z$246)*(Alternativas!D186='Comparación Alternativas'!$AA$5:$AA$246)*('Comparación Alternativas'!$AQ$5:$AQ$246))","v":0},{"$f":"SUMPRODUCT((C186='Comparación Alternativas'!$Z$5:$Z$246)*('Comparación Alternativas'!$AA$5:$AA$246=Alternativas!D186)*('Comparación Alternativas'!$BA$5:$BA$246))","v":0},null,162,{"$f":"IF(U185+SUMPRODUCT(($U$16='Para Ocultar'!$A$2:$A$7)*('Para Ocultar'!$C$2:$C$7))>12,(U185+SUMPRODUCT(($U$16='Para Ocultar'!$A$2:$A$7)*('Para Ocultar'!$C$2:$C$7)))-12,U185+SUMPRODUCT(($U$16='Para Ocultar'!$A$2:$A$7)*('Para Ocultar'!$C$2:$C$7)))","v":7},2035,0,0,0,0,-3.5796005859205323E-12,3.5796005859205323E-12,0,-4.3313167089638438E-10,-3.5796005859205323E-12,3.5796005859205323E-12,0,-4.3313167089638438E-10,{"$f":"SUMPRODUCT((U186='Comparación Alternativas'!$Z$5:$Z$246)*('Comparación Alternativas'!$AA$5:$AA$246=Alternativas!V186)*('Comparación Alternativas'!$AV$5:$AV$246))","v":0},{"$f":"SUMPRODUCT((U186='Comparación Alternativas'!$Z$5:$Z$246)*('Comparación Alternativas'!$AA$5:$AA$246=Alternativas!V186)*('Comparación Alternativas'!$BF$5:$BF$246))","v":0}]
[null,163,{"$f":"IF(C186+SUMPRODUCT(($C$16='Para Ocultar'!$A$2:$A$7)*('Para Ocultar'!$C$2:$C$7))>12,(C186+SUMPRODUCT(($C$16='Para Ocultar'!$A$2:$A$7)*('Para Ocultar'!$C$2:$C$7)))-12,C186+SUMPRODUCT(($C$16='Para Ocultar'!$A$2:$A$7)*('Para Ocultar'!$C$2:$C$7)))","v":8},2035,0,0,0,0,5.3886996736157178E-11,-5.3886996736157178E-11,0,2.3633297140000359E-9,0,0,0,0,{"$f":"SUMPRODUCT((C187='Comparación Alternativas'!$Z$5:$Z$246)*(Alternativas!D187='Comparación Alternativas'!$AA$5:$AA$246)*('Comparación Alternativas'!$AQ$5:$AQ$246))","v":0},{"$f":"SUMPRODUCT((C187='Comparación Alternativas'!$Z$5:$Z$246)*('Comparación Alternativas'!$AA$5:$AA$246=Alternativas!D187)*('Comparación Alternativas'!$BA$5:$BA$246))","v":0},null,163,{"$f":"IF(U186+SUMPRODUCT(($U$16='Para Ocultar'!$A$2:$A$7)*('Para Ocultar'!$C$2:$C$7))>12,(U186+SUMPRODUCT(($U$16='Para Ocultar'!$A$2:$A$7)*('Para Ocultar'!$C$2:$C$7)))-12,U186+SUMPRODUCT(($U$16='Para Ocultar'!$A$2:$A$7)*('Para Ocultar'!$C$2:$C$7)))","v":8},2035,0,0,0,0,-3.609430590803203E-12,3.609430590803203E-12,0,-4.3674110148718758E-10,-3.609430590803203E-12,3.609430590803203E-12,0,-4.3674110148718758E-10,{"$f":"SUMPRODUCT((U187='Comparación Alternativas'!$Z$5:$Z$246)*('Comparación Alternativas'!$AA$5:$AA$246=Alternativas!V187)*('Comparación Alternativas'!$AV$5:$AV$246))","v":0},{"$f":"SUMPRODUCT((U187='Comparación Alternativas'!$Z$5:$Z$246)*('Comparación Alternativas'!$AA$5:$AA$246=Alternativas!V187)*('Comparación Alternativas'!$BF$5:$BF$246))","v":0}]
[null,164,{"$f":"IF(C187+SUMPRODUCT(($C$16='Para Ocultar'!$A$2:$A$7)*('Para Ocultar'!$C$2:$C$7))>12,(C187+SUMPRODUCT(($C$16='Para Ocultar'!$A$2:$A$7)*('Para Ocultar'!$C$2:$C$7)))-12,C187+SUMPRODUCT(($C$16='Para Ocultar'!$A$2:$A$7)*('Para Ocultar'!$C$2:$C$7)))","v":9},2035,0,0,0,0,5.5144359993334177E-11,-5.5144359993334177E-11,0,2.4184740739933699E-9,0,0,0,0,{"$f":"SUMPRODUCT((C188='Comparación Alternativas'!$Z$5:$Z$246)*(Alternativas!D188='Comparación Alternativas'!$AA$5:$AA$246)*('Comparación Alternativas'!$AQ$5:$AQ$246))","v":0},{"$f":"SUMPRODUCT((C188='Comparación Alternativas'!$Z$5:$Z$246)*('Comparación Alternativas'!$AA$5:$AA$246=Alternativas!D188)*('Comparación Alternativas'!$BA$5:$BA$246))","v":0},null,164,{"$f":"IF(U187+SUMPRODUCT(($U$16='Para Ocultar'!$A$2:$A$7)*('Para Ocultar'!$C$2:$C$7))>12,(U187+SUMPRODUCT(($U$16='Para Ocultar'!$A$2:$A$7)*('Para Ocultar'!$C$2:$C$7)))-12,U187+SUMPRODUCT(($U$16='Para Ocultar'!$A$2:$A$7)*('Para Ocultar'!$C$2:$C$7)))","v":9},2035,0,0,0,0,-3.639509179059897E-12,3.639509179059897E-12,0,-4.4038061066624747E-10,-3.639509179059897E-12,3.639509179059897E-12,0,-4.4038061066624747E-10,{"$f":"SUMPRODUCT((U188='Comparación Alternativas'!$Z$5:$Z$246)*('Comparación Alternativas'!$AA$5:$AA$246=Alternativas!V188)*('Comparación Alternativas'!$AV$5:$AV$246))","v":0},{"$f":"SUMPRODUCT((U188='Comparación Alternativas'!$Z$5:$Z$246)*('Comparación Alternativas'!$AA$5:$AA$246=Alternativas!V188)*('Comparación Alternativas'!$BF$5:$BF$246))","v":0}]
[null,165,{"$f":"IF(C188+SUMPRODUCT(($C$16='Para Ocultar'!$A$2:$A$7)*('Para Ocultar'!$C$2:$C$7))>12,(C188+SUMPRODUCT(($C$16='Para Ocultar'!$A$2:$A$7)*('Para Ocultar'!$C$2:$C$7)))-12,C188+SUMPRODUCT(($C$16='Para Ocultar'!$A$2:$A$7)*('Para Ocultar'!$C$2:$C$7)))","v":10},2035,0,0,0,0,5.6431061726511967E-11,-5.6431061726511967E-11,0,2.4749051357198817E-9,0,0,0,0,{"$f":"SUMPRODUCT((C189='Comparación Alternativas'!$Z$5:$Z$246)*(Alternativas!D189='Comparación Alternativas'!$AA$5:$AA$246)*('Comparación Alternativas'!$AQ$5:$AQ$246))","v":0},{"$f":"SUMPRODUCT((C189='Comparación Alternativas'!$Z$5:$Z$246)*('Comparación Alternativas'!$AA$5:$AA$246=Alternativas!D189)*('Comparación Alternativas'!$BA$5:$BA$246))","v":0},null,165,{"$f":"IF(U188+SUMPRODUCT(($U$16='Para Ocultar'!$A$2:$A$7)*('Para Ocultar'!$C$2:$C$7))>12,(U188+SUMPRODUCT(($U$16='Para Ocultar'!$A$2:$A$7)*('Para Ocultar'!$C$2:$C$7)))-12,U188+SUMPRODUCT(($U$16='Para Ocultar'!$A$2:$A$7)*('Para Ocultar'!$C$2:$C$7)))","v":10},2035,0,0,0,0,-3.6698384222187287E-12,3.6698384222187287E-12,0,-4.4405044908846622E-10,-3.6698384222187287E-12,3.6698384222187287E-12,0,-4.4405044908846622E-10,{"$f":"SUMPRODUCT((U189='Comparación Alternativas'!$Z$5:$Z$246)*('Comparación Alternativas'!$AA$5:$AA$246=Alternativas!V189)*('Comparación Alternativas'!$AV$5:$AV$246))","v":0},{"$f":"SUMPRODUCT((U189='Comparación Alternativas'!$Z$5:$Z$246)*('Comparación Alternativas'!$AA$5:$AA$246=Alternativas!V189)*('Comparación Alternativas'!$BF$5:$BF$246))","v":0}]
[null,166,{"$f":"IF(C189+SUMPRODUCT(($C$16='Para Ocultar'!$A$2:$A$7)*('Para Ocultar'!$C$2:$C$7))>12,(C189+SUMPRODUCT(($C$16='Para Ocultar'!$A$2:$A$7)*('Para Ocultar'!$C$2:$C$7)))-12,C189+SUMPRODUCT(($C$16='Para Ocultar'!$A$2:$A$7)*('Para Ocultar'!$C$2:$C$7)))","v":11},2035,0,0,0,0,5.7747786500130578E-11,-5.7747786500130578E-11,0,2.5326529222200123E-9,0,0,0,0,{"$f":"SUMPRODUCT((C190='Comparación Alternativas'!$Z$5:$Z$246)*(Alternativas!D190='Comparación Alternativas'!$AA$5:$AA$246)*('Comparación Alternativas'!$AQ$5:$AQ$246))","v":0},{"$f":"SUMPRODUCT((C190='Comparación Alternativas'!$Z$5:$Z$246)*('Comparación Alternativas'!$AA$5:$AA$246=Alternativas!D190)*('Comparación Alternativas'!$BA$5:$BA$246))","v":0},null,166,{"$f":"IF(U189+SUMPRODUCT(($U$16='Para Ocultar'!$A$2:$A$7)*('Para Ocultar'!$C$2:$C$7))>12,(U189+SUMPRODUCT(($U$16='Para Ocultar'!$A$2:$A$7)*('Para Ocultar'!$C$2:$C$7)))-12,U189+SUMPRODUCT(($U$16='Para Ocultar'!$A$2:$A$7)*('Para Ocultar'!$C$2:$C$7)))","v":11},2035,0,0,0,0,-3.7004204090705519E-12,3.7004204090705519E-12,0,-4.4775086949753677E-10,-3.7004204090705519E-12,3.7004204090705519E-12,0,-4.4775086949753677E-10,{"$f":"SUMPRODUCT((U190='Comparación Alternativas'!$Z$5:$Z$246)*('Comparación Alternativas'!$AA$5:$AA$246=Alternativas!V190)*('Comparación Alternativas'!$AV$5:$AV$246))","v":0},{"$f":"SUMPRODUCT((U190='Comparación Alternativas'!$Z$5:$Z$246)*('Comparación Alternativas'!$AA$5:$AA$246=Alternativas!V190)*('Comparación Alternativas'!$BF$5:$BF$246))","v":0}]
[null,167,{"$f":"IF(C190+SUMPRODUCT(($C$16='Para Ocultar'!$A$2:$A$7)*('Para Ocultar'!$C$2:$C$7))>12,(C190+SUMPRODUCT(($C$16='Para Ocultar'!$A$2:$A$7)*('Para Ocultar'!$C$2:$C$7)))-12,C190+SUMPRODUCT(($C$16='Para Ocultar'!$A$2:$A$7)*('Para Ocultar'!$C$2:$C$7)))","v":12},2035,0,0,0,0,5.9095234851800296E-11,-5.9095234851800296E-11,0,2.5917481570718124E-9,0,0,0,0,{"$f":"SUMPRODUCT((C191='Comparación Alternativas'!$Z$5:$Z$246)*(Alternativas!D191='Comparación Alternativas'!$AA$5:$AA$246)*('Comparación Alternativas'!$AQ$5:$AQ$246))","v":0},{"$f":"SUMPRODUCT((C191='Comparación Alternativas'!$Z$5:$Z$246)*('Comparación Alternativas'!$AA$5:$AA$246=Alternativas!D191)*('Comparación Alternativas'!$BA$5:$BA$246))","v":0},null,167,{"$f":"IF(U190+SUMPRODUCT(($U$16='Para Ocultar'!$A$2:$A$7)*('Para Ocultar'!$C$2:$C$7))>12,(U190+SUMPRODUCT(($U$16='Para Ocultar'!$A$2:$A$7)*('Para Ocultar'!$C$2:$C$7)))-12,U190+SUMPRODUCT(($U$16='Para Ocultar'!$A$2:$A$7)*('Para Ocultar'!$C$2:$C$7)))","v":12},2035,0,0,0,0,-3.7312572458128061E-12,3.7312572458128061E-12,0,-4.5148212674334955E-10,-3.7312572458128061E-12,3.7312572458128061E-12,0,-4.5148212674334955E-10,{"$f":"SUMPRODUCT((U191='Comparación Alternativas'!$Z$5:$Z$246)*('Comparación Alternativas'!$AA$5:$AA$246=Alternativas!V191)*('Comparación Alternativas'!$AV$5:$AV$246))","v":0},{"$f":"SUMPRODUCT((U191='Comparación Alternativas'!$Z$5:$Z$246)*('Comparación Alternativas'!$AA$5:$AA$246=Alternativas!V191)*('Comparación Alternativas'!$BF$5:$BF$246))","v":0}]
[null,168,{"$f":"IF(C191+SUMPRODUCT(($C$16='Para Ocultar'!$A$2:$A$7)*('Para Ocultar'!$C$2:$C$7))>12,(C191+SUMPRODUCT(($C$16='Para Ocultar'!$A$2:$A$7)*('Para Ocultar'!$C$2:$C$7)))-12,C191+SUMPRODUCT(($C$16='Para Ocultar'!$A$2:$A$7)*('Para Ocultar'!$C$2:$C$7)))","v":1},2036,0,0,0,0,6.0474123665008966E-11,-6.0474123665008966E-11,0,2.6522222807368215E-9,0,0,0,0,{"$f":"SUMPRODUCT((C192='Comparación Alternativas'!$Z$5:$Z$246)*(Alternativas!D192='Comparación Alternativas'!$AA$5:$AA$246)*('Comparación Alternativas'!$AQ$5:$AQ$246))","v":0},{"$f":"SUMPRODUCT((C192='Comparación Alternativas'!$Z$5:$Z$246)*('Comparación Alternativas'!$AA$5:$AA$246=Alternativas!D192)*('Comparación Alternativas'!$BA$5:$BA$246))","v":0},null,168,{"$f":"IF(U191+SUMPRODUCT(($U$16='Para Ocultar'!$A$2:$A$7)*('Para Ocultar'!$C$2:$C$7))>12,(U191+SUMPRODUCT(($U$16='Para Ocultar'!$A$2:$A$7)*('Para Ocultar'!$C$2:$C$7)))-12,U191+SUMPRODUCT(($U$16='Para Ocultar'!$A$2:$A$7)*('Para Ocultar'!$C$2:$C$7)))","v":1},2036,0,0,0,0,-3.7623510561945797E-12,3.7623510561945797E-12,0,-4.5524447779954414E-10,-3.7623510561945797E-12,3.7623510561945797E-12,0,-4.5524447779954414E-10,{"$f":"SUMPRODUCT((U192='Comparación Alternativas'!$Z$5:$Z$246)*('Comparación Alternativas'!$AA$5:$AA$246=Alternativas!V192)*('Comparación Alternativas'!$AV$5:$AV$246))","v":0},{"$f":"SUMPRODUCT((U192='Comparación Alternativas'!$Z$5:$Z$246)*('Comparación Alternativas'!$AA$5:$AA$246=Alternativas!V192)*('Comparación Alternativas'!$BF$5:$BF$246))","v":0}]
[null,169,{"$f":"IF(C192+SUMPRODUCT(($C$16='Para Ocultar'!$A$2:$A$7)*('Para Ocultar'!$C$2:$C$7))>12,(C192+SUMPRODUCT(($C$16='Para Ocultar'!$A$2:$A$7)*('Para Ocultar'!$C$2:$C$7)))-12,C192+SUMPRODUCT(($C$16='Para Ocultar'!$A$2:$A$7)*('Para Ocultar'!$C$2:$C$7)))","v":2},2036,0,0,0,0,6.1885186550525836E-11,-6.1885186550525836E-11,0,2.7141074672873472E-9,0,0,0,0,{"$f":"SUMPRODUCT((C193='Comparación Alternativas'!$Z$5:$Z$246)*(Alternativas!D193='Comparación Alternativas'!$AA$5:$AA$246)*('Comparación Alternativas'!$AQ$5:$AQ$246))","v":0},{"$f":"SUMPRODUCT((C193='Comparación Alternativas'!$Z$5:$Z$246)*('Comparación Alternativas'!$AA$5:$AA$246=Alternativas!D193)*('Comparación Alternativas'!$BA$5:$BA$246))","v":0},null,169,{"$f":"IF(U192+SUMPRODUCT(($U$16='Para Ocultar'!$A$2:$A$7)*('Para Ocultar'!$C$2:$C$7))>12,(U192+SUMPRODUCT(($U$16='Para Ocultar'!$A$2:$A$7)*('Para Ocultar'!$C$2:$C$7)))-12,U192+SUMPRODUCT(($U$16='Para Ocultar'!$A$2:$A$7)*('Para Ocultar'!$C$2:$C$7)))","v":2},2036,0,0,0,0,-3.7937039816628685E-12,3.7937039816628685E-12,0,-4.59038181781207E-10,-3.7937039816628685E-12,3.7937039816628685E-12,0,-4.59038181781207E-10,{"$f":"SUMPRODUCT((U193='Comparación Alternativas'!$Z$5:$Z$246)*('Comparación Alternativas'!$AA$5:$AA$246=Alternativas!V193)*('Comparación Alternativas'!$AV$5:$AV$246))","v":0},{"$f":"SUMPRODUCT((U193='Comparación Alternativas'!$Z$5:$Z$246)*('Comparación Alternativas'!$AA$5:$AA$246=Alternativas!V193)*('Comparación Alternativas'!$BF$5:$BF$246))","v":0}]
[null,170,{"$f":"IF(C193+SUMPRODUCT(($C$16='Para Ocultar'!$A$2:$A$7)*('Para Ocultar'!$C$2:$C$7))>12,(C193+SUMPRODUCT(($C$16='Para Ocultar'!$A$2:$A$7)*('Para Ocultar'!$C$2:$C$7)))-12,C193+SUMPRODUCT(($C$16='Para Ocultar'!$A$2:$A$7)*('Para Ocultar'!$C$2:$C$7)))","v":3},2036,0,0,0,0,6.332917423670478E-11,-6.332917423670478E-11,0,2.7774366415240519E-9,0,0,0,0,{"$f":"SUMPRODUCT((C194='Comparación Alternativas'!$Z$5:$Z$246)*(Alternativas!D194='Comparación Alternativas'!$AA$5:$AA$246)*('Comparación Alternativas'!$AQ$5:$AQ$246))","v":0},{"$f":"SUMPRODUCT((C194='Comparación Alternativas'!$Z$5:$Z$246)*('Comparación Alternativas'!$AA$5:$AA$246=Alternativas!D194)*('Comparación Alternativas'!$BA$5:$BA$246))","v":0},null,170,{"$f":"IF(U193+SUMPRODUCT(($U$16='Para Ocultar'!$A$2:$A$7)*('Para Ocultar'!$C$2:$C$7))>12,(U193+SUMPRODUCT(($U$16='Para Ocultar'!$A$2:$A$7)*('Para Ocultar'!$C$2:$C$7)))-12,U193+SUMPRODUCT(($U$16='Para Ocultar'!$A$2:$A$7)*('Para Ocultar'!$C$2:$C$7)))","v":3},2036,0,0,0,0,-3.8253181815100583E-12,3.8253181815100583E-12,0,-4.6286349996271708E-10,-3.8253181815100583E-12,3.8253181815100583E-12,0,-4.6286349996271708E-10,{"$f":"SUMPRODUCT((U194='Comparación Alternativas'!$Z$5:$Z$246)*('Comparación Alternativas'!$AA$5:$AA$246=Alternativas!V194)*('Comparación Alternativas'!$AV$5:$AV$246))","v":0},{"$f":"SUMPRODUCT((U194='Comparación Alternativas'!$Z$5:$Z$246)*('Comparación Alternativas'!$AA$5:$AA$246=Alternativas!V194)*('Comparación Alternativas'!$BF$5:$BF$246))","v":0}]
[null,171,{"$f":"IF(C194+SUMPRODUCT(($C$16='Para Ocultar'!$A$2:$A$7)*('Para Ocultar'!$C$2:$C$7))>12,(C194+SUMPRODUCT(($C$16='Para Ocultar'!$A$2:$A$7)*('Para Ocultar'!$C$2:$C$7)))-12,C194+SUMPRODUCT(($C$16='Para Ocultar'!$A$2:$A$7)*('Para Ocultar'!$C$2:$C$7)))","v":4},2036,0,0,0,0,6.4806854968894552E-11,-6.4806854968894552E-11,0,2.8422434964929467E-9,0,0,0,0,{"$f":"SUMPRODUCT((C195='Comparación Alternativas'!$Z$5:$Z$246)*(Alternativas!D195='Comparación Alternativas'!$AA$5:$AA$246)*('Comparación Alternativas'!$AQ$5:$AQ$246))","v":0},{"$f":"SUMPRODUCT((C195='Comparación Alternativas'!$Z$5:$Z$246)*('Comparación Alternativas'!$AA$5:$AA$246=Alternativas!D195)*('Comparación Alternativas'!$BA$5:$BA$246))","v":0},null,171,{"$f":"IF(U194+SUMPRODUCT(($U$16='Para Ocultar'!$A$2:$A$7)*('Para Ocultar'!$C$2:$C$7))>12,(U194+SUMPRODUCT(($U$16='Para Ocultar'!$A$2:$A$7)*('Para Ocultar'!$C$2:$C$7)))-12,U194+SUMPRODUCT(($U$16='Para Ocultar'!$A$2:$A$7)*('Para Ocultar'!$C$2:$C$7)))","v":4},2036,0,0,0,0,-3.8571958330226424E-12,3.8571958330226424E-12,0,-4.667206957957397E-10,-3.8571958330226424E-12,3.8571958330226424E-12,0,-4.667206957957397E-10,{"$f":"SUMPRODUCT((U195='Comparación Alternativas'!$Z$5:$Z$246)*('Comparación Alternativas'!$AA$5:$AA$246=Alternativas!V195)*('Comparación Alternativas'!$AV$5:$AV$246))","v":0},{"$f":"SUMPRODUCT((U195='Comparación Alternativas'!$Z$5:$Z$246)*('Comparación Alternativas'!$AA$5:$AA$246=Alternativas!V195)*('Comparación Alternativas'!$BF$5:$BF$246))","v":0}]
[null,172,{"$f":"IF(C195+SUMPRODUCT(($C$16='Para Ocultar'!$A$2:$A$7)*('Para Ocultar'!$C$2:$C$7))>12,(C195+SUMPRODUCT(($C$16='Para Ocultar'!$A$2:$A$7)*('Para Ocultar'!$C$2:$C$7)))-12,C195+SUMPRODUCT(($C$16='Para Ocultar'!$A$2:$A$7)*('Para Ocultar'!$C$2:$C$7)))","v":5},2036,0,0,0,0,6.6319014918168757E-11,-6.6319014918168757E-11,0,2.9085625114111155E-9,0,0,0,0,{"$f":"SUMPRODUCT((C196='Comparación Alternativas'!$Z$5:$Z$246)*(Alternativas!D196='Comparación Alternativas'!$AA$5:$AA$246)*('Comparación Alternativas'!$AQ$5:$AQ$246))","v":0},{"$f":"SUMPRODUCT((C196='Comparación Alternativas'!$Z$5:$Z$246)*('Comparación Alternativas'!$AA$5:$AA$246=Alternativas!D196)*('Comparación Alternativas'!$BA$5:$BA$246))","v":0},null,172,{"$f":"IF(U195+SUMPRODUCT(($U$16='Para Ocultar'!$A$2:$A$7)*('Para Ocultar'!$C$2:$C$7))>12,(U195+SUMPRODUCT(($U$16='Para Ocultar'!$A$2:$A$7)*('Para Ocultar'!$C$2:$C$7)))-12,U195+SUMPRODUCT(($U$16='Para Ocultar'!$A$2:$A$7)*('Para Ocultar'!$C$2:$C$7)))","v":5},2036,0,0,0,0,-3.8893391316311648E-12,3.8893391316311648E-12,0,-4.706100349273709E-10,-3.8893391316311648E-12,3.8893391316311648E-12,0,-4.706100349273709E-10,{"$f":"SUMPRODUCT((U196='Comparación Alternativas'!$Z$5:$Z$246)*('Comparación Alternativas'!$AA$5:$AA$246=Alternativas!V196)*('Comparación Alternativas'!$AV$5:$AV$246))","v":0},{"$f":"SUMPRODUCT((U196='Comparación Alternativas'!$Z$5:$Z$246)*('Comparación Alternativas'!$AA$5:$AA$246=Alternativas!V196)*('Comparación Alternativas'!$BF$5:$BF$246))","v":0}]
[null,173,{"$f":"IF(C196+SUMPRODUCT(($C$16='Para Ocultar'!$A$2:$A$7)*('Para Ocultar'!$C$2:$C$7))>12,(C196+SUMPRODUCT(($C$16='Para Ocultar'!$A$2:$A$7)*('Para Ocultar'!$C$2:$C$7)))-12,C196+SUMPRODUCT(($C$16='Para Ocultar'!$A$2:$A$7)*('Para Ocultar'!$C$2:$C$7)))","v":6},2036,0,0,0,0,6.7866458599592702E-11,-6.7866458599592702E-11,0,2.9764289700107083E-9,0,0,0,0,{"$f":"SUMPRODUCT((C197='Comparación Alternativas'!$Z$5:$Z$246)*(Alternativas!D197='Comparación Alternativas'!$AA$5:$AA$246)*('Comparación Alternativas'!$AQ$5:$AQ$246))","v":0},{"$f":"SUMPRODUCT((C197='Comparación Alternativas'!$Z$5:$Z$246)*('Comparación Alternativas'!$AA$5:$AA$246=Alternativas!D197)*('Comparación Alternativas'!$BA$5:$BA$246))","v":0},null,173,{"$f":"IF(U196+SUMPRODUCT(($U$16='Para Ocultar'!$A$2:$A$7)*('Para Ocultar'!$C$2:$C$7))>12,(U196+SUMPRODUCT(($U$16='Para Ocultar'!$A$2:$A$7)*('Para Ocultar'!$C$2:$C$7)))-12,U196+SUMPRODUCT(($U$16='Para Ocultar'!$A$2:$A$7)*('Para Ocultar'!$C$2:$C$7)))","v":6},2036,0,0,0,0,-3.9217502910614242E-12,3.9217502910614242E-12,0,-4.7453178521843235E-10,-3.9217502910614242E-12,3.9217502910614242E-12,0,-4.7453178521843235E-10,{"$f":"SUMPRODUCT((U197='Comparación Alternativas'!$Z$5:$Z$246)*('Comparación Alternativas'!$AA$5:$AA$246=Alternativas!V197)*('Comparación Alternativas'!$AV$5:$AV$246))","v":0},{"$f":"SUMPRODUCT((U197='Comparación Alternativas'!$Z$5:$Z$246)*('Comparación Alternativas'!$AA$5:$AA$246=Alternativas!V197)*('Comparación Alternativas'!$BF$5:$BF$246))","v":0}]
[null,174,{"$f":"IF(C197+SUMPRODUCT(($C$16='Para Ocultar'!$A$2:$A$7)*('Para Ocultar'!$C$2:$C$7))>12,(C197+SUMPRODUCT(($C$16='Para Ocultar'!$A$2:$A$7)*('Para Ocultar'!$C$2:$C$7)))-12,C197+SUMPRODUCT(($C$16='Para Ocultar'!$A$2:$A$7)*('Para Ocultar'!$C$2:$C$7)))","v":7},2036,0,0,0,0,6.9450009300249866E-11,-6.9450009300249866E-11,0,3.045878979310958E-9,0,0,0,0,{"$f":"SUMPRODUCT((C198='Comparación Alternativas'!$Z$5:$Z$246)*(Alternativas!D198='Comparación Alternativas'!$AA$5:$AA$246)*('Comparación Alternativas'!$AQ$5:$AQ$246))","v":0},{"$f":"SUMPRODUCT((C198='Comparación Alternativas'!$Z$5:$Z$246)*('Comparación Alternativas'!$AA$5:$AA$246=Alternativas!D198)*('Comparación Alternativas'!$BA$5:$BA$246))","v":0},null,174,{"$f":"IF(U197+SUMPRODUCT(($U$16='Para Ocultar'!$A$2:$A$7)*('Para Ocultar'!$C$2:$C$7))>12,(U197+SUMPRODUCT(($U$16='Para Ocultar'!$A$2:$A$7)*('Para Ocultar'!$C$2:$C$7)))-12,U197+SUMPRODUCT(($U$16='Para Ocultar'!$A$2:$A$7)*('Para Ocultar'!$C$2:$C$7)))","v":7},2036,0,0,0,0,-3.9544315434869364E-12,3.9544315434869364E-12,0,-4.7848621676191927E-10,-3.9544315434869364E-12,3.9544315434869364E-12,0,-4.7848621676191927E-10,{"$f":"SUMPRODUCT((U198='Comparación Alternativas'!$Z$5:$Z$246)*('Comparación Alternativas'!$AA$5:$AA$246=Alternativas!V198)*('Comparación Alternativas'!$AV$5:$AV$246))","v":0},{"$f":"SUMPRODUCT((U198='Comparación Alternativas'!$Z$5:$Z$246)*('Comparación Alternativas'!$AA$5:$AA$246=Alternativas!V198)*('Comparación Alternativas'!$BF$5:$BF$246))","v":0}]
[null,175,{"$f":"IF(C198+SUMPRODUCT(($C$16='Para Ocultar'!$A$2:$A$7)*('Para Ocultar'!$C$2:$C$7))>12,(C198+SUMPRODUCT(($C$16='Para Ocultar'!$A$2:$A$7)*('Para Ocultar'!$C$2:$C$7)))-12,C198+SUMPRODUCT(($C$16='Para Ocultar'!$A$2:$A$7)*('Para Ocultar'!$C$2:$C$7)))","v":8},2036,0,0,0,0,7.1070509517255692E-11,-7.1070509517255692E-11,0,3.1169494888282135E-9,0,0,0,0,{"$f":"SUMPRODUCT((C199='Comparación Alternativas'!$Z$5:$Z$246)*(Alternativas!D199='Comparación Alternativas'!$AA$5:$AA$246)*('Comparación Alternativas'!$AQ$5:$AQ$246))","v":0},{"$f":"SUMPRODUCT((C199='Comparación Alternativas'!$Z$5:$Z$246)*('Comparación Alternativas'!$AA$5:$AA$246=Alternativas!D199)*('Comparación Alternativas'!$BA$5:$BA$246))","v":0},null,175,{"$f":"IF(U198+SUMPRODUCT(($U$16='Para Ocultar'!$A$2:$A$7)*('Para Ocultar'!$C$2:$C$7))>12,(U198+SUMPRODUCT(($U$16='Para Ocultar'!$A$2:$A$7)*('Para Ocultar'!$C$2:$C$7)))-12,U198+SUMPRODUCT(($U$16='Para Ocultar'!$A$2:$A$7)*('Para Ocultar'!$C$2:$C$7)))","v":8},2036,0,0,0,0,-3.9873851396826611E-12,3.9873851396826611E-12,0,-4.8247360190160189E-10,-3.9873851396826611E-12,3.9873851396826611E-12,0,-4.8247360190160189E-10,{"$f":"SUMPRODUCT((U199='Comparación Alternativas'!$Z$5:$Z$246)*('Comparación Alternativas'!$AA$5:$AA$246=Alternativas!V199)*('Comparación Alternativas'!$AV$5:$AV$246))","v":0},{"$f":"SUMPRODUCT((U199='Comparación Alternativas'!$Z$5:$Z$246)*('Comparación Alternativas'!$AA$5:$AA$246=Alternativas!V199)*('Comparación Alternativas'!$BF$5:$BF$246))","v":0}]
[null,176,{"$f":"IF(C199+SUMPRODUCT(($C$16='Para Ocultar'!$A$2:$A$7)*('Para Ocultar'!$C$2:$C$7))>12,(C199+SUMPRODUCT(($C$16='Para Ocultar'!$A$2:$A$7)*('Para Ocultar'!$C$2:$C$7)))-12,C199+SUMPRODUCT(($C$16='Para Ocultar'!$A$2:$A$7)*('Para Ocultar'!$C$2:$C$7)))","v":9},2036,0,0,0,0,7.2728821405991659E-11,-7.2728821405991659E-11,0,3.1896783102342052E-9,0,0,0,0,{"$f":"SUMPRODUCT((C200='Comparación Alternativas'!$Z$5:$Z$246)*(Alternativas!D200='Comparación Alternativas'!$AA$5:$AA$246)*('Comparación Alternativas'!$AQ$5:$AQ$246))","v":0},{"$f":"SUMPRODUCT((C200='Comparación Alternativas'!$Z$5:$Z$246)*('Comparación Alternativas'!$AA$5:$AA$246=Alternativas!D200)*('Comparación Alternativas'!$BA$5:$BA$246))","v":0},null,176,{"$f":"IF(U199+SUMPRODUCT(($U$16='Para Ocultar'!$A$2:$A$7)*('Para Ocultar'!$C$2:$C$7))>12,(U199+SUMPRODUCT(($U$16='Para Ocultar'!$A$2:$A$7)*('Para Ocultar'!$C$2:$C$7)))-12,U199+SUMPRODUCT(($U$16='Para Ocultar'!$A$2:$A$7)*('Para Ocultar'!$C$2:$C$7)))","v":9},2036,0,0,0,0,-4.0206133491800157E-12,4.0206133491800157E-12,0,-4.8649421525078193E-10,-4.0206133491800157E-12,4.0206133491800157E-12,0,-4.8649421525078193E-10,{"$f":"SUMPRODUCT((U200='Comparación Alternativas'!$Z$5:$Z$246)*('Comparación Alternativas'!$AA$5:$AA$246=Alternativas!V200)*('Comparación Alternativas'!$AV$5:$AV$246))","v":0},{"$f":"SUMPRODUCT((U200='Comparación Alternativas'!$Z$5:$Z$246)*('Comparación Alternativas'!$AA$5:$AA$246=Alternativas!V200)*('Comparación Alternativas'!$BF$5:$BF$246))","v":0}]
[null,177,{"$f":"IF(C200+SUMPRODUCT(($C$16='Para Ocultar'!$A$2:$A$7)*('Para Ocultar'!$C$2:$C$7))>12,(C200+SUMPRODUCT(($C$16='Para Ocultar'!$A$2:$A$7)*('Para Ocultar'!$C$2:$C$7)))-12,C200+SUMPRODUCT(($C$16='Para Ocultar'!$A$2:$A$7)*('Para Ocultar'!$C$2:$C$7)))","v":10},2036,0,0,0,0,7.4425827238798135E-11,-7.4425827238798135E-11,0,3.2641041374730035E-9,0,0,0,0,{"$f":"SUMPRODUCT((C201='Comparación Alternativas'!$Z$5:$Z$246)*(Alternativas!D201='Comparación Alternativas'!$AA$5:$AA$246)*('Comparación Alternativas'!$AQ$5:$AQ$246))","v":0},{"$f":"SUMPRODUCT((C201='Comparación Alternativas'!$Z$5:$Z$246)*('Comparación Alternativas'!$AA$5:$AA$246=Alternativas!D201)*('Comparación Alternativas'!$BA$5:$BA$246))","v":0},null,177,{"$f":"IF(U200+SUMPRODUCT(($U$16='Para Ocultar'!$A$2:$A$7)*('Para Ocultar'!$C$2:$C$7))>12,(U200+SUMPRODUCT(($U$16='Para Ocultar'!$A$2:$A$7)*('Para Ocultar'!$C$2:$C$7)))-12,U200+SUMPRODUCT(($U$16='Para Ocultar'!$A$2:$A$7)*('Para Ocultar'!$C$2:$C$7)))","v":10},2036,0,0,0,0,-4.0541184604231834E-12,4.0541184604231834E-12,0,-4.905483337112051E-10,-4.0541184604231834E-12,4.0541184604231834E-12,0,-4.905483337112051E-10,{"$f":"SUMPRODUCT((U201='Comparación Alternativas'!$Z$5:$Z$246)*('Comparación Alternativas'!$AA$5:$AA$246=Alternativas!V201)*('Comparación Alternativas'!$AV$5:$AV$246))","v":0},{"$f":"SUMPRODUCT((U201='Comparación Alternativas'!$Z$5:$Z$246)*('Comparación Alternativas'!$AA$5:$AA$246=Alternativas!V201)*('Comparación Alternativas'!$BF$5:$BF$246))","v":0}]
[null,178,{"$f":"IF(C201+SUMPRODUCT(($C$16='Para Ocultar'!$A$2:$A$7)*('Para Ocultar'!$C$2:$C$7))>12,(C201+SUMPRODUCT(($C$16='Para Ocultar'!$A$2:$A$7)*('Para Ocultar'!$C$2:$C$7)))-12,C201+SUMPRODUCT(($C$16='Para Ocultar'!$A$2:$A$7)*('Para Ocultar'!$C$2:$C$7)))","v":11},2036,0,0,0,0,7.6162429874370089E-11,-7.6162429874370089E-11,0,3.3402665673473735E-9,0,0,0,0,{"$f":"SUMPRODUCT((C202='Comparación Alternativas'!$Z$5:$Z$246)*(Alternativas!D202='Comparación Alternativas'!$AA$5:$AA$246)*('Comparación Alternativas'!$AQ$5:$AQ$246))","v":0},{"$f":"SUMPRODUCT((C202='Comparación Alternativas'!$Z$5:$Z$246)*('Comparación Alternativas'!$AA$5:$AA$246=Alternativas!D202)*('Comparación Alternativas'!$BA$5:$BA$246))","v":0},null,178,{"$f":"IF(U201+SUMPRODUCT(($U$16='Para Ocultar'!$A$2:$A$7)*('Para Ocultar'!$C$2:$C$7))>12,(U201+SUMPRODUCT(($U$16='Para Ocultar'!$A$2:$A$7)*('Para Ocultar'!$C$2:$C$7)))-12,U201+SUMPRODUCT(($U$16='Para Ocultar'!$A$2:$A$7)*('Para Ocultar'!$C$2:$C$7)))","v":11},2036,0,0,0,0,-4.0879027809267095E-12,4.0879027809267095E-12,0,-4.9463623649213181E-10,-4.0879027809267095E-12,4.0879027809267095E-12,0,-4.9463623649213181E-10,{"$f":"SUMPRODUCT((U202='Comparación Alternativas'!$Z$5:$Z$246)*('Comparación Alternativas'!$AA$5:$AA$246=Alternativas!V202)*('Comparación Alternativas'!$AV$5:$AV$246))","v":0},{"$f":"SUMPRODUCT((U202='Comparación Alternativas'!$Z$5:$Z$246)*('Comparación Alternativas'!$AA$5:$AA$246=Alternativas!V202)*('Comparación Alternativas'!$BF$5:$BF$246))","v":0}]
[null,179,{"$f":"IF(C202+SUMPRODUCT(($C$16='Para Ocultar'!$A$2:$A$7)*('Para Ocultar'!$C$2:$C$7))>12,(C202+SUMPRODUCT(($C$16='Para Ocultar'!$A$2:$A$7)*('Para Ocultar'!$C$2:$C$7)))-12,C202+SUMPRODUCT(($C$16='Para Ocultar'!$A$2:$A$7)*('Para Ocultar'!$C$2:$C$7)))","v":12},2036,0,0,0,0,7.7939553238105385E-11,-7.7939553238105385E-11,0,3.4182061205854789E-9,0,0,0,0,{"$f":"SUMPRODUCT((C203='Comparación Alternativas'!$Z$5:$Z$246)*(Alternativas!D203='Comparación Alternativas'!$AA$5:$AA$246)*('Comparación Alternativas'!$AQ$5:$AQ$246))","v":0},{"$f":"SUMPRODUCT((C203='Comparación Alternativas'!$Z$5:$Z$246)*('Comparación Alternativas'!$AA$5:$AA$246=Alternativas!D203)*('Comparación Alternativas'!$BA$5:$BA$246))","v":0},null,179,{"$f":"IF(U202+SUMPRODUCT(($U$16='Para Ocultar'!$A$2:$A$7)*('Para Ocultar'!$C$2:$C$7))>12,(U202+SUMPRODUCT(($U$16='Para Ocultar'!$A$2:$A$7)*('Para Ocultar'!$C$2:$C$7)))-12,U202+SUMPRODUCT(($U$16='Para Ocultar'!$A$2:$A$7)*('Para Ocultar'!$C$2:$C$7)))","v":12},2036,0,0,0,0,-4.1219686374344319E-12,4.1219686374344319E-12,0,-4.9875820512956627E-10,-4.1219686374344319E-12,4.1219686374344319E-12,0,-4.9875820512956627E-10,{"$f":"SUMPRODUCT((U203='Comparación Alternativas'!$Z$5:$Z$246)*('Comparación Alternativas'!$AA$5:$AA$246=Alternativas!V203)*('Comparación Alternativas'!$AV$5:$AV$246))","v":0},{"$f":"SUMPRODUCT((U203='Comparación Alternativas'!$Z$5:$Z$246)*('Comparación Alternativas'!$AA$5:$AA$246=Alternativas!V203)*('Comparación Alternativas'!$BF$5:$BF$246))","v":0}]
[null,180,{"$f":"IF(C203+SUMPRODUCT(($C$16='Para Ocultar'!$A$2:$A$7)*('Para Ocultar'!$C$2:$C$7))>12,(C203+SUMPRODUCT(($C$16='Para Ocultar'!$A$2:$A$7)*('Para Ocultar'!$C$2:$C$7)))-12,C203+SUMPRODUCT(($C$16='Para Ocultar'!$A$2:$A$7)*('Para Ocultar'!$C$2:$C$7)))","v":1},2037,0,{"$f":"-H203*($C$15/$C$16)","v":0},{"$f":"F204+E204","v":0},{"$f":"E204+H203","v":0},{"$f":"L203-L203+K204-J204","v":7.9758142813661177E-11},{"$f":"-L203*$C$15/$C$16","v":-7.9758142813661177E-11},0,{"$f":"L203+I204","v":3.4979642633991401E-9},0,0,0,0,{"$f":"SUMPRODUCT((C204='Comparación Alternativas'!$Z$5:$Z$246)*(Alternativas!D204='Comparación Alternativas'!$AA$5:$AA$246)*('Comparación Alternativas'!$AQ$5:$AQ$246))","v":0},{"$f":"SUMPRODUCT((C204='Comparación Alternativas'!$Z$5:$Z$246)*('Comparación Alternativas'!$AA$5:$AA$246=Alternativas!D204)*('Comparación Alternativas'!$BA$5:$BA$246))","v":0},null,180,{"$f":"IF(U203+SUMPRODUCT(($U$16='Para Ocultar'!$A$2:$A$7)*('Para Ocultar'!$C$2:$C$7))>12,(U203+SUMPRODUCT(($U$16='Para Ocultar'!$A$2:$A$7)*('Para Ocultar'!$C$2:$C$7)))-12,U203+SUMPRODUCT(($U$16='Para Ocultar'!$A$2:$A$7)*('Para Ocultar'!$C$2:$C$7)))","v":1},2037,0,0,{"$f":"X204+W204","v":0},{"$f":"W204+Z203","v":0},{"$f":"AD203-AD203+AC204-AB204","v":-4.1563183760797188E-12},4.1563183760797188E-12,0,{"$f":"AD203+AA204","v":-5.0291452350564598E-10},-4.1563183760797188E-12,4.1563183760797188E-12,0,-5.0291452350564598E-10,{"$f":"SUMPRODUCT((U204='Comparación Alternativas'!$Z$5:$Z$246)*('Comparación Alternativas'!$AA$5:$AA$246=Alternativas!V204)*('Comparación Alternativas'!$AV$5:$AV$246))","v":0},{"$f":"SUMPRODUCT((U204='Comparación Alternativas'!$Z$5:$Z$246)*('Comparación Alternativas'!$AA$5:$AA$246=Alternativas!V204)*('Comparación Alternativas'!$BF$5:$BF$246))","v":0}]
[null,181,{"$f":"IF(C204+SUMPRODUCT(($C$16='Para Ocultar'!$A$2:$A$7)*('Para Ocultar'!$C$2:$C$7))>12,(C204+SUMPRODUCT(($C$16='Para Ocultar'!$A$2:$A$7)*('Para Ocultar'!$C$2:$C$7)))-12,C204+SUMPRODUCT(($C$16='Para Ocultar'!$A$2:$A$7)*('Para Ocultar'!$C$2:$C$7)))","v":2},2037,0,0,0,0,8.1619166145979938E-11,-8.1619166145979938E-11,0,3.5795834295451201E-9,0,0,0,0,{"$f":"SUMPRODUCT((C205='Comparación Alternativas'!$Z$5:$Z$246)*(Alternativas!D205='Comparación Alternativas'!$AA$5:$AA$246)*('Comparación Alternativas'!$AQ$5:$AQ$246))","v":0},{"$f":"SUMPRODUCT((C205='Comparación Alternativas'!$Z$5:$Z$246)*('Comparación Alternativas'!$AA$5:$AA$246=Alternativas!D205)*('Comparación Alternativas'!$BA$5:$BA$246))","v":0},null,181,{"$f":"IF(U204+SUMPRODUCT(($U$16='Para Ocultar'!$A$2:$A$7)*('Para Ocultar'!$C$2:$C$7))>12,(U204+SUMPRODUCT(($U$16='Para Ocultar'!$A$2:$A$7)*('Para Ocultar'!$C$2:$C$7)))-12,U204+SUMPRODUCT(($U$16='Para Ocultar'!$A$2:$A$7)*('Para Ocultar'!$C$2:$C$7)))","v":2},2037,0,0,0,0,-4.1909543625470501E-12,4.1909543625470501E-12,0,-5.0710547786819307E-10,-4.1909543625470501E-12,4.1909543625470501E-12,0,-5.0710547786819307E-10,{"$f":"SUMPRODUCT((U205='Comparación Alternativas'!$Z$5:$Z$246)*('Comparación Alternativas'!$AA$5:$AA$246=Alternativas!V205)*('Comparación Alternativas'!$AV$5:$AV$246))","v":0},{"$f":"SUMPRODUCT((U205='Comparación Alternativas'!$Z$5:$Z$246)*('Comparación Alternativas'!$AA$5:$AA$246=Alternativas!V205)*('Comparación Alternativas'!$BF$5:$BF$246))","v":0}]
[null,182,{"$f":"IF(C205+SUMPRODUCT(($C$16='Para Ocultar'!$A$2:$A$7)*('Para Ocultar'!$C$2:$C$7))>12,(C205+SUMPRODUCT(($C$16='Para Ocultar'!$A$2:$A$7)*('Para Ocultar'!$C$2:$C$7)))-12,C205+SUMPRODUCT(($C$16='Para Ocultar'!$A$2:$A$7)*('Para Ocultar'!$C$2:$C$7)))","v":3},2037,0,0,0,0,8.3523613356052823E-11,-8.3523613356052823E-11,0,3.6631070429011729E-9,0,0,0,0,{"$f":"SUMPRODUCT((C206='Comparación Alternativas'!$Z$5:$Z$246)*(Alternativas!D206='Comparación Alternativas'!$AA$5:$AA$246)*('Comparación Alternativas'!$AQ$5:$AQ$246))","v":0},{"$f":"SUMPRODUCT((C206='Comparación Alternativas'!$Z$5:$Z$246)*('Comparación Alternativas'!$AA$5:$AA$246=Alternativas!D206)*('Comparación Alternativas'!$BA$5:$BA$246))","v":0},null,182,{"$f":"IF(U205+SUMPRODUCT(($U$16='Para Ocultar'!$A$2:$A$7)*('Para Ocultar'!$C$2:$C$7))>12,(U205+SUMPRODUCT(($U$16='Para Ocultar'!$A$2:$A$7)*('Para Ocultar'!$C$2:$C$7)))-12,U205+SUMPRODUCT(($U$16='Para Ocultar'!$A$2:$A$7)*('Para Ocultar'!$C$2:$C$7)))","v":3},2037,0,0,0,0,-4.2258789822349421E-12,4.2258789822349421E-12,0,-5.1133135685042802E-10,-4.2258789822349421E-12,4.2258789822349421E-12,0,-5.1133135685042802E-10,{"$f":"SUMPRODUCT((U206='Comparación Alternativas'!$Z$5:$Z$246)*('Comparación Alternativas'!$AA$5:$AA$246=Alternativas!V206)*('Comparación Alternativas'!$AV$5:$AV$246))","v":0},{"$f":"SUMPRODUCT((U206='Comparación Alternativas'!$Z$5:$Z$246)*('Comparación Alternativas'!$AA$5:$AA$246=Alternativas!V206)*('Comparación Alternativas'!$BF$5:$BF$246))","v":0}]
[null,183,{"$f":"IF(C206+SUMPRODUCT(($C$16='Para Ocultar'!$A$2:$A$7)*('Para Ocultar'!$C$2:$C$7))>12,(C206+SUMPRODUCT(($C$16='Para Ocultar'!$A$2:$A$7)*('Para Ocultar'!$C$2:$C$7)))-12,C206+SUMPRODUCT(($C$16='Para Ocultar'!$A$2:$A$7)*('Para Ocultar'!$C$2:$C$7)))","v":4},2037,0,0,0,0,8.5472497667694042E-11,-8.5472497667694042E-11,0,3.7485795405688673E-9,0,0,0,0,{"$f":"SUMPRODUCT((C207='Comparación Alternativas'!$Z$5:$Z$246)*(Alternativas!D207='Comparación Alternativas'!$AA$5:$AA$246)*('Comparación Alternativas'!$AQ$5:$AQ$246))","v":0},{"$f":"SUMPRODUCT((C207='Comparación Alternativas'!$Z$5:$Z$246)*('Comparación Alternativas'!$AA$5:$AA$246=Alternativas!D207)*('Comparación Alternativas'!$BA$5:$BA$246))","v":0},null,183,{"$f":"IF(U206+SUMPRODUCT(($U$16='Para Ocultar'!$A$2:$A$7)*('Para Ocultar'!$C$2:$C$7))>12,(U206+SUMPRODUCT(($U$16='Para Ocultar'!$A$2:$A$7)*('Para Ocultar'!$C$2:$C$7)))-12,U206+SUMPRODUCT(($U$16='Para Ocultar'!$A$2:$A$7)*('Para Ocultar'!$C$2:$C$7)))","v":4},2037,0,0,0,0,-4.2610946404202333E-12,4.2610946404202333E-12,0,-5.1559245149084823E-10,-4.2610946404202333E-12,4.2610946404202333E-12,0,-5.1559245149084823E-10,{"$f":"SUMPRODUCT((U207='Comparación Alternativas'!$Z$5:$Z$246)*('Comparación Alternativas'!$AA$5:$AA$246=Alternativas!V207)*('Comparación Alternativas'!$AV$5:$AV$246))","v":0},{"$f":"SUMPRODUCT((U207='Comparación Alternativas'!$Z$5:$Z$246)*('Comparación Alternativas'!$AA$5:$AA$246=Alternativas!V207)*('Comparación Alternativas'!$BF$5:$BF$246))","v":0}]
[null,184,{"$f":"IF(C207+SUMPRODUCT(($C$16='Para Ocultar'!$A$2:$A$7)*('Para Ocultar'!$C$2:$C$7))>12,(C207+SUMPRODUCT(($C$16='Para Ocultar'!$A$2:$A$7)*('Para Ocultar'!$C$2:$C$7)))-12,C207+SUMPRODUCT(($C$16='Para Ocultar'!$A$2:$A$7)*('Para Ocultar'!$C$2:$C$7)))","v":5},2037,0,0,0,0,8.7466855946606904E-11,-8.7466855946606904E-11,0,3.8360463965154738E-9,0,0,0,0,{"$f":"SUMPRODUCT((C208='Comparación Alternativas'!$Z$5:$Z$246)*(Alternativas!D208='Comparación Alternativas'!$AA$5:$AA$246)*('Comparación Alternativas'!$AQ$5:$AQ$246))","v":0},{"$f":"SUMPRODUCT((C208='Comparación Alternativas'!$Z$5:$Z$246)*('Comparación Alternativas'!$AA$5:$AA$246=Alternativas!D208)*('Comparación Alternativas'!$BA$5:$BA$246))","v":0},null,184,{"$f":"IF(U207+SUMPRODUCT(($U$16='Para Ocultar'!$A$2:$A$7)*('Para Ocultar'!$C$2:$C$7))>12,(U207+SUMPRODUCT(($U$16='Para Ocultar'!$A$2:$A$7)*('Para Ocultar'!$C$2:$C$7)))-12,U207+SUMPRODUCT(($U$16='Para Ocultar'!$A$2:$A$7)*('Para Ocultar'!$C$2:$C$7)))","v":5},2037,0,0,0,0,-4.2966037624237356E-12,4.2966037624237356E-12,0,-5.1988905525327193E-10,-4.2966037624237356E-12,4.2966037624237356E-12,0,-5.1988905525327193E-10,{"$f":"SUMPRODUCT((U208='Comparación Alternativas'!$Z$5:$Z$246)*('Comparación Alternativas'!$AA$5:$AA$246=Alternativas!V208)*('Comparación Alternativas'!$AV$5:$AV$246))","v":0},{"$f":"SUMPRODUCT((U208='Comparación Alternativas'!$Z$5:$Z$246)*('Comparación Alternativas'!$AA$5:$AA$246=Alternativas!V208)*('Comparación Alternativas'!$BF$5:$BF$246))","v":0}]
[null,185,{"$f":"IF(C208+SUMPRODUCT(($C$16='Para Ocultar'!$A$2:$A$7)*('Para Ocultar'!$C$2:$C$7))>12,(C208+SUMPRODUCT(($C$16='Para Ocultar'!$A$2:$A$7)*('Para Ocultar'!$C$2:$C$7)))-12,C208+SUMPRODUCT(($C$16='Para Ocultar'!$A$2:$A$7)*('Para Ocultar'!$C$2:$C$7)))","v":6},2037,0,0,0,0,8.9507749252027724E-11,-8.9507749252027724E-11,0,3.9255541457675013E-9,0,0,0,0,{"$f":"SUMPRODUCT((C209='Comparación Alternativas'!$Z$5:$Z$246)*(Alternativas!D209='Comparación Alternativas'!$AA$5:$AA$246)*('Comparación Alternativas'!$AQ$5:$AQ$246))","v":0},{"$f":"SUMPRODUCT((C209='Comparación Alternativas'!$Z$5:$Z$246)*('Comparación Alternativas'!$AA$5:$AA$246=Alternativas!D209)*('Comparación Alternativas'!$BA$5:$BA$246))","v":0},null,185,{"$f":"IF(U208+SUMPRODUCT(($U$16='Para Ocultar'!$A$2:$A$7)*('Para Ocultar'!$C$2:$C$7))>12,(U208+SUMPRODUCT(($U$16='Para Ocultar'!$A$2:$A$7)*('Para Ocultar'!$C$2:$C$7)))-12,U208+SUMPRODUCT(($U$16='Para Ocultar'!$A$2:$A$7)*('Para Ocultar'!$C$2:$C$7)))","v":6},2037,0,0,0,0,-4.3324087937772663E-12,4.3324087937772663E-12,0,-5.2422146404704915E-10,-4.3324087937772663E-12,4.3324087937772663E-12,0,-5.2422146404704915E-10,{"$f":"SUMPRODUCT((U209='Comparación Alternativas'!$Z$5:$Z$246)*('Comparación Alternativas'!$AA$5:$AA$246=Alternativas!V209)*('Comparación Alternativas'!$AV$5:$AV$246))","v":0},{"$f":"SUMPRODUCT((U209='Comparación Alternativas'!$Z$5:$Z$246)*('Comparación Alternativas'!$AA$5:$AA$246=Alternativas!V209)*('Comparación Alternativas'!$BF$5:$BF$246))","v":0}]
[null,186,{"$f":"IF(C209+SUMPRODUCT(($C$16='Para Ocultar'!$A$2:$A$7)*('Para Ocultar'!$C$2:$C$7))>12,(C209+SUMPRODUCT(($C$16='Para Ocultar'!$A$2:$A$7)*('Para Ocultar'!$C$2:$C$7)))-12,C209+SUMPRODUCT(($C$16='Para Ocultar'!$A$2:$A$7)*('Para Ocultar'!$C$2:$C$7)))","v":7},2037,0,0,0,0,9.1596263401241695E-11,-9.1596263401241695E-11,0,4.0171504091687433E-9,0,0,0,0,{"$f":"SUMPRODUCT((C210='Comparación Alternativas'!$Z$5:$Z$246)*(Alternativas!D210='Comparación Alternativas'!$AA$5:$AA$246)*('Comparación Alternativas'!$AQ$5:$AQ$246))","v":0},{"$f":"SUMPRODUCT((C210='Comparación Alternativas'!$Z$5:$Z$246)*('Comparación Alternativas'!$AA$5:$AA$246=Alternativas!D210)*('Comparación Alternativas'!$BA$5:$BA$246))","v":0},null,186,{"$f":"IF(U209+SUMPRODUCT(($U$16='Para Ocultar'!$A$2:$A$7)*('Para Ocultar'!$C$2:$C$7))>12,(U209+SUMPRODUCT(($U$16='Para Ocultar'!$A$2:$A$7)*('Para Ocultar'!$C$2:$C$7)))-12,U209+SUMPRODUCT(($U$16='Para Ocultar'!$A$2:$A$7)*('Para Ocultar'!$C$2:$C$7)))","v":7},2037,0,0,0,0,-4.3685122003920763E-12,4.3685122003920763E-12,0,-5.2858997624744122E-10,-4.3685122003920763E-12,4.3685122003920763E-12,0,-5.2858997624744122E-10,{"$f":"SUMPRODUCT((U210='Comparación Alternativas'!$Z$5:$Z$246)*('Comparación Alternativas'!$AA$5:$AA$246=Alternativas!V210)*('Comparación Alternativas'!$AV$5:$AV$246))","v":0},{"$f":"SUMPRODUCT((U210='Comparación Alternativas'!$Z$5:$Z$246)*('Comparación Alternativas'!$AA$5:$AA$246=Alternativas!V210)*('Comparación Alternativas'!$BF$5:$BF$246))","v":0}]
[null,187,{"$f":"IF(C210+SUMPRODUCT(($C$16='Para Ocultar'!$A$2:$A$7)*('Para Ocultar'!$C$2:$C$7))>12,(C210+SUMPRODUCT(($C$16='Para Ocultar'!$A$2:$A$7)*('Para Ocultar'!$C$2:$C$7)))-12,C210+SUMPRODUCT(($C$16='Para Ocultar'!$A$2:$A$7)*('Para Ocultar'!$C$2:$C$7)))","v":8},2037,0,0,0,0,9.3733509547270679E-11,-9.3733509547270679E-11,0,4.1108839187160141E-9,0,0,0,0,{"$f":"SUMPRODUCT((C211='Comparación Alternativas'!$Z$5:$Z$246)*(Alternativas!D211='Comparación Alternativas'!$AA$5:$AA$246)*('Comparación Alternativas'!$AQ$5:$AQ$246))","v":0},{"$f":"SUMPRODUCT((C211='Comparación Alternativas'!$Z$5:$Z$246)*('Comparación Alternativas'!$AA$5:$AA$246=Alternativas!D211)*('Comparación Alternativas'!$BA$5:$BA$246))","v":0},null,187,{"$f":"IF(U210+SUMPRODUCT(($U$16='Para Ocultar'!$A$2:$A$7)*('Para Ocultar'!$C$2:$C$7))>12,(U210+SUMPRODUCT(($U$16='Para Ocultar'!$A$2:$A$7)*('Para Ocultar'!$C$2:$C$7)))-12,U210+SUMPRODUCT(($U$16='Para Ocultar'!$A$2:$A$7)*('Para Ocultar'!$C$2:$C$7)))","v":8},2037,0,0,0,0,-4.404916468728677E-12,4.404916468728677E-12,0,-5.3299489271616987E-10,-4.404916468728677E-12,4.404916468728677E-12,0,-5.3299489271616987E-10,{"$f":"SUMPRODUCT((U211='Comparación Alternativas'!$Z$5:$Z$246)*('Comparación Alternativas'!$AA$5:$AA$246=Alternativas!V211)*('Comparación Alternativas'!$AV$5:$AV$246))","v":0},{"$f":"SUMPRODUCT((U211='Comparación Alternativas'!$Z$5:$Z$246)*('Comparación Alternativas'!$AA$5:$AA$246=Alternativas!V211)*('Comparación Alternativas'!$BF$5:$BF$246))","v":0}]
[null,188,{"$f":"IF(C211+SUMPRODUCT(($C$16='Para Ocultar'!$A$2:$A$7)*('Para Ocultar'!$C$2:$C$7))>12,(C211+SUMPRODUCT(($C$16='Para Ocultar'!$A$2:$A$7)*('Para Ocultar'!$C$2:$C$7)))-12,C211+SUMPRODUCT(($C$16='Para Ocultar'!$A$2:$A$7)*('Para Ocultar'!$C$2:$C$7)))","v":9},2037,0,0,0,0,9.5920624770040335E-11,-9.5920624770040335E-11,0,4.2068045434860542E-9,0,0,0,0,{"$f":"SUMPRODUCT((C212='Comparación Alternativas'!$Z$5:$Z$246)*(Alternativas!D212='Comparación Alternativas'!$AA$5:$AA$246)*('Comparación Alternativas'!$AQ$5:$AQ$246))","v":0},{"$f":"SUMPRODUCT((C212='Comparación Alternativas'!$Z$5:$Z$246)*('Comparación Alternativas'!$AA$5:$AA$246=Alternativas!D212)*('Comparación Alternativas'!$BA$5:$BA$246))","v":0},null,188,{"$f":"IF(U211+SUMPRODUCT(($U$16='Para Ocultar'!$A$2:$A$7)*('Para Ocultar'!$C$2:$C$7))>12,(U211+SUMPRODUCT(($U$16='Para Ocultar'!$A$2:$A$7)*('Para Ocultar'!$C$2:$C$7)))-12,U211+SUMPRODUCT(($U$16='Para Ocultar'!$A$2:$A$7)*('Para Ocultar'!$C$2:$C$7)))","v":9},2037,0,0,0,0,-4.4416241059680824E-12,4.4416241059680824E-12,0,-5.374365168221379E-10,-4.4416241059680824E-12,4.4416241059680824E-12,0,-5.374365168221379E-10,{"$f":"SUMPRODUCT((U212='Comparación Alternativas'!$Z$5:$Z$246)*('Comparación Alternativas'!$AA$5:$AA$246=Alternativas!V212)*('Comparación Alternativas'!$AV$5:$AV$246))","v":0},{"$f":"SUMPRODUCT((U212='Comparación Alternativas'!$Z$5:$Z$246)*('Comparación Alternativas'!$AA$5:$AA$246=Alternativas!V212)*('Comparación Alternativas'!$BF$5:$BF$246))","v":0}]
[null,189,{"$f":"IF(C212+SUMPRODUCT(($C$16='Para Ocultar'!$A$2:$A$7)*('Para Ocultar'!$C$2:$C$7))>12,(C212+SUMPRODUCT(($C$16='Para Ocultar'!$A$2:$A$7)*('Para Ocultar'!$C$2:$C$7)))-12,C212+SUMPRODUCT(($C$16='Para Ocultar'!$A$2:$A$7)*('Para Ocultar'!$C$2:$C$7)))","v":10},2037,0,0,0,0,9.8158772681341267E-11,-9.8158772681341267E-11,0,4.3049633161673958E-9,0,0,0,0,{"$f":"SUMPRODUCT((C213='Comparación Alternativas'!$Z$5:$Z$246)*(Alternativas!D213='Comparación Alternativas'!$AA$5:$AA$246)*('Comparación Alternativas'!$AQ$5:$AQ$246))","v":0},{"$f":"SUMPRODUCT((C213='Comparación Alternativas'!$Z$5:$Z$246)*('Comparación Alternativas'!$AA$5:$AA$246=Alternativas!D213)*('Comparación Alternativas'!$BA$5:$BA$246))","v":0},null,189,{"$f":"IF(U212+SUMPRODUCT(($U$16='Para Ocultar'!$A$2:$A$7)*('Para Ocultar'!$C$2:$C$7))>12,(U212+SUMPRODUCT(($U$16='Para Ocultar'!$A$2:$A$7)*('Para Ocultar'!$C$2:$C$7)))-12,U212+SUMPRODUCT(($U$16='Para Ocultar'!$A$2:$A$7)*('Para Ocultar'!$C$2:$C$7)))","v":10},2037,0,0,0,0,-4.4786376401844824E-12,4.4786376401844824E-12,0,-5.4191515446232242E-10,-4.4786376401844824E-12,4.4786376401844824E-12,0,-5.4191515446232242E-10,{"$f":"SUMPRODUCT((U213='Comparación Alternativas'!$Z$5:$Z$246)*('Comparación Alternativas'!$AA$5:$AA$246=Alternativas!V213)*('Comparación Alternativas'!$AV$5:$AV$246))","v":0},{"$f":"SUMPRODUCT((U213='Comparación Alternativas'!$Z$5:$Z$246)*('Comparación Alternativas'!$AA$5:$AA$246=Alternativas!V213)*('Comparación Alternativas'!$BF$5:$BF$246))","v":0}]
[null,190,{"$f":"IF(C213+SUMPRODUCT(($C$16='Para Ocultar'!$A$2:$A$7)*('Para Ocultar'!$C$2:$C$7))>12,(C213+SUMPRODUCT(($C$16='Para Ocultar'!$A$2:$A$7)*('Para Ocultar'!$C$2:$C$7)))-12,C213+SUMPRODUCT(($C$16='Para Ocultar'!$A$2:$A$7)*('Para Ocultar'!$C$2:$C$7)))","v":11},2037,0,0,0,0,1.004491440439059E-10,-1.004491440439059E-10,0,4.4054124602113018E-9,0,0,0,0,{"$f":"SUMPRODUCT((C214='Comparación Alternativas'!$Z$5:$Z$246)*(Alternativas!D214='Comparación Alternativas'!$AA$5:$AA$246)*('Comparación Alternativas'!$AQ$5:$AQ$246))","v":0},{"$f":"SUMPRODUCT((C214='Comparación Alternativas'!$Z$5:$Z$246)*('Comparación Alternativas'!$AA$5:$AA$246=Alternativas!D214)*('Comparación Alternativas'!$BA$5:$BA$246))","v":0},null,190,{"$f":"IF(U213+SUMPRODUCT(($U$16='Para Ocultar'!$A$2:$A$7)*('Para Ocultar'!$C$2:$C$7))>12,(U213+SUMPRODUCT(($U$16='Para Ocultar'!$A$2:$A$7)*('Para Ocultar'!$C$2:$C$7)))-12,U213+SUMPRODUCT(($U$16='Para Ocultar'!$A$2:$A$7)*('Para Ocultar'!$C$2:$C$7)))","v":11},2037,0,0,0,0,-4.5159596205193539E-12,4.5159596205193539E-12,0,-5.4643111408284173E-10,-4.5159596205193539E-12,4.5159596205193539E-12,0,-5.4643111408284173E-10,{"$f":"SUMPRODUCT((U214='Comparación Alternativas'!$Z$5:$Z$246)*('Comparación Alternativas'!$AA$5:$AA$246=Alternativas!V214)*('Comparación Alternativas'!$AV$5:$AV$246))","v":0},{"$f":"SUMPRODUCT((U214='Comparación Alternativas'!$Z$5:$Z$246)*('Comparación Alternativas'!$AA$5:$AA$246=Alternativas!V214)*('Comparación Alternativas'!$BF$5:$BF$246))","v":0}]
[null,191,{"$f":"IF(C214+SUMPRODUCT(($C$16='Para Ocultar'!$A$2:$A$7)*('Para Ocultar'!$C$2:$C$7))>12,(C214+SUMPRODUCT(($C$16='Para Ocultar'!$A$2:$A$7)*('Para Ocultar'!$C$2:$C$7)))-12,C214+SUMPRODUCT(($C$16='Para Ocultar'!$A$2:$A$7)*('Para Ocultar'!$C$2:$C$7)))","v":12},2037,0,0,0,0,1.0279295740493038E-10,-1.0279295740493038E-10,0,4.5082054176162321E-9,0,0,0,0,{"$f":"SUMPRODUCT((C215='Comparación Alternativas'!$Z$5:$Z$246)*(Alternativas!D215='Comparación Alternativas'!$AA$5:$AA$246)*('Comparación Alternativas'!$AQ$5:$AQ$246))","v":0},{"$f":"SUMPRODUCT((C215='Comparación Alternativas'!$Z$5:$Z$246)*('Comparación Alternativas'!$AA$5:$AA$246=Alternativas!D215)*('Comparación Alternativas'!$BA$5:$BA$246))","v":0},null,191,{"$f":"IF(U214+SUMPRODUCT(($U$16='Para Ocultar'!$A$2:$A$7)*('Para Ocultar'!$C$2:$C$7))>12,(U214+SUMPRODUCT(($U$16='Para Ocultar'!$A$2:$A$7)*('Para Ocultar'!$C$2:$C$7)))-12,U214+SUMPRODUCT(($U$16='Para Ocultar'!$A$2:$A$7)*('Para Ocultar'!$C$2:$C$7)))","v":12},2037,0,0,0,0,-4.5535926173570144E-12,4.5535926173570144E-12,0,-5.5098470670019878E-10,-4.5535926173570144E-12,4.5535926173570144E-12,0,-5.5098470670019878E-10,{"$f":"SUMPRODUCT((U215='Comparación Alternativas'!$Z$5:$Z$246)*('Comparación Alternativas'!$AA$5:$AA$246=Alternativas!V215)*('Comparación Alternativas'!$AV$5:$AV$246))","v":0},{"$f":"SUMPRODUCT((U215='Comparación Alternativas'!$Z$5:$Z$246)*('Comparación Alternativas'!$AA$5:$AA$246=Alternativas!V215)*('Comparación Alternativas'!$BF$5:$BF$246))","v":0}]
[null,192,{"$f":"IF(C215+SUMPRODUCT(($C$16='Para Ocultar'!$A$2:$A$7)*('Para Ocultar'!$C$2:$C$7))>12,(C215+SUMPRODUCT(($C$16='Para Ocultar'!$A$2:$A$7)*('Para Ocultar'!$C$2:$C$7)))-12,C215+SUMPRODUCT(($C$16='Para Ocultar'!$A$2:$A$7)*('Para Ocultar'!$C$2:$C$7)))","v":1},2038,0,0,0,0,1.0519145974437876E-10,-1.0519145974437876E-10,0,4.6133968773606106E-9,0,0,0,0,{"$f":"SUMPRODUCT((C216='Comparación Alternativas'!$Z$5:$Z$246)*(Alternativas!D216='Comparación Alternativas'!$AA$5:$AA$246)*('Comparación Alternativas'!$AQ$5:$AQ$246))","v":0},{"$f":"SUMPRODUCT((C216='Comparación Alternativas'!$Z$5:$Z$246)*('Comparación Alternativas'!$AA$5:$AA$246=Alternativas!D216)*('Comparación Alternativas'!$BA$5:$BA$246))","v":0},null,192,{"$f":"IF(U215+SUMPRODUCT(($U$16='Para Ocultar'!$A$2:$A$7)*('Para Ocultar'!$C$2:$C$7))>12,(U215+SUMPRODUCT(($U$16='Para Ocultar'!$A$2:$A$7)*('Para Ocultar'!$C$2:$C$7)))-12,U215+SUMPRODUCT(($U$16='Para Ocultar'!$A$2:$A$7)*('Para Ocultar'!$C$2:$C$7)))","v":1},2038,0,0,0,0,-4.5915392225016565E-12,4.5915392225016565E-12,0,-5.5557624592270041E-10,-4.5915392225016565E-12,4.5915392225016565E-12,0,-5.5557624592270041E-10,{"$f":"SUMPRODUCT((U216='Comparación Alternativas'!$Z$5:$Z$246)*('Comparación Alternativas'!$AA$5:$AA$246=Alternativas!V216)*('Comparación Alternativas'!$AV$5:$AV$246))","v":0},{"$f":"SUMPRODUCT((U216='Comparación Alternativas'!$Z$5:$Z$246)*('Comparación Alternativas'!$AA$5:$AA$246=Alternativas!V216)*('Comparación Alternativas'!$BF$5:$BF$246))","v":0}]
[null,193,{"$f":"IF(C216+SUMPRODUCT(($C$16='Para Ocultar'!$A$2:$A$7)*('Para Ocultar'!$C$2:$C$7))>12,(C216+SUMPRODUCT(($C$16='Para Ocultar'!$A$2:$A$7)*('Para Ocultar'!$C$2:$C$7)))-12,C216+SUMPRODUCT(($C$16='Para Ocultar'!$A$2:$A$7)*('Para Ocultar'!$C$2:$C$7)))","v":2},2038,0,0,0,0,1.0764592713841426E-10,-1.0764592713841426E-10,{"$f":"-IF($C$18>=B217,$C$12*$C$15/$C$16,IF($C$17+$C$18>=B217,$C$12*$J$20,0))","v":0},4.7210428044990247E-9,{"$f":"IF($C$14=\"Alemán\",E217,I217)","v":0},{"$f":"IF($C$14=\"Alemán\",F217,J217)","v":0},{"$f":"IF($C$14=\"Alemán\",G217,K217)","v":0},{"$f":"IF($C$14=\"Alemán\",H217,L217)","v":0},{"$f":"SUMPRODUCT((C217='Comparación Alternativas'!$Z$5:$Z$246)*(Alternativas!D217='Comparación Alternativas'!$AA$5:$AA$246)*('Comparación Alternativas'!$AQ$5:$AQ$246))","v":0},{"$f":"SUMPRODUCT((C217='Comparación Alternativas'!$Z$5:$Z$246)*('Comparación Alternativas'!$AA$5:$AA$246=Alternativas!D217)*('Comparación Alternativas'!$BA$5:$BA$246))","v":0},null,193,{"$f":"IF(U216+SUMPRODUCT(($U$16='Para Ocultar'!$A$2:$A$7)*('Para Ocultar'!$C$2:$C$7))>12,(U216+SUMPRODUCT(($U$16='Para Ocultar'!$A$2:$A$7)*('Para Ocultar'!$C$2:$C$7)))-12,U216+SUMPRODUCT(($U$16='Para Ocultar'!$A$2:$A$7)*('Para Ocultar'!$C$2:$C$7)))","v":2},2038,0,0,0,0,-4.629802049355837E-12,4.629802049355837E-12,0,-5.6020604797205625E-10,{"$f":"IF($U$14=\"Alemán\",W217,AA217)","v":-4.629802049355837E-12},{"$f":"IF($U$14=\"Alemán\",X217,AB217)","v":4.629802049355837E-12},{"$f":"IF($U$14=\"Alemán\",Y217,AC217)","v":0},{"$f":"IF($U$14=\"Alemán\",Z217,AD217)","v":-5.6020604797205625E-10},{"$f":"SUMPRODUCT((U217='Comparación Alternativas'!$Z$5:$Z$246)*('Comparación Alternativas'!$AA$5:$AA$246=Alternativas!V217)*('Comparación Alternativas'!$AV$5:$AV$246))","v":0},{"$f":"SUMPRODUCT((U217='Comparación Alternativas'!$Z$5:$Z$246)*('Comparación Alternativas'!$AA$5:$AA$246=Alternativas!V217)*('Comparación Alternativas'!$BF$5:$BF$246))","v":0}]
[null,194,{"$f":"IF(C217+SUMPRODUCT(($C$16='Para Ocultar'!$A$2:$A$7)*('Para Ocultar'!$C$2:$C$7))>12,(C217+SUMPRODUCT(($C$16='Para Ocultar'!$A$2:$A$7)*('Para Ocultar'!$C$2:$C$7)))-12,C217+SUMPRODUCT(($C$16='Para Ocultar'!$A$2:$A$7)*('Para Ocultar'!$C$2:$C$7)))","v":3},{"$f":"IF(C218<=C217,D217+1,D217)","v":2038},0,0,0,0,1.1015766543831059E-10,-1.1015766543831059E-10,0,4.8312004699373355E-9,0,0,0,0,{"$f":"SUMPRODUCT((C218='Comparación Alternativas'!$Z$5:$Z$246)*(Alternativas!D218='Comparación Alternativas'!$AA$5:$AA$246)*('Comparación Alternativas'!$AQ$5:$AQ$246))","v":0},{"$f":"SUMPRODUCT((C218='Comparación Alternativas'!$Z$5:$Z$246)*('Comparación Alternativas'!$AA$5:$AA$246=Alternativas!D218)*('Comparación Alternativas'!$BA$5:$BA$246))","v":0},null,194,{"$f":"IF(U217+SUMPRODUCT(($U$16='Para Ocultar'!$A$2:$A$7)*('Para Ocultar'!$C$2:$C$7))>12,(U217+SUMPRODUCT(($U$16='Para Ocultar'!$A$2:$A$7)*('Para Ocultar'!$C$2:$C$7)))-12,U217+SUMPRODUCT(($U$16='Para Ocultar'!$A$2:$A$7)*('Para Ocultar'!$C$2:$C$7)))","v":3},{"$f":"IF(U218<=U217,V217+1,V217)","v":2038},{"$f":"IF($U$18>=T218,0,-IF(T218<=$U$17+$U$18,$V$12/$U$17,0))","v":0},{"$f":"-Z217*($U$15/$U$16)","v":0},0,0,-4.6683837331004691E-12,{"$f":"-AD217*$U$15/$U$16","v":4.6683837331004691E-12},{"$f":"-IF($U$18>=T218,$U$12*$U$15/$U$16,IF($U$17+$U$18>=T218,$U$12*$AB$20,0))","v":0},-5.6487443170515675E-10,-4.6683837331004691E-12,4.6683837331004691E-12,0,-5.6487443170515675E-10,{"$f":"SUMPRODUCT((U218='Comparación Alternativas'!$Z$5:$Z$246)*('Comparación Alternativas'!$AA$5:$AA$246=Alternativas!V218)*('Comparación Alternativas'!$AV$5:$AV$246))","v":0},{"$f":"SUMPRODUCT((U218='Comparación Alternativas'!$Z$5:$Z$246)*('Comparación Alternativas'!$AA$5:$AA$246=Alternativas!V218)*('Comparación Alternativas'!$BF$5:$BF$246))","v":0}]
[null,195,{"$f":"IF(C218+SUMPRODUCT(($C$16='Para Ocultar'!$A$2:$A$7)*('Para Ocultar'!$C$2:$C$7))>12,(C218+SUMPRODUCT(($C$16='Para Ocultar'!$A$2:$A$7)*('Para Ocultar'!$C$2:$C$7)))-12,C218+SUMPRODUCT(($C$16='Para Ocultar'!$A$2:$A$7)*('Para Ocultar'!$C$2:$C$7)))","v":4},2038,0,0,0,0,1.1272801096520451E-10,-1.1272801096520451E-10,0,4.9439284809025402E-9,0,0,0,0,{"$f":"SUMPRODUCT((C219='Comparación Alternativas'!$Z$5:$Z$246)*(Alternativas!D219='Comparación Alternativas'!$AA$5:$AA$246)*('Comparación Alternativas'!$AQ$5:$AQ$246))","v":0},{"$f":"SUMPRODUCT((C219='Comparación Alternativas'!$Z$5:$Z$246)*('Comparación Alternativas'!$AA$5:$AA$246=Alternativas!D219)*('Comparación Alternativas'!$BA$5:$BA$246))","v":0},null,195,{"$f":"IF(U218+SUMPRODUCT(($U$16='Para Ocultar'!$A$2:$A$7)*('Para Ocultar'!$C$2:$C$7))>12,(U218+SUMPRODUCT(($U$16='Para Ocultar'!$A$2:$A$7)*('Para Ocultar'!$C$2:$C$7)))-12,U218+SUMPRODUCT(($U$16='Para Ocultar'!$A$2:$A$7)*('Para Ocultar'!$C$2:$C$7)))","v":4},2038,0,0,0,0,-4.7072869308763065E-12,4.7072869308763065E-12,0,-5.6958171863603306E-10,-4.7072869308763065E-12,4.7072869308763065E-12,0,-5.6958171863603306E-10,{"$f":"SUMPRODUCT((U219='Comparación Alternativas'!$Z$5:$Z$246)*('Comparación Alternativas'!$AA$5:$AA$246=Alternativas!V219)*('Comparación Alternativas'!$AV$5:$AV$246))","v":0},{"$f":"SUMPRODUCT((U219='Comparación Alternativas'!$Z$5:$Z$246)*('Comparación Alternativas'!$AA$5:$AA$246=Alternativas!V219)*('Comparación Alternativas'!$BF$5:$BF$246))","v":0}]
[null,196,{"$f":"IF(C219+SUMPRODUCT(($C$16='Para Ocultar'!$A$2:$A$7)*('Para Ocultar'!$C$2:$C$7))>12,(C219+SUMPRODUCT(($C$16='Para Ocultar'!$A$2:$A$7)*('Para Ocultar'!$C$2:$C$7)))-12,C219+SUMPRODUCT(($C$16='Para Ocultar'!$A$2:$A$7)*('Para Ocultar'!$C$2:$C$7)))","v":5},2038,0,0,0,0,1.1535833122105928E-10,-1.1535833122105928E-10,0,5.0592868121235996E-9,0,0,0,0,{"$f":"SUMPRODUCT((C220='Comparación Alternativas'!$Z$5:$Z$246)*(Alternativas!D220='Comparación Alternativas'!$AA$5:$AA$246)*('Comparación Alternativas'!$AQ$5:$AQ$246))","v":0},{"$f":"SUMPRODUCT((C220='Comparación Alternativas'!$Z$5:$Z$246)*('Comparación Alternativas'!$AA$5:$AA$246=Alternativas!D220)*('Comparación Alternativas'!$BA$5:$BA$246))","v":0},null,196,{"$f":"IF(U219+SUMPRODUCT(($U$16='Para Ocultar'!$A$2:$A$7)*('Para Ocultar'!$C$2:$C$7))>12,(U219+SUMPRODUCT(($U$16='Para Ocultar'!$A$2:$A$7)*('Para Ocultar'!$C$2:$C$7)))-12,U219+SUMPRODUCT(($U$16='Para Ocultar'!$A$2:$A$7)*('Para Ocultar'!$C$2:$C$7)))","v":5},2038,0,0,0,0,-4.7465143219669426E-12,4.7465143219669426E-12,0,-5.7432823295800004E-10,-4.7465143219669426E-12,4.7465143219669426E-12,0,-5.7432823295800004E-10,{"$f":"SUMPRODUCT((U220='Comparación Alternativas'!$Z$5:$Z$246)*('Comparación Alternativas'!$AA$5:$AA$246=Alternativas!V220)*('Comparación Alternativas'!$AV$5:$AV$246))","v":0},{"$f":"SUMPRODUCT((U220='Comparación Alternativas'!$Z$5:$Z$246)*('Comparación Alternativas'!$AA$5:$AA$246=Alternativas!V220)*('Comparación Alternativas'!$BF$5:$BF$246))","v":0}]
[null,197,{"$f":"IF(C220+SUMPRODUCT(($C$16='Para Ocultar'!$A$2:$A$7)*('Para Ocultar'!$C$2:$C$7))>12,(C220+SUMPRODUCT(($C$16='Para Ocultar'!$A$2:$A$7)*('Para Ocultar'!$C$2:$C$7)))-12,C220+SUMPRODUCT(($C$16='Para Ocultar'!$A$2:$A$7)*('Para Ocultar'!$C$2:$C$7)))","v":6},2038,0,0,0,0,1.1805002561621733E-10,-1.1805002561621733E-10,0,5.1773368377398165E-9,0,0,0,0,{"$f":"SUMPRODUCT((C221='Comparación Alternativas'!$Z$5:$Z$246)*(Alternativas!D221='Comparación Alternativas'!$AA$5:$AA$246)*('Comparación Alternativas'!$AQ$5:$AQ$246))","v":0},{"$f":"SUMPRODUCT((C221='Comparación Alternativas'!$Z$5:$Z$246)*('Comparación Alternativas'!$AA$5:$AA$246=Alternativas!D221)*('Comparación Alternativas'!$BA$5:$BA$246))","v":0},null,197,{"$f":"IF(U220+SUMPRODUCT(($U$16='Para Ocultar'!$A$2:$A$7)*('Para Ocultar'!$C$2:$C$7))>12,(U220+SUMPRODUCT(($U$16='Para Ocultar'!$A$2:$A$7)*('Para Ocultar'!$C$2:$C$7)))-12,U220+SUMPRODUCT(($U$16='Para Ocultar'!$A$2:$A$7)*('Para Ocultar'!$C$2:$C$7)))","v":6},2038,0,0,0,0,-4.7860686079833334E-12,4.7860686079833334E-12,0,-5.7911430156598339E-10,-4.7860686079833334E-12,4.7860686079833334E-12,0,-5.7911430156598339E-10,{"$f":"SUMPRODUCT((U221='Comparación Alternativas'!$Z$5:$Z$246)*('Comparación Alternativas'!$AA$5:$AA$246=Alternativas!V221)*('Comparación Alternativas'!$AV$5:$AV$246))","v":0},{"$f":"SUMPRODUCT((U221='Comparación Alternativas'!$Z$5:$Z$246)*('Comparación Alternativas'!$AA$5:$AA$246=Alternativas!V221)*('Comparación Alternativas'!$BF$5:$BF$246))","v":0}]
[null,198,{"$f":"IF(C221+SUMPRODUCT(($C$16='Para Ocultar'!$A$2:$A$7)*('Para Ocultar'!$C$2:$C$7))>12,(C221+SUMPRODUCT(($C$16='Para Ocultar'!$A$2:$A$7)*('Para Ocultar'!$C$2:$C$7)))-12,C221+SUMPRODUCT(($C$16='Para Ocultar'!$A$2:$A$7)*('Para Ocultar'!$C$2:$C$7)))","v":7},2038,{"$f":"IF($C$18>=B222,0,-IF(B222<=$C$17+$C$18,$D$12/$C$17,0))","v":0},0,0,0,1.2080452621392907E-10,-1.2080452621392907E-10,0,5.2981413639537454E-9,0,0,0,0,{"$f":"SUMPRODUCT((C222='Comparación Alternativas'!$Z$5:$Z$246)*(Alternativas!D222='Comparación Alternativas'!$AA$5:$AA$246)*('Comparación Alternativas'!$AQ$5:$AQ$246))","v":0},{"$f":"SUMPRODUCT((C222='Comparación Alternativas'!$Z$5:$Z$246)*('Comparación Alternativas'!$AA$5:$AA$246=Alternativas!D222)*('Comparación Alternativas'!$BA$5:$BA$246))","v":0},null,198,{"$f":"IF(U221+SUMPRODUCT(($U$16='Para Ocultar'!$A$2:$A$7)*('Para Ocultar'!$C$2:$C$7))>12,(U221+SUMPRODUCT(($U$16='Para Ocultar'!$A$2:$A$7)*('Para Ocultar'!$C$2:$C$7)))-12,U221+SUMPRODUCT(($U$16='Para Ocultar'!$A$2:$A$7)*('Para Ocultar'!$C$2:$C$7)))","v":7},2038,0,0,0,0,-4.8259525130498613E-12,4.8259525130498613E-12,0,-5.8394025407903329E-10,-4.8259525130498613E-12,4.8259525130498613E-12,0,-5.8394025407903329E-10,{"$f":"SUMPRODUCT((U222='Comparación Alternativas'!$Z$5:$Z$246)*('Comparación Alternativas'!$AA$5:$AA$246=Alternativas!V222)*('Comparación Alternativas'!$AV$5:$AV$246))","v":0},{"$f":"SUMPRODUCT((U222='Comparación Alternativas'!$Z$5:$Z$246)*('Comparación Alternativas'!$AA$5:$AA$246=Alternativas!V222)*('Comparación Alternativas'!$BF$5:$BF$246))","v":0}]
[null,199,{"$f":"IF(C222+SUMPRODUCT(($C$16='Para Ocultar'!$A$2:$A$7)*('Para Ocultar'!$C$2:$C$7))>12,(C222+SUMPRODUCT(($C$16='Para Ocultar'!$A$2:$A$7)*('Para Ocultar'!$C$2:$C$7)))-12,C222+SUMPRODUCT(($C$16='Para Ocultar'!$A$2:$A$7)*('Para Ocultar'!$C$2:$C$7)))","v":8},2038,0,0,0,0,1.2362329849225408E-10,-1.2362329849225408E-10,0,5.4217646624459993E-9,0,0,0,0,{"$f":"SUMPRODUCT((C223='Comparación Alternativas'!$Z$5:$Z$246)*(Alternativas!D223='Comparación Alternativas'!$AA$5:$AA$246)*('Comparación Alternativas'!$AQ$5:$AQ$246))","v":0},{"$f":"SUMPRODUCT((C223='Comparación Alternativas'!$Z$5:$Z$246)*('Comparación Alternativas'!$AA$5:$AA$246=Alternativas!D223)*('Comparación Alternativas'!$BA$5:$BA$246))","v":0},null,199,{"$f":"IF(U222+SUMPRODUCT(($U$16='Para Ocultar'!$A$2:$A$7)*('Para Ocultar'!$C$2:$C$7))>12,(U222+SUMPRODUCT(($U$16='Para Ocultar'!$A$2:$A$7)*('Para Ocultar'!$C$2:$C$7)))-12,U222+SUMPRODUCT(($U$16='Para Ocultar'!$A$2:$A$7)*('Para Ocultar'!$C$2:$C$7)))","v":8},2038,0,0,0,0,-4.8661687839919446E-12,4.8661687839919446E-12,0,-5.8880642286302527E-10,-4.8661687839919446E-12,4.8661687839919446E-12,0,-5.8880642286302527E-10,{"$f":"SUMPRODUCT((U223='Comparación Alternativas'!$Z$5:$Z$246)*('Comparación Alternativas'!$AA$5:$AA$246=Alternativas!V223)*('Comparación Alternativas'!$AV$5:$AV$246))","v":0},{"$f":"SUMPRODUCT((U223='Comparación Alternativas'!$Z$5:$Z$246)*('Comparación Alternativas'!$AA$5:$AA$246=Alternativas!V223)*('Comparación Alternativas'!$BF$5:$BF$246))","v":0}]
[null,200,{"$f":"IF(C223+SUMPRODUCT(($C$16='Para Ocultar'!$A$2:$A$7)*('Para Ocultar'!$C$2:$C$7))>12,(C223+SUMPRODUCT(($C$16='Para Ocultar'!$A$2:$A$7)*('Para Ocultar'!$C$2:$C$7)))-12,C223+SUMPRODUCT(($C$16='Para Ocultar'!$A$2:$A$7)*('Para Ocultar'!$C$2:$C$7)))","v":9},2038,0,0,0,0,1.2650784212373998E-10,-1.2650784212373998E-10,0,5.5482725045697389E-9,0,0,0,0,{"$f":"SUMPRODUCT((C224='Comparación Alternativas'!$Z$5:$Z$246)*(Alternativas!D224='Comparación Alternativas'!$AA$5:$AA$246)*('Comparación Alternativas'!$AQ$5:$AQ$246))","v":0},{"$f":"SUMPRODUCT((C224='Comparación Alternativas'!$Z$5:$Z$246)*('Comparación Alternativas'!$AA$5:$AA$246=Alternativas!D224)*('Comparación Alternativas'!$BA$5:$BA$246))","v":0},null,200,{"$f":"IF(U223+SUMPRODUCT(($U$16='Para Ocultar'!$A$2:$A$7)*('Para Ocultar'!$C$2:$C$7))>12,(U223+SUMPRODUCT(($U$16='Para Ocultar'!$A$2:$A$7)*('Para Ocultar'!$C$2:$C$7)))-12,U223+SUMPRODUCT(($U$16='Para Ocultar'!$A$2:$A$7)*('Para Ocultar'!$C$2:$C$7)))","v":9},2038,0,0,0,0,-4.9067201905252108E-12,4.9067201905252108E-12,0,-5.9371314305355051E-10,-4.9067201905252108E-12,4.9067201905252108E-12,0,-5.9371314305355051E-10,{"$f":"SUMPRODUCT((U224='Comparación Alternativas'!$Z$5:$Z$246)*('Comparación Alternativas'!$AA$5:$AA$246=Alternativas!V224)*('Comparación Alternativas'!$AV$5:$AV$246))","v":0},{"$f":"SUMPRODUCT((U224='Comparación Alternativas'!$Z$5:$Z$246)*('Comparación Alternativas'!$AA$5:$AA$246=Alternativas!V224)*('Comparación Alternativas'!$BF$5:$BF$246))","v":0}]
[null,201,{"$f":"IF(C224+SUMPRODUCT(($C$16='Para Ocultar'!$A$2:$A$7)*('Para Ocultar'!$C$2:$C$7))>12,(C224+SUMPRODUCT(($C$16='Para Ocultar'!$A$2:$A$7)*('Para Ocultar'!$C$2:$C$7)))-12,C224+SUMPRODUCT(($C$16='Para Ocultar'!$A$2:$A$7)*('Para Ocultar'!$C$2:$C$7)))","v":10},2038,0,0,0,0,1.2945969177329393E-10,-1.2945969177329393E-10,0,5.6777321963430331E-9,0,0,0,0,{"$f":"SUMPRODUCT((C225='Comparación Alternativas'!$Z$5:$Z$246)*(Alternativas!D225='Comparación Alternativas'!$AA$5:$AA$246)*('Comparación Alternativas'!$AQ$5:$AQ$246))","v":0},{"$f":"SUMPRODUCT((C225='Comparación Alternativas'!$Z$5:$Z$246)*('Comparación Alternativas'!$AA$5:$AA$246=Alternativas!D225)*('Comparación Alternativas'!$BA$5:$BA$246))","v":0},null,201,{"$f":"IF(U224+SUMPRODUCT(($U$16='Para Ocultar'!$A$2:$A$7)*('Para Ocultar'!$C$2:$C$7))>12,(U224+SUMPRODUCT(($U$16='Para Ocultar'!$A$2:$A$7)*('Para Ocultar'!$C$2:$C$7)))-12,U224+SUMPRODUCT(($U$16='Para Ocultar'!$A$2:$A$7)*('Para Ocultar'!$C$2:$C$7)))","v":10},2038,0,0,0,0,-4.9476095254462537E-12,4.9476095254462537E-12,0,-5.9866075257899675E-10,-4.9476095254462537E-12,4.9476095254462537E-12,0,-5.9866075257899675E-10,{"$f":"SUMPRODUCT((U225='Comparación Alternativas'!$Z$5:$Z$246)*('Comparación Alternativas'!$AA$5:$AA$246=Alternativas!V225)*('Comparación Alternativas'!$AV$5:$AV$246))","v":0},{"$f":"SUMPRODUCT((U225='Comparación Alternativas'!$Z$5:$Z$246)*('Comparación Alternativas'!$AA$5:$AA$246=Alternativas!V225)*('Comparación Alternativas'!$BF$5:$BF$246))","v":0}]
[null,202,{"$f":"IF(C225+SUMPRODUCT(($C$16='Para Ocultar'!$A$2:$A$7)*('Para Ocultar'!$C$2:$C$7))>12,(C225+SUMPRODUCT(($C$16='Para Ocultar'!$A$2:$A$7)*('Para Ocultar'!$C$2:$C$7)))-12,C225+SUMPRODUCT(($C$16='Para Ocultar'!$A$2:$A$7)*('Para Ocultar'!$C$2:$C$7)))","v":11},2038,0,0,0,0,1.3248041791467078E-10,-1.3248041791467078E-10,0,5.8102126142577039E-9,0,0,0,0,{"$f":"SUMPRODUCT((C226='Comparación Alternativas'!$Z$5:$Z$246)*(Alternativas!D226='Comparación Alternativas'!$AA$5:$AA$246)*('Comparación Alternativas'!$AQ$5:$AQ$246))","v":0},{"$f":"SUMPRODUCT((C226='Comparación Alternativas'!$Z$5:$Z$246)*('Comparación Alternativas'!$AA$5:$AA$246=Alternativas!D226)*('Comparación Alternativas'!$BA$5:$BA$246))","v":0},null,202,{"$f":"IF(U225+SUMPRODUCT(($U$16='Para Ocultar'!$A$2:$A$7)*('Para Ocultar'!$C$2:$C$7))>12,(U225+SUMPRODUCT(($U$16='Para Ocultar'!$A$2:$A$7)*('Para Ocultar'!$C$2:$C$7)))-12,U225+SUMPRODUCT(($U$16='Para Ocultar'!$A$2:$A$7)*('Para Ocultar'!$C$2:$C$7)))","v":11},2038,0,0,0,0,-4.9888396048249729E-12,4.9888396048249729E-12,0,-6.0364959218382176E-10,-4.9888396048249729E-12,4.9888396048249729E-12,0,-6.0364959218382176E-10,{"$f":"SUMPRODUCT((U226='Comparación Alternativas'!$Z$5:$Z$246)*('Comparación Alternativas'!$AA$5:$AA$246=Alternativas!V226)*('Comparación Alternativas'!$AV$5:$AV$246))","v":0},{"$f":"SUMPRODUCT((U226='Comparación Alternativas'!$Z$5:$Z$246)*('Comparación Alternativas'!$AA$5:$AA$246=Alternativas!V226)*('Comparación Alternativas'!$BF$5:$BF$246))","v":0}]
[null,203,{"$f":"IF(C226+SUMPRODUCT(($C$16='Para Ocultar'!$A$2:$A$7)*('Para Ocultar'!$C$2:$C$7))>12,(C226+SUMPRODUCT(($C$16='Para Ocultar'!$A$2:$A$7)*('Para Ocultar'!$C$2:$C$7)))-12,C226+SUMPRODUCT(($C$16='Para Ocultar'!$A$2:$A$7)*('Para Ocultar'!$C$2:$C$7)))","v":12},2038,0,0,0,0,1.355716276660131E-10,-1.355716276660131E-10,0,5.9457842419237169E-9,0,0,0,0,{"$f":"SUMPRODUCT((C227='Comparación Alternativas'!$Z$5:$Z$246)*(Alternativas!D227='Comparación Alternativas'!$AA$5:$AA$246)*('Comparación Alternativas'!$AQ$5:$AQ$246))","v":0},{"$f":"SUMPRODUCT((C227='Comparación Alternativas'!$Z$5:$Z$246)*('Comparación Alternativas'!$AA$5:$AA$246=Alternativas!D227)*('Comparación Alternativas'!$BA$5:$BA$246))","v":0},null,203,{"$f":"IF(U226+SUMPRODUCT(($U$16='Para Ocultar'!$A$2:$A$7)*('Para Ocultar'!$C$2:$C$7))>12,(U226+SUMPRODUCT(($U$16='Para Ocultar'!$A$2:$A$7)*('Para Ocultar'!$C$2:$C$7)))-12,U226+SUMPRODUCT(($U$16='Para Ocultar'!$A$2:$A$7)*('Para Ocultar'!$C$2:$C$7)))","v":12},2038,0,0,0,0,-5.0304132681985151E-12,5.0304132681985151E-12,0,-6.0868000545202032E-10,-5.0304132681985151E-12,5.0304132681985151E-12,0,-6.0868000545202032E-10,{"$f":"SUMPRODUCT((U227='Comparación Alternativas'!$Z$5:$Z$246)*('Comparación Alternativas'!$AA$5:$AA$246=Alternativas!V227)*('Comparación Alternativas'!$AV$5:$AV$246))","v":0},{"$f":"SUMPRODUCT((U227='Comparación Alternativas'!$Z$5:$Z$246)*('Comparación Alternativas'!$AA$5:$AA$246=Alternativas!V227)*('Comparación Alternativas'!$BF$5:$BF$246))","v":0}]
[null,204,{"$f":"IF(C227+SUMPRODUCT(($C$16='Para Ocultar'!$A$2:$A$7)*('Para Ocultar'!$C$2:$C$7))>12,(C227+SUMPRODUCT(($C$16='Para Ocultar'!$A$2:$A$7)*('Para Ocultar'!$C$2:$C$7)))-12,C227+SUMPRODUCT(($C$16='Para Ocultar'!$A$2:$A$7)*('Para Ocultar'!$C$2:$C$7)))","v":1},2039,0,0,0,0,1.3873496564488674E-10,-1.3873496564488674E-10,0,6.0845192075686035E-9,0,0,0,0,{"$f":"SUMPRODUCT((C228='Comparación Alternativas'!$Z$5:$Z$246)*(Alternativas!D228='Comparación Alternativas'!$AA$5:$AA$246)*('Comparación Alternativas'!$AQ$5:$AQ$246))","v":0},{"$f":"SUMPRODUCT((C228='Comparación Alternativas'!$Z$5:$Z$246)*('Comparación Alternativas'!$AA$5:$AA$246=Alternativas!D228)*('Comparación Alternativas'!$BA$5:$BA$246))","v":0},null,204,{"$f":"IF(U227+SUMPRODUCT(($U$16='Para Ocultar'!$A$2:$A$7)*('Para Ocultar'!$C$2:$C$7))>12,(U227+SUMPRODUCT(($U$16='Para Ocultar'!$A$2:$A$7)*('Para Ocultar'!$C$2:$C$7)))-12,U227+SUMPRODUCT(($U$16='Para Ocultar'!$A$2:$A$7)*('Para Ocultar'!$C$2:$C$7)))","v":1},2039,0,0,0,0,-5.0723333787668363E-12,5.0723333787668363E-12,0,-6.1375233883078719E-10,-5.0723333787668363E-12,5.0723333787668363E-12,0,-6.1375233883078719E-10,{"$f":"SUMPRODUCT((U228='Comparación Alternativas'!$Z$5:$Z$246)*('Comparación Alternativas'!$AA$5:$AA$246=Alternativas!V228)*('Comparación Alternativas'!$AV$5:$AV$246))","v":0},{"$f":"SUMPRODUCT((U228='Comparación Alternativas'!$Z$5:$Z$246)*('Comparación Alternativas'!$AA$5:$AA$246=Alternativas!V228)*('Comparación Alternativas'!$BF$5:$BF$246))","v":0}]
[null,205,{"$f":"IF(C228+SUMPRODUCT(($C$16='Para Ocultar'!$A$2:$A$7)*('Para Ocultar'!$C$2:$C$7))>12,(C228+SUMPRODUCT(($C$16='Para Ocultar'!$A$2:$A$7)*('Para Ocultar'!$C$2:$C$7)))-12,C228+SUMPRODUCT(($C$16='Para Ocultar'!$A$2:$A$7)*('Para Ocultar'!$C$2:$C$7)))","v":2},2039,0,0,0,0,1.4197211484326743E-10,-1.4197211484326743E-10,0,6.2264913224118706E-9,0,0,0,0,{"$f":"SUMPRODUCT((C229='Comparación Alternativas'!$Z$5:$Z$246)*(Alternativas!D229='Comparación Alternativas'!$AA$5:$AA$246)*('Comparación Alternativas'!$AQ$5:$AQ$246))","v":0},{"$f":"SUMPRODUCT((C229='Comparación Alternativas'!$Z$5:$Z$246)*('Comparación Alternativas'!$AA$5:$AA$246=Alternativas!D229)*('Comparación Alternativas'!$BA$5:$BA$246))","v":0},null,205,{"$f":"IF(U228+SUMPRODUCT(($U$16='Para Ocultar'!$A$2:$A$7)*('Para Ocultar'!$C$2:$C$7))>12,(U228+SUMPRODUCT(($U$16='Para Ocultar'!$A$2:$A$7)*('Para Ocultar'!$C$2:$C$7)))-12,U228+SUMPRODUCT(($U$16='Para Ocultar'!$A$2:$A$7)*('Para Ocultar'!$C$2:$C$7)))","v":2},2039,0,0,0,0,-5.114602823589893E-12,5.114602823589893E-12,0,-6.1886694165437712E-10,-5.114602823589893E-12,5.114602823589893E-12,0,-6.1886694165437712E-10,{"$f":"SUMPRODUCT((U229='Comparación Alternativas'!$Z$5:$Z$246)*('Comparación Alternativas'!$AA$5:$AA$246=Alternativas!V229)*('Comparación Alternativas'!$AV$5:$AV$246))","v":0},{"$f":"SUMPRODUCT((U229='Comparación Alternativas'!$Z$5:$Z$246)*('Comparación Alternativas'!$AA$5:$AA$246=Alternativas!V229)*('Comparación Alternativas'!$BF$5:$BF$246))","v":0}]
[null,206,{"$f":"IF(C229+SUMPRODUCT(($C$16='Para Ocultar'!$A$2:$A$7)*('Para Ocultar'!$C$2:$C$7))>12,(C229+SUMPRODUCT(($C$16='Para Ocultar'!$A$2:$A$7)*('Para Ocultar'!$C$2:$C$7)))-12,C229+SUMPRODUCT(($C$16='Para Ocultar'!$A$2:$A$7)*('Para Ocultar'!$C$2:$C$7)))","v":3},2039,0,0,0,0,1.4528479752294365E-10,-1.4528479752294365E-10,0,6.3717761199348142E-9,0,0,0,0,{"$f":"SUMPRODUCT((C230='Comparación Alternativas'!$Z$5:$Z$246)*(Alternativas!D230='Comparación Alternativas'!$AA$5:$AA$246)*('Comparación Alternativas'!$AQ$5:$AQ$246))","v":0},{"$f":"SUMPRODUCT((C230='Comparación Alternativas'!$Z$5:$Z$246)*('Comparación Alternativas'!$AA$5:$AA$246=Alternativas!D230)*('Comparación Alternativas'!$BA$5:$BA$246))","v":0},null,206,{"$f":"IF(U229+SUMPRODUCT(($U$16='Para Ocultar'!$A$2:$A$7)*('Para Ocultar'!$C$2:$C$7))>12,(U229+SUMPRODUCT(($U$16='Para Ocultar'!$A$2:$A$7)*('Para Ocultar'!$C$2:$C$7)))-12,U229+SUMPRODUCT(($U$16='Para Ocultar'!$A$2:$A$7)*('Para Ocultar'!$C$2:$C$7)))","v":3},2039,0,0,0,0,-5.1572245137864758E-12,5.1572245137864758E-12,0,-6.2402416616816362E-10,-5.1572245137864758E-12,5.1572245137864758E-12,0,-6.2402416616816362E-10,{"$f":"SUMPRODUCT((U230='Comparación Alternativas'!$Z$5:$Z$246)*('Comparación Alternativas'!$AA$5:$AA$246=Alternativas!V230)*('Comparación Alternativas'!$AV$5:$AV$246))","v":0},{"$f":"SUMPRODUCT((U230='Comparación Alternativas'!$Z$5:$Z$246)*('Comparación Alternativas'!$AA$5:$AA$246=Alternativas!V230)*('Comparación Alternativas'!$BF$5:$BF$246))","v":0}]
[null,207,{"$f":"IF(C230+SUMPRODUCT(($C$16='Para Ocultar'!$A$2:$A$7)*('Para Ocultar'!$C$2:$C$7))>12,(C230+SUMPRODUCT(($C$16='Para Ocultar'!$A$2:$A$7)*('Para Ocultar'!$C$2:$C$7)))-12,C230+SUMPRODUCT(($C$16='Para Ocultar'!$A$2:$A$7)*('Para Ocultar'!$C$2:$C$7)))","v":4},2039,0,0,0,0,1.4867477613181235E-10,-1.4867477613181235E-10,0,6.5204508960666268E-9,0,0,0,0,{"$f":"SUMPRODUCT((C231='Comparación Alternativas'!$Z$5:$Z$246)*(Alternativas!D231='Comparación Alternativas'!$AA$5:$AA$246)*('Comparación Alternativas'!$AQ$5:$AQ$246))","v":0},{"$f":"SUMPRODUCT((C231='Comparación Alternativas'!$Z$5:$Z$246)*('Comparación Alternativas'!$AA$5:$AA$246=Alternativas!D231)*('Comparación Alternativas'!$BA$5:$BA$246))","v":0},null,207,{"$f":"IF(U230+SUMPRODUCT(($U$16='Para Ocultar'!$A$2:$A$7)*('Para Ocultar'!$C$2:$C$7))>12,(U230+SUMPRODUCT(($U$16='Para Ocultar'!$A$2:$A$7)*('Para Ocultar'!$C$2:$C$7)))-12,U230+SUMPRODUCT(($U$16='Para Ocultar'!$A$2:$A$7)*('Para Ocultar'!$C$2:$C$7)))","v":4},2039,0,0,0,0,-5.2002013847346972E-12,5.2002013847346972E-12,0,-6.2922436755289829E-10,-5.2002013847346972E-12,5.2002013847346972E-12,0,-6.2922436755289829E-10,{"$f":"SUMPRODUCT((U231='Comparación Alternativas'!$Z$5:$Z$246)*('Comparación Alternativas'!$AA$5:$AA$246=Alternativas!V231)*('Comparación Alternativas'!$AV$5:$AV$246))","v":0},{"$f":"SUMPRODUCT((U231='Comparación Alternativas'!$Z$5:$Z$246)*('Comparación Alternativas'!$AA$5:$AA$246=Alternativas!V231)*('Comparación Alternativas'!$BF$5:$BF$246))","v":0}]
[null,208,{"$f":"IF(C231+SUMPRODUCT(($C$16='Para Ocultar'!$A$2:$A$7)*('Para Ocultar'!$C$2:$C$7))>12,(C231+SUMPRODUCT(($C$16='Para Ocultar'!$A$2:$A$7)*('Para Ocultar'!$C$2:$C$7)))-12,C231+SUMPRODUCT(($C$16='Para Ocultar'!$A$2:$A$7)*('Para Ocultar'!$C$2:$C$7)))","v":5},2039,0,0,0,0,1.5214385424155465E-10,-1.5214385424155465E-10,0,6.6725947503081813E-9,0,0,0,0,{"$f":"SUMPRODUCT((C232='Comparación Alternativas'!$Z$5:$Z$246)*(Alternativas!D232='Comparación Alternativas'!$AA$5:$AA$246)*('Comparación Alternativas'!$AQ$5:$AQ$246))","v":0},{"$f":"SUMPRODUCT((C232='Comparación Alternativas'!$Z$5:$Z$246)*('Comparación Alternativas'!$AA$5:$AA$246=Alternativas!D232)*('Comparación Alternativas'!$BA$5:$BA$246))","v":0},null,208,{"$f":"IF(U231+SUMPRODUCT(($U$16='Para Ocultar'!$A$2:$A$7)*('Para Ocultar'!$C$2:$C$7))>12,(U231+SUMPRODUCT(($U$16='Para Ocultar'!$A$2:$A$7)*('Para Ocultar'!$C$2:$C$7)))-12,U231+SUMPRODUCT(($U$16='Para Ocultar'!$A$2:$A$7)*('Para Ocultar'!$C$2:$C$7)))","v":5},2039,0,0,0,0,-5.243536396274152E-12,5.243536396274152E-12,0,-6.3446790394917245E-10,-5.243536396274152E-12,5.243536396274152E-12,0,-6.3446790394917245E-10,{"$f":"SUMPRODUCT((U232='Comparación Alternativas'!$Z$5:$Z$246)*('Comparación Alternativas'!$AA$5:$AA$246=Alternativas!V232)*('Comparación Alternativas'!$AV$5:$AV$246))","v":0},{"$f":"SUMPRODUCT((U232='Comparación Alternativas'!$Z$5:$Z$246)*('Comparación Alternativas'!$AA$5:$AA$246=Alternativas!V232)*('Comparación Alternativas'!$BF$5:$BF$246))","v":0}]
[null,209,{"$f":"IF(C232+SUMPRODUCT(($C$16='Para Ocultar'!$A$2:$A$7)*('Para Ocultar'!$C$2:$C$7))>12,(C232+SUMPRODUCT(($C$16='Para Ocultar'!$A$2:$A$7)*('Para Ocultar'!$C$2:$C$7)))-12,C232+SUMPRODUCT(($C$16='Para Ocultar'!$A$2:$A$7)*('Para Ocultar'!$C$2:$C$7)))","v":6},2039,0,0,0,0,1.5569387750719093E-10,-1.5569387750719093E-10,0,6.8282886278153719E-9,0,0,0,0,{"$f":"SUMPRODUCT((C233='Comparación Alternativas'!$Z$5:$Z$246)*(Alternativas!D233='Comparación Alternativas'!$AA$5:$AA$246)*('Comparación Alternativas'!$AQ$5:$AQ$246))","v":0},{"$f":"SUMPRODUCT((C233='Comparación Alternativas'!$Z$5:$Z$246)*('Comparación Alternativas'!$AA$5:$AA$246=Alternativas!D233)*('Comparación Alternativas'!$BA$5:$BA$246))","v":0},null,209,{"$f":"IF(U232+SUMPRODUCT(($U$16='Para Ocultar'!$A$2:$A$7)*('Para Ocultar'!$C$2:$C$7))>12,(U232+SUMPRODUCT(($U$16='Para Ocultar'!$A$2:$A$7)*('Para Ocultar'!$C$2:$C$7)))-12,U232+SUMPRODUCT(($U$16='Para Ocultar'!$A$2:$A$7)*('Para Ocultar'!$C$2:$C$7)))","v":6},2039,0,0,0,0,-5.2872325329097713E-12,5.2872325329097713E-12,0,-6.3975513648208226E-10,-5.2872325329097713E-12,5.2872325329097713E-12,0,-6.3975513648208226E-10,{"$f":"SUMPRODUCT((U233='Comparación Alternativas'!$Z$5:$Z$246)*('Comparación Alternativas'!$AA$5:$AA$246=Alternativas!V233)*('Comparación Alternativas'!$AV$5:$AV$246))","v":0},{"$f":"SUMPRODUCT((U233='Comparación Alternativas'!$Z$5:$Z$246)*('Comparación Alternativas'!$AA$5:$AA$246=Alternativas!V233)*('Comparación Alternativas'!$BF$5:$BF$246))","v":0}]
[null,210,{"$f":"IF(C233+SUMPRODUCT(($C$16='Para Ocultar'!$A$2:$A$7)*('Para Ocultar'!$C$2:$C$7))>12,(C233+SUMPRODUCT(($C$16='Para Ocultar'!$A$2:$A$7)*('Para Ocultar'!$C$2:$C$7)))-12,C233+SUMPRODUCT(($C$16='Para Ocultar'!$A$2:$A$7)*('Para Ocultar'!$C$2:$C$7)))","v":7},2039,0,0,0,0,1.5932673464902534E-10,-1.5932673464902534E-10,0,6.9876153624643976E-9,0,0,0,0,{"$f":"SUMPRODUCT((C234='Comparación Alternativas'!$Z$5:$Z$246)*(Alternativas!D234='Comparación Alternativas'!$AA$5:$AA$246)*('Comparación Alternativas'!$AQ$5:$AQ$246))","v":0},{"$f":"SUMPRODUCT((C234='Comparación Alternativas'!$Z$5:$Z$246)*('Comparación Alternativas'!$AA$5:$AA$246=Alternativas!D234)*('Comparación Alternativas'!$BA$5:$BA$246))","v":0},null,210,{"$f":"IF(U233+SUMPRODUCT(($U$16='Para Ocultar'!$A$2:$A$7)*('Para Ocultar'!$C$2:$C$7))>12,(U233+SUMPRODUCT(($U$16='Para Ocultar'!$A$2:$A$7)*('Para Ocultar'!$C$2:$C$7)))-12,U233+SUMPRODUCT(($U$16='Para Ocultar'!$A$2:$A$7)*('Para Ocultar'!$C$2:$C$7)))","v":7},2039,0,0,0,0,-5.3312928040173529E-12,5.3312928040173529E-12,0,-6.4508642928609961E-10,-5.3312928040173529E-12,5.3312928040173529E-12,0,-6.4508642928609961E-10,{"$f":"SUMPRODUCT((U234='Comparación Alternativas'!$Z$5:$Z$246)*('Comparación Alternativas'!$AA$5:$AA$246=Alternativas!V234)*('Comparación Alternativas'!$AV$5:$AV$246))","v":0},{"$f":"SUMPRODUCT((U234='Comparación Alternativas'!$Z$5:$Z$246)*('Comparación Alternativas'!$AA$5:$AA$246=Alternativas!V234)*('Comparación Alternativas'!$BF$5:$BF$246))","v":0}]
[null,211,{"$f":"IF(C234+SUMPRODUCT(($C$16='Para Ocultar'!$A$2:$A$7)*('Para Ocultar'!$C$2:$C$7))>12,(C234+SUMPRODUCT(($C$16='Para Ocultar'!$A$2:$A$7)*('Para Ocultar'!$C$2:$C$7)))-12,C234+SUMPRODUCT(($C$16='Para Ocultar'!$A$2:$A$7)*('Para Ocultar'!$C$2:$C$7)))","v":8},2039,0,0,0,0,1.6304435845750262E-10,-1.6304435845750262E-10,0,7.1506597209219004E-9,0,0,0,0,{"$f":"SUMPRODUCT((C235='Comparación Alternativas'!$Z$5:$Z$246)*(Alternativas!D235='Comparación Alternativas'!$AA$5:$AA$246)*('Comparación Alternativas'!$AQ$5:$AQ$246))","v":0},{"$f":"SUMPRODUCT((C235='Comparación Alternativas'!$Z$5:$Z$246)*('Comparación Alternativas'!$AA$5:$AA$246=Alternativas!D235)*('Comparación Alternativas'!$BA$5:$BA$246))","v":0},null,211,{"$f":"IF(U234+SUMPRODUCT(($U$16='Para Ocultar'!$A$2:$A$7)*('Para Ocultar'!$C$2:$C$7))>12,(U234+SUMPRODUCT(($U$16='Para Ocultar'!$A$2:$A$7)*('Para Ocultar'!$C$2:$C$7)))-12,U234+SUMPRODUCT(($U$16='Para Ocultar'!$A$2:$A$7)*('Para Ocultar'!$C$2:$C$7)))","v":8},2039,0,0,0,0,-5.3757202440508304E-12,5.3757202440508304E-12,0,-6.5046214953015046E-10,-5.3757202440508304E-12,5.3757202440508304E-12,0,-6.5046214953015046E-10,{"$f":"SUMPRODUCT((U235='Comparación Alternativas'!$Z$5:$Z$246)*('Comparación Alternativas'!$AA$5:$AA$246=Alternativas!V235)*('Comparación Alternativas'!$AV$5:$AV$246))","v":0},{"$f":"SUMPRODUCT((U235='Comparación Alternativas'!$Z$5:$Z$246)*('Comparación Alternativas'!$AA$5:$AA$246=Alternativas!V235)*('Comparación Alternativas'!$BF$5:$BF$246))","v":0}]
[null,212,{"$f":"IF(C235+SUMPRODUCT(($C$16='Para Ocultar'!$A$2:$A$7)*('Para Ocultar'!$C$2:$C$7))>12,(C235+SUMPRODUCT(($C$16='Para Ocultar'!$A$2:$A$7)*('Para Ocultar'!$C$2:$C$7)))-12,C235+SUMPRODUCT(($C$16='Para Ocultar'!$A$2:$A$7)*('Para Ocultar'!$C$2:$C$7)))","v":9},2039,0,0,0,0,1.6684872682151104E-10,-1.6684872682151104E-10,0,7.3175084477434118E-9,0,0,0,0,{"$f":"SUMPRODUCT((C236='Comparación Alternativas'!$Z$5:$Z$246)*(Alternativas!D236='Comparación Alternativas'!$AA$5:$AA$246)*('Comparación Alternativas'!$AQ$5:$AQ$246))","v":0},{"$f":"SUMPRODUCT((C236='Comparación Alternativas'!$Z$5:$Z$246)*('Comparación Alternativas'!$AA$5:$AA$246=Alternativas!D236)*('Comparación Alternativas'!$BA$5:$BA$246))","v":0},null,212,{"$f":"IF(U235+SUMPRODUCT(($U$16='Para Ocultar'!$A$2:$A$7)*('Para Ocultar'!$C$2:$C$7))>12,(U235+SUMPRODUCT(($U$16='Para Ocultar'!$A$2:$A$7)*('Para Ocultar'!$C$2:$C$7)))-12,U235+SUMPRODUCT(($U$16='Para Ocultar'!$A$2:$A$7)*('Para Ocultar'!$C$2:$C$7)))","v":9},2039,0,0,0,0,-5.4205179127512541E-12,5.4205179127512541E-12,0,-6.5588266744290174E-10,-5.4205179127512541E-12,5.4205179127512541E-12,0,-6.5588266744290174E-10,{"$f":"SUMPRODUCT((U236='Comparación Alternativas'!$Z$5:$Z$246)*('Comparación Alternativas'!$AA$5:$AA$246=Alternativas!V236)*('Comparación Alternativas'!$AV$5:$AV$246))","v":0},{"$f":"SUMPRODUCT((U236='Comparación Alternativas'!$Z$5:$Z$246)*('Comparación Alternativas'!$AA$5:$AA$246=Alternativas!V236)*('Comparación Alternativas'!$BF$5:$BF$246))","v":0}]
[null,213,{"$f":"IF(C236+SUMPRODUCT(($C$16='Para Ocultar'!$A$2:$A$7)*('Para Ocultar'!$C$2:$C$7))>12,(C236+SUMPRODUCT(($C$16='Para Ocultar'!$A$2:$A$7)*('Para Ocultar'!$C$2:$C$7)))-12,C236+SUMPRODUCT(($C$16='Para Ocultar'!$A$2:$A$7)*('Para Ocultar'!$C$2:$C$7)))","v":10},2039,0,0,0,0,1.7074186378067964E-10,-1.7074186378067964E-10,0,7.488250311524091E-9,0,0,0,0,{"$f":"SUMPRODUCT((C237='Comparación Alternativas'!$Z$5:$Z$246)*(Alternativas!D237='Comparación Alternativas'!$AA$5:$AA$246)*('Comparación Alternativas'!$AQ$5:$AQ$246))","v":0},{"$f":"SUMPRODUCT((C237='Comparación Alternativas'!$Z$5:$Z$246)*('Comparación Alternativas'!$AA$5:$AA$246=Alternativas!D237)*('Comparación Alternativas'!$BA$5:$BA$246))","v":0},null,213,{"$f":"IF(U236+SUMPRODUCT(($U$16='Para Ocultar'!$A$2:$A$7)*('Para Ocultar'!$C$2:$C$7))>12,(U236+SUMPRODUCT(($U$16='Para Ocultar'!$A$2:$A$7)*('Para Ocultar'!$C$2:$C$7)))-12,U236+SUMPRODUCT(($U$16='Para Ocultar'!$A$2:$A$7)*('Para Ocultar'!$C$2:$C$7)))","v":10},2039,0,0,0,0,-5.4656888953575143E-12,5.4656888953575143E-12,0,-6.6134835633825923E-10,-5.4656888953575143E-12,5.4656888953575143E-12,0,-6.6134835633825923E-10,{"$f":"SUMPRODUCT((U237='Comparación Alternativas'!$Z$5:$Z$246)*('Comparación Alternativas'!$AA$5:$AA$246=Alternativas!V237)*('Comparación Alternativas'!$AV$5:$AV$246))","v":0},{"$f":"SUMPRODUCT((U237='Comparación Alternativas'!$Z$5:$Z$246)*('Comparación Alternativas'!$AA$5:$AA$246=Alternativas!V237)*('Comparación Alternativas'!$BF$5:$BF$246))","v":0}]
[null,214,{"$f":"IF(C237+SUMPRODUCT(($C$16='Para Ocultar'!$A$2:$A$7)*('Para Ocultar'!$C$2:$C$7))>12,(C237+SUMPRODUCT(($C$16='Para Ocultar'!$A$2:$A$7)*('Para Ocultar'!$C$2:$C$7)))-12,C237+SUMPRODUCT(($C$16='Para Ocultar'!$A$2:$A$7)*('Para Ocultar'!$C$2:$C$7)))","v":11},2039,0,0,0,0,1.747258406022288E-10,-1.747258406022288E-10,0,7.6629761521263194E-9,0,0,0,0,{"$f":"SUMPRODUCT((C238='Comparación Alternativas'!$Z$5:$Z$246)*(Alternativas!D238='Comparación Alternativas'!$AA$5:$AA$246)*('Comparación Alternativas'!$AQ$5:$AQ$246))","v":0},{"$f":"SUMPRODUCT((C238='Comparación Alternativas'!$Z$5:$Z$246)*('Comparación Alternativas'!$AA$5:$AA$246=Alternativas!D238)*('Comparación Alternativas'!$BA$5:$BA$246))","v":0},null,214,{"$f":"IF(U237+SUMPRODUCT(($U$16='Para Ocultar'!$A$2:$A$7)*('Para Ocultar'!$C$2:$C$7))>12,(U237+SUMPRODUCT(($U$16='Para Ocultar'!$A$2:$A$7)*('Para Ocultar'!$C$2:$C$7)))-12,U237+SUMPRODUCT(($U$16='Para Ocultar'!$A$2:$A$7)*('Para Ocultar'!$C$2:$C$7)))","v":11},2039,0,0,0,0,-5.5112363028188273E-12,5.5112363028188273E-12,0,-6.6685959264107804E-10,-5.5112363028188273E-12,5.5112363028188273E-12,0,-6.6685959264107804E-10,{"$f":"SUMPRODUCT((U238='Comparación Alternativas'!$Z$5:$Z$246)*('Comparación Alternativas'!$AA$5:$AA$246=Alternativas!V238)*('Comparación Alternativas'!$AV$5:$AV$246))","v":0},{"$f":"SUMPRODUCT((U238='Comparación Alternativas'!$Z$5:$Z$246)*('Comparación Alternativas'!$AA$5:$AA$246=Alternativas!V238)*('Comparación Alternativas'!$BF$5:$BF$246))","v":0}]
[null,215,{"$f":"IF(C238+SUMPRODUCT(($C$16='Para Ocultar'!$A$2:$A$7)*('Para Ocultar'!$C$2:$C$7))>12,(C238+SUMPRODUCT(($C$16='Para Ocultar'!$A$2:$A$7)*('Para Ocultar'!$C$2:$C$7)))-12,C238+SUMPRODUCT(($C$16='Para Ocultar'!$A$2:$A$7)*('Para Ocultar'!$C$2:$C$7)))","v":12},2039,0,0,0,0,1.7880277688294749E-10,-1.7880277688294749E-10,0,7.8417789290092661E-9,0,0,0,0,{"$f":"SUMPRODUCT((C239='Comparación Alternativas'!$Z$5:$Z$246)*(Alternativas!D239='Comparación Alternativas'!$AA$5:$AA$246)*('Comparación Alternativas'!$AQ$5:$AQ$246))","v":0},{"$f":"SUMPRODUCT((C239='Comparación Alternativas'!$Z$5:$Z$246)*('Comparación Alternativas'!$AA$5:$AA$246=Alternativas!D239)*('Comparación Alternativas'!$BA$5:$BA$246))","v":0},null,215,{"$f":"IF(U238+SUMPRODUCT(($U$16='Para Ocultar'!$A$2:$A$7)*('Para Ocultar'!$C$2:$C$7))>12,(U238+SUMPRODUCT(($U$16='Para Ocultar'!$A$2:$A$7)*('Para Ocultar'!$C$2:$C$7)))-12,U238+SUMPRODUCT(($U$16='Para Ocultar'!$A$2:$A$7)*('Para Ocultar'!$C$2:$C$7)))","v":12},2039,0,0,0,0,-5.5571632720089832E-12,5.5571632720089832E-12,0,-6.72416755913087E-10,-5.5571632720089832E-12,5.5571632720089832E-12,0,-6.72416755913087E-10,{"$f":"SUMPRODUCT((U239='Comparación Alternativas'!$Z$5:$Z$246)*('Comparación Alternativas'!$AA$5:$AA$246=Alternativas!V239)*('Comparación Alternativas'!$AV$5:$AV$246))","v":0},{"$f":"SUMPRODUCT((U239='Comparación Alternativas'!$Z$5:$Z$246)*('Comparación Alternativas'!$AA$5:$AA$246=Alternativas!V239)*('Comparación Alternativas'!$BF$5:$BF$246))","v":0}]
[null,216,{"$f":"IF(C239+SUMPRODUCT(($C$16='Para Ocultar'!$A$2:$A$7)*('Para Ocultar'!$C$2:$C$7))>12,(C239+SUMPRODUCT(($C$16='Para Ocultar'!$A$2:$A$7)*('Para Ocultar'!$C$2:$C$7)))-12,C239+SUMPRODUCT(($C$16='Para Ocultar'!$A$2:$A$7)*('Para Ocultar'!$C$2:$C$7)))","v":1},2040,0,0,0,0,1.8297484167688289E-10,-1.8297484167688289E-10,0,8.0247537706861485E-9,0,0,0,0,{"$f":"SUMPRODUCT((C240='Comparación Alternativas'!$Z$5:$Z$246)*(Alternativas!D240='Comparación Alternativas'!$AA$5:$AA$246)*('Comparación Alternativas'!$AQ$5:$AQ$246))","v":0},{"$f":"SUMPRODUCT((C240='Comparación Alternativas'!$Z$5:$Z$246)*('Comparación Alternativas'!$AA$5:$AA$246=Alternativas!D240)*('Comparación Alternativas'!$BA$5:$BA$246))","v":0},null,216,{"$f":"IF(U239+SUMPRODUCT(($U$16='Para Ocultar'!$A$2:$A$7)*('Para Ocultar'!$C$2:$C$7))>12,(U239+SUMPRODUCT(($U$16='Para Ocultar'!$A$2:$A$7)*('Para Ocultar'!$C$2:$C$7)))-12,U239+SUMPRODUCT(($U$16='Para Ocultar'!$A$2:$A$7)*('Para Ocultar'!$C$2:$C$7)))","v":1},2040,0,0,0,0,-5.6034729659423919E-12,5.6034729659423919E-12,0,-6.7802022887902943E-10,-5.6034729659423919E-12,5.6034729659423919E-12,0,-6.7802022887902943E-10,{"$f":"SUMPRODUCT((U240='Comparación Alternativas'!$Z$5:$Z$246)*('Comparación Alternativas'!$AA$5:$AA$246=Alternativas!V240)*('Comparación Alternativas'!$AV$5:$AV$246))","v":0},{"$f":"SUMPRODUCT((U240='Comparación Alternativas'!$Z$5:$Z$246)*('Comparación Alternativas'!$AA$5:$AA$246=Alternativas!V240)*('Comparación Alternativas'!$BF$5:$BF$246))","v":0}]
[null,217,{"$f":"IF(C240+SUMPRODUCT(($C$16='Para Ocultar'!$A$2:$A$7)*('Para Ocultar'!$C$2:$C$7))>12,(C240+SUMPRODUCT(($C$16='Para Ocultar'!$A$2:$A$7)*('Para Ocultar'!$C$2:$C$7)))-12,C240+SUMPRODUCT(($C$16='Para Ocultar'!$A$2:$A$7)*('Para Ocultar'!$C$2:$C$7)))","v":2},2040,0,0,0,0,1.8724425464934348E-10,-1.8724425464934348E-10,0,8.211998025335492E-9,0,0,0,0,{"$f":"SUMPRODUCT((C241='Comparación Alternativas'!$Z$5:$Z$246)*(Alternativas!D241='Comparación Alternativas'!$AA$5:$AA$246)*('Comparación Alternativas'!$AQ$5:$AQ$246))","v":0},{"$f":"SUMPRODUCT((C241='Comparación Alternativas'!$Z$5:$Z$246)*('Comparación Alternativas'!$AA$5:$AA$246=Alternativas!D241)*('Comparación Alternativas'!$BA$5:$BA$246))","v":0},null,217,{"$f":"IF(U240+SUMPRODUCT(($U$16='Para Ocultar'!$A$2:$A$7)*('Para Ocultar'!$C$2:$C$7))>12,(U240+SUMPRODUCT(($U$16='Para Ocultar'!$A$2:$A$7)*('Para Ocultar'!$C$2:$C$7)))-12,U240+SUMPRODUCT(($U$16='Para Ocultar'!$A$2:$A$7)*('Para Ocultar'!$C$2:$C$7)))","v":2},2040,0,0,0,0,-5.6501685739919123E-12,5.6501685739919123E-12,0,-6.8367039745302135E-10,-5.6501685739919123E-12,5.6501685739919123E-12,0,-6.8367039745302135E-10,{"$f":"SUMPRODUCT((U241='Comparación Alternativas'!$Z$5:$Z$246)*('Comparación Alternativas'!$AA$5:$AA$246=Alternativas!V241)*('Comparación Alternativas'!$AV$5:$AV$246))","v":0},{"$f":"SUMPRODUCT((U241='Comparación Alternativas'!$Z$5:$Z$246)*('Comparación Alternativas'!$AA$5:$AA$246=Alternativas!V241)*('Comparación Alternativas'!$BF$5:$BF$246))","v":0}]
[null,218,{"$f":"IF(C241+SUMPRODUCT(($C$16='Para Ocultar'!$A$2:$A$7)*('Para Ocultar'!$C$2:$C$7))>12,(C241+SUMPRODUCT(($C$16='Para Ocultar'!$A$2:$A$7)*('Para Ocultar'!$C$2:$C$7)))-12,C241+SUMPRODUCT(($C$16='Para Ocultar'!$A$2:$A$7)*('Para Ocultar'!$C$2:$C$7)))","v":3},2040,0,0,0,0,1.9161328725782815E-10,-1.9161328725782815E-10,0,8.4036113125933208E-9,0,0,0,0,{"$f":"SUMPRODUCT((C242='Comparación Alternativas'!$Z$5:$Z$246)*(Alternativas!D242='Comparación Alternativas'!$AA$5:$AA$246)*('Comparación Alternativas'!$AQ$5:$AQ$246))","v":0},{"$f":"SUMPRODUCT((C242='Comparación Alternativas'!$Z$5:$Z$246)*('Comparación Alternativas'!$AA$5:$AA$246=Alternativas!D242)*('Comparación Alternativas'!$BA$5:$BA$246))","v":0},null,218,{"$f":"IF(U241+SUMPRODUCT(($U$16='Para Ocultar'!$A$2:$A$7)*('Para Ocultar'!$C$2:$C$7))>12,(U241+SUMPRODUCT(($U$16='Para Ocultar'!$A$2:$A$7)*('Para Ocultar'!$C$2:$C$7)))-12,U241+SUMPRODUCT(($U$16='Para Ocultar'!$A$2:$A$7)*('Para Ocultar'!$C$2:$C$7)))","v":3},2040,0,0,0,0,-5.697253312108511E-12,5.697253312108511E-12,0,-6.8936765076512991E-10,-5.697253312108511E-12,5.697253312108511E-12,0,-6.8936765076512991E-10,{"$f":"SUMPRODUCT((U242='Comparación Alternativas'!$Z$5:$Z$246)*('Comparación Alternativas'!$AA$5:$AA$246=Alternativas!V242)*('Comparación Alternativas'!$AV$5:$AV$246))","v":0},{"$f":"SUMPRODUCT((U242='Comparación Alternativas'!$Z$5:$Z$246)*('Comparación Alternativas'!$AA$5:$AA$246=Alternativas!V242)*('Comparación Alternativas'!$BF$5:$BF$246))","v":0}]
[null,219,{"$f":"IF(C242+SUMPRODUCT(($C$16='Para Ocultar'!$A$2:$A$7)*('Para Ocultar'!$C$2:$C$7))>12,(C242+SUMPRODUCT(($C$16='Para Ocultar'!$A$2:$A$7)*('Para Ocultar'!$C$2:$C$7)))-12,C242+SUMPRODUCT(($C$16='Para Ocultar'!$A$2:$A$7)*('Para Ocultar'!$C$2:$C$7)))","v":4},2040,0,0,0,0,1.9608426396051085E-10,-1.9608426396051085E-10,0,8.5996955765538317E-9,0,0,0,0,{"$f":"SUMPRODUCT((C243='Comparación Alternativas'!$Z$5:$Z$246)*(Alternativas!D243='Comparación Alternativas'!$AA$5:$AA$246)*('Comparación Alternativas'!$AQ$5:$AQ$246))","v":0},{"$f":"SUMPRODUCT((C243='Comparación Alternativas'!$Z$5:$Z$246)*('Comparación Alternativas'!$AA$5:$AA$246=Alternativas!D243)*('Comparación Alternativas'!$BA$5:$BA$246))","v":0},null,219,{"$f":"IF(U242+SUMPRODUCT(($U$16='Para Ocultar'!$A$2:$A$7)*('Para Ocultar'!$C$2:$C$7))>12,(U242+SUMPRODUCT(($U$16='Para Ocultar'!$A$2:$A$7)*('Para Ocultar'!$C$2:$C$7)))-12,U242+SUMPRODUCT(($U$16='Para Ocultar'!$A$2:$A$7)*('Para Ocultar'!$C$2:$C$7)))","v":4},2040,0,0,0,0,-5.744730423042749E-12,5.744730423042749E-12,0,-6.9511238118817262E-10,-5.744730423042749E-12,5.744730423042749E-12,0,-6.9511238118817262E-10,{"$f":"SUMPRODUCT((U243='Comparación Alternativas'!$Z$5:$Z$246)*('Comparación Alternativas'!$AA$5:$AA$246=Alternativas!V243)*('Comparación Alternativas'!$AV$5:$AV$246))","v":0},{"$f":"SUMPRODUCT((U243='Comparación Alternativas'!$Z$5:$Z$246)*('Comparación Alternativas'!$AA$5:$AA$246=Alternativas!V243)*('Comparación Alternativas'!$BF$5:$BF$246))","v":0}]
[null,220,{"$f":"IF(C243+SUMPRODUCT(($C$16='Para Ocultar'!$A$2:$A$7)*('Para Ocultar'!$C$2:$C$7))>12,(C243+SUMPRODUCT(($C$16='Para Ocultar'!$A$2:$A$7)*('Para Ocultar'!$C$2:$C$7)))-12,C243+SUMPRODUCT(($C$16='Para Ocultar'!$A$2:$A$7)*('Para Ocultar'!$C$2:$C$7)))","v":5},2040,0,0,0,0,2.0065956345292277E-10,-2.0065956345292277E-10,0,8.8003551400067542E-9,0,0,0,0,{"$f":"SUMPRODUCT((C244='Comparación Alternativas'!$Z$5:$Z$246)*(Alternativas!D244='Comparación Alternativas'!$AA$5:$AA$246)*('Comparación Alternativas'!$AQ$5:$AQ$246))","v":0},{"$f":"SUMPRODUCT((C244='Comparación Alternativas'!$Z$5:$Z$246)*('Comparación Alternativas'!$AA$5:$AA$246=Alternativas!D244)*('Comparación Alternativas'!$BA$5:$BA$246))","v":0},null,220,{"$f":"IF(U243+SUMPRODUCT(($U$16='Para Ocultar'!$A$2:$A$7)*('Para Ocultar'!$C$2:$C$7))>12,(U243+SUMPRODUCT(($U$16='Para Ocultar'!$A$2:$A$7)*('Para Ocultar'!$C$2:$C$7)))-12,U243+SUMPRODUCT(($U$16='Para Ocultar'!$A$2:$A$7)*('Para Ocultar'!$C$2:$C$7)))","v":5},2040,0,0,0,0,-5.7926031765681054E-12,5.7926031765681054E-12,0,-7.009049843647407E-10,-5.7926031765681054E-12,5.7926031765681054E-12,0,-7.009049843647407E-10,{"$f":"SUMPRODUCT((U244='Comparación Alternativas'!$Z$5:$Z$246)*('Comparación Alternativas'!$AA$5:$AA$246=Alternativas!V244)*('Comparación Alternativas'!$AV$5:$AV$246))","v":0},{"$f":"SUMPRODUCT((U244='Comparación Alternativas'!$Z$5:$Z$246)*('Comparación Alternativas'!$AA$5:$AA$246=Alternativas!V244)*('Comparación Alternativas'!$BF$5:$BF$246))","v":0}]
[null,221,{"$f":"IF(C244+SUMPRODUCT(($C$16='Para Ocultar'!$A$2:$A$7)*('Para Ocultar'!$C$2:$C$7))>12,(C244+SUMPRODUCT(($C$16='Para Ocultar'!$A$2:$A$7)*('Para Ocultar'!$C$2:$C$7)))-12,C244+SUMPRODUCT(($C$16='Para Ocultar'!$A$2:$A$7)*('Para Ocultar'!$C$2:$C$7)))","v":6},2040,0,0,0,0,2.0534161993349095E-10,-2.0534161993349095E-10,0,9.0056967599402458E-9,0,0,0,0,{"$f":"SUMPRODUCT((C245='Comparación Alternativas'!$Z$5:$Z$246)*(Alternativas!D245='Comparación Alternativas'!$AA$5:$AA$246)*('Comparación Alternativas'!$AQ$5:$AQ$246))","v":0},{"$f":"SUMPRODUCT((C245='Comparación Alternativas'!$Z$5:$Z$246)*('Comparación Alternativas'!$AA$5:$AA$246=Alternativas!D245)*('Comparación Alternativas'!$BA$5:$BA$246))","v":0},null,221,{"$f":"IF(U244+SUMPRODUCT(($U$16='Para Ocultar'!$A$2:$A$7)*('Para Ocultar'!$C$2:$C$7))>12,(U244+SUMPRODUCT(($U$16='Para Ocultar'!$A$2:$A$7)*('Para Ocultar'!$C$2:$C$7)))-12,U244+SUMPRODUCT(($U$16='Para Ocultar'!$A$2:$A$7)*('Para Ocultar'!$C$2:$C$7)))","v":6},2040,0,0,0,0,-5.8408748697061736E-12,5.8408748697061736E-12,0,-7.0674585923444685E-10,-5.8408748697061736E-12,5.8408748697061736E-12,0,-7.0674585923444685E-10,{"$f":"SUMPRODUCT((U245='Comparación Alternativas'!$Z$5:$Z$246)*('Comparación Alternativas'!$AA$5:$AA$246=Alternativas!V245)*('Comparación Alternativas'!$AV$5:$AV$246))","v":0},{"$f":"SUMPRODUCT((U245='Comparación Alternativas'!$Z$5:$Z$246)*('Comparación Alternativas'!$AA$5:$AA$246=Alternativas!V245)*('Comparación Alternativas'!$BF$5:$BF$246))","v":0}]
[null,222,{"$f":"IF(C245+SUMPRODUCT(($C$16='Para Ocultar'!$A$2:$A$7)*('Para Ocultar'!$C$2:$C$7))>12,(C245+SUMPRODUCT(($C$16='Para Ocultar'!$A$2:$A$7)*('Para Ocultar'!$C$2:$C$7)))-12,C245+SUMPRODUCT(($C$16='Para Ocultar'!$A$2:$A$7)*('Para Ocultar'!$C$2:$C$7)))","v":7},2040,0,0,0,0,2.1013292439860576E-10,-2.1013292439860576E-10,0,9.2158296843388521E-9,0,0,0,0,{"$f":"SUMPRODUCT((C246='Comparación Alternativas'!$Z$5:$Z$246)*(Alternativas!D246='Comparación Alternativas'!$AA$5:$AA$246)*('Comparación Alternativas'!$AQ$5:$AQ$246))","v":0},{"$f":"SUMPRODUCT((C246='Comparación Alternativas'!$Z$5:$Z$246)*('Comparación Alternativas'!$AA$5:$AA$246=Alternativas!D246)*('Comparación Alternativas'!$BA$5:$BA$246))","v":0},null,222,{"$f":"IF(U245+SUMPRODUCT(($U$16='Para Ocultar'!$A$2:$A$7)*('Para Ocultar'!$C$2:$C$7))>12,(U245+SUMPRODUCT(($U$16='Para Ocultar'!$A$2:$A$7)*('Para Ocultar'!$C$2:$C$7)))-12,U245+SUMPRODUCT(($U$16='Para Ocultar'!$A$2:$A$7)*('Para Ocultar'!$C$2:$C$7)))","v":7},2040,0,0,0,0,-5.8895488269537245E-12,5.8895488269537245E-12,0,-7.1263540806140055E-10,-5.8895488269537245E-12,5.8895488269537245E-12,0,-7.1263540806140055E-10,{"$f":"SUMPRODUCT((U246='Comparación Alternativas'!$Z$5:$Z$246)*('Comparación Alternativas'!$AA$5:$AA$246=Alternativas!V246)*('Comparación Alternativas'!$AV$5:$AV$246))","v":0},{"$f":"SUMPRODUCT((U246='Comparación Alternativas'!$Z$5:$Z$246)*('Comparación Alternativas'!$AA$5:$AA$246=Alternativas!V246)*('Comparación Alternativas'!$BF$5:$BF$246))","v":0}]
[null,223,{"$f":"IF(C246+SUMPRODUCT(($C$16='Para Ocultar'!$A$2:$A$7)*('Para Ocultar'!$C$2:$C$7))>12,(C246+SUMPRODUCT(($C$16='Para Ocultar'!$A$2:$A$7)*('Para Ocultar'!$C$2:$C$7)))-12,C246+SUMPRODUCT(($C$16='Para Ocultar'!$A$2:$A$7)*('Para Ocultar'!$C$2:$C$7)))","v":8},2040,0,0,0,0,2.1503602596790656E-10,-2.1503602596790656E-10,0,9.4308657103067585E-9,0,0,0,0,{"$f":"SUMPRODUCT((C247='Comparación Alternativas'!$Z$5:$Z$246)*(Alternativas!D247='Comparación Alternativas'!$AA$5:$AA$246)*('Comparación Alternativas'!$AQ$5:$AQ$246))","v":0},{"$f":"SUMPRODUCT((C247='Comparación Alternativas'!$Z$5:$Z$246)*('Comparación Alternativas'!$AA$5:$AA$246=Alternativas!D247)*('Comparación Alternativas'!$BA$5:$BA$246))","v":0},null,223,{"$f":"IF(U246+SUMPRODUCT(($U$16='Para Ocultar'!$A$2:$A$7)*('Para Ocultar'!$C$2:$C$7))>12,(U246+SUMPRODUCT(($U$16='Para Ocultar'!$A$2:$A$7)*('Para Ocultar'!$C$2:$C$7)))-12,U246+SUMPRODUCT(($U$16='Para Ocultar'!$A$2:$A$7)*('Para Ocultar'!$C$2:$C$7)))","v":8},2040,0,0,0,0,-5.938628400511671E-12,5.938628400511671E-12,0,-7.1857403646191219E-10,-5.938628400511671E-12,5.938628400511671E-12,0,-7.1857403646191219E-10,{"$f":"SUMPRODUCT((U247='Comparación Alternativas'!$Z$5:$Z$246)*('Comparación Alternativas'!$AA$5:$AA$246=Alternativas!V247)*('Comparación Alternativas'!$AV$5:$AV$246))","v":0},{"$f":"SUMPRODUCT((U247='Comparación Alternativas'!$Z$5:$Z$246)*('Comparación Alternativas'!$AA$5:$AA$246=Alternativas!V247)*('Comparación Alternativas'!$BF$5:$BF$246))","v":0}]
[null,224,{"$f":"IF(C247+SUMPRODUCT(($C$16='Para Ocultar'!$A$2:$A$7)*('Para Ocultar'!$C$2:$C$7))>12,(C247+SUMPRODUCT(($C$16='Para Ocultar'!$A$2:$A$7)*('Para Ocultar'!$C$2:$C$7)))-12,C247+SUMPRODUCT(($C$16='Para Ocultar'!$A$2:$A$7)*('Para Ocultar'!$C$2:$C$7)))","v":9},2040,0,0,0,0,2.2005353324049108E-10,-2.2005353324049108E-10,0,9.6509192435472498E-9,0,0,0,0,{"$f":"SUMPRODUCT((C248='Comparación Alternativas'!$Z$5:$Z$246)*(Alternativas!D248='Comparación Alternativas'!$AA$5:$AA$246)*('Comparación Alternativas'!$AQ$5:$AQ$246))","v":0},{"$f":"SUMPRODUCT((C248='Comparación Alternativas'!$Z$5:$Z$246)*('Comparación Alternativas'!$AA$5:$AA$246=Alternativas!D248)*('Comparación Alternativas'!$BA$5:$BA$246))","v":0},null,224,{"$f":"IF(U247+SUMPRODUCT(($U$16='Para Ocultar'!$A$2:$A$7)*('Para Ocultar'!$C$2:$C$7))>12,(U247+SUMPRODUCT(($U$16='Para Ocultar'!$A$2:$A$7)*('Para Ocultar'!$C$2:$C$7)))-12,U247+SUMPRODUCT(($U$16='Para Ocultar'!$A$2:$A$7)*('Para Ocultar'!$C$2:$C$7)))","v":9},2040,0,0,0,0,-5.9881169705159351E-12,5.9881169705159351E-12,0,-7.2456215343242813E-10,-5.9881169705159351E-12,5.9881169705159351E-12,0,-7.2456215343242813E-10,{"$f":"SUMPRODUCT((U248='Comparación Alternativas'!$Z$5:$Z$246)*('Comparación Alternativas'!$AA$5:$AA$246=Alternativas!V248)*('Comparación Alternativas'!$AV$5:$AV$246))","v":0},{"$f":"SUMPRODUCT((U248='Comparación Alternativas'!$Z$5:$Z$246)*('Comparación Alternativas'!$AA$5:$AA$246=Alternativas!V248)*('Comparación Alternativas'!$BF$5:$BF$246))","v":0}]
[null,225,{"$f":"IF(C248+SUMPRODUCT(($C$16='Para Ocultar'!$A$2:$A$7)*('Para Ocultar'!$C$2:$C$7))>12,(C248+SUMPRODUCT(($C$16='Para Ocultar'!$A$2:$A$7)*('Para Ocultar'!$C$2:$C$7)))-12,C248+SUMPRODUCT(($C$16='Para Ocultar'!$A$2:$A$7)*('Para Ocultar'!$C$2:$C$7)))","v":10},2040,0,0,0,0,2.2518811568276918E-10,-2.2518811568276918E-10,0,9.8761073592300193E-9,0,0,0,0,{"$f":"SUMPRODUCT((C249='Comparación Alternativas'!$Z$5:$Z$246)*(Alternativas!D249='Comparación Alternativas'!$AA$5:$AA$246)*('Comparación Alternativas'!$AQ$5:$AQ$246))","v":0},{"$f":"SUMPRODUCT((C249='Comparación Alternativas'!$Z$5:$Z$246)*('Comparación Alternativas'!$AA$5:$AA$246=Alternativas!D249)*('Comparación Alternativas'!$BA$5:$BA$246))","v":0},null,225,{"$f":"IF(U248+SUMPRODUCT(($U$16='Para Ocultar'!$A$2:$A$7)*('Para Ocultar'!$C$2:$C$7))>12,(U248+SUMPRODUCT(($U$16='Para Ocultar'!$A$2:$A$7)*('Para Ocultar'!$C$2:$C$7)))-12,U248+SUMPRODUCT(($U$16='Para Ocultar'!$A$2:$A$7)*('Para Ocultar'!$C$2:$C$7)))","v":10},2040,0,0,0,0,-6.0380179452702344E-12,6.0380179452702344E-12,0,-7.3060017137769834E-10,-6.0380179452702344E-12,6.0380179452702344E-12,0,-7.3060017137769834E-10,{"$f":"SUMPRODUCT((U249='Comparación Alternativas'!$Z$5:$Z$246)*('Comparación Alternativas'!$AA$5:$AA$246=Alternativas!V249)*('Comparación Alternativas'!$AV$5:$AV$246))","v":0},{"$f":"SUMPRODUCT((U249='Comparación Alternativas'!$Z$5:$Z$246)*('Comparación Alternativas'!$AA$5:$AA$246=Alternativas!V249)*('Comparación Alternativas'!$BF$5:$BF$246))","v":0}]
[null,226,{"$f":"IF(C249+SUMPRODUCT(($C$16='Para Ocultar'!$A$2:$A$7)*('Para Ocultar'!$C$2:$C$7))>12,(C249+SUMPRODUCT(($C$16='Para Ocultar'!$A$2:$A$7)*('Para Ocultar'!$C$2:$C$7)))-12,C249+SUMPRODUCT(($C$16='Para Ocultar'!$A$2:$A$7)*('Para Ocultar'!$C$2:$C$7)))","v":11},2040,0,0,0,0,2.3044250504870047E-10,-2.3044250504870047E-10,0,1.0106549864278719E-8,0,0,0,0,{"$f":"SUMPRODUCT((C250='Comparación Alternativas'!$Z$5:$Z$246)*(Alternativas!D250='Comparación Alternativas'!$AA$5:$AA$246)*('Comparación Alternativas'!$AQ$5:$AQ$246))","v":0},{"$f":"SUMPRODUCT((C250='Comparación Alternativas'!$Z$5:$Z$246)*('Comparación Alternativas'!$AA$5:$AA$246=Alternativas!D250)*('Comparación Alternativas'!$BA$5:$BA$246))","v":0},null,226,{"$f":"IF(U249+SUMPRODUCT(($U$16='Para Ocultar'!$A$2:$A$7)*('Para Ocultar'!$C$2:$C$7))>12,(U249+SUMPRODUCT(($U$16='Para Ocultar'!$A$2:$A$7)*('Para Ocultar'!$C$2:$C$7)))-12,U249+SUMPRODUCT(($U$16='Para Ocultar'!$A$2:$A$7)*('Para Ocultar'!$C$2:$C$7)))","v":11},2040,0,0,0,0,-6.0883347614808195E-12,6.0883347614808195E-12,0,-7.3668850613917921E-10,-6.0883347614808195E-12,6.0883347614808195E-12,0,-7.3668850613917921E-10,{"$f":"SUMPRODUCT((U250='Comparación Alternativas'!$Z$5:$Z$246)*('Comparación Alternativas'!$AA$5:$AA$246=Alternativas!V250)*('Comparación Alternativas'!$AV$5:$AV$246))","v":0},{"$f":"SUMPRODUCT((U250='Comparación Alternativas'!$Z$5:$Z$246)*('Comparación Alternativas'!$AA$5:$AA$246=Alternativas!V250)*('Comparación Alternativas'!$BF$5:$BF$246))","v":0}]
[null,227,{"$f":"IF(C250+SUMPRODUCT(($C$16='Para Ocultar'!$A$2:$A$7)*('Para Ocultar'!$C$2:$C$7))>12,(C250+SUMPRODUCT(($C$16='Para Ocultar'!$A$2:$A$7)*('Para Ocultar'!$C$2:$C$7)))-12,C250+SUMPRODUCT(($C$16='Para Ocultar'!$A$2:$A$7)*('Para Ocultar'!$C$2:$C$7)))","v":12},2040,0,0,0,0,2.3581949683317016E-10,-2.3581949683317016E-10,0,1.034236936111189E-8,0,0,0,0,{"$f":"SUMPRODUCT((C251='Comparación Alternativas'!$Z$5:$Z$246)*(Alternativas!D251='Comparación Alternativas'!$AA$5:$AA$246)*('Comparación Alternativas'!$AQ$5:$AQ$246))","v":0},{"$f":"SUMPRODUCT((C251='Comparación Alternativas'!$Z$5:$Z$246)*('Comparación Alternativas'!$AA$5:$AA$246=Alternativas!D251)*('Comparación Alternativas'!$BA$5:$BA$246))","v":0},null,227,{"$f":"IF(U250+SUMPRODUCT(($U$16='Para Ocultar'!$A$2:$A$7)*('Para Ocultar'!$C$2:$C$7))>12,(U250+SUMPRODUCT(($U$16='Para Ocultar'!$A$2:$A$7)*('Para Ocultar'!$C$2:$C$7)))-12,U250+SUMPRODUCT(($U$16='Para Ocultar'!$A$2:$A$7)*('Para Ocultar'!$C$2:$C$7)))","v":12},2040,0,0,0,0,-6.1390708844931602E-12,6.1390708844931602E-12,0,-7.4282757702367241E-10,-6.1390708844931602E-12,6.1390708844931602E-12,0,-7.4282757702367241E-10,{"$f":"SUMPRODUCT((U251='Comparación Alternativas'!$Z$5:$Z$246)*('Comparación Alternativas'!$AA$5:$AA$246=Alternativas!V251)*('Comparación Alternativas'!$AV$5:$AV$246))","v":0},{"$f":"SUMPRODUCT((U251='Comparación Alternativas'!$Z$5:$Z$246)*('Comparación Alternativas'!$AA$5:$AA$246=Alternativas!V251)*('Comparación Alternativas'!$BF$5:$BF$246))","v":0}]
[null,228,{"$f":"IF(C251+SUMPRODUCT(($C$16='Para Ocultar'!$A$2:$A$7)*('Para Ocultar'!$C$2:$C$7))>12,(C251+SUMPRODUCT(($C$16='Para Ocultar'!$A$2:$A$7)*('Para Ocultar'!$C$2:$C$7)))-12,C251+SUMPRODUCT(($C$16='Para Ocultar'!$A$2:$A$7)*('Para Ocultar'!$C$2:$C$7)))","v":1},2041,0,0,0,0,2.4132195175927745E-10,-2.4132195175927745E-10,0,1.0583691312871167E-8,0,0,0,0,{"$f":"SUMPRODUCT((C252='Comparación Alternativas'!$Z$5:$Z$246)*(Alternativas!D252='Comparación Alternativas'!$AA$5:$AA$246)*('Comparación Alternativas'!$AQ$5:$AQ$246))","v":0},{"$f":"SUMPRODUCT((C252='Comparación Alternativas'!$Z$5:$Z$246)*('Comparación Alternativas'!$AA$5:$AA$246=Alternativas!D252)*('Comparación Alternativas'!$BA$5:$BA$246))","v":0},null,228,{"$f":"IF(U251+SUMPRODUCT(($U$16='Para Ocultar'!$A$2:$A$7)*('Para Ocultar'!$C$2:$C$7))>12,(U251+SUMPRODUCT(($U$16='Para Ocultar'!$A$2:$A$7)*('Para Ocultar'!$C$2:$C$7)))-12,U251+SUMPRODUCT(($U$16='Para Ocultar'!$A$2:$A$7)*('Para Ocultar'!$C$2:$C$7)))","v":1},2041,0,0,0,0,-6.1902298085306041E-12,6.1902298085306041E-12,0,-7.49017806832203E-10,-6.1902298085306041E-12,6.1902298085306041E-12,0,-7.49017806832203E-10,{"$f":"SUMPRODUCT((U252='Comparación Alternativas'!$Z$5:$Z$246)*('Comparación Alternativas'!$AA$5:$AA$246=Alternativas!V252)*('Comparación Alternativas'!$AV$5:$AV$246))","v":0},{"$f":"SUMPRODUCT((U252='Comparación Alternativas'!$Z$5:$Z$246)*('Comparación Alternativas'!$AA$5:$AA$246=Alternativas!V252)*('Comparación Alternativas'!$BF$5:$BF$246))","v":0}]
[null,229,{"$f":"IF(C252+SUMPRODUCT(($C$16='Para Ocultar'!$A$2:$A$7)*('Para Ocultar'!$C$2:$C$7))>12,(C252+SUMPRODUCT(($C$16='Para Ocultar'!$A$2:$A$7)*('Para Ocultar'!$C$2:$C$7)))-12,C252+SUMPRODUCT(($C$16='Para Ocultar'!$A$2:$A$7)*('Para Ocultar'!$C$2:$C$7)))","v":2},2041,0,0,0,0,2.4695279730032725E-10,-2.4695279730032725E-10,0,1.0830644110171494E-8,0,0,0,0,{"$f":"SUMPRODUCT((C253='Comparación Alternativas'!$Z$5:$Z$246)*(Alternativas!D253='Comparación Alternativas'!$AA$5:$AA$246)*('Comparación Alternativas'!$AQ$5:$AQ$246))","v":0},{"$f":"SUMPRODUCT((C253='Comparación Alternativas'!$Z$5:$Z$246)*('Comparación Alternativas'!$AA$5:$AA$246=Alternativas!D253)*('Comparación Alternativas'!$BA$5:$BA$246))","v":0},null,229,{"$f":"IF(U252+SUMPRODUCT(($U$16='Para Ocultar'!$A$2:$A$7)*('Para Ocultar'!$C$2:$C$7))>12,(U252+SUMPRODUCT(($U$16='Para Ocultar'!$A$2:$A$7)*('Para Ocultar'!$C$2:$C$7)))-12,U252+SUMPRODUCT(($U$16='Para Ocultar'!$A$2:$A$7)*('Para Ocultar'!$C$2:$C$7)))","v":2},2041,0,0,0,0,-6.2418150569350258E-12,6.2418150569350258E-12,0,-7.5525962188913804E-10,-6.2418150569350258E-12,6.2418150569350258E-12,0,-7.5525962188913804E-10,{"$f":"SUMPRODUCT((U253='Comparación Alternativas'!$Z$5:$Z$246)*('Comparación Alternativas'!$AA$5:$AA$246=Alternativas!V253)*('Comparación Alternativas'!$AV$5:$AV$246))","v":0},{"$f":"SUMPRODUCT((U253='Comparación Alternativas'!$Z$5:$Z$246)*('Comparación Alternativas'!$AA$5:$AA$246=Alternativas!V253)*('Comparación Alternativas'!$BF$5:$BF$246))","v":0}]
[null,230,{"$f":"IF(C253+SUMPRODUCT(($C$16='Para Ocultar'!$A$2:$A$7)*('Para Ocultar'!$C$2:$C$7))>12,(C253+SUMPRODUCT(($C$16='Para Ocultar'!$A$2:$A$7)*('Para Ocultar'!$C$2:$C$7)))-12,C253+SUMPRODUCT(($C$16='Para Ocultar'!$A$2:$A$7)*('Para Ocultar'!$C$2:$C$7)))","v":3},2041,0,0,0,0,2.5271502923733489E-10,-2.5271502923733489E-10,0,1.1083359139408829E-8,0,0,0,0,{"$f":"SUMPRODUCT((C254='Comparación Alternativas'!$Z$5:$Z$246)*(Alternativas!D254='Comparación Alternativas'!$AA$5:$AA$246)*('Comparación Alternativas'!$AQ$5:$AQ$246))","v":0},{"$f":"SUMPRODUCT((C254='Comparación Alternativas'!$Z$5:$Z$246)*('Comparación Alternativas'!$AA$5:$AA$246=Alternativas!D254)*('Comparación Alternativas'!$BA$5:$BA$246))","v":0},null,230,{"$f":"IF(U253+SUMPRODUCT(($U$16='Para Ocultar'!$A$2:$A$7)*('Para Ocultar'!$C$2:$C$7))>12,(U253+SUMPRODUCT(($U$16='Para Ocultar'!$A$2:$A$7)*('Para Ocultar'!$C$2:$C$7)))-12,U253+SUMPRODUCT(($U$16='Para Ocultar'!$A$2:$A$7)*('Para Ocultar'!$C$2:$C$7)))","v":3},2041,0,0,0,0,-6.2938301824094842E-12,6.2938301824094842E-12,0,-7.6155345207154748E-10,-6.2938301824094842E-12,6.2938301824094842E-12,0,-7.6155345207154748E-10,{"$f":"SUMPRODUCT((U254='Comparación Alternativas'!$Z$5:$Z$246)*('Comparación Alternativas'!$AA$5:$AA$246=Alternativas!V254)*('Comparación Alternativas'!$AV$5:$AV$246))","v":0},{"$f":"SUMPRODUCT((U254='Comparación Alternativas'!$Z$5:$Z$246)*('Comparación Alternativas'!$AA$5:$AA$246=Alternativas!V254)*('Comparación Alternativas'!$BF$5:$BF$246))","v":0}]
[null,231,{"$f":"IF(C254+SUMPRODUCT(($C$16='Para Ocultar'!$A$2:$A$7)*('Para Ocultar'!$C$2:$C$7))>12,(C254+SUMPRODUCT(($C$16='Para Ocultar'!$A$2:$A$7)*('Para Ocultar'!$C$2:$C$7)))-12,C254+SUMPRODUCT(($C$16='Para Ocultar'!$A$2:$A$7)*('Para Ocultar'!$C$2:$C$7)))","v":4},2041,0,0,0,0,2.5861171325287268E-10,-2.5861171325287268E-10,0,1.1341970852661701E-8,0,0,0,0,{"$f":"SUMPRODUCT((C255='Comparación Alternativas'!$Z$5:$Z$246)*(Alternativas!D255='Comparación Alternativas'!$AA$5:$AA$246)*('Comparación Alternativas'!$AQ$5:$AQ$246))","v":0},{"$f":"SUMPRODUCT((C255='Comparación Alternativas'!$Z$5:$Z$246)*('Comparación Alternativas'!$AA$5:$AA$246=Alternativas!D255)*('Comparación Alternativas'!$BA$5:$BA$246))","v":0},null,231,{"$f":"IF(U254+SUMPRODUCT(($U$16='Para Ocultar'!$A$2:$A$7)*('Para Ocultar'!$C$2:$C$7))>12,(U254+SUMPRODUCT(($U$16='Para Ocultar'!$A$2:$A$7)*('Para Ocultar'!$C$2:$C$7)))-12,U254+SUMPRODUCT(($U$16='Para Ocultar'!$A$2:$A$7)*('Para Ocultar'!$C$2:$C$7)))","v":4},2041,0,0,0,0,-6.3462787672628959E-12,6.3462787672628959E-12,0,-7.678997308388104E-10,-6.3462787672628959E-12,6.3462787672628959E-12,0,-7.678997308388104E-10,{"$f":"SUMPRODUCT((U255='Comparación Alternativas'!$Z$5:$Z$246)*('Comparación Alternativas'!$AA$5:$AA$246=Alternativas!V255)*('Comparación Alternativas'!$AV$5:$AV$246))","v":0},{"$f":"SUMPRODUCT((U255='Comparación Alternativas'!$Z$5:$Z$246)*('Comparación Alternativas'!$AA$5:$AA$246=Alternativas!V255)*('Comparación Alternativas'!$BF$5:$BF$246))","v":0}]
[null,232,{"$f":"IF(C255+SUMPRODUCT(($C$16='Para Ocultar'!$A$2:$A$7)*('Para Ocultar'!$C$2:$C$7))>12,(C255+SUMPRODUCT(($C$16='Para Ocultar'!$A$2:$A$7)*('Para Ocultar'!$C$2:$C$7)))-12,C255+SUMPRODUCT(($C$16='Para Ocultar'!$A$2:$A$7)*('Para Ocultar'!$C$2:$C$7)))","v":5},2041,0,0,0,0,2.6464598656210641E-10,-2.6464598656210641E-10,0,1.1606616839223807E-8,0,0,0,0,{"$f":"SUMPRODUCT((C256='Comparación Alternativas'!$Z$5:$Z$246)*(Alternativas!D256='Comparación Alternativas'!$AA$5:$AA$246)*('Comparación Alternativas'!$AQ$5:$AQ$246))","v":0},{"$f":"SUMPRODUCT((C256='Comparación Alternativas'!$Z$5:$Z$246)*('Comparación Alternativas'!$AA$5:$AA$246=Alternativas!D256)*('Comparación Alternativas'!$BA$5:$BA$246))","v":0},null,232,{"$f":"IF(U255+SUMPRODUCT(($U$16='Para Ocultar'!$A$2:$A$7)*('Para Ocultar'!$C$2:$C$7))>12,(U255+SUMPRODUCT(($U$16='Para Ocultar'!$A$2:$A$7)*('Para Ocultar'!$C$2:$C$7)))-12,U255+SUMPRODUCT(($U$16='Para Ocultar'!$A$2:$A$7)*('Para Ocultar'!$C$2:$C$7)))","v":5},2041,0,0,0,0,-6.3991644236567533E-12,6.3991644236567533E-12,0,-7.7429889526246714E-10,-6.3991644236567533E-12,6.3991644236567533E-12,0,-7.7429889526246714E-10,{"$f":"SUMPRODUCT((U256='Comparación Alternativas'!$Z$5:$Z$246)*('Comparación Alternativas'!$AA$5:$AA$246=Alternativas!V256)*('Comparación Alternativas'!$AV$5:$AV$246))","v":0},{"$f":"SUMPRODUCT((U256='Comparación Alternativas'!$Z$5:$Z$246)*('Comparación Alternativas'!$AA$5:$AA$246=Alternativas!V256)*('Comparación Alternativas'!$BF$5:$BF$246))","v":0}]
[null,233,{"$f":"IF(C256+SUMPRODUCT(($C$16='Para Ocultar'!$A$2:$A$7)*('Para Ocultar'!$C$2:$C$7))>12,(C256+SUMPRODUCT(($C$16='Para Ocultar'!$A$2:$A$7)*('Para Ocultar'!$C$2:$C$7)))-12,C256+SUMPRODUCT(($C$16='Para Ocultar'!$A$2:$A$7)*('Para Ocultar'!$C$2:$C$7)))","v":6},2041,0,0,0,0,2.7082105958188886E-10,-2.7082105958188886E-10,0,1.1877437898805697E-8,0,0,0,0,{"$f":"SUMPRODUCT((C257='Comparación Alternativas'!$Z$5:$Z$246)*(Alternativas!D257='Comparación Alternativas'!$AA$5:$AA$246)*('Comparación Alternativas'!$AQ$5:$AQ$246))","v":0},{"$f":"SUMPRODUCT((C257='Comparación Alternativas'!$Z$5:$Z$246)*('Comparación Alternativas'!$AA$5:$AA$246=Alternativas!D257)*('Comparación Alternativas'!$BA$5:$BA$246))","v":0},null,233,{"$f":"IF(U256+SUMPRODUCT(($U$16='Para Ocultar'!$A$2:$A$7)*('Para Ocultar'!$C$2:$C$7))>12,(U256+SUMPRODUCT(($U$16='Para Ocultar'!$A$2:$A$7)*('Para Ocultar'!$C$2:$C$7)))-12,U256+SUMPRODUCT(($U$16='Para Ocultar'!$A$2:$A$7)*('Para Ocultar'!$C$2:$C$7)))","v":6},2041,0,0,0,0,-6.4524907938538931E-12,6.4524907938538931E-12,0,-7.80751386056321E-10,-6.4524907938538931E-12,6.4524907938538931E-12,0,-7.80751386056321E-10,{"$f":"SUMPRODUCT((U257='Comparación Alternativas'!$Z$5:$Z$246)*('Comparación Alternativas'!$AA$5:$AA$246=Alternativas!V257)*('Comparación Alternativas'!$AV$5:$AV$246))","v":0},{"$f":"SUMPRODUCT((U257='Comparación Alternativas'!$Z$5:$Z$246)*('Comparación Alternativas'!$AA$5:$AA$246=Alternativas!V257)*('Comparación Alternativas'!$BF$5:$BF$246))","v":0}]
[null,234,{"$f":"IF(C257+SUMPRODUCT(($C$16='Para Ocultar'!$A$2:$A$7)*('Para Ocultar'!$C$2:$C$7))>12,(C257+SUMPRODUCT(($C$16='Para Ocultar'!$A$2:$A$7)*('Para Ocultar'!$C$2:$C$7)))-12,C257+SUMPRODUCT(($C$16='Para Ocultar'!$A$2:$A$7)*('Para Ocultar'!$C$2:$C$7)))","v":7},2041,0,0,0,0,2.7714021763879964E-10,-2.7714021763879964E-10,0,1.2154578116444496E-8,0,0,0,0,{"$f":"SUMPRODUCT((C258='Comparación Alternativas'!$Z$5:$Z$246)*(Alternativas!D258='Comparación Alternativas'!$AA$5:$AA$246)*('Comparación Alternativas'!$AQ$5:$AQ$246))","v":0},{"$f":"SUMPRODUCT((C258='Comparación Alternativas'!$Z$5:$Z$246)*('Comparación Alternativas'!$AA$5:$AA$246=Alternativas!D258)*('Comparación Alternativas'!$BA$5:$BA$246))","v":0},null,234,{"$f":"IF(U257+SUMPRODUCT(($U$16='Para Ocultar'!$A$2:$A$7)*('Para Ocultar'!$C$2:$C$7))>12,(U257+SUMPRODUCT(($U$16='Para Ocultar'!$A$2:$A$7)*('Para Ocultar'!$C$2:$C$7)))-12,U257+SUMPRODUCT(($U$16='Para Ocultar'!$A$2:$A$7)*('Para Ocultar'!$C$2:$C$7)))","v":7},2041,0,0,0,0,-6.5062615504693417E-12,6.5062615504693417E-12,0,-7.872576476067903E-10,-6.5062615504693417E-12,6.5062615504693417E-12,0,-7.872576476067903E-10,{"$f":"SUMPRODUCT((U258='Comparación Alternativas'!$Z$5:$Z$246)*('Comparación Alternativas'!$AA$5:$AA$246=Alternativas!V258)*('Comparación Alternativas'!$AV$5:$AV$246))","v":0},{"$f":"SUMPRODUCT((U258='Comparación Alternativas'!$Z$5:$Z$246)*('Comparación Alternativas'!$AA$5:$AA$246=Alternativas!V258)*('Comparación Alternativas'!$BF$5:$BF$246))","v":0}]
[null,235,{"$f":"IF(C258+SUMPRODUCT(($C$16='Para Ocultar'!$A$2:$A$7)*('Para Ocultar'!$C$2:$C$7))>12,(C258+SUMPRODUCT(($C$16='Para Ocultar'!$A$2:$A$7)*('Para Ocultar'!$C$2:$C$7)))-12,C258+SUMPRODUCT(($C$16='Para Ocultar'!$A$2:$A$7)*('Para Ocultar'!$C$2:$C$7)))","v":8},2041,0,0,0,0,2.8360682271703826E-10,-2.8360682271703826E-10,0,1.2438184939161534E-8,0,0,0,0,{"$f":"SUMPRODUCT((C259='Comparación Alternativas'!$Z$5:$Z$246)*(Alternativas!D259='Comparación Alternativas'!$AA$5:$AA$246)*('Comparación Alternativas'!$AQ$5:$AQ$246))","v":0},{"$f":"SUMPRODUCT((C259='Comparación Alternativas'!$Z$5:$Z$246)*('Comparación Alternativas'!$AA$5:$AA$246=Alternativas!D259)*('Comparación Alternativas'!$BA$5:$BA$246))","v":0},null,235,{"$f":"IF(U258+SUMPRODUCT(($U$16='Para Ocultar'!$A$2:$A$7)*('Para Ocultar'!$C$2:$C$7))>12,(U258+SUMPRODUCT(($U$16='Para Ocultar'!$A$2:$A$7)*('Para Ocultar'!$C$2:$C$7)))-12,U258+SUMPRODUCT(($U$16='Para Ocultar'!$A$2:$A$7)*('Para Ocultar'!$C$2:$C$7)))","v":8},2041,0,0,0,0,-6.560480396723253E-12,6.560480396723253E-12,0,-7.9381812800351356E-10,-6.560480396723253E-12,6.560480396723253E-12,0,-7.9381812800351356E-10,{"$f":"SUMPRODUCT((U259='Comparación Alternativas'!$Z$5:$Z$246)*('Comparación Alternativas'!$AA$5:$AA$246=Alternativas!V259)*('Comparación Alternativas'!$AV$5:$AV$246))","v":0},{"$f":"SUMPRODUCT((U259='Comparación Alternativas'!$Z$5:$Z$246)*('Comparación Alternativas'!$AA$5:$AA$246=Alternativas!V259)*('Comparación Alternativas'!$BF$5:$BF$246))","v":0}]
[null,236,{"$f":"IF(C259+SUMPRODUCT(($C$16='Para Ocultar'!$A$2:$A$7)*('Para Ocultar'!$C$2:$C$7))>12,(C259+SUMPRODUCT(($C$16='Para Ocultar'!$A$2:$A$7)*('Para Ocultar'!$C$2:$C$7)))-12,C259+SUMPRODUCT(($C$16='Para Ocultar'!$A$2:$A$7)*('Para Ocultar'!$C$2:$C$7)))","v":9},2041,0,0,0,0,2.9022431524710247E-10,-2.9022431524710247E-10,0,1.2728409254408637E-8,0,0,0,0,{"$f":"SUMPRODUCT((C260='Comparación Alternativas'!$Z$5:$Z$246)*(Alternativas!D260='Comparación Alternativas'!$AA$5:$AA$246)*('Comparación Alternativas'!$AQ$5:$AQ$246))","v":0},{"$f":"SUMPRODUCT((C260='Comparación Alternativas'!$Z$5:$Z$246)*('Comparación Alternativas'!$AA$5:$AA$246=Alternativas!D260)*('Comparación Alternativas'!$BA$5:$BA$246))","v":0},null,236,{"$f":"IF(U259+SUMPRODUCT(($U$16='Para Ocultar'!$A$2:$A$7)*('Para Ocultar'!$C$2:$C$7))>12,(U259+SUMPRODUCT(($U$16='Para Ocultar'!$A$2:$A$7)*('Para Ocultar'!$C$2:$C$7)))-12,U259+SUMPRODUCT(($U$16='Para Ocultar'!$A$2:$A$7)*('Para Ocultar'!$C$2:$C$7)))","v":9},2041,0,0,0,0,-6.6151510666959463E-12,6.6151510666959463E-12,0,-8.0043327907020952E-10,-6.6151510666959463E-12,6.6151510666959463E-12,0,-8.0043327907020952E-10,{"$f":"SUMPRODUCT((U260='Comparación Alternativas'!$Z$5:$Z$246)*('Comparación Alternativas'!$AA$5:$AA$246=Alternativas!V260)*('Comparación Alternativas'!$AV$5:$AV$246))","v":0},{"$f":"SUMPRODUCT((U260='Comparación Alternativas'!$Z$5:$Z$246)*('Comparación Alternativas'!$AA$5:$AA$246=Alternativas!V260)*('Comparación Alternativas'!$BF$5:$BF$246))","v":0}]
[null,237,{"$f":"IF(C260+SUMPRODUCT(($C$16='Para Ocultar'!$A$2:$A$7)*('Para Ocultar'!$C$2:$C$7))>12,(C260+SUMPRODUCT(($C$16='Para Ocultar'!$A$2:$A$7)*('Para Ocultar'!$C$2:$C$7)))-12,C260+SUMPRODUCT(($C$16='Para Ocultar'!$A$2:$A$7)*('Para Ocultar'!$C$2:$C$7)))","v":10},2041,0,0,0,0,2.9699621593620152E-10,-2.9699621593620152E-10,0,1.3025405470344838E-8,0,0,0,0,{"$f":"SUMPRODUCT((C261='Comparación Alternativas'!$Z$5:$Z$246)*(Alternativas!D261='Comparación Alternativas'!$AA$5:$AA$246)*('Comparación Alternativas'!$AQ$5:$AQ$246))","v":0},{"$f":"SUMPRODUCT((C261='Comparación Alternativas'!$Z$5:$Z$246)*('Comparación Alternativas'!$AA$5:$AA$246=Alternativas!D261)*('Comparación Alternativas'!$BA$5:$BA$246))","v":0},null,237,{"$f":"IF(U260+SUMPRODUCT(($U$16='Para Ocultar'!$A$2:$A$7)*('Para Ocultar'!$C$2:$C$7))>12,(U260+SUMPRODUCT(($U$16='Para Ocultar'!$A$2:$A$7)*('Para Ocultar'!$C$2:$C$7)))-12,U260+SUMPRODUCT(($U$16='Para Ocultar'!$A$2:$A$7)*('Para Ocultar'!$C$2:$C$7)))","v":10},2041,0,0,0,0,-6.6702773255850798E-12,6.6702773255850798E-12,0,-8.0710355639579465E-10,-6.6702773255850798E-12,6.6702773255850798E-12,0,-8.0710355639579465E-10,{"$f":"SUMPRODUCT((U261='Comparación Alternativas'!$Z$5:$Z$246)*('Comparación Alternativas'!$AA$5:$AA$246=Alternativas!V261)*('Comparación Alternativas'!$AV$5:$AV$246))","v":0},{"$f":"SUMPRODUCT((U261='Comparación Alternativas'!$Z$5:$Z$246)*('Comparación Alternativas'!$AA$5:$AA$246=Alternativas!V261)*('Comparación Alternativas'!$BF$5:$BF$246))","v":0}]
[null,238,{"$f":"IF(C261+SUMPRODUCT(($C$16='Para Ocultar'!$A$2:$A$7)*('Para Ocultar'!$C$2:$C$7))>12,(C261+SUMPRODUCT(($C$16='Para Ocultar'!$A$2:$A$7)*('Para Ocultar'!$C$2:$C$7)))-12,C261+SUMPRODUCT(($C$16='Para Ocultar'!$A$2:$A$7)*('Para Ocultar'!$C$2:$C$7)))","v":11},2041,0,0,0,0,3.0392612764137956E-10,-3.0392612764137956E-10,0,1.3329331597986218E-8,0,0,0,0,{"$f":"SUMPRODUCT((C262='Comparación Alternativas'!$Z$5:$Z$246)*(Alternativas!D262='Comparación Alternativas'!$AA$5:$AA$246)*('Comparación Alternativas'!$AQ$5:$AQ$246))","v":0},{"$f":"SUMPRODUCT((C262='Comparación Alternativas'!$Z$5:$Z$246)*('Comparación Alternativas'!$AA$5:$AA$246=Alternativas!D262)*('Comparación Alternativas'!$BA$5:$BA$246))","v":0},null,238,{"$f":"IF(U261+SUMPRODUCT(($U$16='Para Ocultar'!$A$2:$A$7)*('Para Ocultar'!$C$2:$C$7))>12,(U261+SUMPRODUCT(($U$16='Para Ocultar'!$A$2:$A$7)*('Para Ocultar'!$C$2:$C$7)))-12,U261+SUMPRODUCT(($U$16='Para Ocultar'!$A$2:$A$7)*('Para Ocultar'!$C$2:$C$7)))","v":11},2041,0,0,0,0,-6.7258629699649551E-12,6.7258629699649551E-12,0,-8.1382941936575965E-10,-6.7258629699649551E-12,6.7258629699649551E-12,0,-8.1382941936575965E-10,{"$f":"SUMPRODUCT((U262='Comparación Alternativas'!$Z$5:$Z$246)*('Comparación Alternativas'!$AA$5:$AA$246=Alternativas!V262)*('Comparación Alternativas'!$AV$5:$AV$246))","v":0},{"$f":"SUMPRODUCT((U262='Comparación Alternativas'!$Z$5:$Z$246)*('Comparación Alternativas'!$AA$5:$AA$246=Alternativas!V262)*('Comparación Alternativas'!$BF$5:$BF$246))","v":0}]
[null,239,{"$f":"IF(C262+SUMPRODUCT(($C$16='Para Ocultar'!$A$2:$A$7)*('Para Ocultar'!$C$2:$C$7))>12,(C262+SUMPRODUCT(($C$16='Para Ocultar'!$A$2:$A$7)*('Para Ocultar'!$C$2:$C$7)))-12,C262+SUMPRODUCT(($C$16='Para Ocultar'!$A$2:$A$7)*('Para Ocultar'!$C$2:$C$7)))","v":12},2041,0,0,0,0,3.1101773728634512E-10,-3.1101773728634512E-10,0,1.3640349335272563E-8,0,0,0,0,{"$f":"SUMPRODUCT((C263='Comparación Alternativas'!$Z$5:$Z$246)*(Alternativas!D263='Comparación Alternativas'!$AA$5:$AA$246)*('Comparación Alternativas'!$AQ$5:$AQ$246))","v":0},{"$f":"SUMPRODUCT((C263='Comparación Alternativas'!$Z$5:$Z$246)*('Comparación Alternativas'!$AA$5:$AA$246=Alternativas!D263)*('Comparación Alternativas'!$BA$5:$BA$246))","v":0},null,239,{"$f":"IF(U262+SUMPRODUCT(($U$16='Para Ocultar'!$A$2:$A$7)*('Para Ocultar'!$C$2:$C$7))>12,(U262+SUMPRODUCT(($U$16='Para Ocultar'!$A$2:$A$7)*('Para Ocultar'!$C$2:$C$7)))-12,U262+SUMPRODUCT(($U$16='Para Ocultar'!$A$2:$A$7)*('Para Ocultar'!$C$2:$C$7)))","v":12},2041,0,0,0,0,-6.7819118280479974E-12,6.7819118280479974E-12,0,-8.2061133119380769E-10,-6.7819118280479974E-12,6.7819118280479974E-12,0,-8.2061133119380769E-10,{"$f":"SUMPRODUCT((U263='Comparación Alternativas'!$Z$5:$Z$246)*('Comparación Alternativas'!$AA$5:$AA$246=Alternativas!V263)*('Comparación Alternativas'!$AV$5:$AV$246))","v":0},{"$f":"SUMPRODUCT((U263='Comparación Alternativas'!$Z$5:$Z$246)*('Comparación Alternativas'!$AA$5:$AA$246=Alternativas!V263)*('Comparación Alternativas'!$BF$5:$BF$246))","v":0}]
[null,240,{"$f":"IF(C263+SUMPRODUCT(($C$16='Para Ocultar'!$A$2:$A$7)*('Para Ocultar'!$C$2:$C$7))>12,(C263+SUMPRODUCT(($C$16='Para Ocultar'!$A$2:$A$7)*('Para Ocultar'!$C$2:$C$7)))-12,C263+SUMPRODUCT(($C$16='Para Ocultar'!$A$2:$A$7)*('Para Ocultar'!$C$2:$C$7)))","v":1},2042,0,0,0,0,3.1827481782302647E-10,-3.1827481782302647E-10,0,1.3958624153095591E-8,0,0,0,0,{"$f":"SUMPRODUCT((C264='Comparación Alternativas'!$Z$5:$Z$246)*(Alternativas!D264='Comparación Alternativas'!$AA$5:$AA$246)*('Comparación Alternativas'!$AQ$5:$AQ$246))","v":0},{"$f":"SUMPRODUCT((C264='Comparación Alternativas'!$Z$5:$Z$246)*('Comparación Alternativas'!$AA$5:$AA$246=Alternativas!D264)*('Comparación Alternativas'!$BA$5:$BA$246))","v":0},null,240,{"$f":"IF(U263+SUMPRODUCT(($U$16='Para Ocultar'!$A$2:$A$7)*('Para Ocultar'!$C$2:$C$7))>12,(U263+SUMPRODUCT(($U$16='Para Ocultar'!$A$2:$A$7)*('Para Ocultar'!$C$2:$C$7)))-12,U263+SUMPRODUCT(($U$16='Para Ocultar'!$A$2:$A$7)*('Para Ocultar'!$C$2:$C$7)))","v":1},2042,0,0,0,0,-6.8384277599483981E-12,6.8384277599483981E-12,0,-8.2744975895375605E-10,-6.8384277599483981E-12,6.8384277599483981E-12,0,-8.2744975895375605E-10,{"$f":"SUMPRODUCT((U264='Comparación Alternativas'!$Z$5:$Z$246)*('Comparación Alternativas'!$AA$5:$AA$246=Alternativas!V264)*('Comparación Alternativas'!$AV$5:$AV$246))","v":0},{"$f":"SUMPRODUCT((U264='Comparación Alternativas'!$Z$5:$Z$246)*('Comparación Alternativas'!$AA$5:$AA$246=Alternativas!V264)*('Comparación Alternativas'!$BF$5:$BF$246))","v":0}]
[null,null,null,null,null,null,null,null,null,null,null,null,null,null,null,null,null,null,null,null,null,null,null,null,null,null,null,null,null,null,null,null,null,null,{"$f":"SUMPRODUCT((U265='Comparación Alternativas'!$Z$5:$Z$246)*('Comparación Alternativas'!$AA$5:$AA$246=Alternativas!V265)*('Comparación Alternativas'!$AV$5:$AV$246))","v":0}]
[null,null,null,null,null,null,null,null,null,null,null,null,null,null,null,null,null,null,null,null,null,null,null,null,null,null,null,null,null,null,null,null,null,null,{"$f":"SUMPRODUCT((U266='Comparación Alternativas'!$Z$5:$Z$246)*('Comparación Alternativas'!$AA$5:$AA$246=Alternativas!V266)*('Comparación Alternativas'!$AV$5:$AV$246))","v":0}]
[null,null,null,null,null,null,null,null,null,null,null,null,null,null,null,null,null,null,null,null,null,null,null,null,null,null,null,null,null,null,null,null,null,null,{"$f":"SUMPRODUCT((U267='Comparación Alternativas'!$Z$5:$Z$246)*('Comparación Alternativas'!$AA$5:$AA$246=Alternativas!V267)*('Comparación Alternativas'!$AV$5:$AV$246))","v":0}]
[null,null,null,null,null,null,null,null,null,null,null,null,null,null,null,null,null,null,null,null,null,null,null,null,null,null,null,null,null,null,null,null,null,null,{"$f":"SUMPRODUCT((U268='Comparación Alternativas'!$Z$5:$Z$246)*('Comparación Alternativas'!$AA$5:$AA$246=Alternativas!V268)*('Comparación Alternativas'!$AV$5:$AV$246))","v":0}]
[null,null,null,null,null,null,null,null,null,null,null,null,null,null,null,null,null,null,null,null,null,null,null,null,null,null,null,null,null,null,null,null,null,null,{"$f":"SUMPRODUCT((U269='Comparación Alternativas'!$Z$5:$Z$246)*('Comparación Alternativas'!$AA$5:$AA$246=Alternativas!V269)*('Comparación Alternativas'!$AV$5:$AV$246))","v":0}]
[null,null,null,null,null,null,null,null,null,null,null,null,null,null,null,null,null,null,null,null,null,null,null,null,null,null,null,null,null,null,null,null,null,null,{"$f":"SUMPRODUCT((U270='Comparación Alternativas'!$Z$5:$Z$246)*('Comparación Alternativas'!$AA$5:$AA$246=Alternativas!V270)*('Comparación Alternativas'!$AV$5:$AV$246))","v":0}]
[null,null,null,null,null,null,null,null,null,null,null,null,null,null,null,null,null,null,null,null,null,null,null,null,null,null,null,null,null,null,null,null,null,null,{"$f":"SUMPRODUCT((U271='Comparación Alternativas'!$Z$5:$Z$246)*('Comparación Alternativas'!$AA$5:$AA$246=Alternativas!V271)*('Comparación Alternativas'!$AV$5:$AV$246))","v":0}]
[null,null,null,null,null,null,null,null,null,null,null,null,null,null,null,null,null,null,null,null,null,null,null,null,null,null,null,null,null,null,null,null,null,null,{"$f":"SUMPRODUCT((U272='Comparación Alternativas'!$Z$5:$Z$246)*('Comparación Alternativas'!$AA$5:$AA$246=Alternativas!V272)*('Comparación Alternativas'!$AV$5:$AV$246))","v":0}]
[null,null,null,null,null,null,null,null,null,null,null,null,null,null,null,null,null,null,null,null,null,null,null,null,null,null,null,null,null,null,null,null,null,null,{"$f":"SUMPRODUCT((U273='Comparación Alternativas'!$Z$5:$Z$246)*('Comparación Alternativas'!$AA$5:$AA$246=Alternativas!V273)*('Comparación Alternativas'!$AV$5:$AV$246))","v":0}]
[null,null,null,null,null,null,null,null,null,null,null,null,null,null,null,null,null,null,null,null,null,null,null,null,null,null,null,null,null,null,null,null,null,null,{"$f":"SUMPRODUCT((U274='Comparación Alternativas'!$Z$5:$Z$246)*('Comparación Alternativas'!$AA$5:$AA$246=Alternativas!V274)*('Comparación Alternativas'!$AV$5:$AV$246))","v":0}]
[null,null,null,null,null,null,null,null,null,null,null,null,null,null,null,null,null,null,null,null,null,null,null,null,null,null,null,null,null,null,null,null,null,null,{"$f":"SUMPRODUCT((U275='Comparación Alternativas'!$Z$5:$Z$246)*('Comparación Alternativas'!$AA$5:$AA$246=Alternativas!V275)*('Comparación Alternativas'!$AV$5:$AV$246))","v":0}]
[null,null,null,null,null,null,null,null,null,null,null,null,null,null,null,null,null,null,null,null,null,null,null,null,null,null,null,null,null,null,null,null,null,null,{"$f":"SUMPRODUCT((U276='Comparación Alternativas'!$Z$5:$Z$246)*('Comparación Alternativas'!$AA$5:$AA$246=Alternativas!V276)*('Comparación Alternativas'!$AV$5:$AV$246))","v":0}]
[null,null,null,null,null,null,null,null,null,null,null,null,null,null,null,null,null,null,null,null,null,null,null,null,null,null,null,null,null,null,null,null,null,null,{"$f":"SUMPRODUCT((U277='Comparación Alternativas'!$Z$5:$Z$246)*('Comparación Alternativas'!$AA$5:$AA$246=Alternativas!V277)*('Comparación Alternativas'!$AV$5:$AV$246))","v":0}]
[null,null,null,null,null,null,null,null,null,null,null,null,null,null,null,null,null,null,null,null,null,null,null,null,null,null,null,null,null,null,null,null,null,null,{"$f":"SUMPRODUCT((U278='Comparación Alternativas'!$Z$5:$Z$246)*('Comparación Alternativas'!$AA$5:$AA$246=Alternativas!V278)*('Comparación Alternativas'!$AV$5:$AV$246))","v":0}]
[null,null,null,null,null,null,null,null,null,null,null,null,null,null,null,null,null,null,null,null,null,null,null,null,null,null,null,null,null,null,null,null,null,null,{"$f":"SUMPRODUCT((U279='Comparación Alternativas'!$Z$5:$Z$246)*('Comparación Alternativas'!$AA$5:$AA$246=Alternativas!V279)*('Comparación Alternativas'!$AV$5:$AV$246))","v":0}]
[null,null,null,null,null,null,null,null,null,null,null,null,null,null,null,null,null,null,null,null,null,null,null,null,null,null,null,null,null,null,null,null,null,null,{"$f":"SUMPRODUCT((U280='Comparación Alternativas'!$Z$5:$Z$246)*('Comparación Alternativas'!$AA$5:$AA$246=Alternativas!V280)*('Comparación Alternativas'!$AV$5:$AV$246))","v":0}]
[null,null,null,null,null,null,null,null,null,null,null,null,null,null,null,null,null,null,null,null,null,null,null,null,null,null,null,null,null,null,null,null,null,null,{"$f":"SUMPRODUCT((U281='Comparación Alternativas'!$Z$5:$Z$246)*('Comparación Alternativas'!$AA$5:$AA$246=Alternativas!V281)*('Comparación Alternativas'!$AV$5:$AV$246))","v":0}]
[null,null,null,null,null,null,null,null,null,null,null,null,null,null,null,null,null,null,null,null,null,null,null,null,null,null,null,null,null,null,null,null,null,null,{"$f":"SUMPRODUCT((U282='Comparación Alternativas'!$Z$5:$Z$246)*('Comparación Alternativas'!$AA$5:$AA$246=Alternativas!V282)*('Comparación Alternativas'!$AV$5:$AV$246))","v":0}]
[null,null,null,null,null,null,null,null,null,null,null,null,null,null,null,null,null,null,null,null,null,null,null,null,null,null,null,null,null,null,null,null,null,null,{"$f":"SUMPRODUCT((U283='Comparación Alternativas'!$Z$5:$Z$246)*('Comparación Alternativas'!$AA$5:$AA$246=Alternativas!V283)*('Comparación Alternativas'!$AV$5:$AV$246))","v":0}]
[null,null,null,null,null,null,null,null,null,null,null,null,null,null,null,null,null,null,null,null,null,null,null,null,null,null,null,null,null,null,null,null,null,null,{"$f":"SUMPRODUCT((U284='Comparación Alternativas'!$Z$5:$Z$246)*('Comparación Alternativas'!$AA$5:$AA$246=Alternativas!V284)*('Comparación Alternativas'!$AV$5:$AV$246))","v":0}]
[null,null,null,null,null,null,null,null,null,null,null,null,null,null,null,null,null,null,null,null,null,null,null,null,null,null,null,null,null,null,null,null,null,null,{"$f":"SUMPRODUCT((U285='Comparación Alternativas'!$Z$5:$Z$246)*('Comparación Alternativas'!$AA$5:$AA$246=Alternativas!V285)*('Comparación Alternativas'!$AV$5:$AV$246))","v":0}]
[null,null,null,null,null,null,null,null,null,null,null,null,null,null,null,null,null,null,null,null,null,null,null,null,null,null,null,null,null,null,null,null,null,null,{"$f":"SUMPRODUCT((U286='Comparación Alternativas'!$Z$5:$Z$246)*('Comparación Alternativas'!$AA$5:$AA$246=Alternativas!V286)*('Comparación Alternativas'!$AV$5:$AV$246))","v":0}]
[null,null,null,null,null,null,null,null,null,null,null,null,null,null,null,null,null,null,null,null,null,null,null,null,null,null,null,null,null,null,null,null,null,null,{"$f":"SUMPRODUCT((U287='Comparación Alternativas'!$Z$5:$Z$246)*('Comparación Alternativas'!$AA$5:$AA$246=Alternativas!V287)*('Comparación Alternativas'!$AV$5:$AV$246))","v":0}]
[null,null,null,null,null,null,null,null,null,null,null,null,null,null,null,null,null,null,null,null,null,null,null,null,null,null,null,null,null,null,null,null,null,null,{"$f":"SUMPRODUCT((U288='Comparación Alternativas'!$Z$5:$Z$246)*('Comparación Alternativas'!$AA$5:$AA$246=Alternativas!V288)*('Comparación Alternativas'!$AV$5:$AV$246))","v":0}]
[null,null,null,null,null,null,null,null,null,null,null,null,null,null,null,null,null,null,null,null,null,null,null,null,null,null,null,null,null,null,null,null,null,null,{"$f":"SUMPRODUCT((U289='Comparación Alternativas'!$Z$5:$Z$246)*('Comparación Alternativas'!$AA$5:$AA$246=Alternativas!V289)*('Comparación Alternativas'!$AV$5:$AV$246))","v":0}]
[null,null,null,null,null,null,null,null,null,null,null,null,null,null,null,null,null,null,null,null,null,null,null,null,null,null,null,null,null,null,null,null,null,null,{"$f":"SUMPRODUCT((U290='Comparación Alternativas'!$Z$5:$Z$246)*('Comparación Alternativas'!$AA$5:$AA$246=Alternativas!V290)*('Comparación Alternativas'!$AV$5:$AV$246))","v":0}]
[null,null,null,null,null,null,null,null,null,null,null,null,null,null,null,null,null,null,null,null,null,null,null,null,null,null,null,null,null,null,null,null,null,null,{"$f":"SUMPRODUCT((U291='Comparación Alternativas'!$Z$5:$Z$246)*('Comparación Alternativas'!$AA$5:$AA$246=Alternativas!V291)*('Comparación Alternativas'!$AV$5:$AV$246))","v":0}]
[null,null,null,null,null,null,null,null,null,null,null,null,null,null,null,null,null,null,null,null,null,null,null,null,null,null,null,null,null,null,null,null,null,null,{"$f":"SUMPRODUCT((U292='Comparación Alternativas'!$Z$5:$Z$246)*('Comparación Alternativas'!$AA$5:$AA$246=Alternativas!V292)*('Comparación Alternativas'!$AV$5:$AV$246))","v":0}]
[null,null,null,null,null,null,null,null,null,null,null,null,null,null,null,null,null,null,null,null,null,null,null,null,null,null,null,null,null,null,null,null,null,null,{"$f":"SUMPRODUCT((U293='Comparación Alternativas'!$Z$5:$Z$246)*('Comparación Alternativas'!$AA$5:$AA$246=Alternativas!V293)*('Comparación Alternativas'!$AV$5:$AV$246))","v":0}]
[null,null,null,null,null,null,null,null,null,null,null,null,null,null,null,null,null,null,null,null,null,null,null,null,null,null,null,null,null,null,null,null,null,null,{"$f":"SUMPRODUCT((U294='Comparación Alternativas'!$Z$5:$Z$246)*('Comparación Alternativas'!$AA$5:$AA$246=Alternativas!V294)*('Comparación Alternativas'!$AV$5:$AV$246))","v":0}]
[null,null,null,null,null,null,null,null,null,null,null,null,null,null,null,null,null,null,null,null,null,null,null,null,null,null,null,null,null,null,null,null,null,null,{"$f":"SUMPRODUCT((U295='Comparación Alternativas'!$Z$5:$Z$246)*('Comparación Alternativas'!$AA$5:$AA$246=Alternativas!V295)*('Comparación Alternativas'!$AV$5:$AV$246))","v":0}]
[null,null,null,null,null,null,null,null,null,null,null,null,null,null,null,null,null,null,null,null,null,null,null,null,null,null,null,null,null,null,null,null,null,null,{"$f":"SUMPRODUCT((U296='Comparación Alternativas'!$Z$5:$Z$246)*('Comparación Alternativas'!$AA$5:$AA$246=Alternativas!V296)*('Comparación Alternativas'!$AV$5:$AV$246))","v":0}]
[null,null,null,null,null,null,null,null,null,null,null,null,null,null,null,null,null,null,null,null,null,null,null,null,null,null,null,null,null,null,null,null,null,null,{"$f":"SUMPRODUCT((U297='Comparación Alternativas'!$Z$5:$Z$246)*('Comparación Alternativas'!$AA$5:$AA$246=Alternativas!V297)*('Comparación Alternativas'!$AV$5:$AV$246))","v":0}]
[null,null,null,null,null,null,null,null,null,null,null,null,null,null,null,null,null,null,null,null,null,null,null,null,null,null,null,null,null,null,null,null,null,null,{"$f":"SUMPRODUCT((U298='Comparación Alternativas'!$Z$5:$Z$246)*('Comparación Alternativas'!$AA$5:$AA$246=Alternativas!V298)*('Comparación Alternativas'!$AV$5:$AV$246))","v":0}]
[null,null,null,null,null,null,null,null,null,null,null,null,null,null,null,null,null,null,null,null,null,null,null,null,null,null,null,null,null,null,null,null,null,null,{"$f":"SUMPRODUCT((U299='Comparación Alternativas'!$Z$5:$Z$246)*('Comparación Alternativas'!$AA$5:$AA$246=Alternativas!V299)*('Comparación Alternativas'!$AV$5:$AV$246))","v":0}]
[null,null,null,null,null,null,null,null,null,null,null,null,null,null,null,null,null,null,null,null,null,null,null,null,null,null,null,null,null,null,null,null,null,null,{"$f":"SUMPRODUCT((U300='Comparación Alternativas'!$Z$5:$Z$246)*('Comparación Alternativas'!$AA$5:$AA$246=Alternativas!V300)*('Comparación Alternativas'!$AV$5:$AV$246))","v":0}]
[null,null,null,null,null,null,null,null,null,null,null,null,null,null,null,null,null,null,null,null,null,null,null,null,null,null,null,null,null,null,null,null,null,null,{"$f":"SUMPRODUCT((U301='Comparación Alternativas'!$Z$5:$Z$246)*('Comparación Alternativas'!$AA$5:$AA$246=Alternativas!V301)*('Comparación Alternativas'!$AV$5:$AV$246))","v":0}]
[null,null,null,null,null,null,null,null,null,null,null,null,null,null,null,null,null,null,null,null,null,null,null,null,null,null,null,null,null,null,null,null,null,null,{"$f":"SUMPRODUCT((U302='Comparación Alternativas'!$Z$5:$Z$246)*('Comparación Alternativas'!$AA$5:$AA$246=Alternativas!V302)*('Comparación Alternativas'!$AV$5:$AV$246))","v":0}]
[null,null,null,null,null,null,null,null,null,null,null,null,null,null,null,null,null,null,null,null,null,null,null,null,null,null,null,null,null,null,null,null,null,null,{"$f":"SUMPRODUCT((U303='Comparación Alternativas'!$Z$5:$Z$246)*('Comparación Alternativas'!$AA$5:$AA$246=Alternativas!V303)*('Comparación Alternativas'!$AV$5:$AV$246))","v":0}]
[null,null,null,null,null,null,null,null,null,null,null,null,null,null,null,null,null,null,null,null,null,null,null,null,null,null,null,null,null,null,null,null,null,null,{"$f":"SUMPRODUCT((U304='Comparación Alternativas'!$Z$5:$Z$246)*('Comparación Alternativas'!$AA$5:$AA$246=Alternativas!V304)*('Comparación Alternativas'!$AV$5:$AV$246))","v":0}]
[null,null,null,null,null,null,null,null,null,null,null,null,null,null,null,null,null,null,null,null,null,null,null,null,null,null,null,null,null,null,null,null,null,null,{"$f":"SUMPRODUCT((U305='Comparación Alternativas'!$Z$5:$Z$246)*('Comparación Alternativas'!$AA$5:$AA$246=Alternativas!V305)*('Comparación Alternativas'!$AV$5:$AV$246))","v":0}]
[null,null,null,null,null,null,null,null,null,null,null,null,null,null,null,null,null,null,null,null,null,null,null,null,null,null,null,null,null,null,null,null,null,null,{"$f":"SUMPRODUCT((U306='Comparación Alternativas'!$Z$5:$Z$246)*('Comparación Alternativas'!$AA$5:$AA$246=Alternativas!V306)*('Comparación Alternativas'!$AV$5:$AV$246))","v":0}]
[null,null,null,null,null,null,null,null,null,null,null,null,null,null,null,null,null,null,null,null,null,null,null,null,null,null,null,null,null,null,null,null,null,null,{"$f":"SUMPRODUCT((U307='Comparación Alternativas'!$Z$5:$Z$246)*('Comparación Alternativas'!$AA$5:$AA$246=Alternativas!V307)*('Comparación Alternativas'!$AV$5:$AV$246))","v":0}]
[null,null,null,null,null,null,null,null,null,null,null,null,null,null,null,null,null,null,null,null,null,null,null,null,null,null,null,null,null,null,null,null,null,null,{"$f":"SUMPRODUCT((U308='Comparación Alternativas'!$Z$5:$Z$246)*('Comparación Alternativas'!$AA$5:$AA$246=Alternativas!V308)*('Comparación Alternativas'!$AV$5:$AV$246))","v":0}]
[null,null,null,null,null,null,null,null,null,null,null,null,null,null,null,null,null,null,null,null,null,null,null,null,null,null,null,null,null,null,null,null,null,null,{"$f":"SUMPRODUCT((U309='Comparación Alternativas'!$Z$5:$Z$246)*('Comparación Alternativas'!$AA$5:$AA$246=Alternativas!V309)*('Comparación Alternativas'!$AV$5:$AV$246))","v":0}]
[null,null,null,null,null,null,null,null,null,null,null,null,null,null,null,null,null,null,null,null,null,null,null,null,null,null,null,null,null,null,null,null,null,null,{"$f":"SUMPRODUCT((U310='Comparación Alternativas'!$Z$5:$Z$246)*('Comparación Alternativas'!$AA$5:$AA$246=Alternativas!V310)*('Comparación Alternativas'!$AV$5:$AV$246))","v":0}]
[null,null,null,null,null,null,null,null,null,null,null,null,null,null,null,null,null,null,null,null,null,null,null,null,null,null,null,null,null,null,null,null,null,null,{"$f":"SUMPRODUCT((U311='Comparación Alternativas'!$Z$5:$Z$246)*('Comparación Alternativas'!$AA$5:$AA$246=Alternativas!V311)*('Comparación Alternativas'!$AV$5:$AV$246))","v":0}]
[null,null,null,null,null,null,null,null,null,null,null,null,null,null,null,null,null,null,null,null,null,null,null,null,null,null,null,null,null,null,null,null,null,null,{"$f":"SUMPRODUCT((U312='Comparación Alternativas'!$Z$5:$Z$246)*('Comparación Alternativas'!$AA$5:$AA$246=Alternativas!V312)*('Comparación Alternativas'!$AV$5:$AV$246))","v":0}]
[null,null,null,null,null,null,null,null,null,null,null,null,null,null,null,null,null,null,null,null,null,null,null,null,null,null,null,null,null,null,null,null,null,null,{"$f":"SUMPRODUCT((U313='Comparación Alternativas'!$Z$5:$Z$246)*('Comparación Alternativas'!$AA$5:$AA$246=Alternativas!V313)*('Comparación Alternativas'!$AV$5:$AV$246))","v":0}]
[null,null,null,null,null,null,null,null,null,null,null,null,null,null,null,null,null,null,null,null,null,null,null,null,null,null,null,null,null,null,null,null,null,null,{"$f":"SUMPRODUCT((U314='Comparación Alternativas'!$Z$5:$Z$246)*('Comparación Alternativas'!$AA$5:$AA$246=Alternativas!V314)*('Comparación Alternativas'!$AV$5:$AV$246))","v":0}]
[null,null,null,null,null,null,null,null,null,null,null,null,null,null,null,null,null,null,null,null,null,null,null,null,null,null,null,null,null,null,null,null,null,null,{"$f":"SUMPRODUCT((U315='Comparación Alternativas'!$Z$5:$Z$246)*('Comparación Alternativas'!$AA$5:$AA$246=Alternativas!V315)*('Comparación Alternativas'!$AV$5:$AV$246))","v":0}]
[null,null,null,null,null,null,null,null,null,null,null,null,null,null,null,null,null,null,null,null,null,null,null,null,null,null,null,null,null,null,null,null,null,null,{"$f":"SUMPRODUCT((U316='Comparación Alternativas'!$Z$5:$Z$246)*('Comparación Alternativas'!$AA$5:$AA$246=Alternativas!V316)*('Comparación Alternativas'!$AV$5:$AV$246))","v":0}]
[null,null,null,null,null,null,null,null,null,null,null,null,null,null,null,null,null,null,null,null,null,null,null,null,null,null,null,null,null,null,null,null,null,null,{"$f":"SUMPRODUCT((U317='Comparación Alternativas'!$Z$5:$Z$246)*('Comparación Alternativas'!$AA$5:$AA$246=Alternativas!V317)*('Comparación Alternativas'!$AV$5:$AV$246))","v":0}]
[null,null,null,null,null,null,null,null,null,null,null,null,null,null,null,null,null,null,null,null,null,null,null,null,null,null,null,null,null,null,null,null,null,null,{"$f":"SUMPRODUCT((U318='Comparación Alternativas'!$Z$5:$Z$246)*('Comparación Alternativas'!$AA$5:$AA$246=Alternativas!V318)*('Comparación Alternativas'!$AV$5:$AV$246))","v":0}]
[null,null,null,null,null,null,null,null,null,null,null,null,null,null,null,null,null,null,null,null,null,null,null,null,null,null,null,null,null,null,null,null,null,null,{"$f":"SUMPRODUCT((U319='Comparación Alternativas'!$Z$5:$Z$246)*('Comparación Alternativas'!$AA$5:$AA$246=Alternativas!V319)*('Comparación Alternativas'!$AV$5:$AV$246))","v":0}]
[null,null,null,null,null,null,null,null,null,null,null,null,null,null,null,null,null,null,null,null,null,null,null,null,null,null,null,null,null,null,null,null,null,null,{"$f":"SUMPRODUCT((U320='Comparación Alternativas'!$Z$5:$Z$246)*('Comparación Alternativas'!$AA$5:$AA$246=Alternativas!V320)*('Comparación Alternativas'!$AV$5:$AV$246))","v":0}]
[null,null,null,null,null,null,null,null,null,null,null,null,null,null,null,null,null,null,null,null,null,null,null,null,null,null,null,null,null,null,null,null,null,null,{"$f":"SUMPRODUCT((U321='Comparación Alternativas'!$Z$5:$Z$246)*('Comparación Alternativas'!$AA$5:$AA$246=Alternativas!V321)*('Comparación Alternativas'!$AV$5:$AV$246))","v":0}]
[null,null,null,null,null,null,null,null,null,null,null,null,null,null,null,null,null,null,null,null,null,null,null,null,null,null,null,null,null,null,null,null,null,null,{"$f":"SUMPRODUCT((U322='Comparación Alternativas'!$Z$5:$Z$246)*('Comparación Alternativas'!$AA$5:$AA$246=Alternativas!V322)*('Comparación Alternativas'!$AV$5:$AV$246))","v":0}]
[null,null,null,null,null,null,null,null,null,null,null,null,null,null,null,null,null,null,null,null,null,null,null,null,null,null,null,null,null,null,null,null,null,null,{"$f":"SUMPRODUCT((U323='Comparación Alternativas'!$Z$5:$Z$246)*('Comparación Alternativas'!$AA$5:$AA$246=Alternativas!V323)*('Comparación Alternativas'!$AV$5:$AV$246))","v":0}]
[null,null,null,null,null,null,null,null,null,null,null,null,null,null,null,null,null,null,null,null,null,null,null,null,null,null,null,null,null,null,null,null,null,null,{"$f":"SUMPRODUCT((U324='Comparación Alternativas'!$Z$5:$Z$246)*('Comparación Alternativas'!$AA$5:$AA$246=Alternativas!V324)*('Comparación Alternativas'!$AV$5:$AV$246))","v":0}]
[null,null,null,null,null,null,null,null,null,null,null,null,null,null,null,null,null,null,null,null,null,null,null,null,null,null,null,null,null,null,null,null,null,null,{"$f":"SUMPRODUCT((U325='Comparación Alternativas'!$Z$5:$Z$246)*('Comparación Alternativas'!$AA$5:$AA$246=Alternativas!V325)*('Comparación Alternativas'!$AV$5:$AV$246))","v":0}]
[null,null,null,null,null,null,null,null,null,null,null,null,null,null,null,null,null,null,null,null,null,null,null,null,null,null,null,null,null,null,null,null,null,null,{"$f":"SUMPRODUCT((U326='Comparación Alternativas'!$Z$5:$Z$246)*('Comparación Alternativas'!$AA$5:$AA$246=Alternativas!V326)*('Comparación Alternativas'!$AV$5:$AV$246))","v":0}]
[null,null,null,null,null,null,null,null,null,null,null,null,null,null,null,null,null,null,null,null,null,null,null,null,null,null,null,null,null,null,null,null,null,null,{"$f":"SUMPRODUCT((U327='Comparación Alternativas'!$Z$5:$Z$246)*('Comparación Alternativas'!$AA$5:$AA$246=Alternativas!V327)*('Comparación Alternativas'!$AV$5:$AV$246))","v":0}]
[null,null,null,null,null,null,null,null,null,null,null,null,null,null,null,null,null,null,null,null,null,null,null,null,null,null,null,null,null,null,null,null,null,null,{"$f":"SUMPRODUCT((U328='Comparación Alternativas'!$Z$5:$Z$246)*('Comparación Alternativas'!$AA$5:$AA$246=Alternativas!V328)*('Comparación Alternativas'!$AV$5:$AV$246))","v":0}]
[null,null,null,null,null,null,null,null,null,null,null,null,null,null,null,null,null,null,null,null,null,null,null,null,null,null,null,null,null,null,null,null,null,null,{"$f":"SUMPRODUCT((U329='Comparación Alternativas'!$Z$5:$Z$246)*('Comparación Alternativas'!$AA$5:$AA$246=Alternativas!V329)*('Comparación Alternativas'!$AV$5:$AV$246))","v":0}]
[null,null,null,null,null,null,null,null,null,null,null,null,null,null,null,null,null,null,null,null,null,null,null,null,null,null,null,null,null,null,null,null,null,null,{"$f":"SUMPRODUCT((U330='Comparación Alternativas'!$Z$5:$Z$246)*('Comparación Alternativas'!$AA$5:$AA$246=Alternativas!V330)*('Comparación Alternativas'!$AV$5:$AV$246))","v":0}]
[null,null,null,null,null,null,null,null,null,null,null,null,null,null,null,null,null,null,null,null,null,null,null,null,null,null,null,null,null,null,null,null,null,null,{"$f":"SUMPRODUCT((U331='Comparación Alternativas'!$Z$5:$Z$246)*('Comparación Alternativas'!$AA$5:$AA$246=Alternativas!V331)*('Comparación Alternativas'!$AV$5:$AV$246))","v":0}]
[null,null,null,null,null,null,null,null,null,null,null,null,null,null,null,null,null,null,null,null,null,null,null,null,null,null,null,null,null,null,null,null,null,null,{"$f":"SUMPRODUCT((U332='Comparación Alternativas'!$Z$5:$Z$246)*('Comparación Alternativas'!$AA$5:$AA$246=Alternativas!V332)*('Comparación Alternativas'!$AV$5:$AV$246))","v":0}]
[null,null,null,null,null,null,null,null,null,null,null,null,null,null,null,null,null,null,null,null,null,null,null,null,null,null,null,null,null,null,null,null,null,null,{"$f":"SUMPRODUCT((U333='Comparación Alternativas'!$Z$5:$Z$246)*('Comparación Alternativas'!$AA$5:$AA$246=Alternativas!V333)*('Comparación Alternativas'!$AV$5:$AV$246))","v":0}]
[null,null,null,null,null,null,null,null,null,null,null,null,null,null,null,null,null,null,null,null,null,null,null,null,null,null,null,null,null,null,null,null,null,null,{"$f":"SUMPRODUCT((U334='Comparación Alternativas'!$Z$5:$Z$246)*('Comparación Alternativas'!$AA$5:$AA$246=Alternativas!V334)*('Comparación Alternativas'!$AV$5:$AV$246))","v":0}]
[null,null,null,null,null,null,null,null,null,null,null,null,null,null,null,null,null,null,null,null,null,null,null,null,null,null,null,null,null,null,null,null,null,null,{"$f":"SUMPRODUCT((U335='Comparación Alternativas'!$Z$5:$Z$246)*('Comparación Alternativas'!$AA$5:$AA$246=Alternativas!V335)*('Comparación Alternativas'!$AV$5:$AV$246))","v":0}]
[null,null,null,null,null,null,null,null,null,null,null,null,null,null,null,null,null,null,null,null,null,null,null,null,null,null,null,null,null,null,null,null,null,null,{"$f":"SUMPRODUCT((U336='Comparación Alternativas'!$Z$5:$Z$246)*('Comparación Alternativas'!$AA$5:$AA$246=Alternativas!V336)*('Comparación Alternativas'!$AV$5:$AV$246))","v":0}]
[null,null,null,null,null,null,null,null,null,null,null,null,null,null,null,null,null,null,null,null,null,null,null,null,null,null,null,null,null,null,null,null,null,null,{"$f":"SUMPRODUCT((U337='Comparación Alternativas'!$Z$5:$Z$246)*('Comparación Alternativas'!$AA$5:$AA$246=Alternativas!V337)*('Comparación Alternativas'!$AV$5:$AV$246))","v":0}]
[null,null,null,null,null,null,null,null,null,null,null,null,null,null,null,null,null,null,null,null,null,null,null,null,null,null,null,null,null,null,null,null,null,null,{"$f":"SUMPRODUCT((U338='Comparación Alternativas'!$Z$5:$Z$246)*('Comparación Alternativas'!$AA$5:$AA$246=Alternativas!V338)*('Comparación Alternativas'!$AV$5:$AV$246))","v":0}]
[null,null,null,null,null,null,null,null,null,null,null,null,null,null,null,null,null,null,null,null,null,null,null,null,null,null,null,null,null,null,null,null,null,null,{"$f":"SUMPRODUCT((U339='Comparación Alternativas'!$Z$5:$Z$246)*('Comparación Alternativas'!$AA$5:$AA$246=Alternativas!V339)*('Comparación Alternativas'!$AV$5:$AV$246))","v":0}]
[null,null,null,null,null,null,null,null,null,null,null,null,null,null,null,null,null,null,null,null,null,null,null,null,null,null,null,null,null,null,null,null,null,null,{"$f":"SUMPRODUCT((U340='Comparación Alternativas'!$Z$5:$Z$246)*('Comparación Alternativas'!$AA$5:$AA$246=Alternativas!V340)*('Comparación Alternativas'!$AV$5:$AV$246))","v":0}]
[null,null,null,null,null,null,null,null,null,null,null,null,null,null,null,null,null,null,null,null,null,null,null,null,null,null,null,null,null,null,null,null,null,null,{"$f":"SUMPRODUCT((U341='Comparación Alternativas'!$Z$5:$Z$246)*('Comparación Alternativas'!$AA$5:$AA$246=Alternativas!V341)*('Comparación Alternativas'!$AV$5:$AV$246))","v":0}]
[null,null,null,null,null,null,null,null,null,null,null,null,null,null,null,null,null,null,null,null,null,null,null,null,null,null,null,null,null,null,null,null,null,null,{"$f":"SUMPRODUCT((U342='Comparación Alternativas'!$Z$5:$Z$246)*('Comparación Alternativas'!$AA$5:$AA$246=Alternativas!V342)*('Comparación Alternativas'!$AV$5:$AV$246))","v":0}]
[null,null,null,null,null,null,null,null,null,null,null,null,null,null,null,null,null,null,null,null,null,null,null,null,null,null,null,null,null,null,null,null,null,null,{"$f":"SUMPRODUCT((U343='Comparación Alternativas'!$Z$5:$Z$246)*('Comparación Alternativas'!$AA$5:$AA$246=Alternativas!V343)*('Comparación Alternativas'!$AV$5:$AV$246))","v":0}]
[null,null,null,null,null,null,null,null,null,null,null,null,null,null,null,null,null,null,null,null,null,null,null,null,null,null,null,null,null,null,null,null,null,null,{"$f":"SUMPRODUCT((U344='Comparación Alternativas'!$Z$5:$Z$246)*('Comparación Alternativas'!$AA$5:$AA$246=Alternativas!V344)*('Comparación Alternativas'!$AV$5:$AV$246))","v":0}]
[null,null,null,null,null,null,null,null,null,null,null,null,null,null,null,null,null,null,null,null,null,null,null,null,null,null,null,null,null,null,null,null,null,null,{"$f":"SUMPRODUCT((U345='Comparación Alternativas'!$Z$5:$Z$246)*('Comparación Alternativas'!$AA$5:$AA$246=Alternativas!V345)*('Comparación Alternativas'!$AV$5:$AV$246))","v":0}]
[null,null,null,null,null,null,null,null,null,null,null,null,null,null,null,null,null,null,null,null,null,null,null,null,null,null,null,null,null,null,null,null,null,null,{"$f":"SUMPRODUCT((U346='Comparación Alternativas'!$Z$5:$Z$246)*('Comparación Alternativas'!$AA$5:$AA$246=Alternativas!V346)*('Comparación Alternativas'!$AV$5:$AV$246))","v":0}]
[null,null,null,null,null,null,null,null,null,null,null,null,null,null,null,null,null,null,null,null,null,null,null,null,null,null,null,null,null,null,null,null,null,null,{"$f":"SUMPRODUCT((U347='Comparación Alternativas'!$Z$5:$Z$246)*('Comparación Alternativas'!$AA$5:$AA$246=Alternativas!V347)*('Comparación Alternativas'!$AV$5:$AV$246))","v":0}]
[null,null,null,null,null,null,null,null,null,null,null,null,null,null,null,null,null,null,null,null,null,null,null,null,null,null,null,null,null,null,null,null,null,null,{"$f":"SUMPRODUCT((U348='Comparación Alternativas'!$Z$5:$Z$246)*('Comparación Alternativas'!$AA$5:$AA$246=Alternativas!V348)*('Comparación Alternativas'!$AV$5:$AV$246))","v":0}]
[null,null,null,null,null,null,null,null,null,null,null,null,null,null,null,null,null,null,null,null,null,null,null,null,null,null,null,null,null,null,null,null,null,null,{"$f":"SUMPRODUCT((U349='Comparación Alternativas'!$Z$5:$Z$246)*('Comparación Alternativas'!$AA$5:$AA$246=Alternativas!V349)*('Comparación Alternativas'!$AV$5:$AV$246))","v":0}]
[null,null,null,null,null,null,null,null,null,null,null,null,null,null,null,null,null,null,null,null,null,null,null,null,null,null,null,null,null,null,null,null,null,null,{"$f":"SUMPRODUCT((U350='Comparación Alternativas'!$Z$5:$Z$246)*('Comparación Alternativas'!$AA$5:$AA$246=Alternativas!V350)*('Comparación Alternativas'!$AV$5:$AV$246))","v":0}]
[null,null,null,null,null,null,null,null,null,null,null,null,null,null,null,null,null,null,null,null,null,null,null,null,null,null,null,null,null,null,null,null,null,null,{"$f":"SUMPRODUCT((U351='Comparación Alternativas'!$Z$5:$Z$246)*('Comparación Alternativas'!$AA$5:$AA$246=Alternativas!V351)*('Comparación Alternativas'!$AV$5:$AV$246))","v":0}]
[null,null,null,null,null,null,null,null,null,null,null,null,null,null,null,null,null,null,null,null,null,null,null,null,null,null,null,null,null,null,null,null,null,null,{"$f":"SUMPRODUCT((U352='Comparación Alternativas'!$Z$5:$Z$246)*('Comparación Alternativas'!$AA$5:$AA$246=Alternativas!V352)*('Comparación Alternativas'!$AV$5:$AV$246))","v":0}]
[null,null,null,null,null,null,null,null,null,null,null,null,null,null,null,null,null,null,null,null,null,null,null,null,null,null,null,null,null,null,null,null,null,null,{"$f":"SUMPRODUCT((U353='Comparación Alternativas'!$Z$5:$Z$246)*('Comparación Alternativas'!$AA$5:$AA$246=Alternativas!V353)*('Comparación Alternativas'!$AV$5:$AV$246))","v":0}]
[null,null,null,null,null,null,null,null,null,null,null,null,null,null,null,null,null,null,null,null,null,null,null,null,null,null,null,null,null,null,null,null,null,null,{"$f":"SUMPRODUCT((U354='Comparación Alternativas'!$Z$5:$Z$246)*('Comparación Alternativas'!$AA$5:$AA$246=Alternativas!V354)*('Comparación Alternativas'!$AV$5:$AV$246))","v":0}]
[null,null,null,null,null,null,null,null,null,null,null,null,null,null,null,null,null,null,null,null,null,null,null,null,null,null,null,null,null,null,null,null,null,null,{"$f":"SUMPRODUCT((U355='Comparación Alternativas'!$Z$5:$Z$246)*('Comparación Alternativas'!$AA$5:$AA$246=Alternativas!V355)*('Comparación Alternativas'!$AV$5:$AV$246))","v":0}]
[null,null,null,null,null,null,null,null,null,null,null,null,null,null,null,null,null,null,null,null,null,null,null,null,null,null,null,null,null,null,null,null,null,null,{"$f":"SUMPRODUCT((U356='Comparación Alternativas'!$Z$5:$Z$246)*('Comparación Alternativas'!$AA$5:$AA$246=Alternativas!V356)*('Comparación Alternativas'!$AV$5:$AV$246))","v":0}]
[null,null,null,null,null,null,null,null,null,null,null,null,null,null,null,null,null,null,null,null,null,null,null,null,null,null,null,null,null,null,null,null,null,null,{"$f":"SUMPRODUCT((U357='Comparación Alternativas'!$Z$5:$Z$246)*('Comparación Alternativas'!$AA$5:$AA$246=Alternativas!V357)*('Comparación Alternativas'!$AV$5:$AV$246))","v":0}]
[null,null,null,null,null,null,null,null,null,null,null,null,null,null,null,null,null,null,null,null,null,null,null,null,null,null,null,null,null,null,null,null,null,null,{"$f":"SUMPRODUCT((U358='Comparación Alternativas'!$Z$5:$Z$246)*('Comparación Alternativas'!$AA$5:$AA$246=Alternativas!V358)*('Comparación Alternativas'!$AV$5:$AV$246))","v":0}]
[null,null,null,null,null,null,null,null,null,null,null,null,null,null,null,null,null,null,null,null,null,null,null,null,null,null,null,null,null,null,null,null,null,null,{"$f":"SUMPRODUCT((U359='Comparación Alternativas'!$Z$5:$Z$246)*('Comparación Alternativas'!$AA$5:$AA$246=Alternativas!V359)*('Comparación Alternativas'!$AV$5:$AV$246))","v":0}]
[null,null,null,null,null,null,null,null,null,null,null,null,null,null,null,null,null,null,null,null,null,null,null,null,null,null,null,null,null,null,null,null,null,null,{"$f":"SUMPRODUCT((U360='Comparación Alternativas'!$Z$5:$Z$246)*('Comparación Alternativas'!$AA$5:$AA$246=Alternativas!V360)*('Comparación Alternativas'!$AV$5:$AV$246))","v":0}]
[null,null,null,null,null,null,null,null,null,null,null,null,null,null,null,null,null,null,null,null,null,null,null,null,null,null,null,null,null,null,null,null,null,null,{"$f":"SUMPRODUCT((U361='Comparación Alternativas'!$Z$5:$Z$246)*('Comparación Alternativas'!$AA$5:$AA$246=Alternativas!V361)*('Comparación Alternativas'!$AV$5:$AV$246))","v":0}]
[null,null,null,null,null,null,null,null,null,null,null,null,null,null,null,null,null,null,null,null,null,null,null,null,null,null,null,null,null,null,null,null,null,null,{"$f":"SUMPRODUCT((U362='Comparación Alternativas'!$Z$5:$Z$246)*('Comparación Alternativas'!$AA$5:$AA$246=Alternativas!V362)*('Comparación Alternativas'!$AV$5:$AV$246))","v":0}]
[null,null,null,null,null,null,null,null,null,null,null,null,null,null,null,null,null,null,null,null,null,null,null,null,null,null,null,null,null,null,null,null,null,null,{"$f":"SUMPRODUCT((U363='Comparación Alternativas'!$Z$5:$Z$246)*('Comparación Alternativas'!$AA$5:$AA$246=Alternativas!V363)*('Comparación Alternativas'!$AV$5:$AV$246))","v":0}]
[null,null,null,null,null,null,null,null,null,null,null,null,null,null,null,null,null,null,null,null,null,null,null,null,null,null,null,null,null,null,null,null,null,null,{"$f":"SUMPRODUCT((U364='Comparación Alternativas'!$Z$5:$Z$246)*('Comparación Alternativas'!$AA$5:$AA$246=Alternativas!V364)*('Comparación Alternativas'!$AV$5:$AV$246))","v":0}]
[null,null,null,null,null,null,null,null,null,null,null,null,null,null,null,null,null,null,null,null,null,null,null,null,null,null,null,null,null,null,null,null,null,null,{"$f":"SUMPRODUCT((U365='Comparación Alternativas'!$Z$5:$Z$246)*('Comparación Alternativas'!$AA$5:$AA$246=Alternativas!V365)*('Comparación Alternativas'!$AV$5:$AV$246))","v":0}]
[null,null,null,null,null,null,null,null,null,null,null,null,null,null,null,null,null,null,null,null,null,null,null,null,null,null,null,null,null,null,null,null,null,null,{"$f":"SUMPRODUCT((U366='Comparación Alternativas'!$Z$5:$Z$246)*('Comparación Alternativas'!$AA$5:$AA$246=Alternativas!V366)*('Comparación Alternativas'!$AV$5:$AV$246))","v":0}]
[null,null,null,null,null,null,null,null,null,null,null,null,null,null,null,null,null,null,null,null,null,null,null,null,null,null,null,null,null,null,null,null,null,null,{"$f":"SUMPRODUCT((U367='Comparación Alternativas'!$Z$5:$Z$246)*('Comparación Alternativas'!$AA$5:$AA$246=Alternativas!V367)*('Comparación Alternativas'!$AV$5:$AV$246))","v":0}]
[null,null,null,null,null,null,null,null,null,null,null,null,null,null,null,null,null,null,null,null,null,null,null,null,null,null,null,null,null,null,null,null,null,null,{"$f":"SUMPRODUCT((U368='Comparación Alternativas'!$Z$5:$Z$246)*('Comparación Alternativas'!$AA$5:$AA$246=Alternativas!V368)*('Comparación Alternativas'!$AV$5:$AV$246))","v":0}]
[null,null,null,null,null,null,null,null,null,null,null,null,null,null,null,null,null,null,null,null,null,null,null,null,null,null,null,null,null,null,null,null,null,null,{"$f":"SUMPRODUCT((U369='Comparación Alternativas'!$Z$5:$Z$246)*('Comparación Alternativas'!$AA$5:$AA$246=Alternativas!V369)*('Comparación Alternativas'!$AV$5:$AV$246))","v":0}]
[null,null,null,null,null,null,null,null,null,null,null,null,null,null,null,null,null,null,null,null,null,null,null,null,null,null,null,null,null,null,null,null,null,null,{"$f":"SUMPRODUCT((U370='Comparación Alternativas'!$Z$5:$Z$246)*('Comparación Alternativas'!$AA$5:$AA$246=Alternativas!V370)*('Comparación Alternativas'!$AV$5:$AV$246))","v":0}]
[null,null,null,null,null,null,null,null,null,null,null,null,null,null,null,null,null,null,null,null,null,null,null,null,null,null,null,null,null,null,null,null,null,null,{"$f":"SUMPRODUCT((U371='Comparación Alternativas'!$Z$5:$Z$246)*('Comparación Alternativas'!$AA$5:$AA$246=Alternativas!V371)*('Comparación Alternativas'!$AV$5:$AV$246))","v":0}]
[null,null,null,null,null,null,null,null,null,null,null,null,null,null,null,null,null,null,null,null,null,null,null,null,null,null,null,null,null,null,null,null,null,null,{"$f":"SUMPRODUCT((U372='Comparación Alternativas'!$Z$5:$Z$246)*('Comparación Alternativas'!$AA$5:$AA$246=Alternativas!V372)*('Comparación Alternativas'!$AV$5:$AV$246))","v":0}]
[null,null,null,null,null,null,null,null,null,null,null,null,null,null,null,null,null,null,null,null,null,null,null,null,null,null,null,null,null,null,null,null,null,null,{"$f":"SUMPRODUCT((U373='Comparación Alternativas'!$Z$5:$Z$246)*('Comparación Alternativas'!$AA$5:$AA$246=Alternativas!V373)*('Comparación Alternativas'!$AV$5:$AV$246))","v":0}]
[null,null,null,null,null,null,null,null,null,null,null,null,null,null,null,null,null,null,null,null,null,null,null,null,null,null,null,null,null,null,null,null,null,null,{"$f":"SUMPRODUCT((U374='Comparación Alternativas'!$Z$5:$Z$246)*('Comparación Alternativas'!$AA$5:$AA$246=Alternativas!V374)*('Comparación Alternativas'!$AV$5:$AV$246))","v":0}]
[null,null,null,null,null,null,null,null,null,null,null,null,null,null,null,null,null,null,null,null,null,null,null,null,null,null,null,null,null,null,null,null,null,null,{"$f":"SUMPRODUCT((U375='Comparación Alternativas'!$Z$5:$Z$246)*('Comparación Alternativas'!$AA$5:$AA$246=Alternativas!V375)*('Comparación Alternativas'!$AV$5:$AV$246))","v":0}]
[null,null,null,null,null,null,null,null,null,null,null,null,null,null,null,null,null,null,null,null,null,null,null,null,null,null,null,null,null,null,null,null,null,null,{"$f":"SUMPRODUCT((U376='Comparación Alternativas'!$Z$5:$Z$246)*('Comparación Alternativas'!$AA$5:$AA$246=Alternativas!V376)*('Comparación Alternativas'!$AV$5:$AV$246))","v":0}]
[null,null,null,null,null,null,null,null,null,null,null,null,null,null,null,null,null,null,null,null,null,null,null,null,null,null,null,null,null,null,null,null,null,null,{"$f":"SUMPRODUCT((U377='Comparación Alternativas'!$Z$5:$Z$246)*('Comparación Alternativas'!$AA$5:$AA$246=Alternativas!V377)*('Comparación Alternativas'!$AV$5:$AV$246))","v":0}]
[null,null,null,null,null,null,null,null,null,null,null,null,null,null,null,null,null,null,null,null,null,null,null,null,null,null,null,null,null,null,null,null,null,null,{"$f":"SUMPRODUCT((U378='Comparación Alternativas'!$Z$5:$Z$246)*('Comparación Alternativas'!$AA$5:$AA$246=Alternativas!V378)*('Comparación Alternativas'!$AV$5:$AV$246))","v":0}]
[null,null,null,null,null,null,null,null,null,null,null,null,null,null,null,null,null,null,null,null,null,null,null,null,null,null,null,null,null,null,null,null,null,null,{"$f":"SUMPRODUCT((U379='Comparación Alternativas'!$Z$5:$Z$246)*('Comparación Alternativas'!$AA$5:$AA$246=Alternativas!V379)*('Comparación Alternativas'!$AV$5:$AV$246))","v":0}]
[null,null,null,null,null,null,null,null,null,null,null,null,null,null,null,null,null,null,null,null,null,null,null,null,null,null,null,null,null,null,null,null,null,null,{"$f":"SUMPRODUCT((U380='Comparación Alternativas'!$Z$5:$Z$246)*('Comparación Alternativas'!$AA$5:$AA$246=Alternativas!V380)*('Comparación Alternativas'!$AV$5:$AV$246))","v":0}]
[null,null,null,null,null,null,null,null,null,null,null,null,null,null,null,null,null,null,null,null,null,null,null,null,null,null,null,null,null,null,null,null,null,null,{"$f":"SUMPRODUCT((U381='Comparación Alternativas'!$Z$5:$Z$246)*('Comparación Alternativas'!$AA$5:$AA$246=Alternativas!V381)*('Comparación Alternativas'!$AV$5:$AV$246))","v":0}]
[null,null,null,null,null,null,null,null,null,null,null,null,null,null,null,null,null,null,null,null,null,null,null,null,null,null,null,null,null,null,null,null,null,null,{"$f":"SUMPRODUCT((U382='Comparación Alternativas'!$Z$5:$Z$246)*('Comparación Alternativas'!$AA$5:$AA$246=Alternativas!V382)*('Comparación Alternativas'!$AV$5:$AV$246))","v":0}]
[null,null,null,null,null,null,null,null,null,null,null,null,null,null,null,null,null,null,null,null,null,null,null,null,null,null,null,null,null,null,null,null,null,null,{"$f":"SUMPRODUCT((U383='Comparación Alternativas'!$Z$5:$Z$246)*('Comparación Alternativas'!$AA$5:$AA$246=Alternativas!V383)*('Comparación Alternativas'!$AV$5:$AV$246))","v":0}]
[null,null,null,null,null,null,null,null,null,null,null,null,null,null,null,null,null,null,null,null,null,null,null,null,null,null,null,null,null,null,null,null,null,null,{"$f":"SUMPRODUCT((U384='Comparación Alternativas'!$Z$5:$Z$246)*('Comparación Alternativas'!$AA$5:$AA$246=Alternativas!V384)*('Comparación Alternativas'!$AV$5:$AV$246))","v":0}]
[null,null,null,null,null,null,null,null,null,null,null,null,null,null,null,null,null,null,null,null,null,null,null,null,null,null,null,null,null,null,null,null,null,null,{"$f":"SUMPRODUCT((U385='Comparación Alternativas'!$Z$5:$Z$246)*('Comparación Alternativas'!$AA$5:$AA$246=Alternativas!V385)*('Comparación Alternativas'!$AV$5:$AV$246))","v":0}]
[null,null,null,null,null,null,null,null,null,null,null,null,null,null,null,null,null,null,null,null,null,null,null,null,null,null,null,null,null,null,null,null,null,null,{"$f":"SUMPRODUCT((U386='Comparación Alternativas'!$Z$5:$Z$246)*('Comparación Alternativas'!$AA$5:$AA$246=Alternativas!V386)*('Comparación Alternativas'!$AV$5:$AV$246))","v":0}]
[null,null,null,null,null,null,null,null,null,null,null,null,null,null,null,null,null,null,null,null,null,null,null,null,null,null,null,null,null,null,null,null,null,null,{"$f":"SUMPRODUCT((U387='Comparación Alternativas'!$Z$5:$Z$246)*('Comparación Alternativas'!$AA$5:$AA$246=Alternativas!V387)*('Comparación Alternativas'!$AV$5:$AV$246))","v":0}]
[null,null,null,null,null,null,null,null,null,null,null,null,null,null,null,null,null,null,null,null,null,null,null,null,null,null,null,null,null,null,null,null,null,null,{"$f":"SUMPRODUCT((U388='Comparación Alternativas'!$Z$5:$Z$246)*('Comparación Alternativas'!$AA$5:$AA$246=Alternativas!V388)*('Comparación Alternativas'!$AV$5:$AV$246))","v":0}]
[null,null,null,null,null,null,null,null,null,null,null,null,null,null,null,null,null,null,null,null,null,null,null,null,null,null,null,null,null,null,null,null,null,null,{"$f":"SUMPRODUCT((U389='Comparación Alternativas'!$Z$5:$Z$246)*('Comparación Alternativas'!$AA$5:$AA$246=Alternativas!V389)*('Comparación Alternativas'!$AV$5:$AV$246))","v":0}]
[null,null,null,null,null,null,null,null,null,null,null,null,null,null,null,null,null,null,null,null,null,null,null,null,null,null,null,null,null,null,null,null,null,null,{"$f":"SUMPRODUCT((U390='Comparación Alternativas'!$Z$5:$Z$246)*('Comparación Alternativas'!$AA$5:$AA$246=Alternativas!V390)*('Comparación Alternativas'!$AV$5:$AV$246))","v":0}]
[null,null,null,null,null,null,null,null,null,null,null,null,null,null,null,null,null,null,null,null,null,null,null,null,null,null,null,null,null,null,null,null,null,null,{"$f":"SUMPRODUCT((U391='Comparación Alternativas'!$Z$5:$Z$246)*('Comparación Alternativas'!$AA$5:$AA$246=Alternativas!V391)*('Comparación Alternativas'!$AV$5:$AV$246))","v":0}]
[null,null,null,null,null,null,null,null,null,null,null,null,null,null,null,null,null,null,null,null,null,null,null,null,null,null,null,null,null,null,null,null,null,null,{"$f":"SUMPRODUCT((U392='Comparación Alternativas'!$Z$5:$Z$246)*('Comparación Alternativas'!$AA$5:$AA$246=Alternativas!V392)*('Comparación Alternativas'!$AV$5:$AV$246))","v":0}]
[null,null,null,null,null,null,null,null,null,null,null,null,null,null,null,null,null,null,null,null,null,null,null,null,null,null,null,null,null,null,null,null,null,null,{"$f":"SUMPRODUCT((U393='Comparación Alternativas'!$Z$5:$Z$246)*('Comparación Alternativas'!$AA$5:$AA$246=Alternativas!V393)*('Comparación Alternativas'!$AV$5:$AV$246))","v":0}]
[null,null,null,null,null,null,null,null,null,null,null,null,null,null,null,null,null,null,null,null,null,null,null,null,null,null,null,null,null,null,null,null,null,null,{"$f":"SUMPRODUCT((U394='Comparación Alternativas'!$Z$5:$Z$246)*('Comparación Alternativas'!$AA$5:$AA$246=Alternativas!V394)*('Comparación Alternativas'!$AV$5:$AV$246))","v":0}]
[null,null,null,null,null,null,null,null,null,null,null,null,null,null,null,null,null,null,null,null,null,null,null,null,null,null,null,null,null,null,null,null,null,null,{"$f":"SUMPRODUCT((U395='Comparación Alternativas'!$Z$5:$Z$246)*('Comparación Alternativas'!$AA$5:$AA$246=Alternativas!V395)*('Comparación Alternativas'!$AV$5:$AV$246))","v":0}]
[null,null,null,null,null,null,null,null,null,null,null,null,null,null,null,null,null,null,null,null,null,null,null,null,null,null,null,null,null,null,null,null,null,null,{"$f":"SUMPRODUCT((U396='Comparación Alternativas'!$Z$5:$Z$246)*('Comparación Alternativas'!$AA$5:$AA$246=Alternativas!V396)*('Comparación Alternativas'!$AV$5:$AV$246))","v":0}]
[null,null,null,null,null,null,null,null,null,null,null,null,null,null,null,null,null,null,null,null,null,null,null,null,null,null,null,null,null,null,null,null,null,null,{"$f":"SUMPRODUCT((U397='Comparación Alternativas'!$Z$5:$Z$246)*('Comparación Alternativas'!$AA$5:$AA$246=Alternativas!V397)*('Comparación Alternativas'!$AV$5:$AV$246))","v":0}]
[null,null,null,null,null,null,null,null,null,null,null,null,null,null,null,null,null,null,null,null,null,null,null,null,null,null,null,null,null,null,null,null,null,null,{"$f":"SUMPRODUCT((U398='Comparación Alternativas'!$Z$5:$Z$246)*('Comparación Alternativas'!$AA$5:$AA$246=Alternativas!V398)*('Comparación Alternativas'!$AV$5:$AV$246))","v":0}]
[null,null,null,null,null,null,null,null,null,null,null,null,null,null,null,null,null,null,null,null,null,null,null,null,null,null,null,null,null,null,null,null,null,null,{"$f":"SUMPRODUCT((U399='Comparación Alternativas'!$Z$5:$Z$246)*('Comparación Alternativas'!$AA$5:$AA$246=Alternativas!V399)*('Comparación Alternativas'!$AV$5:$AV$246))","v":0}]
[null,null,null,null,null,null,null,null,null,null,null,null,null,null,null,null,null,null,null,null,null,null,null,null,null,null,null,null,null,null,null,null,null,null,{"$f":"SUMPRODUCT((U400='Comparación Alternativas'!$Z$5:$Z$246)*('Comparación Alternativas'!$AA$5:$AA$246=Alternativas!V400)*('Comparación Alternativas'!$AV$5:$AV$246))","v":0}]
[null,null,null,null,null,null,null,null,null,null,null,null,null,null,null,null,null,null,null,null,null,null,null,null,null,null,null,null,null,null,null,null,null,null,{"$f":"SUMPRODUCT((U401='Comparación Alternativas'!$Z$5:$Z$246)*('Comparación Alternativas'!$AA$5:$AA$246=Alternativas!V401)*('Comparación Alternativas'!$AV$5:$AV$246))","v":0}]
[null,null,null,null,null,null,null,null,null,null,null,null,null,null,null,null,null,null,null,null,null,null,null,null,null,null,null,null,null,null,null,null,null,null,{"$f":"SUMPRODUCT((U402='Comparación Alternativas'!$Z$5:$Z$246)*('Comparación Alternativas'!$AA$5:$AA$246=Alternativas!V402)*('Comparación Alternativas'!$AV$5:$AV$246))","v":0}]
[null,null,null,null,null,null,null,null,null,null,null,null,null,null,null,null,null,null,null,null,null,null,null,null,null,null,null,null,null,null,null,null,null,null,{"$f":"SUMPRODUCT((U403='Comparación Alternativas'!$Z$5:$Z$246)*('Comparación Alternativas'!$AA$5:$AA$246=Alternativas!V403)*('Comparación Alternativas'!$AV$5:$AV$246))","v":0}]
[null,null,null,null,null,null,null,null,null,null,null,null,null,null,null,null,null,null,null,null,null,null,null,null,null,null,null,null,null,null,null,null,null,null,{"$f":"SUMPRODUCT((U404='Comparación Alternativas'!$Z$5:$Z$246)*('Comparación Alternativas'!$AA$5:$AA$246=Alternativas!V404)*('Comparación Alternativas'!$AV$5:$AV$246))","v":0}]
[null,null,null,null,null,null,null,null,null,null,null,null,null,null,null,null,null,null,null,null,null,null,null,null,null,null,null,null,null,null,null,null,null,null,{"$f":"SUMPRODUCT((U405='Comparación Alternativas'!$Z$5:$Z$246)*('Comparación Alternativas'!$AA$5:$AA$246=Alternativas!V405)*('Comparación Alternativas'!$AV$5:$AV$246))","v":0}]
[null,null,null,null,null,null,null,null,null,null,null,null,null,null,null,null,null,null,null,null,null,null,null,null,null,null,null,null,null,null,null,null,null,null,{"$f":"SUMPRODUCT((U406='Comparación Alternativas'!$Z$5:$Z$246)*('Comparación Alternativas'!$AA$5:$AA$246=Alternativas!V406)*('Comparación Alternativas'!$AV$5:$AV$246))","v":0}]
[null,null,null,null,null,null,null,null,null,null,null,null,null,null,null,null,null,null,null,null,null,null,null,null,null,null,null,null,null,null,null,null,null,null,{"$f":"SUMPRODUCT((U407='Comparación Alternativas'!$Z$5:$Z$246)*('Comparación Alternativas'!$AA$5:$AA$246=Alternativas!V407)*('Comparación Alternativas'!$AV$5:$AV$246))","v":0}]
[null,null,null,null,null,null,null,null,null,null,null,null,null,null,null,null,null,null,null,null,null,null,null,null,null,null,null,null,null,null,null,null,null,null,{"$f":"SUMPRODUCT((U408='Comparación Alternativas'!$Z$5:$Z$246)*('Comparación Alternativas'!$AA$5:$AA$246=Alternativas!V408)*('Comparación Alternativas'!$AV$5:$AV$246))","v":0}]
[null,null,null,null,null,null,null,null,null,null,null,null,null,null,null,null,null,null,null,null,null,null,null,null,null,null,null,null,null,null,null,null,null,null,{"$f":"SUMPRODUCT((U409='Comparación Alternativas'!$Z$5:$Z$246)*('Comparación Alternativas'!$AA$5:$AA$246=Alternativas!V409)*('Comparación Alternativas'!$AV$5:$AV$246))","v":0}]
[null,null,null,null,null,null,null,null,null,null,null,null,null,null,null,null,null,null,null,null,null,null,null,null,null,null,null,null,null,null,null,null,null,null,{"$f":"SUMPRODUCT((U410='Comparación Alternativas'!$Z$5:$Z$246)*('Comparación Alternativas'!$AA$5:$AA$246=Alternativas!V410)*('Comparación Alternativas'!$AV$5:$AV$246))","v":0}]
[null,null,null,null,null,null,null,null,null,null,null,null,null,null,null,null,null,null,null,null,null,null,null,null,null,null,null,null,null,null,null,null,null,null,{"$f":"SUMPRODUCT((U411='Comparación Alternativas'!$Z$5:$Z$246)*('Comparación Alternativas'!$AA$5:$AA$246=Alternativas!V411)*('Comparación Alternativas'!$AV$5:$AV$246))","v":0}]
[null,null,null,null,null,null,null,null,null,null,null,null,null,null,null,null,null,null,null,null,null,null,null,null,null,null,null,null,null,null,null,null,null,null,{"$f":"SUMPRODUCT((U412='Comparación Alternativas'!$Z$5:$Z$246)*('Comparación Alternativas'!$AA$5:$AA$246=Alternativas!V412)*('Comparación Alternativas'!$AV$5:$AV$246))","v":0}]
[null,null,null,null,null,null,null,null,null,null,null,null,null,null,null,null,null,null,null,null,null,null,null,null,null,null,null,null,null,null,null,null,null,null,{"$f":"SUMPRODUCT((U413='Comparación Alternativas'!$Z$5:$Z$246)*('Comparación Alternativas'!$AA$5:$AA$246=Alternativas!V413)*('Comparación Alternativas'!$AV$5:$AV$246))","v":0}]
[null,null,null,null,null,null,null,null,null,null,null,null,null,null,null,null,null,null,null,null,null,null,null,null,null,null,null,null,null,null,null,null,null,null,{"$f":"SUMPRODUCT((U414='Comparación Alternativas'!$Z$5:$Z$246)*('Comparación Alternativas'!$AA$5:$AA$246=Alternativas!V414)*('Comparación Alternativas'!$AV$5:$AV$246))","v":0}]
[null,null,null,null,null,null,null,null,null,null,null,null,null,null,null,null,null,null,null,null,null,null,null,null,null,null,null,null,null,null,null,null,null,null,{"$f":"SUMPRODUCT((U415='Comparación Alternativas'!$Z$5:$Z$246)*('Comparación Alternativas'!$AA$5:$AA$246=Alternativas!V415)*('Comparación Alternativas'!$AV$5:$AV$246))","v":0}]
[null,null,null,null,null,null,null,null,null,null,null,null,null,null,null,null,null,null,null,null,null,null,null,null,null,null,null,null,null,null,null,null,null,null,{"$f":"SUMPRODUCT((U416='Comparación Alternativas'!$Z$5:$Z$246)*('Comparación Alternativas'!$AA$5:$AA$246=Alternativas!V416)*('Comparación Alternativas'!$AV$5:$AV$246))","v":0}]
[null,null,null,null,null,null,null,null,null,null,null,null,null,null,null,null,null,null,null,null,null,null,null,null,null,null,null,null,null,null,null,null,null,null,{"$f":"SUMPRODUCT((U417='Comparación Alternativas'!$Z$5:$Z$246)*('Comparación Alternativas'!$AA$5:$AA$246=Alternativas!V417)*('Comparación Alternativas'!$AV$5:$AV$246))","v":0}]
[null,null,null,null,null,null,null,null,null,null,null,null,null,null,null,null,null,null,null,null,null,null,null,null,null,null,null,null,null,null,null,null,null,null,{"$f":"SUMPRODUCT((U418='Comparación Alternativas'!$Z$5:$Z$246)*('Comparación Alternativas'!$AA$5:$AA$246=Alternativas!V418)*('Comparación Alternativas'!$AV$5:$AV$246))","v":0}]
[null,null,null,null,null,null,null,null,null,null,null,null,null,null,null,null,null,null,null,null,null,null,null,null,null,null,null,null,null,null,null,null,null,null,{"$f":"SUMPRODUCT((U419='Comparación Alternativas'!$Z$5:$Z$246)*('Comparación Alternativas'!$AA$5:$AA$246=Alternativas!V419)*('Comparación Alternativas'!$AV$5:$AV$246))","v":0}]
[null,null,null,null,null,null,null,null,null,null,null,null,null,null,null,null,null,null,null,null,null,null,null,null,null,null,null,null,null,null,null,null,null,null,{"$f":"SUMPRODUCT((U420='Comparación Alternativas'!$Z$5:$Z$246)*('Comparación Alternativas'!$AA$5:$AA$246=Alternativas!V420)*('Comparación Alternativas'!$AV$5:$AV$246))","v":0}]
[null,null,null,null,null,null,null,null,null,null,null,null,null,null,null,null,null,null,null,null,null,null,null,null,null,null,null,null,null,null,null,null,null,null,{"$f":"SUMPRODUCT((U421='Comparación Alternativas'!$Z$5:$Z$246)*('Comparación Alternativas'!$AA$5:$AA$246=Alternativas!V421)*('Comparación Alternativas'!$AV$5:$AV$246))","v":0}]
[null,null,null,null,null,null,null,null,null,null,null,null,null,null,null,null,null,null,null,null,null,null,null,null,null,null,null,null,null,null,null,null,null,null,{"$f":"SUMPRODUCT((U422='Comparación Alternativas'!$Z$5:$Z$246)*('Comparación Alternativas'!$AA$5:$AA$246=Alternativas!V422)*('Comparación Alternativas'!$AV$5:$AV$246))","v":0}]
[null,null,null,null,null,null,null,null,null,null,null,null,null,null,null,null,null,null,null,null,null,null,null,null,null,null,null,null,null,null,null,null,null,null,{"$f":"SUMPRODUCT((U423='Comparación Alternativas'!$Z$5:$Z$246)*('Comparación Alternativas'!$AA$5:$AA$246=Alternativas!V423)*('Comparación Alternativas'!$AV$5:$AV$246))","v":0}]
[null,null,null,null,null,null,null,null,null,null,null,null,null,null,null,null,null,null,null,null,null,null,null,null,null,null,null,null,null,null,null,null,null,null,{"$f":"SUMPRODUCT((U424='Comparación Alternativas'!$Z$5:$Z$246)*('Comparación Alternativas'!$AA$5:$AA$246=Alternativas!V424)*('Comparación Alternativas'!$AV$5:$AV$246))","v":0}]
[null,null,null,null,null,null,null,null,null,null,null,null,null,null,null,null,null,null,null,null,null,null,null,null,null,null,null,null,null,null,null,null,null,null,{"$f":"SUMPRODUCT((U425='Comparación Alternativas'!$Z$5:$Z$246)*('Comparación Alternativas'!$AA$5:$AA$246=Alternativas!V425)*('Comparación Alternativas'!$AV$5:$AV$246))","v":0}]
[null,null,null,null,null,null,null,null,null,null,null,null,null,null,null,null,null,null,null,null,null,null,null,null,null,null,null,null,null,null,null,null,null,null,{"$f":"SUMPRODUCT((U426='Comparación Alternativas'!$Z$5:$Z$246)*('Comparación Alternativas'!$AA$5:$AA$246=Alternativas!V426)*('Comparación Alternativas'!$AV$5:$AV$246))","v":0}]
[null,null,null,null,null,null,null,null,null,null,null,null,null,null,null,null,null,null,null,null,null,null,null,null,null,null,null,null,null,null,null,null,null,null,{"$f":"SUMPRODUCT((U427='Comparación Alternativas'!$Z$5:$Z$246)*('Comparación Alternativas'!$AA$5:$AA$246=Alternativas!V427)*('Comparación Alternativas'!$AV$5:$AV$246))","v":0}]
[null,null,null,null,null,null,null,null,null,null,null,null,null,null,null,null,null,null,null,null,null,null,null,null,null,null,null,null,null,null,null,null,null,null,{"$f":"SUMPRODUCT((U428='Comparación Alternativas'!$Z$5:$Z$246)*('Comparación Alternativas'!$AA$5:$AA$246=Alternativas!V428)*('Comparación Alternativas'!$AV$5:$AV$246))","v":0}]
[null,null,null,null,null,null,null,null,null,null,null,null,null,null,null,null,null,null,null,null,null,null,null,null,null,null,null,null,null,null,null,null,null,null,{"$f":"SUMPRODUCT((U429='Comparación Alternativas'!$Z$5:$Z$246)*('Comparación Alternativas'!$AA$5:$AA$246=Alternativas!V429)*('Comparación Alternativas'!$AV$5:$AV$246))","v":0}]
[null,null,null,null,null,null,null,null,null,null,null,null,null,null,null,null,null,null,null,null,null,null,null,null,null,null,null,null,null,null,null,null,null,null,{"$f":"SUMPRODUCT((U430='Comparación Alternativas'!$Z$5:$Z$246)*('Comparación Alternativas'!$AA$5:$AA$246=Alternativas!V430)*('Comparación Alternativas'!$AV$5:$AV$246))","v":0}]
[null,null,null,null,null,null,null,null,null,null,null,null,null,null,null,null,null,null,null,null,null,null,null,null,null,null,null,null,null,null,null,null,null,null,{"$f":"SUMPRODUCT((U431='Comparación Alternativas'!$Z$5:$Z$246)*('Comparación Alternativas'!$AA$5:$AA$246=Alternativas!V431)*('Comparación Alternativas'!$AV$5:$AV$246))","v":0}]
[null,null,null,null,null,null,null,null,null,null,null,null,null,null,null,null,null,null,null,null,null,null,null,null,null,null,null,null,null,null,null,null,null,null,{"$f":"SUMPRODUCT((U432='Comparación Alternativas'!$Z$5:$Z$246)*('Comparación Alternativas'!$AA$5:$AA$246=Alternativas!V432)*('Comparación Alternativas'!$AV$5:$AV$246))","v":0}]
[null,null,null,null,null,null,null,null,null,null,null,null,null,null,null,null,null,null,null,null,null,null,null,null,null,null,null,null,null,null,null,null,null,null,{"$f":"SUMPRODUCT((U433='Comparación Alternativas'!$Z$5:$Z$246)*('Comparación Alternativas'!$AA$5:$AA$246=Alternativas!V433)*('Comparación Alternativas'!$AV$5:$AV$246))","v":0}]
[null,null,null,null,null,null,null,null,null,null,null,null,null,null,null,null,null,null,null,null,null,null,null,null,null,null,null,null,null,null,null,null,null,null,{"$f":"SUMPRODUCT((U434='Comparación Alternativas'!$Z$5:$Z$246)*('Comparación Alternativas'!$AA$5:$AA$246=Alternativas!V434)*('Comparación Alternativas'!$AV$5:$AV$246))","v":0}]
[null,null,null,null,null,null,null,null,null,null,null,null,null,null,null,null,null,null,null,null,null,null,null,null,null,null,null,null,null,null,null,null,null,null,{"$f":"SUMPRODUCT((U435='Comparación Alternativas'!$Z$5:$Z$246)*('Comparación Alternativas'!$AA$5:$AA$246=Alternativas!V435)*('Comparación Alternativas'!$AV$5:$AV$246))","v":0}]
[null,null,null,null,null,null,null,null,null,null,null,null,null,null,null,null,null,null,null,null,null,null,null,null,null,null,null,null,null,null,null,null,null,null,{"$f":"SUMPRODUCT((U436='Comparación Alternativas'!$Z$5:$Z$246)*('Comparación Alternativas'!$AA$5:$AA$246=Alternativas!V436)*('Comparación Alternativas'!$AV$5:$AV$246))","v":0}]
[null,null,null,null,null,null,null,null,null,null,null,null,null,null,null,null,null,null,null,null,null,null,null,null,null,null,null,null,null,null,null,null,null,null,{"$f":"SUMPRODUCT((U437='Comparación Alternativas'!$Z$5:$Z$246)*('Comparación Alternativas'!$AA$5:$AA$246=Alternativas!V437)*('Comparación Alternativas'!$AV$5:$AV$246))","v":0}]
[null,null,null,null,null,null,null,null,null,null,null,null,null,null,null,null,null,null,null,null,null,null,null,null,null,null,null,null,null,null,null,null,null,null,{"$f":"SUMPRODUCT((U438='Comparación Alternativas'!$Z$5:$Z$246)*('Comparación Alternativas'!$AA$5:$AA$246=Alternativas!V438)*('Comparación Alternativas'!$AV$5:$AV$246))","v":0}]
[null,null,null,null,null,null,null,null,null,null,null,null,null,null,null,null,null,null,null,null,null,null,null,null,null,null,null,null,null,null,null,null,null,null,{"$f":"SUMPRODUCT((U439='Comparación Alternativas'!$Z$5:$Z$246)*('Comparación Alternativas'!$AA$5:$AA$246=Alternativas!V439)*('Comparación Alternativas'!$AV$5:$AV$246))","v":0}]
[null,null,null,null,null,null,null,null,null,null,null,null,null,null,null,null,null,null,null,null,null,null,null,null,null,null,null,null,null,null,null,null,null,null,{"$f":"SUMPRODUCT((U440='Comparación Alternativas'!$Z$5:$Z$246)*('Comparación Alternativas'!$AA$5:$AA$246=Alternativas!V440)*('Comparación Alternativas'!$AV$5:$AV$246))","v":0}]
[null,null,null,null,null,null,null,null,null,null,null,null,null,null,null,null,null,null,null,null,null,null,null,null,null,null,null,null,null,null,null,null,null,null,{"$f":"SUMPRODUCT((U441='Comparación Alternativas'!$Z$5:$Z$246)*('Comparación Alternativas'!$AA$5:$AA$246=Alternativas!V441)*('Comparación Alternativas'!$AV$5:$AV$246))","v":0}]
[null,null,null,null,null,null,null,null,null,null,null,null,null,null,null,null,null,null,null,null,null,null,null,null,null,null,null,null,null,null,null,null,null,null,{"$f":"SUMPRODUCT((U442='Comparación Alternativas'!$Z$5:$Z$246)*('Comparación Alternativas'!$AA$5:$AA$246=Alternativas!V442)*('Comparación Alternativas'!$AV$5:$AV$246))","v":0}]
[null,null,null,null,null,null,null,null,null,null,null,null,null,null,null,null,null,null,null,null,null,null,null,null,null,null,null,null,null,null,null,null,null,null,{"$f":"SUMPRODUCT((U443='Comparación Alternativas'!$Z$5:$Z$246)*('Comparación Alternativas'!$AA$5:$AA$246=Alternativas!V443)*('Comparación Alternativas'!$AV$5:$AV$246))","v":0}]
[null,null,null,null,null,null,null,null,null,null,null,null,null,null,null,null,null,null,null,null,null,null,null,null,null,null,null,null,null,null,null,null,null,null,{"$f":"SUMPRODUCT((U444='Comparación Alternativas'!$Z$5:$Z$246)*('Comparación Alternativas'!$AA$5:$AA$246=Alternativas!V444)*('Comparación Alternativas'!$AV$5:$AV$246))","v":0}]
[null,null,null,null,null,null,null,null,null,null,null,null,null,null,null,null,null,null,null,null,null,null,null,null,null,null,null,null,null,null,null,null,null,null,{"$f":"SUMPRODUCT((U445='Comparación Alternativas'!$Z$5:$Z$246)*('Comparación Alternativas'!$AA$5:$AA$246=Alternativas!V445)*('Comparación Alternativas'!$AV$5:$AV$246))","v":0}]
[null,null,null,null,null,null,null,null,null,null,null,null,null,null,null,null,null,null,null,null,null,null,null,null,null,null,null,null,null,null,null,null,null,null,{"$f":"SUMPRODUCT((U446='Comparación Alternativas'!$Z$5:$Z$246)*('Comparación Alternativas'!$AA$5:$AA$246=Alternativas!V446)*('Comparación Alternativas'!$AV$5:$AV$246))","v":0}]
[null,null,null,null,null,null,null,null,null,null,null,null,null,null,null,null,null,null,null,null,null,null,null,null,null,null,null,null,null,null,null,null,null,null,{"$f":"SUMPRODUCT((U447='Comparación Alternativas'!$Z$5:$Z$246)*('Comparación Alternativas'!$AA$5:$AA$246=Alternativas!V447)*('Comparación Alternativas'!$AV$5:$AV$246))","v":0}]
[null,null,null,null,null,null,null,null,null,null,null,null,null,null,null,null,null,null,null,null,null,null,null,null,null,null,null,null,null,null,null,null,null,null,{"$f":"SUMPRODUCT((U448='Comparación Alternativas'!$Z$5:$Z$246)*('Comparación Alternativas'!$AA$5:$AA$246=Alternativas!V448)*('Comparación Alternativas'!$AV$5:$AV$246))","v":0}]
[null,null,null,null,null,null,null,null,null,null,null,null,null,null,null,null,null,null,null,null,null,null,null,null,null,null,null,null,null,null,null,null,null,null,{"$f":"SUMPRODUCT((U449='Comparación Alternativas'!$Z$5:$Z$246)*('Comparación Alternativas'!$AA$5:$AA$246=Alternativas!V449)*('Comparación Alternativas'!$AV$5:$AV$246))","v":0}]
[null,null,null,null,null,null,null,null,null,null,null,null,null,null,null,null,null,null,null,null,null,null,null,null,null,null,null,null,null,null,null,null,null,null,{"$f":"SUMPRODUCT((U450='Comparación Alternativas'!$Z$5:$Z$246)*('Comparación Alternativas'!$AA$5:$AA$246=Alternativas!V450)*('Comparación Alternativas'!$AV$5:$AV$246))","v":0}]
[null,null,null,null,null,null,null,null,null,null,null,null,null,null,null,null,null,null,null,null,null,null,null,null,null,null,null,null,null,null,null,null,null,null,{"$f":"SUMPRODUCT((U451='Comparación Alternativas'!$Z$5:$Z$246)*('Comparación Alternativas'!$AA$5:$AA$246=Alternativas!V451)*('Comparación Alternativas'!$AV$5:$AV$246))","v":0}]
[null,null,null,null,null,null,null,null,null,null,null,null,null,null,null,null,null,null,null,null,null,null,null,null,null,null,null,null,null,null,null,null,null,null,{"$f":"SUMPRODUCT((U452='Comparación Alternativas'!$Z$5:$Z$246)*('Comparación Alternativas'!$AA$5:$AA$246=Alternativas!V452)*('Comparación Alternativas'!$AV$5:$AV$246))","v":0}]
[null,null,null,null,null,null,null,null,null,null,null,null,null,null,null,null,null,null,null,null,null,null,null,null,null,null,null,null,null,null,null,null,null,null,{"$f":"SUMPRODUCT((U453='Comparación Alternativas'!$Z$5:$Z$246)*('Comparación Alternativas'!$AA$5:$AA$246=Alternativas!V453)*('Comparación Alternativas'!$AV$5:$AV$246))","v":0}]
[null,null,null,null,null,null,null,null,null,null,null,null,null,null,null,null,null,null,null,null,null,null,null,null,null,null,null,null,null,null,null,null,null,null,{"$f":"SUMPRODUCT((U454='Comparación Alternativas'!$Z$5:$Z$246)*('Comparación Alternativas'!$AA$5:$AA$246=Alternativas!V454)*('Comparación Alternativas'!$AV$5:$AV$246))","v":0}]
[null,null,null,null,null,null,null,null,null,null,null,null,null,null,null,null,null,null,null,null,null,null,null,null,null,null,null,null,null,null,null,null,null,null,{"$f":"SUMPRODUCT((U455='Comparación Alternativas'!$Z$5:$Z$246)*('Comparación Alternativas'!$AA$5:$AA$246=Alternativas!V455)*('Comparación Alternativas'!$AV$5:$AV$246))","v":0}]
[null,null,null,null,null,null,null,null,null,null,null,null,null,null,null,null,null,null,null,null,null,null,null,null,null,null,null,null,null,null,null,null,null,null,{"$f":"SUMPRODUCT((U456='Comparación Alternativas'!$Z$5:$Z$246)*('Comparación Alternativas'!$AA$5:$AA$246=Alternativas!V456)*('Comparación Alternativas'!$AV$5:$AV$246))","v":0}]
[null,null,null,null,null,null,null,null,null,null,null,null,null,null,null,null,null,null,null,null,null,null,null,null,null,null,null,null,null,null,null,null,null,null,{"$f":"SUMPRODUCT((U457='Comparación Alternativas'!$Z$5:$Z$246)*('Comparación Alternativas'!$AA$5:$AA$246=Alternativas!V457)*('Comparación Alternativas'!$AV$5:$AV$246))","v":0}]
[null,null,null,null,null,null,null,null,null,null,null,null,null,null,null,null,null,null,null,null,null,null,null,null,null,null,null,null,null,null,null,null,null,null,{"$f":"SUMPRODUCT((U458='Comparación Alternativas'!$Z$5:$Z$246)*('Comparación Alternativas'!$AA$5:$AA$246=Alternativas!V458)*('Comparación Alternativas'!$AV$5:$AV$246))","v":0}]
[null,null,null,null,null,null,null,null,null,null,null,null,null,null,null,null,null,null,null,null,null,null,null,null,null,null,null,null,null,null,null,null,null,null,{"$f":"SUMPRODUCT((U459='Comparación Alternativas'!$Z$5:$Z$246)*('Comparación Alternativas'!$AA$5:$AA$246=Alternativas!V459)*('Comparación Alternativas'!$AV$5:$AV$246))","v":0}]
[null,null,null,null,null,null,null,null,null,null,null,null,null,null,null,null,null,null,null,null,null,null,null,null,null,null,null,null,null,null,null,null,null,null,{"$f":"SUMPRODUCT((U460='Comparación Alternativas'!$Z$5:$Z$246)*('Comparación Alternativas'!$AA$5:$AA$246=Alternativas!V460)*('Comparación Alternativas'!$AV$5:$AV$246))","v":0}]
[null,null,null,null,null,null,null,null,null,null,null,null,null,null,null,null,null,null,null,null,null,null,null,null,null,null,null,null,null,null,null,null,null,null,{"$f":"SUMPRODUCT((U461='Comparación Alternativas'!$Z$5:$Z$246)*('Comparación Alternativas'!$AA$5:$AA$246=Alternativas!V461)*('Comparación Alternativas'!$AV$5:$AV$246))","v":0}]
[null,null,null,null,null,null,null,null,null,null,null,null,null,null,null,null,null,null,null,null,null,null,null,null,null,null,null,null,null,null,null,null,null,null,{"$f":"SUMPRODUCT((U462='Comparación Alternativas'!$Z$5:$Z$246)*('Comparación Alternativas'!$AA$5:$AA$246=Alternativas!V462)*('Comparación Alternativas'!$AV$5:$AV$246))","v":0}]
[null,null,null,null,null,null,null,null,null,null,null,null,null,null,null,null,null,null,null,null,null,null,null,null,null,null,null,null,null,null,null,null,null,null,{"$f":"SUMPRODUCT((U463='Comparación Alternativas'!$Z$5:$Z$246)*('Comparación Alternativas'!$AA$5:$AA$246=Alternativas!V463)*('Comparación Alternativas'!$AV$5:$AV$246))","v":0}]
[null,null,null,null,null,null,null,null,null,null,null,null,null,null,null,null,null,null,null,null,null,null,null,null,null,null,null,null,null,null,null,null,null,null,{"$f":"SUMPRODUCT((U464='Comparación Alternativas'!$Z$5:$Z$246)*('Comparación Alternativas'!$AA$5:$AA$246=Alternativas!V464)*('Comparación Alternativas'!$AV$5:$AV$246))","v":0}]
[null,null,null,null,null,null,null,null,null,null,null,null,null,null,null,null,null,null,null,null,null,null,null,null,null,null,null,null,null,null,null,null,null,null,{"$f":"SUMPRODUCT((U465='Comparación Alternativas'!$Z$5:$Z$246)*('Comparación Alternativas'!$AA$5:$AA$246=Alternativas!V465)*('Comparación Alternativas'!$AV$5:$AV$246))","v":0}]
[null,null,null,null,null,null,null,null,null,null,null,null,null,null,null,null,null,null,null,null,null,null,null,null,null,null,null,null,null,null,null,null,null,null,{"$f":"SUMPRODUCT((U466='Comparación Alternativas'!$Z$5:$Z$246)*('Comparación Alternativas'!$AA$5:$AA$246=Alternativas!V466)*('Comparación Alternativas'!$AV$5:$AV$246))","v":0}]
[null,null,null,null,null,null,null,null,null,null,null,null,null,null,null,null,null,null,null,null,null,null,null,null,null,null,null,null,null,null,null,null,null,null,{"$f":"SUMPRODUCT((U467='Comparación Alternativas'!$Z$5:$Z$246)*('Comparación Alternativas'!$AA$5:$AA$246=Alternativas!V467)*('Comparación Alternativas'!$AV$5:$AV$246))","v":0}]
[null,null,null,null,null,null,null,null,null,null,null,null,null,null,null,null,null,null,null,null,null,null,null,null,null,null,null,null,null,null,null,null,null,null,{"$f":"SUMPRODUCT((U468='Comparación Alternativas'!$Z$5:$Z$246)*('Comparación Alternativas'!$AA$5:$AA$246=Alternativas!V468)*('Comparación Alternativas'!$AV$5:$AV$246))","v":0}]
[null,null,null,null,null,null,null,null,null,null,null,null,null,null,null,null,null,null,null,null,null,null,null,null,null,null,null,null,null,null,null,null,null,null,{"$f":"SUMPRODUCT((U469='Comparación Alternativas'!$Z$5:$Z$246)*('Comparación Alternativas'!$AA$5:$AA$246=Alternativas!V469)*('Comparación Alternativas'!$AV$5:$AV$246))","v":0}]
[null,null,null,null,null,null,null,null,null,null,null,null,null,null,null,null,null,null,null,null,null,null,null,null,null,null,null,null,null,null,null,null,null,null,{"$f":"SUMPRODUCT((U470='Comparación Alternativas'!$Z$5:$Z$246)*('Comparación Alternativas'!$AA$5:$AA$246=Alternativas!V470)*('Comparación Alternativas'!$AV$5:$AV$246))","v":0}]
[null,null,null,null,null,null,null,null,null,null,null,null,null,null,null,null,null,null,null,null,null,null,null,null,null,null,null,null,null,null,null,null,null,null,{"$f":"SUMPRODUCT((U471='Comparación Alternativas'!$Z$5:$Z$246)*('Comparación Alternativas'!$AA$5:$AA$246=Alternativas!V471)*('Comparación Alternativas'!$AV$5:$AV$246))","v":0}]
[null,null,null,null,null,null,null,null,null,null,null,null,null,null,null,null,null,null,null,null,null,null,null,null,null,null,null,null,null,null,null,null,null,null,{"$f":"SUMPRODUCT((U472='Comparación Alternativas'!$Z$5:$Z$246)*('Comparación Alternativas'!$AA$5:$AA$246=Alternativas!V472)*('Comparación Alternativas'!$AV$5:$AV$246))","v":0}]
[null,null,null,null,null,null,null,null,null,null,null,null,null,null,null,null,null,null,null,null,null,null,null,null,null,null,null,null,null,null,null,null,null,null,{"$f":"SUMPRODUCT((U473='Comparación Alternativas'!$Z$5:$Z$246)*('Comparación Alternativas'!$AA$5:$AA$246=Alternativas!V473)*('Comparación Alternativas'!$AV$5:$AV$246))","v":0}]
[null,null,null,null,null,null,null,null,null,null,null,null,null,null,null,null,null,null,null,null,null,null,null,null,null,null,null,null,null,null,null,null,null,null,{"$f":"SUMPRODUCT((U474='Comparación Alternativas'!$Z$5:$Z$246)*('Comparación Alternativas'!$AA$5:$AA$246=Alternativas!V474)*('Comparación Alternativas'!$AV$5:$AV$246))","v":0}]
[null,null,null,null,null,null,null,null,null,null,null,null,null,null,null,null,null,null,null,null,null,null,null,null,null,null,null,null,null,null,null,null,null,null,{"$f":"SUMPRODUCT((U475='Comparación Alternativas'!$Z$5:$Z$246)*('Comparación Alternativas'!$AA$5:$AA$246=Alternativas!V475)*('Comparación Alternativas'!$AV$5:$AV$246))","v":0}]
[null,null,null,null,null,null,null,null,null,null,null,null,null,null,null,null,null,null,null,null,null,null,null,null,null,null,null,null,null,null,null,null,null,null,{"$f":"SUMPRODUCT((U476='Comparación Alternativas'!$Z$5:$Z$246)*('Comparación Alternativas'!$AA$5:$AA$246=Alternativas!V476)*('Comparación Alternativas'!$AV$5:$AV$246))","v":0}]
[null,null,null,null,null,null,null,null,null,null,null,null,null,null,null,null,null,null,null,null,null,null,null,null,null,null,null,null,null,null,null,null,null,null,{"$f":"SUMPRODUCT((U477='Comparación Alternativas'!$Z$5:$Z$246)*('Comparación Alternativas'!$AA$5:$AA$246=Alternativas!V477)*('Comparación Alternativas'!$AV$5:$AV$246))","v":0}]
[null,null,null,null,null,null,null,null,null,null,null,null,null,null,null,null,null,null,null,null,null,null,null,null,null,null,null,null,null,null,null,null,null,null,{"$f":"SUMPRODUCT((U478='Comparación Alternativas'!$Z$5:$Z$246)*('Comparación Alternativas'!$AA$5:$AA$246=Alternativas!V478)*('Comparación Alternativas'!$AV$5:$AV$246))","v":0}]
[null,null,null,null,null,null,null,null,null,null,null,null,null,null,null,null,null,null,null,null,null,null,null,null,null,null,null,null,null,null,null,null,null,null,{"$f":"SUMPRODUCT((U479='Comparación Alternativas'!$Z$5:$Z$246)*('Comparación Alternativas'!$AA$5:$AA$246=Alternativas!V479)*('Comparación Alternativas'!$AV$5:$AV$246))","v":0}]
[null,null,null,null,null,null,null,null,null,null,null,null,null,null,null,null,null,null,null,null,null,null,null,null,null,null,null,null,null,null,null,null,null,null,{"$f":"SUMPRODUCT((U480='Comparación Alternativas'!$Z$5:$Z$246)*('Comparación Alternativas'!$AA$5:$AA$246=Alternativas!V480)*('Comparación Alternativas'!$AV$5:$AV$246))","v":0}]
[null,null,null,null,null,null,null,null,null,null,null,null,null,null,null,null,null,null,null,null,null,null,null,null,null,null,null,null,null,null,null,null,null,null,{"$f":"SUMPRODUCT((U481='Comparación Alternativas'!$Z$5:$Z$246)*('Comparación Alternativas'!$AA$5:$AA$246=Alternativas!V481)*('Comparación Alternativas'!$AV$5:$AV$246))","v":0}]
[null,null,null,null,null,null,null,null,null,null,null,null,null,null,null,null,null,null,null,null,null,null,null,null,null,null,null,null,null,null,null,null,null,null,{"$f":"SUMPRODUCT((U482='Comparación Alternativas'!$Z$5:$Z$246)*('Comparación Alternativas'!$AA$5:$AA$246=Alternativas!V482)*('Comparación Alternativas'!$AV$5:$AV$246))","v":0}]
[null,null,null,null,null,null,null,null,null,null,null,null,null,null,null,null,null,null,null,null,null,null,null,null,null,null,null,null,null,null,null,null,null,null,{"$f":"SUMPRODUCT((U483='Comparación Alternativas'!$Z$5:$Z$246)*('Comparación Alternativas'!$AA$5:$AA$246=Alternativas!V483)*('Comparación Alternativas'!$AV$5:$AV$246))","v":0}]
[null,null,null,null,null,null,null,null,null,null,null,null,null,null,null,null,null,null,null,null,null,null,null,null,null,null,null,null,null,null,null,null,null,null,{"$f":"SUMPRODUCT((U484='Comparación Alternativas'!$Z$5:$Z$246)*('Comparación Alternativas'!$AA$5:$AA$246=Alternativas!V484)*('Comparación Alternativas'!$AV$5:$AV$246))","v":0}]
[null,null,null,null,null,null,null,null,null,null,null,null,null,null,null,null,null,null,null,null,null,null,null,null,null,null,null,null,null,null,null,null,null,null,{"$f":"SUMPRODUCT((U485='Comparación Alternativas'!$Z$5:$Z$246)*('Comparación Alternativas'!$AA$5:$AA$246=Alternativas!V485)*('Comparación Alternativas'!$AV$5:$AV$246))","v":0}]
[null,null,null,null,null,null,null,null,null,null,null,null,null,null,null,null,null,null,null,null,null,null,null,null,null,null,null,null,null,null,null,null,null,null,{"$f":"SUMPRODUCT((U486='Comparación Alternativas'!$Z$5:$Z$246)*('Comparación Alternativas'!$AA$5:$AA$246=Alternativas!V486)*('Comparación Alternativas'!$AV$5:$AV$246))","v":0}]
[null,null,null,null,null,null,null,null,null,null,null,null,null,null,null,null,null,null,null,null,null,null,null,null,null,null,null,null,null,null,null,null,null,null,{"$f":"SUMPRODUCT((U487='Comparación Alternativas'!$Z$5:$Z$246)*('Comparación Alternativas'!$AA$5:$AA$246=Alternativas!V487)*('Comparación Alternativas'!$AV$5:$AV$246))","v":0}]
[null,null,null,null,null,null,null,null,null,null,null,null,null,null,null,null,null,null,null,null,null,null,null,null,null,null,null,null,null,null,null,null,null,null,{"$f":"SUMPRODUCT((U488='Comparación Alternativas'!$Z$5:$Z$246)*('Comparación Alternativas'!$AA$5:$AA$246=Alternativas!V488)*('Comparación Alternativas'!$AV$5:$AV$246))","v":0}]
[null,null,null,null,null,null,null,null,null,null,null,null,null,null,null,null,null,null,null,null,null,null,null,null,null,null,null,null,null,null,null,null,null,null,{"$f":"SUMPRODUCT((U489='Comparación Alternativas'!$Z$5:$Z$246)*('Comparación Alternativas'!$AA$5:$AA$246=Alternativas!V489)*('Comparación Alternativas'!$AV$5:$AV$246))","v":0}]
[null,null,null,null,null,null,null,null,null,null,null,null,null,null,null,null,null,null,null,null,null,null,null,null,null,null,null,null,null,null,null,null,null,null,{"$f":"SUMPRODUCT((U490='Comparación Alternativas'!$Z$5:$Z$246)*('Comparación Alternativas'!$AA$5:$AA$246=Alternativas!V490)*('Comparación Alternativas'!$AV$5:$AV$246))","v":0}]
[null,null,null,null,null,null,null,null,null,null,null,null,null,null,null,null,null,null,null,null,null,null,null,null,null,null,null,null,null,null,null,null,null,null,{"$f":"SUMPRODUCT((U491='Comparación Alternativas'!$Z$5:$Z$246)*('Comparación Alternativas'!$AA$5:$AA$246=Alternativas!V491)*('Comparación Alternativas'!$AV$5:$AV$246))","v":0}]
[null,null,null,null,null,null,null,null,null,null,null,null,null,null,null,null,null,null,null,null,null,null,null,null,null,null,null,null,null,null,null,null,null,null,{"$f":"SUMPRODUCT((U492='Comparación Alternativas'!$Z$5:$Z$246)*('Comparación Alternativas'!$AA$5:$AA$246=Alternativas!V492)*('Comparación Alternativas'!$AV$5:$AV$246))","v":0}]
[null,null,null,null,null,null,null,null,null,null,null,null,null,null,null,null,null,null,null,null,null,null,null,null,null,null,null,null,null,null,null,null,null,null,{"$f":"SUMPRODUCT((U493='Comparación Alternativas'!$Z$5:$Z$246)*('Comparación Alternativas'!$AA$5:$AA$246=Alternativas!V493)*('Comparación Alternativas'!$AV$5:$AV$246))","v":0}]
[null,null,null,null,null,null,null,null,null,null,null,null,null,null,null,null,null,null,null,null,null,null,null,null,null,null,null,null,null,null,null,null,null,null,{"$f":"SUMPRODUCT((U494='Comparación Alternativas'!$Z$5:$Z$246)*('Comparación Alternativas'!$AA$5:$AA$246=Alternativas!V494)*('Comparación Alternativas'!$AV$5:$AV$246))","v":0}]
[null,null,null,null,null,null,null,null,null,null,null,null,null,null,null,null,null,null,null,null,null,null,null,null,null,null,null,null,null,null,null,null,null,null,{"$f":"SUMPRODUCT((U495='Comparación Alternativas'!$Z$5:$Z$246)*('Comparación Alternativas'!$AA$5:$AA$246=Alternativas!V495)*('Comparación Alternativas'!$AV$5:$AV$246))","v":0}]
[null,null,null,null,null,null,null,null,null,null,null,null,null,null,null,null,null,null,null,null,null,null,null,null,null,null,null,null,null,null,null,null,null,null,{"$f":"SUMPRODUCT((U496='Comparación Alternativas'!$Z$5:$Z$246)*('Comparación Alternativas'!$AA$5:$AA$246=Alternativas!V496)*('Comparación Alternativas'!$AV$5:$AV$246))","v":0}]
[null,null,null,null,null,null,null,null,null,null,null,null,null,null,null,null,null,null,null,null,null,null,null,null,null,null,null,null,null,null,null,null,null,null,{"$f":"SUMPRODUCT((U497='Comparación Alternativas'!$Z$5:$Z$246)*('Comparación Alternativas'!$AA$5:$AA$246=Alternativas!V497)*('Comparación Alternativas'!$AV$5:$AV$246))","v":0}]
[null,null,null,null,null,null,null,null,null,null,null,null,null,null,null,null,null,null,null,null,null,null,null,null,null,null,null,null,null,null,null,null,null,null,{"$f":"SUMPRODUCT((U498='Comparación Alternativas'!$Z$5:$Z$246)*('Comparación Alternativas'!$AA$5:$AA$246=Alternativas!V498)*('Comparación Alternativas'!$AV$5:$AV$246))","v":0}]
[null,null,null,null,null,null,null,null,null,null,null,null,null,null,null,null,null,null,null,null,null,null,null,null,null,null,null,null,null,null,null,null,null,null,{"$f":"SUMPRODUCT((U499='Comparación Alternativas'!$Z$5:$Z$246)*('Comparación Alternativas'!$AA$5:$AA$246=Alternativas!V499)*('Comparación Alternativas'!$AV$5:$AV$246))","v":0}]
[null,null,null,null,null,null,null,null,null,null,null,null,null,null,null,null,null,null,null,null,null,null,null,null,null,null,null,null,null,null,null,null,null,null,{"$f":"SUMPRODUCT((U500='Comparación Alternativas'!$Z$5:$Z$246)*('Comparación Alternativas'!$AA$5:$AA$246=Alternativas!V500)*('Comparación Alternativas'!$AV$5:$AV$246))","v":0}]
[null,null,null,null,null,null,null,null,null,null,null,null,null,null,null,null,null,null,null,null,null,null,null,null,null,null,null,null,null,null,null,null,null,null,{"$f":"SUMPRODUCT((U501='Comparación Alternativas'!$Z$5:$Z$246)*('Comparación Alternativas'!$AA$5:$AA$246=Alternativas!V501)*('Comparación Alternativas'!$AV$5:$AV$246))","v":0}]
[null,null,null,null,null,null,null,null,null,null,null,null,null,null,null,null,null,null,null,null,null,null,null,null,null,null,null,null,null,null,null,null,null,null,{"$f":"SUMPRODUCT((U502='Comparación Alternativas'!$Z$5:$Z$246)*('Comparación Alternativas'!$AA$5:$AA$246=Alternativas!V502)*('Comparación Alternativas'!$AV$5:$AV$246))","v":0}]
[null,null,null,null,null,null,null,null,null,null,null,null,null,null,null,null,null,null,null,null,null,null,null,null,null,null,null,null,null,null,null,null,null,null,{"$f":"SUMPRODUCT((U503='Comparación Alternativas'!$Z$5:$Z$246)*('Comparación Alternativas'!$AA$5:$AA$246=Alternativas!V503)*('Comparación Alternativas'!$AV$5:$AV$246))","v":0}]
[null,null,null,null,null,null,null,null,null,null,null,null,null,null,null,null,null,null,null,null,null,null,null,null,null,null,null,null,null,null,null,null,null,null,{"$f":"SUMPRODUCT((U504='Comparación Alternativas'!$Z$5:$Z$246)*('Comparación Alternativas'!$AA$5:$AA$246=Alternativas!V504)*('Comparación Alternativas'!$AV$5:$AV$246))","v":0}]
[null,null,null,null,null,null,null,null,null,null,null,null,null,null,null,null,null,null,null,null,null,null,null,null,null,null,null,null,null,null,null,null,null,null,{"$f":"SUMPRODUCT((U505='Comparación Alternativas'!$Z$5:$Z$246)*('Comparación Alternativas'!$AA$5:$AA$246=Alternativas!V505)*('Comparación Alternativas'!$AV$5:$AV$246))","v":0}]
[null,null,null,null,null,null,null,null,null,null,null,null,null,null,null,null,null,null,null,null,null,null,null,null,null,null,null,null,null,null,null,null,null,null,{"$f":"SUMPRODUCT((U506='Comparación Alternativas'!$Z$5:$Z$246)*('Comparación Alternativas'!$AA$5:$AA$246=Alternativas!V506)*('Comparación Alternativas'!$AV$5:$AV$246))","v":0}]
[null,null,null,null,null,null,null,null,null,null,null,null,null,null,null,null,null,null,null,null,null,null,null,null,null,null,null,null,null,null,null,null,null,null,{"$f":"SUMPRODUCT((U507='Comparación Alternativas'!$Z$5:$Z$246)*('Comparación Alternativas'!$AA$5:$AA$246=Alternativas!V507)*('Comparación Alternativas'!$AV$5:$AV$246))","v":0}]
[null,null,null,null,null,null,null,null,null,null,null,null,null,null,null,null,null,null,null,null,null,null,null,null,null,null,null,null,null,null,null,null,null,null,{"$f":"SUMPRODUCT((U508='Comparación Alternativas'!$Z$5:$Z$246)*('Comparación Alternativas'!$AA$5:$AA$246=Alternativas!V508)*('Comparación Alternativas'!$AV$5:$AV$246))","v":0}]
[null,null,null,null,null,null,null,null,null,null,null,null,null,null,null,null,null,null,null,null,null,null,null,null,null,null,null,null,null,null,null,null,null,null,{"$f":"SUMPRODUCT((U509='Comparación Alternativas'!$Z$5:$Z$246)*('Comparación Alternativas'!$AA$5:$AA$246=Alternativas!V509)*('Comparación Alternativas'!$AV$5:$AV$246))","v":0}]
[null,null,null,null,null,null,null,null,null,null,null,null,null,null,null,null,null,null,null,null,null,null,null,null,null,null,null,null,null,null,null,null,null,null,{"$f":"SUMPRODUCT((U510='Comparación Alternativas'!$Z$5:$Z$246)*('Comparación Alternativas'!$AA$5:$AA$246=Alternativas!V510)*('Comparación Alternativas'!$AV$5:$AV$246))","v":0}]
[null,null,null,null,null,null,null,null,null,null,null,null,null,null,null,null,null,null,null,null,null,null,null,null,null,null,null,null,null,null,null,null,null,null,{"$f":"SUMPRODUCT((U511='Comparación Alternativas'!$Z$5:$Z$246)*('Comparación Alternativas'!$AA$5:$AA$246=Alternativas!V511)*('Comparación Alternativas'!$AV$5:$AV$246))","v":0}]
[null,null,null,null,null,null,null,null,null,null,null,null,null,null,null,null,null,null,null,null,null,null,null,null,null,null,null,null,null,null,null,null,null,null,{"$f":"SUMPRODUCT((U512='Comparación Alternativas'!$Z$5:$Z$246)*('Comparación Alternativas'!$AA$5:$AA$246=Alternativas!V512)*('Comparación Alternativas'!$AV$5:$AV$246))","v":0}]
[null,null,null,null,null,null,null,null,null,null,null,null,null,null,null,null,null,null,null,null,null,null,null,null,null,null,null,null,null,null,null,null,null,null,{"$f":"SUMPRODUCT((U513='Comparación Alternativas'!$Z$5:$Z$246)*('Comparación Alternativas'!$AA$5:$AA$246=Alternativas!V513)*('Comparación Alternativas'!$AV$5:$AV$246))","v":0}]
[null,null,null,null,null,null,null,null,null,null,null,null,null,null,null,null,null,null,null,null,null,null,null,null,null,null,null,null,null,null,null,null,null,null,{"$f":"SUMPRODUCT((U514='Comparación Alternativas'!$Z$5:$Z$246)*('Comparación Alternativas'!$AA$5:$AA$246=Alternativas!V514)*('Comparación Alternativas'!$AV$5:$AV$246))","v":0}]
[null,null,null,null,null,null,null,null,null,null,null,null,null,null,null,null,null,null,null,null,null,null,null,null,null,null,null,null,null,null,null,null,null,null,{"$f":"SUMPRODUCT((U515='Comparación Alternativas'!$Z$5:$Z$246)*('Comparación Alternativas'!$AA$5:$AA$246=Alternativas!V515)*('Comparación Alternativas'!$AV$5:$AV$246))","v":0}]
[null,null,null,null,null,null,null,null,null,null,null,null,null,null,null,null,null,null,null,null,null,null,null,null,null,null,null,null,null,null,null,null,null,null,{"$f":"SUMPRODUCT((U516='Comparación Alternativas'!$Z$5:$Z$246)*('Comparación Alternativas'!$AA$5:$AA$246=Alternativas!V516)*('Comparación Alternativas'!$AV$5:$AV$246))","v":0}]
[null,null,null,null,null,null,null,null,null,null,null,null,null,null,null,null,null,null,null,null,null,null,null,null,null,null,null,null,null,null,null,null,null,null,{"$f":"SUMPRODUCT((U517='Comparación Alternativas'!$Z$5:$Z$246)*('Comparación Alternativas'!$AA$5:$AA$246=Alternativas!V517)*('Comparación Alternativas'!$AV$5:$AV$246))","v":0}]
[null,null,null,null,null,null,null,null,null,null,null,null,null,null,null,null,null,null,null,null,null,null,null,null,null,null,null,null,null,null,null,null,null,null,{"$f":"SUMPRODUCT((U518='Comparación Alternativas'!$Z$5:$Z$246)*('Comparación Alternativas'!$AA$5:$AA$246=Alternativas!V518)*('Comparación Alternativas'!$AV$5:$AV$246))","v":0}]
[null,null,null,null,null,null,null,null,null,null,null,null,null,null,null,null,null,null,null,null,null,null,null,null,null,null,null,null,null,null,null,null,null,null,{"$f":"SUMPRODUCT((U519='Comparación Alternativas'!$Z$5:$Z$246)*('Comparación Alternativas'!$AA$5:$AA$246=Alternativas!V519)*('Comparación Alternativas'!$AV$5:$AV$246))","v":0}]
[null,null,null,null,null,null,null,null,null,null,null,null,null,null,null,null,null,null,null,null,null,null,null,null,null,null,null,null,null,null,null,null,null,null,{"$f":"SUMPRODUCT((U520='Comparación Alternativas'!$Z$5:$Z$246)*('Comparación Alternativas'!$AA$5:$AA$246=Alternativas!V520)*('Comparación Alternativas'!$AV$5:$AV$246))","v":0}]
[null,null,null,null,null,null,null,null,null,null,null,null,null,null,null,null,null,null,null,null,null,null,null,null,null,null,null,null,null,null,null,null,null,null,{"$f":"SUMPRODUCT((U521='Comparación Alternativas'!$Z$5:$Z$246)*('Comparación Alternativas'!$AA$5:$AA$246=Alternativas!V521)*('Comparación Alternativas'!$AV$5:$AV$246))","v":0}]
[null,null,null,null,null,null,null,null,null,null,null,null,null,null,null,null,null,null,null,null,null,null,null,null,null,null,null,null,null,null,null,null,null,null,{"$f":"SUMPRODUCT((U522='Comparación Alternativas'!$Z$5:$Z$246)*('Comparación Alternativas'!$AA$5:$AA$246=Alternativas!V522)*('Comparación Alternativas'!$AV$5:$AV$246))","v":0}]
[null,null,null,null,null,null,null,null,null,null,null,null,null,null,null,null,null,null,null,null,null,null,null,null,null,null,null,null,null,null,null,null,null,null,{"$f":"SUMPRODUCT((U523='Comparación Alternativas'!$Z$5:$Z$246)*('Comparación Alternativas'!$AA$5:$AA$246=Alternativas!V523)*('Comparación Alternativas'!$AV$5:$AV$246))","v":0}]
[null,null,null,null,null,null,null,null,null,null,null,null,null,null,null,null,null,null,null,null,null,null,null,null,null,null,null,null,null,null,null,null,null,null,{"$f":"SUMPRODUCT((U524='Comparación Alternativas'!$Z$5:$Z$246)*('Comparación Alternativas'!$AA$5:$AA$246=Alternativas!V524)*('Comparación Alternativas'!$AV$5:$AV$246))","v":0}]
[null,null,null,null,null,null,null,null,null,null,null,null,null,null,null,null,null,null,null,null,null,null,null,null,null,null,null,null,null,null,null,null,null,null,{"$f":"SUMPRODUCT((U525='Comparación Alternativas'!$Z$5:$Z$246)*('Comparación Alternativas'!$AA$5:$AA$246=Alternativas!V525)*('Comparación Alternativas'!$AV$5:$AV$246))","v":0}]
[null,null,null,null,null,null,null,null,null,null,null,null,null,null,null,null,null,null,null,null,null,null,null,null,null,null,null,null,null,null,null,null,null,null,{"$f":"SUMPRODUCT((U526='Comparación Alternativas'!$Z$5:$Z$246)*('Comparación Alternativas'!$AA$5:$AA$246=Alternativas!V526)*('Comparación Alternativas'!$AV$5:$AV$246))","v":0}]
[null,null,null,null,null,null,null,null,null,null,null,null,null,null,null,null,null,null,null,null,null,null,null,null,null,null,null,null,null,null,null,null,null,null,{"$f":"SUMPRODUCT((U527='Comparación Alternativas'!$Z$5:$Z$246)*('Comparación Alternativas'!$AA$5:$AA$246=Alternativas!V527)*('Comparación Alternativas'!$AV$5:$AV$246))","v":0}]
[null,null,null,null,null,null,null,null,null,null,null,null,null,null,null,null,null,null,null,null,null,null,null,null,null,null,null,null,null,null,null,null,null,null,{"$f":"SUMPRODUCT((U528='Comparación Alternativas'!$Z$5:$Z$246)*('Comparación Alternativas'!$AA$5:$AA$246=Alternativas!V528)*('Comparación Alternativas'!$AV$5:$AV$246))","v":0}]
[null,null,null,null,null,null,null,null,null,null,null,null,null,null,null,null,null,null,null,null,null,null,null,null,null,null,null,null,null,null,null,null,null,null,{"$f":"SUMPRODUCT((U529='Comparación Alternativas'!$Z$5:$Z$246)*('Comparación Alternativas'!$AA$5:$AA$246=Alternativas!V529)*('Comparación Alternativas'!$AV$5:$AV$246))","v":0}]
[null,null,null,null,null,null,null,null,null,null,null,null,null,null,null,null,null,null,null,null,null,null,null,null,null,null,null,null,null,null,null,null,null,null,{"$f":"SUMPRODUCT((U530='Comparación Alternativas'!$Z$5:$Z$246)*('Comparación Alternativas'!$AA$5:$AA$246=Alternativas!V530)*('Comparación Alternativas'!$AV$5:$AV$246))","v":0}]
[null,null,null,null,null,null,null,null,null,null,null,null,null,null,null,null,null,null,null,null,null,null,null,null,null,null,null,null,null,null,null,null,null,null,{"$f":"SUMPRODUCT((U531='Comparación Alternativas'!$Z$5:$Z$246)*('Comparación Alternativas'!$AA$5:$AA$246=Alternativas!V531)*('Comparación Alternativas'!$AV$5:$AV$246))","v":0}]
[null,null,null,null,null,null,null,null,null,null,null,null,null,null,null,null,null,null,null,null,null,null,null,null,null,null,null,null,null,null,null,null,null,null,{"$f":"SUMPRODUCT((U532='Comparación Alternativas'!$Z$5:$Z$246)*('Comparación Alternativas'!$AA$5:$AA$246=Alternativas!V532)*('Comparación Alternativas'!$AV$5:$AV$246))","v":0}]
[null,null,null,null,null,null,null,null,null,null,null,null,null,null,null,null,null,null,null,null,null,null,null,null,null,null,null,null,null,null,null,null,null,null,{"$f":"SUMPRODUCT((U533='Comparación Alternativas'!$Z$5:$Z$246)*('Comparación Alternativas'!$AA$5:$AA$246=Alternativas!V533)*('Comparación Alternativas'!$AV$5:$AV$246))","v":0}]
[null,null,null,null,null,null,null,null,null,null,null,null,null,null,null,null,null,null,null,null,null,null,null,null,null,null,null,null,null,null,null,null,null,null,{"$f":"SUMPRODUCT((U534='Comparación Alternativas'!$Z$5:$Z$246)*('Comparación Alternativas'!$AA$5:$AA$246=Alternativas!V534)*('Comparación Alternativas'!$AV$5:$AV$246))","v":0}]
[null,null,null,null,null,null,null,null,null,null,null,null,null,null,null,null,null,null,null,null,null,null,null,null,null,null,null,null,null,null,null,null,null,null,{"$f":"SUMPRODUCT((U535='Comparación Alternativas'!$Z$5:$Z$246)*('Comparación Alternativas'!$AA$5:$AA$246=Alternativas!V535)*('Comparación Alternativas'!$AV$5:$AV$246))","v":0}]
[null,null,null,null,null,null,null,null,null,null,null,null,null,null,null,null,null,null,null,null,null,null,null,null,null,null,null,null,null,null,null,null,null,null,{"$f":"SUMPRODUCT((U536='Comparación Alternativas'!$Z$5:$Z$246)*('Comparación Alternativas'!$AA$5:$AA$246=Alternativas!V536)*('Comparación Alternativas'!$AV$5:$AV$246))","v":0}]
[null,null,null,null,null,null,null,null,null,null,null,null,null,null,null,null,null,null,null,null,null,null,null,null,null,null,null,null,null,null,null,null,null,null,{"$f":"SUMPRODUCT((U537='Comparación Alternativas'!$Z$5:$Z$246)*('Comparación Alternativas'!$AA$5:$AA$246=Alternativas!V537)*('Comparación Alternativas'!$AV$5:$AV$246))","v":0}]
[null,null,null,null,null,null,null,null,null,null,null,null,null,null,null,null,null,null,null,null,null,null,null,null,null,null,null,null,null,null,null,null,null,null,{"$f":"SUMPRODUCT((U538='Comparación Alternativas'!$Z$5:$Z$246)*('Comparación Alternativas'!$AA$5:$AA$246=Alternativas!V538)*('Comparación Alternativas'!$AV$5:$AV$246))","v":0}]
[null,null,null,null,null,null,null,null,null,null,null,null,null,null,null,null,null,null,null,null,null,null,null,null,null,null,null,null,null,null,null,null,null,null,{"$f":"SUMPRODUCT((U539='Comparación Alternativas'!$Z$5:$Z$246)*('Comparación Alternativas'!$AA$5:$AA$246=Alternativas!V539)*('Comparación Alternativas'!$AV$5:$AV$246))","v":0}]
[null,null,null,null,null,null,null,null,null,null,null,null,null,null,null,null,null,null,null,null,null,null,null,null,null,null,null,null,null,null,null,null,null,null,{"$f":"SUMPRODUCT((U540='Comparación Alternativas'!$Z$5:$Z$246)*('Comparación Alternativas'!$AA$5:$AA$246=Alternativas!V540)*('Comparación Alternativas'!$AV$5:$AV$246))","v":0}]
[null,null,null,null,null,null,null,null,null,null,null,null,null,null,null,null,null,null,null,null,null,null,null,null,null,null,null,null,null,null,null,null,null,null,{"$f":"SUMPRODUCT((U541='Comparación Alternativas'!$Z$5:$Z$246)*('Comparación Alternativas'!$AA$5:$AA$246=Alternativas!V541)*('Comparación Alternativas'!$AV$5:$AV$246))","v":0}]
[null,null,null,null,null,null,null,null,null,null,null,null,null,null,null,null,null,null,null,null,null,null,null,null,null,null,null,null,null,null,null,null,null,null,{"$f":"SUMPRODUCT((U542='Comparación Alternativas'!$Z$5:$Z$246)*('Comparación Alternativas'!$AA$5:$AA$246=Alternativas!V542)*('Comparación Alternativas'!$AV$5:$AV$246))","v":0}]
[null,null,null,null,null,null,null,null,null,null,null,null,null,null,null,null,null,null,null,null,null,null,null,null,null,null,null,null,null,null,null,null,null,null,{"$f":"SUMPRODUCT((U543='Comparación Alternativas'!$Z$5:$Z$246)*('Comparación Alternativas'!$AA$5:$AA$246=Alternativas!V543)*('Comparación Alternativas'!$AV$5:$AV$246))","v":0}]
[null,null,null,null,null,null,null,null,null,null,null,null,null,null,null,null,null,null,null,null,null,null,null,null,null,null,null,null,null,null,null,null,null,null,{"$f":"SUMPRODUCT((U544='Comparación Alternativas'!$Z$5:$Z$246)*('Comparación Alternativas'!$AA$5:$AA$246=Alternativas!V544)*('Comparación Alternativas'!$AV$5:$AV$246))","v":0}]
[null,null,null,null,null,null,null,null,null,null,null,null,null,null,null,null,null,null,null,null,null,null,null,null,null,null,null,null,null,null,null,null,null,null,{"$f":"SUMPRODUCT((U545='Comparación Alternativas'!$Z$5:$Z$246)*('Comparación Alternativas'!$AA$5:$AA$246=Alternativas!V545)*('Comparación Alternativas'!$AV$5:$AV$246))","v":0}]
[null,null,null,null,null,null,null,null,null,null,null,null,null,null,null,null,null,null,null,null,null,null,null,null,null,null,null,null,null,null,null,null,null,null,{"$f":"SUMPRODUCT((U546='Comparación Alternativas'!$Z$5:$Z$246)*('Comparación Alternativas'!$AA$5:$AA$246=Alternativas!V546)*('Comparación Alternativas'!$AV$5:$AV$246))","v":0}]
[null,null,null,null,null,null,null,null,null,null,null,null,null,null,null,null,null,null,null,null,null,null,null,null,null,null,null,null,null,null,null,null,null,null,{"$f":"SUMPRODUCT((U547='Comparación Alternativas'!$Z$5:$Z$246)*('Comparación Alternativas'!$AA$5:$AA$246=Alternativas!V547)*('Comparación Alternativas'!$AV$5:$AV$246))","v":0}]
[null,null,null,null,null,null,null,null,null,null,null,null,null,null,null,null,null,null,null,null,null,null,null,null,null,null,null,null,null,null,null,null,null,null,{"$f":"SUMPRODUCT((U548='Comparación Alternativas'!$Z$5:$Z$246)*('Comparación Alternativas'!$AA$5:$AA$246=Alternativas!V548)*('Comparación Alternativas'!$AV$5:$AV$246))","v":0}]
[null,null,null,null,null,null,null,null,null,null,null,null,null,null,null,null,null,null,null,null,null,null,null,null,null,null,null,null,null,null,null,null,null,null,{"$f":"SUMPRODUCT((U549='Comparación Alternativas'!$Z$5:$Z$246)*('Comparación Alternativas'!$AA$5:$AA$246=Alternativas!V549)*('Comparación Alternativas'!$AV$5:$AV$246))","v":0}]
[null,null,null,null,null,null,null,null,null,null,null,null,null,null,null,null,null,null,null,null,null,null,null,null,null,null,null,null,null,null,null,null,null,null,{"$f":"SUMPRODUCT((U550='Comparación Alternativas'!$Z$5:$Z$246)*('Comparación Alternativas'!$AA$5:$AA$246=Alternativas!V550)*('Comparación Alternativas'!$AV$5:$AV$246))","v":0}]
[null,null,null,null,null,null,null,null,null,null,null,null,null,null,null,null,null,null,null,null,null,null,null,null,null,null,null,null,null,null,null,null,null,null,{"$f":"SUMPRODUCT((U551='Comparación Alternativas'!$Z$5:$Z$246)*('Comparación Alternativas'!$AA$5:$AA$246=Alternativas!V551)*('Comparación Alternativas'!$AV$5:$AV$246))","v":0}]
[null,null,null,null,null,null,null,null,null,null,null,null,null,null,null,null,null,null,null,null,null,null,null,null,null,null,null,null,null,null,null,null,null,null,{"$f":"SUMPRODUCT((U552='Comparación Alternativas'!$Z$5:$Z$246)*('Comparación Alternativas'!$AA$5:$AA$246=Alternativas!V552)*('Comparación Alternativas'!$AV$5:$AV$246))","v":0}]
[null,null,null,null,null,null,null,null,null,null,null,null,null,null,null,null,null,null,null,null,null,null,null,null,null,null,null,null,null,null,null,null,null,null,{"$f":"SUMPRODUCT((U553='Comparación Alternativas'!$Z$5:$Z$246)*('Comparación Alternativas'!$AA$5:$AA$246=Alternativas!V553)*('Comparación Alternativas'!$AV$5:$AV$246))","v":0}]
[null,null,null,null,null,null,null,null,null,null,null,null,null,null,null,null,null,null,null,null,null,null,null,null,null,null,null,null,null,null,null,null,null,null,{"$f":"SUMPRODUCT((U554='Comparación Alternativas'!$Z$5:$Z$246)*('Comparación Alternativas'!$AA$5:$AA$246=Alternativas!V554)*('Comparación Alternativas'!$AV$5:$AV$246))","v":0}]
[null,null,null,null,null,null,null,null,null,null,null,null,null,null,null,null,null,null,null,null,null,null,null,null,null,null,null,null,null,null,null,null,null,null,{"$f":"SUMPRODUCT((U555='Comparación Alternativas'!$Z$5:$Z$246)*('Comparación Alternativas'!$AA$5:$AA$246=Alternativas!V555)*('Comparación Alternativas'!$AV$5:$AV$246))","v":0}]
[null,null,null,null,null,null,null,null,null,null,null,null,null,null,null,null,null,null,null,null,null,null,null,null,null,null,null,null,null,null,null,null,null,null,{"$f":"SUMPRODUCT((U556='Comparación Alternativas'!$Z$5:$Z$246)*('Comparación Alternativas'!$AA$5:$AA$246=Alternativas!V556)*('Comparación Alternativas'!$AV$5:$AV$246))","v":0}]
[null,null,null,null,null,null,null,null,null,null,null,null,null,null,null,null,null,null,null,null,null,null,null,null,null,null,null,null,null,null,null,null,null,null,{"$f":"SUMPRODUCT((U557='Comparación Alternativas'!$Z$5:$Z$246)*('Comparación Alternativas'!$AA$5:$AA$246=Alternativas!V557)*('Comparación Alternativas'!$AV$5:$AV$246))","v":0}]
[null,null,null,null,null,null,null,null,null,null,null,null,null,null,null,null,null,null,null,null,null,null,null,null,null,null,null,null,null,null,null,null,null,null,{"$f":"SUMPRODUCT((U558='Comparación Alternativas'!$Z$5:$Z$246)*('Comparación Alternativas'!$AA$5:$AA$246=Alternativas!V558)*('Comparación Alternativas'!$AV$5:$AV$246))","v":0}]
[null,null,null,null,null,null,null,null,null,null,null,null,null,null,null,null,null,null,null,null,null,null,null,null,null,null,null,null,null,null,null,null,null,null,{"$f":"SUMPRODUCT((U559='Comparación Alternativas'!$Z$5:$Z$246)*('Comparación Alternativas'!$AA$5:$AA$246=Alternativas!V559)*('Comparación Alternativas'!$AV$5:$AV$246))","v":0}]
[null,null,null,null,null,null,null,null,null,null,null,null,null,null,null,null,null,null,null,null,null,null,null,null,null,null,null,null,null,null,null,null,null,null,{"$f":"SUMPRODUCT((U560='Comparación Alternativas'!$Z$5:$Z$246)*('Comparación Alternativas'!$AA$5:$AA$246=Alternativas!V560)*('Comparación Alternativas'!$AV$5:$AV$246))","v":0}]
[null,null,null,null,null,null,null,null,null,null,null,null,null,null,null,null,null,null,null,null,null,null,null,null,null,null,null,null,null,null,null,null,null,null,{"$f":"SUMPRODUCT((U561='Comparación Alternativas'!$Z$5:$Z$246)*('Comparación Alternativas'!$AA$5:$AA$246=Alternativas!V561)*('Comparación Alternativas'!$AV$5:$AV$246))","v":0}]
[null,null,null,null,null,null,null,null,null,null,null,null,null,null,null,null,null,null,null,null,null,null,null,null,null,null,null,null,null,null,null,null,null,null,{"$f":"SUMPRODUCT((U562='Comparación Alternativas'!$Z$5:$Z$246)*('Comparación Alternativas'!$AA$5:$AA$246=Alternativas!V562)*('Comparación Alternativas'!$AV$5:$AV$246))","v":0}]
[null,null,null,null,null,null,null,null,null,null,null,null,null,null,null,null,null,null,null,null,null,null,null,null,null,null,null,null,null,null,null,null,null,null,{"$f":"SUMPRODUCT((U563='Comparación Alternativas'!$Z$5:$Z$246)*('Comparación Alternativas'!$AA$5:$AA$246=Alternativas!V563)*('Comparación Alternativas'!$AV$5:$AV$246))","v":0}]
[null,null,null,null,null,null,null,null,null,null,null,null,null,null,null,null,null,null,null,null,null,null,null,null,null,null,null,null,null,null,null,null,null,null,{"$f":"SUMPRODUCT((U564='Comparación Alternativas'!$Z$5:$Z$246)*('Comparación Alternativas'!$AA$5:$AA$246=Alternativas!V564)*('Comparación Alternativas'!$AV$5:$AV$246))","v":0}]
[null,null,null,null,null,null,null,null,null,null,null,null,null,null,null,null,null,null,null,null,null,null,null,null,null,null,null,null,null,null,null,null,null,null,{"$f":"SUMPRODUCT((U565='Comparación Alternativas'!$Z$5:$Z$246)*('Comparación Alternativas'!$AA$5:$AA$246=Alternativas!V565)*('Comparación Alternativas'!$AV$5:$AV$246))","v":0}]
[null,null,null,null,null,null,null,null,null,null,null,null,null,null,null,null,null,null,null,null,null,null,null,null,null,null,null,null,null,null,null,null,null,null,{"$f":"SUMPRODUCT((U566='Comparación Alternativas'!$Z$5:$Z$246)*('Comparación Alternativas'!$AA$5:$AA$246=Alternativas!V566)*('Comparación Alternativas'!$AV$5:$AV$246))","v":0}]
[null,null,null,null,null,null,null,null,null,null,null,null,null,null,null,null,null,null,null,null,null,null,null,null,null,null,null,null,null,null,null,null,null,null,{"$f":"SUMPRODUCT((U567='Comparación Alternativas'!$Z$5:$Z$246)*('Comparación Alternativas'!$AA$5:$AA$246=Alternativas!V567)*('Comparación Alternativas'!$AV$5:$AV$246))","v":0}]
[null,null,null,null,null,null,null,null,null,null,null,null,null,null,null,null,null,null,null,null,null,null,null,null,null,null,null,null,null,null,null,null,null,null,{"$f":"SUMPRODUCT((U568='Comparación Alternativas'!$Z$5:$Z$246)*('Comparación Alternativas'!$AA$5:$AA$246=Alternativas!V568)*('Comparación Alternativas'!$AV$5:$AV$246))","v":0}]
[null,null,null,null,null,null,null,null,null,null,null,null,null,null,null,null,null,null,null,null,null,null,null,null,null,null,null,null,null,null,null,null,null,null,{"$f":"SUMPRODUCT((U569='Comparación Alternativas'!$Z$5:$Z$246)*('Comparación Alternativas'!$AA$5:$AA$246=Alternativas!V569)*('Comparación Alternativas'!$AV$5:$AV$246))","v":0}]
[null,null,null,null,null,null,null,null,null,null,null,null,null,null,null,null,null,null,null,null,null,null,null,null,null,null,null,null,null,null,null,null,null,null,{"$f":"SUMPRODUCT((U570='Comparación Alternativas'!$Z$5:$Z$246)*('Comparación Alternativas'!$AA$5:$AA$246=Alternativas!V570)*('Comparación Alternativas'!$AV$5:$AV$246))","v":0}]
[null,null,null,null,null,null,null,null,null,null,null,null,null,null,null,null,null,null,null,null,null,null,null,null,null,null,null,null,null,null,null,null,null,null,{"$f":"SUMPRODUCT((U571='Comparación Alternativas'!$Z$5:$Z$246)*('Comparación Alternativas'!$AA$5:$AA$246=Alternativas!V571)*('Comparación Alternativas'!$AV$5:$AV$246))","v":0}]
[null,null,null,null,null,null,null,null,null,null,null,null,null,null,null,null,null,null,null,null,null,null,null,null,null,null,null,null,null,null,null,null,null,null,{"$f":"SUMPRODUCT((U572='Comparación Alternativas'!$Z$5:$Z$246)*('Comparación Alternativas'!$AA$5:$AA$246=Alternativas!V572)*('Comparación Alternativas'!$AV$5:$AV$246))","v":0}]
[null,null,null,null,null,null,null,null,null,null,null,null,null,null,null,null,null,null,null,null,null,null,null,null,null,null,null,null,null,null,null,null,null,null,{"$f":"SUMPRODUCT((U573='Comparación Alternativas'!$Z$5:$Z$246)*('Comparación Alternativas'!$AA$5:$AA$246=Alternativas!V573)*('Comparación Alternativas'!$AV$5:$AV$246))","v":0}]
[null,null,null,null,null,null,null,null,null,null,null,null,null,null,null,null,null,null,null,null,null,null,null,null,null,null,null,null,null,null,null,null,null,null,{"$f":"SUMPRODUCT((U574='Comparación Alternativas'!$Z$5:$Z$246)*('Comparación Alternativas'!$AA$5:$AA$246=Alternativas!V574)*('Comparación Alternativas'!$AV$5:$AV$246))","v":0}]
[null,null,null,null,null,null,null,null,null,null,null,null,null,null,null,null,null,null,null,null,null,null,null,null,null,null,null,null,null,null,null,null,null,null,{"$f":"SUMPRODUCT((U575='Comparación Alternativas'!$Z$5:$Z$246)*('Comparación Alternativas'!$AA$5:$AA$246=Alternativas!V575)*('Comparación Alternativas'!$AV$5:$AV$246))","v":0}]
[null,null,null,null,null,null,null,null,null,null,null,null,null,null,null,null,null,null,null,null,null,null,null,null,null,null,null,null,null,null,null,null,null,null,{"$f":"SUMPRODUCT((U576='Comparación Alternativas'!$Z$5:$Z$246)*('Comparación Alternativas'!$AA$5:$AA$246=Alternativas!V576)*('Comparación Alternativas'!$AV$5:$AV$246))","v":0}]
[null,null,null,null,null,null,null,null,null,null,null,null,null,null,null,null,null,null,null,null,null,null,null,null,null,null,null,null,null,null,null,null,null,null,{"$f":"SUMPRODUCT((U577='Comparación Alternativas'!$Z$5:$Z$246)*('Comparación Alternativas'!$AA$5:$AA$246=Alternativas!V577)*('Comparación Alternativas'!$AV$5:$AV$246))","v":0}]
[null,null,null,null,null,null,null,null,null,null,null,null,null,null,null,null,null,null,null,null,null,null,null,null,null,null,null,null,null,null,null,null,null,null,{"$f":"SUMPRODUCT((U578='Comparación Alternativas'!$Z$5:$Z$246)*('Comparación Alternativas'!$AA$5:$AA$246=Alternativas!V578)*('Comparación Alternativas'!$AV$5:$AV$246))","v":0}]
[null,null,null,null,null,null,null,null,null,null,null,null,null,null,null,null,null,null,null,null,null,null,null,null,null,null,null,null,null,null,null,null,null,null,{"$f":"SUMPRODUCT((U579='Comparación Alternativas'!$Z$5:$Z$246)*('Comparación Alternativas'!$AA$5:$AA$246=Alternativas!V579)*('Comparación Alternativas'!$AV$5:$AV$246))","v":0}]
[null,null,null,null,null,null,null,null,null,null,null,null,null,null,null,null,null,null,null,null,null,null,null,null,null,null,null,null,null,null,null,null,null,null,{"$f":"SUMPRODUCT((U580='Comparación Alternativas'!$Z$5:$Z$246)*('Comparación Alternativas'!$AA$5:$AA$246=Alternativas!V580)*('Comparación Alternativas'!$AV$5:$AV$246))","v":0}]
[null,null,null,null,null,null,null,null,null,null,null,null,null,null,null,null,null,null,null,null,null,null,null,null,null,null,null,null,null,null,null,null,null,null,{"$f":"SUMPRODUCT((U581='Comparación Alternativas'!$Z$5:$Z$246)*('Comparación Alternativas'!$AA$5:$AA$246=Alternativas!V581)*('Comparación Alternativas'!$AV$5:$AV$246))","v":0}]
[null,null,null,null,null,null,null,null,null,null,null,null,null,null,null,null,null,null,null,null,null,null,null,null,null,null,null,null,null,null,null,null,null,null,{"$f":"SUMPRODUCT((U582='Comparación Alternativas'!$Z$5:$Z$246)*('Comparación Alternativas'!$AA$5:$AA$246=Alternativas!V582)*('Comparación Alternativas'!$AV$5:$AV$246))","v":0}]
[null,null,null,null,null,null,null,null,null,null,null,null,null,null,null,null,null,null,null,null,null,null,null,null,null,null,null,null,null,null,null,null,null,null,{"$f":"SUMPRODUCT((U583='Comparación Alternativas'!$Z$5:$Z$246)*('Comparación Alternativas'!$AA$5:$AA$246=Alternativas!V583)*('Comparación Alternativas'!$AV$5:$AV$246))","v":0}]
[null,null,null,null,null,null,null,null,null,null,null,null,null,null,null,null,null,null,null,null,null,null,null,null,null,null,null,null,null,null,null,null,null,null,{"$f":"SUMPRODUCT((U584='Comparación Alternativas'!$Z$5:$Z$246)*('Comparación Alternativas'!$AA$5:$AA$246=Alternativas!V584)*('Comparación Alternativas'!$AV$5:$AV$246))","v":0}]
[null,null,null,null,null,null,null,null,null,null,null,null,null,null,null,null,null,null,null,null,null,null,null,null,null,null,null,null,null,null,null,null,null,null,{"$f":"SUMPRODUCT((U585='Comparación Alternativas'!$Z$5:$Z$246)*('Comparación Alternativas'!$AA$5:$AA$246=Alternativas!V585)*('Comparación Alternativas'!$AV$5:$AV$246))","v":0}]
[null,null,null,null,null,null,null,null,null,null,null,null,null,null,null,null,null,null,null,null,null,null,null,null,null,null,null,null,null,null,null,null,null,null,{"$f":"SUMPRODUCT((U586='Comparación Alternativas'!$Z$5:$Z$246)*('Comparación Alternativas'!$AA$5:$AA$246=Alternativas!V586)*('Comparación Alternativas'!$AV$5:$AV$246))","v":0}]
[null,null,null,null,null,null,null,null,null,null,null,null,null,null,null,null,null,null,null,null,null,null,null,null,null,null,null,null,null,null,null,null,null,null,{"$f":"SUMPRODUCT((U587='Comparación Alternativas'!$Z$5:$Z$246)*('Comparación Alternativas'!$AA$5:$AA$246=Alternativas!V587)*('Comparación Alternativas'!$AV$5:$AV$246))","v":0}]
[null,null,null,null,null,null,null,null,null,null,null,null,null,null,null,null,null,null,null,null,null,null,null,null,null,null,null,null,null,null,null,null,null,null,{"$f":"SUMPRODUCT((U588='Comparación Alternativas'!$Z$5:$Z$246)*('Comparación Alternativas'!$AA$5:$AA$246=Alternativas!V588)*('Comparación Alternativas'!$AV$5:$AV$246))","v":0}]
[null,null,null,null,null,null,null,null,null,null,null,null,null,null,null,null,null,null,null,null,null,null,null,null,null,null,null,null,null,null,null,null,null,null,{"$f":"SUMPRODUCT((U589='Comparación Alternativas'!$Z$5:$Z$246)*('Comparación Alternativas'!$AA$5:$AA$246=Alternativas!V589)*('Comparación Alternativas'!$AV$5:$AV$246))","v":0}]
[null,null,null,null,null,null,null,null,null,null,null,null,null,null,null,null,null,null,null,null,null,null,null,null,null,null,null,null,null,null,null,null,null,null,{"$f":"SUMPRODUCT((U590='Comparación Alternativas'!$Z$5:$Z$246)*('Comparación Alternativas'!$AA$5:$AA$246=Alternativas!V590)*('Comparación Alternativas'!$AV$5:$AV$246))","v":0}]
[null,null,null,null,null,null,null,null,null,null,null,null,null,null,null,null,null,null,null,null,null,null,null,null,null,null,null,null,null,null,null,null,null,null,{"$f":"SUMPRODUCT((U591='Comparación Alternativas'!$Z$5:$Z$246)*('Comparación Alternativas'!$AA$5:$AA$246=Alternativas!V591)*('Comparación Alternativas'!$AV$5:$AV$246))","v":0}]
[null,null,null,null,null,null,null,null,null,null,null,null,null,null,null,null,null,null,null,null,null,null,null,null,null,null,null,null,null,null,null,null,null,null,{"$f":"SUMPRODUCT((U592='Comparación Alternativas'!$Z$5:$Z$246)*('Comparación Alternativas'!$AA$5:$AA$246=Alternativas!V592)*('Comparación Alternativas'!$AV$5:$AV$246))","v":0}]
[null,null,null,null,null,null,null,null,null,null,null,null,null,null,null,null,null,null,null,null,null,null,null,null,null,null,null,null,null,null,null,null,null,null,{"$f":"SUMPRODUCT((U593='Comparación Alternativas'!$Z$5:$Z$246)*('Comparación Alternativas'!$AA$5:$AA$246=Alternativas!V593)*('Comparación Alternativas'!$AV$5:$AV$246))","v":0}]
[null,null,null,null,null,null,null,null,null,null,null,null,null,null,null,null,null,null,null,null,null,null,null,null,null,null,null,null,null,null,null,null,null,null,{"$f":"SUMPRODUCT((U594='Comparación Alternativas'!$Z$5:$Z$246)*('Comparación Alternativas'!$AA$5:$AA$246=Alternativas!V594)*('Comparación Alternativas'!$AV$5:$AV$246))","v":0}]
[null,null,null,null,null,null,null,null,null,null,null,null,null,null,null,null,null,null,null,null,null,null,null,null,null,null,null,null,null,null,null,null,null,null,{"$f":"SUMPRODUCT((U595='Comparación Alternativas'!$Z$5:$Z$246)*('Comparación Alternativas'!$AA$5:$AA$246=Alternativas!V595)*('Comparación Alternativas'!$AV$5:$AV$246))","v":0}]
[null,null,null,null,null,null,null,null,null,null,null,null,null,null,null,null,null,null,null,null,null,null,null,null,null,null,null,null,null,null,null,null,null,null,{"$f":"SUMPRODUCT((U596='Comparación Alternativas'!$Z$5:$Z$246)*('Comparación Alternativas'!$AA$5:$AA$246=Alternativas!V596)*('Comparación Alternativas'!$AV$5:$AV$246))","v":0}]
[null,null,null,null,null,null,null,null,null,null,null,null,null,null,null,null,null,null,null,null,null,null,null,null,null,null,null,null,null,null,null,null,null,null,{"$f":"SUMPRODUCT((U597='Comparación Alternativas'!$Z$5:$Z$246)*('Comparación Alternativas'!$AA$5:$AA$246=Alternativas!V597)*('Comparación Alternativas'!$AV$5:$AV$246))","v":0}]
[null,null,null,null,null,null,null,null,null,null,null,null,null,null,null,null,null,null,null,null,null,null,null,null,null,null,null,null,null,null,null,null,null,null,{"$f":"SUMPRODUCT((U598='Comparación Alternativas'!$Z$5:$Z$246)*('Comparación Alternativas'!$AA$5:$AA$246=Alternativas!V598)*('Comparación Alternativas'!$AV$5:$AV$246))","v":0}]
[null,null,null,null,null,null,null,null,null,null,null,null,null,null,null,null,null,null,null,null,null,null,null,null,null,null,null,null,null,null,null,null,null,null,{"$f":"SUMPRODUCT((U599='Comparación Alternativas'!$Z$5:$Z$246)*('Comparación Alternativas'!$AA$5:$AA$246=Alternativas!V599)*('Comparación Alternativas'!$AV$5:$AV$246))","v":0}]
[null,null,null,null,null,null,null,null,null,null,null,null,null,null,null,null,null,null,null,null,null,null,null,null,null,null,null,null,null,null,null,null,null,null,{"$f":"SUMPRODUCT((U600='Comparación Alternativas'!$Z$5:$Z$246)*('Comparación Alternativas'!$AA$5:$AA$246=Alternativas!V600)*('Comparación Alternativas'!$AV$5:$AV$246))","v":0}]
[null,null,null,null,null,null,null,null,null,null,null,null,null,null,null,null,null,null,null,null,null,null,null,null,null,null,null,null,null,null,null,null,null,null,{"$f":"SUMPRODUCT((U601='Comparación Alternativas'!$Z$5:$Z$246)*('Comparación Alternativas'!$AA$5:$AA$246=Alternativas!V601)*('Comparación Alternativas'!$AV$5:$AV$246))","v":0}]
[null,null,null,null,null,null,null,null,null,null,null,null,null,null,null,null,null,null,null,null,null,null,null,null,null,null,null,null,null,null,null,null,null,null,{"$f":"SUMPRODUCT((U602='Comparación Alternativas'!$Z$5:$Z$246)*('Comparación Alternativas'!$AA$5:$AA$246=Alternativas!V602)*('Comparación Alternativas'!$AV$5:$AV$246))","v":0}]
[null,null,null,null,null,null,null,null,null,null,null,null,null,null,null,null,null,null,null,null,null,null,null,null,null,null,null,null,null,null,null,null,null,null,{"$f":"SUMPRODUCT((U603='Comparación Alternativas'!$Z$5:$Z$246)*('Comparación Alternativas'!$AA$5:$AA$246=Alternativas!V603)*('Comparación Alternativas'!$AV$5:$AV$246))","v":0}]
[null,null,null,null,null,null,null,null,null,null,null,null,null,null,null,null,null,null,null,null,null,null,null,null,null,null,null,null,null,null,null,null,null,null,{"$f":"SUMPRODUCT((U604='Comparación Alternativas'!$Z$5:$Z$246)*('Comparación Alternativas'!$AA$5:$AA$246=Alternativas!V604)*('Comparación Alternativas'!$AV$5:$AV$246))","v":0}]
[null,null,null,null,null,null,null,null,null,null,null,null,null,null,null,null,null,null,null,null,null,null,null,null,null,null,null,null,null,null,null,null,null,null,{"$f":"SUMPRODUCT((U605='Comparación Alternativas'!$Z$5:$Z$246)*('Comparación Alternativas'!$AA$5:$AA$246=Alternativas!V605)*('Comparación Alternativas'!$AV$5:$AV$246))","v":0}]
[null,null,null,null,null,null,null,null,null,null,null,null,null,null,null,null,null,null,null,null,null,null,null,null,null,null,null,null,null,null,null,null,null,null,{"$f":"SUMPRODUCT((U606='Comparación Alternativas'!$Z$5:$Z$246)*('Comparación Alternativas'!$AA$5:$AA$246=Alternativas!V606)*('Comparación Alternativas'!$AV$5:$AV$246))","v":0}]
[null,null,null,null,null,null,null,null,null,null,null,null,null,null,null,null,null,null,null,null,null,null,null,null,null,null,null,null,null,null,null,null,null,null,{"$f":"SUMPRODUCT((U607='Comparación Alternativas'!$Z$5:$Z$246)*('Comparación Alternativas'!$AA$5:$AA$246=Alternativas!V607)*('Comparación Alternativas'!$AV$5:$AV$246))","v":0}]
[null,null,null,null,null,null,null,null,null,null,null,null,null,null,null,null,null,null,null,null,null,null,null,null,null,null,null,null,null,null,null,null,null,null,{"$f":"SUMPRODUCT((U608='Comparación Alternativas'!$Z$5:$Z$246)*('Comparación Alternativas'!$AA$5:$AA$246=Alternativas!V608)*('Comparación Alternativas'!$AV$5:$AV$246))","v":0}]
[null,null,null,null,null,null,null,null,null,null,null,null,null,null,null,null,null,null,null,null,null,null,null,null,null,null,null,null,null,null,null,null,null,null,{"$f":"SUMPRODUCT((U609='Comparación Alternativas'!$Z$5:$Z$246)*('Comparación Alternativas'!$AA$5:$AA$246=Alternativas!V609)*('Comparación Alternativas'!$AV$5:$AV$246))","v":0}]
[null,null,null,null,null,null,null,null,null,null,null,null,null,null,null,null,null,null,null,null,null,null,null,null,null,null,null,null,null,null,null,null,null,null,{"$f":"SUMPRODUCT((U610='Comparación Alternativas'!$Z$5:$Z$246)*('Comparación Alternativas'!$AA$5:$AA$246=Alternativas!V610)*('Comparación Alternativas'!$AV$5:$AV$246))","v":0}]
[null,null,null,null,null,null,null,null,null,null,null,null,null,null,null,null,null,null,null,null,null,null,null,null,null,null,null,null,null,null,null,null,null,null,{"$f":"SUMPRODUCT((U611='Comparación Alternativas'!$Z$5:$Z$246)*('Comparación Alternativas'!$AA$5:$AA$246=Alternativas!V611)*('Comparación Alternativas'!$AV$5:$AV$246))","v":0}]
[null,null,null,null,null,null,null,null,null,null,null,null,null,null,null,null,null,null,null,null,null,null,null,null,null,null,null,null,null,null,null,null,null,null,{"$f":"SUMPRODUCT((U612='Comparación Alternativas'!$Z$5:$Z$246)*('Comparación Alternativas'!$AA$5:$AA$246=Alternativas!V612)*('Comparación Alternativas'!$AV$5:$AV$246))","v":0}]
[null,null,null,null,null,null,null,null,null,null,null,null,null,null,null,null,null,null,null,null,null,null,null,null,null,null,null,null,null,null,null,null,null,null,{"$f":"SUMPRODUCT((U613='Comparación Alternativas'!$Z$5:$Z$246)*('Comparación Alternativas'!$AA$5:$AA$246=Alternativas!V613)*('Comparación Alternativas'!$AV$5:$AV$246))","v":0}]
[null,null,null,null,null,null,null,null,null,null,null,null,null,null,null,null,null,null,null,null,null,null,null,null,null,null,null,null,null,null,null,null,null,null,{"$f":"SUMPRODUCT((U614='Comparación Alternativas'!$Z$5:$Z$246)*('Comparación Alternativas'!$AA$5:$AA$246=Alternativas!V614)*('Comparación Alternativas'!$AV$5:$AV$246))","v":0}]
[null,null,null,null,null,null,null,null,null,null,null,null,null,null,null,null,null,null,null,null,null,null,null,null,null,null,null,null,null,null,null,null,null,null,{"$f":"SUMPRODUCT((U615='Comparación Alternativas'!$Z$5:$Z$246)*('Comparación Alternativas'!$AA$5:$AA$246=Alternativas!V615)*('Comparación Alternativas'!$AV$5:$AV$246))","v":0}]
[null,null,null,null,null,null,null,null,null,null,null,null,null,null,null,null,null,null,null,null,null,null,null,null,null,null,null,null,null,null,null,null,null,null,{"$f":"SUMPRODUCT((U616='Comparación Alternativas'!$Z$5:$Z$246)*('Comparación Alternativas'!$AA$5:$AA$246=Alternativas!V616)*('Comparación Alternativas'!$AV$5:$AV$246))","v":0}]
[null,null,null,null,null,null,null,null,null,null,null,null,null,null,null,null,null,null,null,null,null,null,null,null,null,null,null,null,null,null,null,null,null,null,{"$f":"SUMPRODUCT((U617='Comparación Alternativas'!$Z$5:$Z$246)*('Comparación Alternativas'!$AA$5:$AA$246=Alternativas!V617)*('Comparación Alternativas'!$AV$5:$AV$246))","v":0}]
[null,null,null,null,null,null,null,null,null,null,null,null,null,null,null,null,null,null,null,null,null,null,null,null,null,null,null,null,null,null,null,null,null,null,{"$f":"SUMPRODUCT((U618='Comparación Alternativas'!$Z$5:$Z$246)*('Comparación Alternativas'!$AA$5:$AA$246=Alternativas!V618)*('Comparación Alternativas'!$AV$5:$AV$246))","v":0}]
[null,null,null,null,null,null,null,null,null,null,null,null,null,null,null,null,null,null,null,null,null,null,null,null,null,null,null,null,null,null,null,null,null,null,{"$f":"SUMPRODUCT((U619='Comparación Alternativas'!$Z$5:$Z$246)*('Comparación Alternativas'!$AA$5:$AA$246=Alternativas!V619)*('Comparación Alternativas'!$AV$5:$AV$246))","v":0}]
[null,null,null,null,null,null,null,null,null,null,null,null,null,null,null,null,null,null,null,null,null,null,null,null,null,null,null,null,null,null,null,null,null,null,{"$f":"SUMPRODUCT((U620='Comparación Alternativas'!$Z$5:$Z$246)*('Comparación Alternativas'!$AA$5:$AA$246=Alternativas!V620)*('Comparación Alternativas'!$AV$5:$AV$246))","v":0}]
[null,null,null,null,null,null,null,null,null,null,null,null,null,null,null,null,null,null,null,null,null,null,null,null,null,null,null,null,null,null,null,null,null,null,{"$f":"SUMPRODUCT((U621='Comparación Alternativas'!$Z$5:$Z$246)*('Comparación Alternativas'!$AA$5:$AA$246=Alternativas!V621)*('Comparación Alternativas'!$AV$5:$AV$246))","v":0}]
[null,null,null,null,null,null,null,null,null,null,null,null,null,null,null,null,null,null,null,null,null,null,null,null,null,null,null,null,null,null,null,null,null,null,{"$f":"SUMPRODUCT((U622='Comparación Alternativas'!$Z$5:$Z$246)*('Comparación Alternativas'!$AA$5:$AA$246=Alternativas!V622)*('Comparación Alternativas'!$AV$5:$AV$246))","v":0}]
[null,null,null,null,null,null,null,null,null,null,null,null,null,null,null,null,null,null,null,null,null,null,null,null,null,null,null,null,null,null,null,null,null,null,{"$f":"SUMPRODUCT((U623='Comparación Alternativas'!$Z$5:$Z$246)*('Comparación Alternativas'!$AA$5:$AA$246=Alternativas!V623)*('Comparación Alternativas'!$AV$5:$AV$246))","v":0}]
[null,null,null,null,null,null,null,null,null,null,null,null,null,null,null,null,null,null,null,null,null,null,null,null,null,null,null,null,null,null,null,null,null,null,{"$f":"SUMPRODUCT((U624='Comparación Alternativas'!$Z$5:$Z$246)*('Comparación Alternativas'!$AA$5:$AA$246=Alternativas!V624)*('Comparación Alternativas'!$AV$5:$AV$246))","v":0}]
[null,null,null,null,null,null,null,null,null,null,null,null,null,null,null,null,null,null,null,null,null,null,null,null,null,null,null,null,null,null,null,null,null,null,{"$f":"SUMPRODUCT((U625='Comparación Alternativas'!$Z$5:$Z$246)*('Comparación Alternativas'!$AA$5:$AA$246=Alternativas!V625)*('Comparación Alternativas'!$AV$5:$AV$246))","v":0}]
[null,null,null,null,null,null,null,null,null,null,null,null,null,null,null,null,null,null,null,null,null,null,null,null,null,null,null,null,null,null,null,null,null,null,{"$f":"SUMPRODUCT((U626='Comparación Alternativas'!$Z$5:$Z$246)*('Comparación Alternativas'!$AA$5:$AA$246=Alternativas!V626)*('Comparación Alternativas'!$AV$5:$AV$246))","v":0}]
[null,null,null,null,null,null,null,null,null,null,null,null,null,null,null,null,null,null,null,null,null,null,null,null,null,null,null,null,null,null,null,null,null,null,{"$f":"SUMPRODUCT((U627='Comparación Alternativas'!$Z$5:$Z$246)*('Comparación Alternativas'!$AA$5:$AA$246=Alternativas!V627)*('Comparación Alternativas'!$AV$5:$AV$246))","v":0}]
[null,null,null,null,null,null,null,null,null,null,null,null,null,null,null,null,null,null,null,null,null,null,null,null,null,null,null,null,null,null,null,null,null,null,{"$f":"SUMPRODUCT((U628='Comparación Alternativas'!$Z$5:$Z$246)*('Comparación Alternativas'!$AA$5:$AA$246=Alternativas!V628)*('Comparación Alternativas'!$AV$5:$AV$246))","v":0}]
[null,null,null,null,null,null,null,null,null,null,null,null,null,null,null,null,null,null,null,null,null,null,null,null,null,null,null,null,null,null,null,null,null,null,{"$f":"SUMPRODUCT((U629='Comparación Alternativas'!$Z$5:$Z$246)*('Comparación Alternativas'!$AA$5:$AA$246=Alternativas!V629)*('Comparación Alternativas'!$AV$5:$AV$246))","v":0}]
[null,null,null,null,null,null,null,null,null,null,null,null,null,null,null,null,null,null,null,null,null,null,null,null,null,null,null,null,null,null,null,null,null,null,{"$f":"SUMPRODUCT((U630='Comparación Alternativas'!$Z$5:$Z$246)*('Comparación Alternativas'!$AA$5:$AA$246=Alternativas!V630)*('Comparación Alternativas'!$AV$5:$AV$246))","v":0}]
[null,null,null,null,null,null,null,null,null,null,null,null,null,null,null,null,null,null,null,null,null,null,null,null,null,null,null,null,null,null,null,null,null,null,{"$f":"SUMPRODUCT((U631='Comparación Alternativas'!$Z$5:$Z$246)*('Comparación Alternativas'!$AA$5:$AA$246=Alternativas!V631)*('Comparación Alternativas'!$AV$5:$AV$246))","v":0}]
[null,null,null,null,null,null,null,null,null,null,null,null,null,null,null,null,null,null,null,null,null,null,null,null,null,null,null,null,null,null,null,null,null,null,{"$f":"SUMPRODUCT((U632='Comparación Alternativas'!$Z$5:$Z$246)*('Comparación Alternativas'!$AA$5:$AA$246=Alternativas!V632)*('Comparación Alternativas'!$AV$5:$AV$246))","v":0}]
[null,null,null,null,null,null,null,null,null,null,null,null,null,null,null,null,null,null,null,null,null,null,null,null,null,null,null,null,null,null,null,null,null,null,{"$f":"SUMPRODUCT((U633='Comparación Alternativas'!$Z$5:$Z$246)*('Comparación Alternativas'!$AA$5:$AA$246=Alternativas!V633)*('Comparación Alternativas'!$AV$5:$AV$246))","v":0}]
[null,null,null,null,null,null,null,null,null,null,null,null,null,null,null,null,null,null,null,null,null,null,null,null,null,null,null,null,null,null,null,null,null,null,{"$f":"SUMPRODUCT((U634='Comparación Alternativas'!$Z$5:$Z$246)*('Comparación Alternativas'!$AA$5:$AA$246=Alternativas!V634)*('Comparación Alternativas'!$AV$5:$AV$246))","v":0}]
[null,null,null,null,null,null,null,null,null,null,null,null,null,null,null,null,null,null,null,null,null,null,null,null,null,null,null,null,null,null,null,null,null,null,{"$f":"SUMPRODUCT((U635='Comparación Alternativas'!$Z$5:$Z$246)*('Comparación Alternativas'!$AA$5:$AA$246=Alternativas!V635)*('Comparación Alternativas'!$AV$5:$AV$246))","v":0}]
[null,null,null,null,null,null,null,null,null,null,null,null,null,null,null,null,null,null,null,null,null,null,null,null,null,null,null,null,null,null,null,null,null,null,{"$f":"SUMPRODUCT((U636='Comparación Alternativas'!$Z$5:$Z$246)*('Comparación Alternativas'!$AA$5:$AA$246=Alternativas!V636)*('Comparación Alternativas'!$AV$5:$AV$246))","v":0}]
[null,null,null,null,null,null,null,null,null,null,null,null,null,null,null,null,null,null,null,null,null,null,null,null,null,null,null,null,null,null,null,null,null,null,{"$f":"SUMPRODUCT((U637='Comparación Alternativas'!$Z$5:$Z$246)*('Comparación Alternativas'!$AA$5:$AA$246=Alternativas!V637)*('Comparación Alternativas'!$AV$5:$AV$246))","v":0}]
[null,null,null,null,null,null,null,null,null,null,null,null,null,null,null,null,null,null,null,null,null,null,null,null,null,null,null,null,null,null,null,null,null,null,{"$f":"SUMPRODUCT((U638='Comparación Alternativas'!$Z$5:$Z$246)*('Comparación Alternativas'!$AA$5:$AA$246=Alternativas!V638)*('Comparación Alternativas'!$AV$5:$AV$246))","v":0}]
[null,null,null,null,null,null,null,null,null,null,null,null,null,null,null,null,null,null,null,null,null,null,null,null,null,null,null,null,null,null,null,null,null,null,{"$f":"SUMPRODUCT((U639='Comparación Alternativas'!$Z$5:$Z$246)*('Comparación Alternativas'!$AA$5:$AA$246=Alternativas!V639)*('Comparación Alternativas'!$AV$5:$AV$246))","v":0}]
[null,null,null,null,null,null,null,null,null,null,null,null,null,null,null,null,null,null,null,null,null,null,null,null,null,null,null,null,null,null,null,null,null,null,{"$f":"SUMPRODUCT((U640='Comparación Alternativas'!$Z$5:$Z$246)*('Comparación Alternativas'!$AA$5:$AA$246=Alternativas!V640)*('Comparación Alternativas'!$AV$5:$AV$246))","v":0}]
[null,null,null,null,null,null,null,null,null,null,null,null,null,null,null,null,null,null,null,null,null,null,null,null,null,null,null,null,null,null,null,null,null,null,{"$f":"SUMPRODUCT((U641='Comparación Alternativas'!$Z$5:$Z$246)*('Comparación Alternativas'!$AA$5:$AA$246=Alternativas!V641)*('Comparación Alternativas'!$AV$5:$AV$246))","v":0}]
[null,null,null,null,null,null,null,null,null,null,null,null,null,null,null,null,null,null,null,null,null,null,null,null,null,null,null,null,null,null,null,null,null,null,{"$f":"SUMPRODUCT((U642='Comparación Alternativas'!$Z$5:$Z$246)*('Comparación Alternativas'!$AA$5:$AA$246=Alternativas!V642)*('Comparación Alternativas'!$AV$5:$AV$246))","v":0}]
[null,null,null,null,null,null,null,null,null,null,null,null,null,null,null,null,null,null,null,null,null,null,null,null,null,null,null,null,null,null,null,null,null,null,{"$f":"SUMPRODUCT((U643='Comparación Alternativas'!$Z$5:$Z$246)*('Comparación Alternativas'!$AA$5:$AA$246=Alternativas!V643)*('Comparación Alternativas'!$AV$5:$AV$246))","v":0}]
[null,null,null,null,null,null,null,null,null,null,null,null,null,null,null,null,null,null,null,null,null,null,null,null,null,null,null,null,null,null,null,null,null,null,{"$f":"SUMPRODUCT((U644='Comparación Alternativas'!$Z$5:$Z$246)*('Comparación Alternativas'!$AA$5:$AA$246=Alternativas!V644)*('Comparación Alternativas'!$AV$5:$AV$246))","v":0}]
[null,null,null,null,null,null,null,null,null,null,null,null,null,null,null,null,null,null,null,null,null,null,null,null,null,null,null,null,null,null,null,null,null,null,{"$f":"SUMPRODUCT((U645='Comparación Alternativas'!$Z$5:$Z$246)*('Comparación Alternativas'!$AA$5:$AA$246=Alternativas!V645)*('Comparación Alternativas'!$AV$5:$AV$246))","v":0}]
[null,null,null,null,null,null,null,null,null,null,null,null,null,null,null,null,null,null,null,null,null,null,null,null,null,null,null,null,null,null,null,null,null,null,{"$f":"SUMPRODUCT((U646='Comparación Alternativas'!$Z$5:$Z$246)*('Comparación Alternativas'!$AA$5:$AA$246=Alternativas!V646)*('Comparación Alternativas'!$AV$5:$AV$246))","v":0}]
[null,null,null,null,null,null,null,null,null,null,null,null,null,null,null,null,null,null,null,null,null,null,null,null,null,null,null,null,null,null,null,null,null,null,{"$f":"SUMPRODUCT((U647='Comparación Alternativas'!$Z$5:$Z$246)*('Comparación Alternativas'!$AA$5:$AA$246=Alternativas!V647)*('Comparación Alternativas'!$AV$5:$AV$246))","v":0}]
[null,null,null,null,null,null,null,null,null,null,null,null,null,null,null,null,null,null,null,null,null,null,null,null,null,null,null,null,null,null,null,null,null,null,{"$f":"SUMPRODUCT((U648='Comparación Alternativas'!$Z$5:$Z$246)*('Comparación Alternativas'!$AA$5:$AA$246=Alternativas!V648)*('Comparación Alternativas'!$AV$5:$AV$246))","v":0}]
[null,null,null,null,null,null,null,null,null,null,null,null,null,null,null,null,null,null,null,null,null,null,null,null,null,null,null,null,null,null,null,null,null,null,{"$f":"SUMPRODUCT((U649='Comparación Alternativas'!$Z$5:$Z$246)*('Comparación Alternativas'!$AA$5:$AA$246=Alternativas!V649)*('Comparación Alternativas'!$AV$5:$AV$246))","v":0}]
[null,null,null,null,null,null,null,null,null,null,null,null,null,null,null,null,null,null,null,null,null,null,null,null,null,null,null,null,null,null,null,null,null,null,{"$f":"SUMPRODUCT((U650='Comparación Alternativas'!$Z$5:$Z$246)*('Comparación Alternativas'!$AA$5:$AA$246=Alternativas!V650)*('Comparación Alternativas'!$AV$5:$AV$246))","v":0}]
[null,null,null,null,null,null,null,null,null,null,null,null,null,null,null,null,null,null,null,null,null,null,null,null,null,null,null,null,null,null,null,null,null,null,{"$f":"SUMPRODUCT((U651='Comparación Alternativas'!$Z$5:$Z$246)*('Comparación Alternativas'!$AA$5:$AA$246=Alternativas!V651)*('Comparación Alternativas'!$AV$5:$AV$246))","v":0}]
[null,null,null,null,null,null,null,null,null,null,null,null,null,null,null,null,null,null,null,null,null,null,null,null,null,null,null,null,null,null,null,null,null,null,{"$f":"SUMPRODUCT((U652='Comparación Alternativas'!$Z$5:$Z$246)*('Comparación Alternativas'!$AA$5:$AA$246=Alternativas!V652)*('Comparación Alternativas'!$AV$5:$AV$246))","v":0}]
[null,null,null,null,null,null,null,null,null,null,null,null,null,null,null,null,null,null,null,null,null,null,null,null,null,null,null,null,null,null,null,null,null,null,{"$f":"SUMPRODUCT((U653='Comparación Alternativas'!$Z$5:$Z$246)*('Comparación Alternativas'!$AA$5:$AA$246=Alternativas!V653)*('Comparación Alternativas'!$AV$5:$AV$246))","v":0}]
[null,null,null,null,null,null,null,null,null,null,null,null,null,null,null,null,null,null,null,null,null,null,null,null,null,null,null,null,null,null,null,null,null,null,{"$f":"SUMPRODUCT((U654='Comparación Alternativas'!$Z$5:$Z$246)*('Comparación Alternativas'!$AA$5:$AA$246=Alternativas!V654)*('Comparación Alternativas'!$AV$5:$AV$246))","v":0}]
[null,null,null,null,null,null,null,null,null,null,null,null,null,null,null,null,null,null,null,null,null,null,null,null,null,null,null,null,null,null,null,null,null,null,{"$f":"SUMPRODUCT((U655='Comparación Alternativas'!$Z$5:$Z$246)*('Comparación Alternativas'!$AA$5:$AA$246=Alternativas!V655)*('Comparación Alternativas'!$AV$5:$AV$246))","v":0}]
[null,null,null,null,null,null,null,null,null,null,null,null,null,null,null,null,null,null,null,null,null,null,null,null,null,null,null,null,null,null,null,null,null,null,{"$f":"SUMPRODUCT((U656='Comparación Alternativas'!$Z$5:$Z$246)*('Comparación Alternativas'!$AA$5:$AA$246=Alternativas!V656)*('Comparación Alternativas'!$AV$5:$AV$246))","v":0}]
[null,null,null,null,null,null,null,null,null,null,null,null,null,null,null,null,null,null,null,null,null,null,null,null,null,null,null,null,null,null,null,null,null,null,{"$f":"SUMPRODUCT((U657='Comparación Alternativas'!$Z$5:$Z$246)*('Comparación Alternativas'!$AA$5:$AA$246=Alternativas!V657)*('Comparación Alternativas'!$AV$5:$AV$246))","v":0}]
[null,null,null,null,null,null,null,null,null,null,null,null,null,null,null,null,null,null,null,null,null,null,null,null,null,null,null,null,null,null,null,null,null,null,{"$f":"SUMPRODUCT((U658='Comparación Alternativas'!$Z$5:$Z$246)*('Comparación Alternativas'!$AA$5:$AA$246=Alternativas!V658)*('Comparación Alternativas'!$AV$5:$AV$246))","v":0}]
[null,null,null,null,null,null,null,null,null,null,null,null,null,null,null,null,null,null,null,null,null,null,null,null,null,null,null,null,null,null,null,null,null,null,{"$f":"SUMPRODUCT((U659='Comparación Alternativas'!$Z$5:$Z$246)*('Comparación Alternativas'!$AA$5:$AA$246=Alternativas!V659)*('Comparación Alternativas'!$AV$5:$AV$246))","v":0}]
[null,null,null,null,null,null,null,null,null,null,null,null,null,null,null,null,null,null,null,null,null,null,null,null,null,null,null,null,null,null,null,null,null,null,{"$f":"SUMPRODUCT((U660='Comparación Alternativas'!$Z$5:$Z$246)*('Comparación Alternativas'!$AA$5:$AA$246=Alternativas!V660)*('Comparación Alternativas'!$AV$5:$AV$246))","v":0}]
[null,null,null,null,null,null,null,null,null,null,null,null,null,null,null,null,null,null,null,null,null,null,null,null,null,null,null,null,null,null,null,null,null,null,{"$f":"SUMPRODUCT((U661='Comparación Alternativas'!$Z$5:$Z$246)*('Comparación Alternativas'!$AA$5:$AA$246=Alternativas!V661)*('Comparación Alternativas'!$AV$5:$AV$246))","v":0}]
[null,null,null,null,null,null,null,null,null,null,null,null,null,null,null,null,null,null,null,null,null,null,null,null,null,null,null,null,null,null,null,null,null,null,{"$f":"SUMPRODUCT((U662='Comparación Alternativas'!$Z$5:$Z$246)*('Comparación Alternativas'!$AA$5:$AA$246=Alternativas!V662)*('Comparación Alternativas'!$AV$5:$AV$246))","v":0}]
[null,null,null,null,null,null,null,null,null,null,null,null,null,null,null,null,null,null,null,null,null,null,null,null,null,null,null,null,null,null,null,null,null,null,{"$f":"SUMPRODUCT((U663='Comparación Alternativas'!$Z$5:$Z$246)*('Comparación Alternativas'!$AA$5:$AA$246=Alternativas!V663)*('Comparación Alternativas'!$AV$5:$AV$246))","v":0}]
[null,null,null,null,null,null,null,null,null,null,null,null,null,null,null,null,null,null,null,null,null,null,null,null,null,null,null,null,null,null,null,null,null,null,{"$f":"SUMPRODUCT((U664='Comparación Alternativas'!$Z$5:$Z$246)*('Comparación Alternativas'!$AA$5:$AA$246=Alternativas!V664)*('Comparación Alternativas'!$AV$5:$AV$246))","v":0}]
[null,null,null,null,null,null,null,null,null,null,null,null,null,null,null,null,null,null,null,null,null,null,null,null,null,null,null,null,null,null,null,null,null,null,{"$f":"SUMPRODUCT((U665='Comparación Alternativas'!$Z$5:$Z$246)*('Comparación Alternativas'!$AA$5:$AA$246=Alternativas!V665)*('Comparación Alternativas'!$AV$5:$AV$246))","v":0}]
[null,null,null,null,null,null,null,null,null,null,null,null,null,null,null,null,null,null,null,null,null,null,null,null,null,null,null,null,null,null,null,null,null,null,{"$f":"SUMPRODUCT((U666='Comparación Alternativas'!$Z$5:$Z$246)*('Comparación Alternativas'!$AA$5:$AA$246=Alternativas!V666)*('Comparación Alternativas'!$AV$5:$AV$246))","v":0}]
[null,null,null,null,null,null,null,null,null,null,null,null,null,null,null,null,null,null,null,null,null,null,null,null,null,null,null,null,null,null,null,null,null,null,{"$f":"SUMPRODUCT((U667='Comparación Alternativas'!$Z$5:$Z$246)*('Comparación Alternativas'!$AA$5:$AA$246=Alternativas!V667)*('Comparación Alternativas'!$AV$5:$AV$246))","v":0}]
[null,null,null,null,null,null,null,null,null,null,null,null,null,null,null,null,null,null,null,null,null,null,null,null,null,null,null,null,null,null,null,null,null,null,{"$f":"SUMPRODUCT((U668='Comparación Alternativas'!$Z$5:$Z$246)*('Comparación Alternativas'!$AA$5:$AA$246=Alternativas!V668)*('Comparación Alternativas'!$AV$5:$AV$246))","v":0}]
[null,null,null,null,null,null,null,null,null,null,null,null,null,null,null,null,null,null,null,null,null,null,null,null,null,null,null,null,null,null,null,null,null,null,{"$f":"SUMPRODUCT((U669='Comparación Alternativas'!$Z$5:$Z$246)*('Comparación Alternativas'!$AA$5:$AA$246=Alternativas!V669)*('Comparación Alternativas'!$AV$5:$AV$246))","v":0}]
[null,null,null,null,null,null,null,null,null,null,null,null,null,null,null,null,null,null,null,null,null,null,null,null,null,null,null,null,null,null,null,null,null,null,{"$f":"SUMPRODUCT((U670='Comparación Alternativas'!$Z$5:$Z$246)*('Comparación Alternativas'!$AA$5:$AA$246=Alternativas!V670)*('Comparación Alternativas'!$AV$5:$AV$246))","v":0}]
[null,null,null,null,null,null,null,null,null,null,null,null,null,null,null,null,null,null,null,null,null,null,null,null,null,null,null,null,null,null,null,null,null,null,{"$f":"SUMPRODUCT((U671='Comparación Alternativas'!$Z$5:$Z$246)*('Comparación Alternativas'!$AA$5:$AA$246=Alternativas!V671)*('Comparación Alternativas'!$AV$5:$AV$246))","v":0}]
[null,null,null,null,null,null,null,null,null,null,null,null,null,null,null,null,null,null,null,null,null,null,null,null,null,null,null,null,null,null,null,null,null,null,{"$f":"SUMPRODUCT((U672='Comparación Alternativas'!$Z$5:$Z$246)*('Comparación Alternativas'!$AA$5:$AA$246=Alternativas!V672)*('Comparación Alternativas'!$AV$5:$AV$246))","v":0}]
[null,null,null,null,null,null,null,null,null,null,null,null,null,null,null,null,null,null,null,null,null,null,null,null,null,null,null,null,null,null,null,null,null,null,{"$f":"SUMPRODUCT((U673='Comparación Alternativas'!$Z$5:$Z$246)*('Comparación Alternativas'!$AA$5:$AA$246=Alternativas!V673)*('Comparación Alternativas'!$AV$5:$AV$246))","v":0}]
[null,null,null,null,null,null,null,null,null,null,null,null,null,null,null,null,null,null,null,null,null,null,null,null,null,null,null,null,null,null,null,null,null,null,{"$f":"SUMPRODUCT((U674='Comparación Alternativas'!$Z$5:$Z$246)*('Comparación Alternativas'!$AA$5:$AA$246=Alternativas!V674)*('Comparación Alternativas'!$AV$5:$AV$246))","v":0}]
[null,null,null,null,null,null,null,null,null,null,null,null,null,null,null,null,null,null,null,null,null,null,null,null,null,null,null,null,null,null,null,null,null,null,{"$f":"SUMPRODUCT((U675='Comparación Alternativas'!$Z$5:$Z$246)*('Comparación Alternativas'!$AA$5:$AA$246=Alternativas!V675)*('Comparación Alternativas'!$AV$5:$AV$246))","v":0}]
[null,null,null,null,null,null,null,null,null,null,null,null,null,null,null,null,null,null,null,null,null,null,null,null,null,null,null,null,null,null,null,null,null,null,{"$f":"SUMPRODUCT((U676='Comparación Alternativas'!$Z$5:$Z$246)*('Comparación Alternativas'!$AA$5:$AA$246=Alternativas!V676)*('Comparación Alternativas'!$AV$5:$AV$246))","v":0}]
[null,null,null,null,null,null,null,null,null,null,null,null,null,null,null,null,null,null,null,null,null,null,null,null,null,null,null,null,null,null,null,null,null,null,{"$f":"SUMPRODUCT((U677='Comparación Alternativas'!$Z$5:$Z$246)*('Comparación Alternativas'!$AA$5:$AA$246=Alternativas!V677)*('Comparación Alternativas'!$AV$5:$AV$246))","v":0}]
[null,null,null,null,null,null,null,null,null,null,null,null,null,null,null,null,null,null,null,null,null,null,null,null,null,null,null,null,null,null,null,null,null,null,{"$f":"SUMPRODUCT((U678='Comparación Alternativas'!$Z$5:$Z$246)*('Comparación Alternativas'!$AA$5:$AA$246=Alternativas!V678)*('Comparación Alternativas'!$AV$5:$AV$246))","v":0}]
[null,null,null,null,null,null,null,null,null,null,null,null,null,null,null,null,null,null,null,null,null,null,null,null,null,null,null,null,null,null,null,null,null,null,{"$f":"SUMPRODUCT((U679='Comparación Alternativas'!$Z$5:$Z$246)*('Comparación Alternativas'!$AA$5:$AA$246=Alternativas!V679)*('Comparación Alternativas'!$AV$5:$AV$246))","v":0}]
[null,null,null,null,null,null,null,null,null,null,null,null,null,null,null,null,null,null,null,null,null,null,null,null,null,null,null,null,null,null,null,null,null,null,{"$f":"SUMPRODUCT((U680='Comparación Alternativas'!$Z$5:$Z$246)*('Comparación Alternativas'!$AA$5:$AA$246=Alternativas!V680)*('Comparación Alternativas'!$AV$5:$AV$246))","v":0}]
[null,null,null,null,null,null,null,null,null,null,null,null,null,null,null,null,null,null,null,null,null,null,null,null,null,null,null,null,null,null,null,null,null,null,{"$f":"SUMPRODUCT((U681='Comparación Alternativas'!$Z$5:$Z$246)*('Comparación Alternativas'!$AA$5:$AA$246=Alternativas!V681)*('Comparación Alternativas'!$AV$5:$AV$246))","v":0}]
[null,null,null,null,null,null,null,null,null,null,null,null,null,null,null,null,null,null,null,null,null,null,null,null,null,null,null,null,null,null,null,null,null,null,{"$f":"SUMPRODUCT((U682='Comparación Alternativas'!$Z$5:$Z$246)*('Comparación Alternativas'!$AA$5:$AA$246=Alternativas!V682)*('Comparación Alternativas'!$AV$5:$AV$246))","v":0}]
[null,null,null,null,null,null,null,null,null,null,null,null,null,null,null,null,null,null,null,null,null,null,null,null,null,null,null,null,null,null,null,null,null,null,{"$f":"SUMPRODUCT((U683='Comparación Alternativas'!$Z$5:$Z$246)*('Comparación Alternativas'!$AA$5:$AA$246=Alternativas!V683)*('Comparación Alternativas'!$AV$5:$AV$246))","v":0}]
[null,null,null,null,null,null,null,null,null,null,null,null,null,null,null,null,null,null,null,null,null,null,null,null,null,null,null,null,null,null,null,null,null,null,{"$f":"SUMPRODUCT((U684='Comparación Alternativas'!$Z$5:$Z$246)*('Comparación Alternativas'!$AA$5:$AA$246=Alternativas!V684)*('Comparación Alternativas'!$AV$5:$AV$246))","v":0}]
[null,null,null,null,null,null,null,null,null,null,null,null,null,null,null,null,null,null,null,null,null,null,null,null,null,null,null,null,null,null,null,null,null,null,{"$f":"SUMPRODUCT((U685='Comparación Alternativas'!$Z$5:$Z$246)*('Comparación Alternativas'!$AA$5:$AA$246=Alternativas!V685)*('Comparación Alternativas'!$AV$5:$AV$246))","v":0}]
[null,null,null,null,null,null,null,null,null,null,null,null,null,null,null,null,null,null,null,null,null,null,null,null,null,null,null,null,null,null,null,null,null,null,{"$f":"SUMPRODUCT((U686='Comparación Alternativas'!$Z$5:$Z$246)*('Comparación Alternativas'!$AA$5:$AA$246=Alternativas!V686)*('Comparación Alternativas'!$AV$5:$AV$246))","v":0}]
[null,null,null,null,null,null,null,null,null,null,null,null,null,null,null,null,null,null,null,null,null,null,null,null,null,null,null,null,null,null,null,null,null,null,{"$f":"SUMPRODUCT((U687='Comparación Alternativas'!$Z$5:$Z$246)*('Comparación Alternativas'!$AA$5:$AA$246=Alternativas!V687)*('Comparación Alternativas'!$AV$5:$AV$246))","v":0}]
[null,null,null,null,null,null,null,null,null,null,null,null,null,null,null,null,null,null,null,null,null,null,null,null,null,null,null,null,null,null,null,null,null,null,{"$f":"SUMPRODUCT((U688='Comparación Alternativas'!$Z$5:$Z$246)*('Comparación Alternativas'!$AA$5:$AA$246=Alternativas!V688)*('Comparación Alternativas'!$AV$5:$AV$246))","v":0}]
[null,null,null,null,null,null,null,null,null,null,null,null,null,null,null,null,null,null,null,null,null,null,null,null,null,null,null,null,null,null,null,null,null,null,{"$f":"SUMPRODUCT((U689='Comparación Alternativas'!$Z$5:$Z$246)*('Comparación Alternativas'!$AA$5:$AA$246=Alternativas!V689)*('Comparación Alternativas'!$AV$5:$AV$246))","v":0}]
[null,null,null,null,null,null,null,null,null,null,null,null,null,null,null,null,null,null,null,null,null,null,null,null,null,null,null,null,null,null,null,null,null,null,{"$f":"SUMPRODUCT((U690='Comparación Alternativas'!$Z$5:$Z$246)*('Comparación Alternativas'!$AA$5:$AA$246=Alternativas!V690)*('Comparación Alternativas'!$AV$5:$AV$246))","v":0}]
[null,null,null,null,null,null,null,null,null,null,null,null,null,null,null,null,null,null,null,null,null,null,null,null,null,null,null,null,null,null,null,null,null,null,{"$f":"SUMPRODUCT((U691='Comparación Alternativas'!$Z$5:$Z$246)*('Comparación Alternativas'!$AA$5:$AA$246=Alternativas!V691)*('Comparación Alternativas'!$AV$5:$AV$246))","v":0}]
[null,null,null,null,null,null,null,null,null,null,null,null,null,null,null,null,null,null,null,null,null,null,null,null,null,null,null,null,null,null,null,null,null,null,{"$f":"SUMPRODUCT((U692='Comparación Alternativas'!$Z$5:$Z$246)*('Comparación Alternativas'!$AA$5:$AA$246=Alternativas!V692)*('Comparación Alternativas'!$AV$5:$AV$246))","v":0}]
[null,null,null,null,null,null,null,null,null,null,null,null,null,null,null,null,null,null,null,null,null,null,null,null,null,null,null,null,null,null,null,null,null,null,{"$f":"SUMPRODUCT((U693='Comparación Alternativas'!$Z$5:$Z$246)*('Comparación Alternativas'!$AA$5:$AA$246=Alternativas!V693)*('Comparación Alternativas'!$AV$5:$AV$246))","v":0}]
[null,null,null,null,null,null,null,null,null,null,null,null,null,null,null,null,null,null,null,null,null,null,null,null,null,null,null,null,null,null,null,null,null,null,{"$f":"SUMPRODUCT((U694='Comparación Alternativas'!$Z$5:$Z$246)*('Comparación Alternativas'!$AA$5:$AA$246=Alternativas!V694)*('Comparación Alternativas'!$AV$5:$AV$246))","v":0}]
[null,null,null,null,null,null,null,null,null,null,null,null,null,null,null,null,null,null,null,null,null,null,null,null,null,null,null,null,null,null,null,null,null,null,{"$f":"SUMPRODUCT((U695='Comparación Alternativas'!$Z$5:$Z$246)*('Comparación Alternativas'!$AA$5:$AA$246=Alternativas!V695)*('Comparación Alternativas'!$AV$5:$AV$246))","v":0}]
[null,null,null,null,null,null,null,null,null,null,null,null,null,null,null,null,null,null,null,null,null,null,null,null,null,null,null,null,null,null,null,null,null,null,{"$f":"SUMPRODUCT((U696='Comparación Alternativas'!$Z$5:$Z$246)*('Comparación Alternativas'!$AA$5:$AA$246=Alternativas!V696)*('Comparación Alternativas'!$AV$5:$AV$246))","v":0}]
[null,null,null,null,null,null,null,null,null,null,null,null,null,null,null,null,null,null,null,null,null,null,null,null,null,null,null,null,null,null,null,null,null,null,{"$f":"SUMPRODUCT((U697='Comparación Alternativas'!$Z$5:$Z$246)*('Comparación Alternativas'!$AA$5:$AA$246=Alternativas!V697)*('Comparación Alternativas'!$AV$5:$AV$246))","v":0}]
[null,null,null,null,null,null,null,null,null,null,null,null,null,null,null,null,null,null,null,null,null,null,null,null,null,null,null,null,null,null,null,null,null,null,{"$f":"SUMPRODUCT((U698='Comparación Alternativas'!$Z$5:$Z$246)*('Comparación Alternativas'!$AA$5:$AA$246=Alternativas!V698)*('Comparación Alternativas'!$AV$5:$AV$246))","v":0}]
[null,null,null,null,null,null,null,null,null,null,null,null,null,null,null,null,null,null,null,null,null,null,null,null,null,null,null,null,null,null,null,null,null,null,{"$f":"SUMPRODUCT((U699='Comparación Alternativas'!$Z$5:$Z$246)*('Comparación Alternativas'!$AA$5:$AA$246=Alternativas!V699)*('Comparación Alternativas'!$AV$5:$AV$246))","v":0}]
[null,null,null,null,null,null,null,null,null,null,null,null,null,null,null,null,null,null,null,null,null,null,null,null,null,null,null,null,null,null,null,null,null,null,{"$f":"SUMPRODUCT((U700='Comparación Alternativas'!$Z$5:$Z$246)*('Comparación Alternativas'!$AA$5:$AA$246=Alternativas!V700)*('Comparación Alternativas'!$AV$5:$AV$246))","v":0}]
[null,null,null,null,null,null,null,null,null,null,null,null,null,null,null,null,null,null,null,null,null,null,null,null,null,null,null,null,null,null,null,null,null,null,{"$f":"SUMPRODUCT((U701='Comparación Alternativas'!$Z$5:$Z$246)*('Comparación Alternativas'!$AA$5:$AA$246=Alternativas!V701)*('Comparación Alternativas'!$AV$5:$AV$246))","v":0}]
[null,null,null,null,null,null,null,null,null,null,null,null,null,null,null,null,null,null,null,null,null,null,null,null,null,null,null,null,null,null,null,null,null,null,{"$f":"SUMPRODUCT((U702='Comparación Alternativas'!$Z$5:$Z$246)*('Comparación Alternativas'!$AA$5:$AA$246=Alternativas!V702)*('Comparación Alternativas'!$AV$5:$AV$246))","v":0}]
[null,null,null,null,null,null,null,null,null,null,null,null,null,null,null,null,null,null,null,null,null,null,null,null,null,null,null,null,null,null,null,null,null,null,{"$f":"SUMPRODUCT((U703='Comparación Alternativas'!$Z$5:$Z$246)*('Comparación Alternativas'!$AA$5:$AA$246=Alternativas!V703)*('Comparación Alternativas'!$AV$5:$AV$246))","v":0}]
[null,null,null,null,null,null,null,null,null,null,null,null,null,null,null,null,null,null,null,null,null,null,null,null,null,null,null,null,null,null,null,null,null,null,{"$f":"SUMPRODUCT((U704='Comparación Alternativas'!$Z$5:$Z$246)*('Comparación Alternativas'!$AA$5:$AA$246=Alternativas!V704)*('Comparación Alternativas'!$AV$5:$AV$246))","v":0}]
[null,null,null,null,null,null,null,null,null,null,null,null,null,null,null,null,null,null,null,null,null,null,null,null,null,null,null,null,null,null,null,null,null,null,{"$f":"SUMPRODUCT((U705='Comparación Alternativas'!$Z$5:$Z$246)*('Comparación Alternativas'!$AA$5:$AA$246=Alternativas!V705)*('Comparación Alternativas'!$AV$5:$AV$246))","v":0}]
[null,null,null,null,null,null,null,null,null,null,null,null,null,null,null,null,null,null,null,null,null,null,null,null,null,null,null,null,null,null,null,null,null,null,{"$f":"SUMPRODUCT((U706='Comparación Alternativas'!$Z$5:$Z$246)*('Comparación Alternativas'!$AA$5:$AA$246=Alternativas!V706)*('Comparación Alternativas'!$AV$5:$AV$246))","v":0}]
[null,null,null,null,null,null,null,null,null,null,null,null,null,null,null,null,null,null,null,null,null,null,null,null,null,null,null,null,null,null,null,null,null,null,{"$f":"SUMPRODUCT((U707='Comparación Alternativas'!$Z$5:$Z$246)*('Comparación Alternativas'!$AA$5:$AA$246=Alternativas!V707)*('Comparación Alternativas'!$AV$5:$AV$246))","v":0}]
[null,null,null,null,null,null,null,null,null,null,null,null,null,null,null,null,null,null,null,null,null,null,null,null,null,null,null,null,null,null,null,null,null,null,{"$f":"SUMPRODUCT((U708='Comparación Alternativas'!$Z$5:$Z$246)*('Comparación Alternativas'!$AA$5:$AA$246=Alternativas!V708)*('Comparación Alternativas'!$AV$5:$AV$246))","v":0}]
[null,null,null,null,null,null,null,null,null,null,null,null,null,null,null,null,null,null,null,null,null,null,null,null,null,null,null,null,null,null,null,null,null,null,{"$f":"SUMPRODUCT((U709='Comparación Alternativas'!$Z$5:$Z$246)*('Comparación Alternativas'!$AA$5:$AA$246=Alternativas!V709)*('Comparación Alternativas'!$AV$5:$AV$246))","v":0}]
[null,null,null,null,null,null,null,null,null,null,null,null,null,null,null,null,null,null,null,null,null,null,null,null,null,null,null,null,null,null,null,null,null,null,{"$f":"SUMPRODUCT((U710='Comparación Alternativas'!$Z$5:$Z$246)*('Comparación Alternativas'!$AA$5:$AA$246=Alternativas!V710)*('Comparación Alternativas'!$AV$5:$AV$246))","v":0}]
[null,null,null,null,null,null,null,null,null,null,null,null,null,null,null,null,null,null,null,null,null,null,null,null,null,null,null,null,null,null,null,null,null,null,{"$f":"SUMPRODUCT((U711='Comparación Alternativas'!$Z$5:$Z$246)*('Comparación Alternativas'!$AA$5:$AA$246=Alternativas!V711)*('Comparación Alternativas'!$AV$5:$AV$246))","v":0}]
[null,null,null,null,null,null,null,null,null,null,null,null,null,null,null,null,null,null,null,null,null,null,null,null,null,null,null,null,null,null,null,null,null,null,{"$f":"SUMPRODUCT((U712='Comparación Alternativas'!$Z$5:$Z$246)*('Comparación Alternativas'!$AA$5:$AA$246=Alternativas!V712)*('Comparación Alternativas'!$AV$5:$AV$246))","v":0}]
[null,null,null,null,null,null,null,null,null,null,null,null,null,null,null,null,null,null,null,null,null,null,null,null,null,null,null,null,null,null,null,null,null,null,{"$f":"SUMPRODUCT((U713='Comparación Alternativas'!$Z$5:$Z$246)*('Comparación Alternativas'!$AA$5:$AA$246=Alternativas!V713)*('Comparación Alternativas'!$AV$5:$AV$246))","v":0}]
[null,null,null,null,null,null,null,null,null,null,null,null,null,null,null,null,null,null,null,null,null,null,null,null,null,null,null,null,null,null,null,null,null,null,{"$f":"SUMPRODUCT((U714='Comparación Alternativas'!$Z$5:$Z$246)*('Comparación Alternativas'!$AA$5:$AA$246=Alternativas!V714)*('Comparación Alternativas'!$AV$5:$AV$246))","v":0}]
[null,null,null,null,null,null,null,null,null,null,null,null,null,null,null,null,null,null,null,null,null,null,null,null,null,null,null,null,null,null,null,null,null,null,{"$f":"SUMPRODUCT((U715='Comparación Alternativas'!$Z$5:$Z$246)*('Comparación Alternativas'!$AA$5:$AA$246=Alternativas!V715)*('Comparación Alternativas'!$AV$5:$AV$246))","v":0}]
[null,null,null,null,null,null,null,null,null,null,null,null,null,null,null,null,null,null,null,null,null,null,null,null,null,null,null,null,null,null,null,null,null,null,{"$f":"SUMPRODUCT((U716='Comparación Alternativas'!$Z$5:$Z$246)*('Comparación Alternativas'!$AA$5:$AA$246=Alternativas!V716)*('Comparación Alternativas'!$AV$5:$AV$246))","v":0}]
[null,null,null,null,null,null,null,null,null,null,null,null,null,null,null,null,null,null,null,null,null,null,null,null,null,null,null,null,null,null,null,null,null,null,{"$f":"SUMPRODUCT((U717='Comparación Alternativas'!$Z$5:$Z$246)*('Comparación Alternativas'!$AA$5:$AA$246=Alternativas!V717)*('Comparación Alternativas'!$AV$5:$AV$246))","v":0}]
[null,null,null,null,null,null,null,null,null,null,null,null,null,null,null,null,null,null,null,null,null,null,null,null,null,null,null,null,null,null,null,null,null,null,{"$f":"SUMPRODUCT((U718='Comparación Alternativas'!$Z$5:$Z$246)*('Comparación Alternativas'!$AA$5:$AA$246=Alternativas!V718)*('Comparación Alternativas'!$AV$5:$AV$246))","v":0}]
[null,null,null,null,null,null,null,null,null,null,null,null,null,null,null,null,null,null,null,null,null,null,null,null,null,null,null,null,null,null,null,null,null,null,{"$f":"SUMPRODUCT((U719='Comparación Alternativas'!$Z$5:$Z$246)*('Comparación Alternativas'!$AA$5:$AA$246=Alternativas!V719)*('Comparación Alternativas'!$AV$5:$AV$246))","v":0}]
[null,null,null,null,null,null,null,null,null,null,null,null,null,null,null,null,null,null,null,null,null,null,null,null,null,null,null,null,null,null,null,null,null,null,{"$f":"SUMPRODUCT((U720='Comparación Alternativas'!$Z$5:$Z$246)*('Comparación Alternativas'!$AA$5:$AA$246=Alternativas!V720)*('Comparación Alternativas'!$AV$5:$AV$246))","v":0}]
[null,null,null,null,null,null,null,null,null,null,null,null,null,null,null,null,null,null,null,null,null,null,null,null,null,null,null,null,null,null,null,null,null,null,{"$f":"SUMPRODUCT((U721='Comparación Alternativas'!$Z$5:$Z$246)*('Comparación Alternativas'!$AA$5:$AA$246=Alternativas!V721)*('Comparación Alternativas'!$AV$5:$AV$246))","v":0}]
[null,null,null,null,null,null,null,null,null,null,null,null,null,null,null,null,null,null,null,null,null,null,null,null,null,null,null,null,null,null,null,null,null,null,{"$f":"SUMPRODUCT((U722='Comparación Alternativas'!$Z$5:$Z$246)*('Comparación Alternativas'!$AA$5:$AA$246=Alternativas!V722)*('Comparación Alternativas'!$AV$5:$AV$246))","v":0}]
[null,null,null,null,null,null,null,null,null,null,null,null,null,null,null,null,null,null,null,null,null,null,null,null,null,null,null,null,null,null,null,null,null,null,{"$f":"SUMPRODUCT((U723='Comparación Alternativas'!$Z$5:$Z$246)*('Comparación Alternativas'!$AA$5:$AA$246=Alternativas!V723)*('Comparación Alternativas'!$AV$5:$AV$246))","v":0}]
[null,null,null,null,null,null,null,null,null,null,null,null,null,null,null,null,null,null,null,null,null,null,null,null,null,null,null,null,null,null,null,null,null,null,{"$f":"SUMPRODUCT((U724='Comparación Alternativas'!$Z$5:$Z$246)*('Comparación Alternativas'!$AA$5:$AA$246=Alternativas!V724)*('Comparación Alternativas'!$AV$5:$AV$246))","v":0}]
[null,null,null,null,null,null,null,null,null,null,null,null,null,null,null,null,null,null,null,null,null,null,null,null,null,null,null,null,null,null,null,null,null,null,{"$f":"SUMPRODUCT((U725='Comparación Alternativas'!$Z$5:$Z$246)*('Comparación Alternativas'!$AA$5:$AA$246=Alternativas!V725)*('Comparación Alternativas'!$AV$5:$AV$246))","v":0}]
[null,null,null,null,null,null,null,null,null,null,null,null,null,null,null,null,null,null,null,null,null,null,null,null,null,null,null,null,null,null,null,null,null,null,{"$f":"SUMPRODUCT((U726='Comparación Alternativas'!$Z$5:$Z$246)*('Comparación Alternativas'!$AA$5:$AA$246=Alternativas!V726)*('Comparación Alternativas'!$AV$5:$AV$246))","v":0}]
[null,null,null,null,null,null,null,null,null,null,null,null,null,null,null,null,null,null,null,null,null,null,null,null,null,null,null,null,null,null,null,null,null,null,{"$f":"SUMPRODUCT((U727='Comparación Alternativas'!$Z$5:$Z$246)*('Comparación Alternativas'!$AA$5:$AA$246=Alternativas!V727)*('Comparación Alternativas'!$AV$5:$AV$246))","v":0}]
[null,null,null,null,null,null,null,null,null,null,null,null,null,null,null,null,null,null,null,null,null,null,null,null,null,null,null,null,null,null,null,null,null,null,{"$f":"SUMPRODUCT((U728='Comparación Alternativas'!$Z$5:$Z$246)*('Comparación Alternativas'!$AA$5:$AA$246=Alternativas!V728)*('Comparación Alternativas'!$AV$5:$AV$246))","v":0}]
[null,null,null,null,null,null,null,null,null,null,null,null,null,null,null,null,null,null,null,null,null,null,null,null,null,null,null,null,null,null,null,null,null,null,{"$f":"SUMPRODUCT((U729='Comparación Alternativas'!$Z$5:$Z$246)*('Comparación Alternativas'!$AA$5:$AA$246=Alternativas!V729)*('Comparación Alternativas'!$AV$5:$AV$246))","v":0}]
[null,null,null,null,null,null,null,null,null,null,null,null,null,null,null,null,null,null,null,null,null,null,null,null,null,null,null,null,null,null,null,null,null,null,{"$f":"SUMPRODUCT((U730='Comparación Alternativas'!$Z$5:$Z$246)*('Comparación Alternativas'!$AA$5:$AA$246=Alternativas!V730)*('Comparación Alternativas'!$AV$5:$AV$246))","v":0}]
[null,null,null,null,null,null,null,null,null,null,null,null,null,null,null,null,null,null,null,null,null,null,null,null,null,null,null,null,null,null,null,null,null,null,{"$f":"SUMPRODUCT((U731='Comparación Alternativas'!$Z$5:$Z$246)*('Comparación Alternativas'!$AA$5:$AA$246=Alternativas!V731)*('Comparación Alternativas'!$AV$5:$AV$246))","v":0}]
[null,null,null,null,null,null,null,null,null,null,null,null,null,null,null,null,null,null,null,null,null,null,null,null,null,null,null,null,null,null,null,null,null,null,{"$f":"SUMPRODUCT((U732='Comparación Alternativas'!$Z$5:$Z$246)*('Comparación Alternativas'!$AA$5:$AA$246=Alternativas!V732)*('Comparación Alternativas'!$AV$5:$AV$246))","v":0}]
[null,null,null,null,null,null,null,null,null,null,null,null,null,null,null,null,null,null,null,null,null,null,null,null,null,null,null,null,null,null,null,null,null,null,{"$f":"SUMPRODUCT((U733='Comparación Alternativas'!$Z$5:$Z$246)*('Comparación Alternativas'!$AA$5:$AA$246=Alternativas!V733)*('Comparación Alternativas'!$AV$5:$AV$246))","v":0}]
[null,null,null,null,null,null,null,null,null,null,null,null,null,null,null,null,null,null,null,null,null,null,null,null,null,null,null,null,null,null,null,null,null,null,{"$f":"SUMPRODUCT((U734='Comparación Alternativas'!$Z$5:$Z$246)*('Comparación Alternativas'!$AA$5:$AA$246=Alternativas!V734)*('Comparación Alternativas'!$AV$5:$AV$246))","v":0}]
[null,null,null,null,null,null,null,null,null,null,null,null,null,null,null,null,null,null,null,null,null,null,null,null,null,null,null,null,null,null,null,null,null,null,{"$f":"SUMPRODUCT((U735='Comparación Alternativas'!$Z$5:$Z$246)*('Comparación Alternativas'!$AA$5:$AA$246=Alternativas!V735)*('Comparación Alternativas'!$AV$5:$AV$246))","v":0}]
[null,null,null,null,null,null,null,null,null,null,null,null,null,null,null,null,null,null,null,null,null,null,null,null,null,null,null,null,null,null,null,null,null,null,{"$f":"SUMPRODUCT((U736='Comparación Alternativas'!$Z$5:$Z$246)*('Comparación Alternativas'!$AA$5:$AA$246=Alternativas!V736)*('Comparación Alternativas'!$AV$5:$AV$246))","v":0}]
[null,null,null,null,null,null,null,null,null,null,null,null,null,null,null,null,null,null,null,null,null,null,null,null,null,null,null,null,null,null,null,null,null,null,{"$f":"SUMPRODUCT((U737='Comparación Alternativas'!$Z$5:$Z$246)*('Comparación Alternativas'!$AA$5:$AA$246=Alternativas!V737)*('Comparación Alternativas'!$AV$5:$AV$246))","v":0}]
[null,null,null,null,null,null,null,null,null,null,null,null,null,null,null,null,null,null,null,null,null,null,null,null,null,null,null,null,null,null,null,null,null,null,{"$f":"SUMPRODUCT((U738='Comparación Alternativas'!$Z$5:$Z$246)*('Comparación Alternativas'!$AA$5:$AA$246=Alternativas!V738)*('Comparación Alternativas'!$AV$5:$AV$246))","v":0}]
[null,null,null,null,null,null,null,null,null,null,null,null,null,null,null,null,null,null,null,null,null,null,null,null,null,null,null,null,null,null,null,null,null,null,{"$f":"SUMPRODUCT((U739='Comparación Alternativas'!$Z$5:$Z$246)*('Comparación Alternativas'!$AA$5:$AA$246=Alternativas!V739)*('Comparación Alternativas'!$AV$5:$AV$246))","v":0}]
[null,null,null,null,null,null,null,null,null,null,null,null,null,null,null,null,null,null,null,null,null,null,null,null,null,null,null,null,null,null,null,null,null,null,{"$f":"SUMPRODUCT((U740='Comparación Alternativas'!$Z$5:$Z$246)*('Comparación Alternativas'!$AA$5:$AA$246=Alternativas!V740)*('Comparación Alternativas'!$AV$5:$AV$246))","v":0}]
[null,null,null,null,null,null,null,null,null,null,null,null,null,null,null,null,null,null,null,null,null,null,null,null,null,null,null,null,null,null,null,null,null,null,{"$f":"SUMPRODUCT((U741='Comparación Alternativas'!$Z$5:$Z$246)*('Comparación Alternativas'!$AA$5:$AA$246=Alternativas!V741)*('Comparación Alternativas'!$AV$5:$AV$246))","v":0}]
[null,null,null,null,null,null,null,null,null,null,null,null,null,null,null,null,null,null,null,null,null,null,null,null,null,null,null,null,null,null,null,null,null,null,{"$f":"SUMPRODUCT((U742='Comparación Alternativas'!$Z$5:$Z$246)*('Comparación Alternativas'!$AA$5:$AA$246=Alternativas!V742)*('Comparación Alternativas'!$AV$5:$AV$246))","v":0}]
[null,null,null,null,null,null,null,null,null,null,null,null,null,null,null,null,null,null,null,null,null,null,null,null,null,null,null,null,null,null,null,null,null,null,{"$f":"SUMPRODUCT((U743='Comparación Alternativas'!$Z$5:$Z$246)*('Comparación Alternativas'!$AA$5:$AA$246=Alternativas!V743)*('Comparación Alternativas'!$AV$5:$AV$246))","v":0}]
[null,null,null,null,null,null,null,null,null,null,null,null,null,null,null,null,null,null,null,null,null,null,null,null,null,null,null,null,null,null,null,null,null,null,{"$f":"SUMPRODUCT((U744='Comparación Alternativas'!$Z$5:$Z$246)*('Comparación Alternativas'!$AA$5:$AA$246=Alternativas!V744)*('Comparación Alternativas'!$AV$5:$AV$246))","v":0}]
[null,null,null,null,null,null,null,null,null,null,null,null,null,null,null,null,null,null,null,null,null,null,null,null,null,null,null,null,null,null,null,null,null,null,{"$f":"SUMPRODUCT((U745='Comparación Alternativas'!$Z$5:$Z$246)*('Comparación Alternativas'!$AA$5:$AA$246=Alternativas!V745)*('Comparación Alternativas'!$AV$5:$AV$246))","v":0}]
[null,null,null,null,null,null,null,null,null,null,null,null,null,null,null,null,null,null,null,null,null,null,null,null,null,null,null,null,null,null,null,null,null,null,{"$f":"SUMPRODUCT((U746='Comparación Alternativas'!$Z$5:$Z$246)*('Comparación Alternativas'!$AA$5:$AA$246=Alternativas!V746)*('Comparación Alternativas'!$AV$5:$AV$246))","v":0}]
[null,null,null,null,null,null,null,null,null,null,null,null,null,null,null,null,null,null,null,null,null,null,null,null,null,null,null,null,null,null,null,null,null,null,{"$f":"SUMPRODUCT((U747='Comparación Alternativas'!$Z$5:$Z$246)*('Comparación Alternativas'!$AA$5:$AA$246=Alternativas!V747)*('Comparación Alternativas'!$AV$5:$AV$246))","v":0}]
[null,null,null,null,null,null,null,null,null,null,null,null,null,null,null,null,null,null,null,null,null,null,null,null,null,null,null,null,null,null,null,null,null,null,{"$f":"SUMPRODUCT((U748='Comparación Alternativas'!$Z$5:$Z$246)*('Comparación Alternativas'!$AA$5:$AA$246=Alternativas!V748)*('Comparación Alternativas'!$AV$5:$AV$246))","v":0}]
[null,null,null,null,null,null,null,null,null,null,null,null,null,null,null,null,null,null,null,null,null,null,null,null,null,null,null,null,null,null,null,null,null,null,{"$f":"SUMPRODUCT((U749='Comparación Alternativas'!$Z$5:$Z$246)*('Comparación Alternativas'!$AA$5:$AA$246=Alternativas!V749)*('Comparación Alternativas'!$AV$5:$AV$246))","v":0}]
[null,null,null,null,null,null,null,null,null,null,null,null,null,null,null,null,null,null,null,null,null,null,null,null,null,null,null,null,null,null,null,null,null,null,{"$f":"SUMPRODUCT((U750='Comparación Alternativas'!$Z$5:$Z$246)*('Comparación Alternativas'!$AA$5:$AA$246=Alternativas!V750)*('Comparación Alternativas'!$AV$5:$AV$246))","v":0}]
[null,null,null,null,null,null,null,null,null,null,null,null,null,null,null,null,null,null,null,null,null,null,null,null,null,null,null,null,null,null,null,null,null,null,{"$f":"SUMPRODUCT((U751='Comparación Alternativas'!$Z$5:$Z$246)*('Comparación Alternativas'!$AA$5:$AA$246=Alternativas!V751)*('Comparación Alternativas'!$AV$5:$AV$246))","v":0}]
[null,null,null,null,null,null,null,null,null,null,null,null,null,null,null,null,null,null,null,null,null,null,null,null,null,null,null,null,null,null,null,null,null,null,{"$f":"SUMPRODUCT((U752='Comparación Alternativas'!$Z$5:$Z$246)*('Comparación Alternativas'!$AA$5:$AA$246=Alternativas!V752)*('Comparación Alternativas'!$AV$5:$AV$246))","v":0}]
[null,null,null,null,null,null,null,null,null,null,null,null,null,null,null,null,null,null,null,null,null,null,null,null,null,null,null,null,null,null,null,null,null,null,{"$f":"SUMPRODUCT((U753='Comparación Alternativas'!$Z$5:$Z$246)*('Comparación Alternativas'!$AA$5:$AA$246=Alternativas!V753)*('Comparación Alternativas'!$AV$5:$AV$246))","v":0}]
[null,null,null,null,null,null,null,null,null,null,null,null,null,null,null,null,null,null,null,null,null,null,null,null,null,null,null,null,null,null,null,null,null,null,{"$f":"SUMPRODUCT((U754='Comparación Alternativas'!$Z$5:$Z$246)*('Comparación Alternativas'!$AA$5:$AA$246=Alternativas!V754)*('Comparación Alternativas'!$AV$5:$AV$246))","v":0}]
[null,null,null,null,null,null,null,null,null,null,null,null,null,null,null,null,null,null,null,null,null,null,null,null,null,null,null,null,null,null,null,null,null,null,{"$f":"SUMPRODUCT((U755='Comparación Alternativas'!$Z$5:$Z$246)*('Comparación Alternativas'!$AA$5:$AA$246=Alternativas!V755)*('Comparación Alternativas'!$AV$5:$AV$246))","v":0}]
[null,null,null,null,null,null,null,null,null,null,null,null,null,null,null,null,null,null,null,null,null,null,null,null,null,null,null,null,null,null,null,null,null,null,{"$f":"SUMPRODUCT((U756='Comparación Alternativas'!$Z$5:$Z$246)*('Comparación Alternativas'!$AA$5:$AA$246=Alternativas!V756)*('Comparación Alternativas'!$AV$5:$AV$246))","v":0}]
[null,null,null,null,null,null,null,null,null,null,null,null,null,null,null,null,null,null,null,null,null,null,null,null,null,null,null,null,null,null,null,null,null,null,{"$f":"SUMPRODUCT((U757='Comparación Alternativas'!$Z$5:$Z$246)*('Comparación Alternativas'!$AA$5:$AA$246=Alternativas!V757)*('Comparación Alternativas'!$AV$5:$AV$246))","v":0}]
[null,null,null,null,null,null,null,null,null,null,null,null,null,null,null,null,null,null,null,null,null,null,null,null,null,null,null,null,null,null,null,null,null,null,{"$f":"SUMPRODUCT((U758='Comparación Alternativas'!$Z$5:$Z$246)*('Comparación Alternativas'!$AA$5:$AA$246=Alternativas!V758)*('Comparación Alternativas'!$AV$5:$AV$246))","v":0}]
[null,null,null,null,null,null,null,null,null,null,null,null,null,null,null,null,null,null,null,null,null,null,null,null,null,null,null,null,null,null,null,null,null,null,{"$f":"SUMPRODUCT((U759='Comparación Alternativas'!$Z$5:$Z$246)*('Comparación Alternativas'!$AA$5:$AA$246=Alternativas!V759)*('Comparación Alternativas'!$AV$5:$AV$246))","v":0}]
[null,null,null,null,null,null,null,null,null,null,null,null,null,null,null,null,null,null,null,null,null,null,null,null,null,null,null,null,null,null,null,null,null,null,{"$f":"SUMPRODUCT((U760='Comparación Alternativas'!$Z$5:$Z$246)*('Comparación Alternativas'!$AA$5:$AA$246=Alternativas!V760)*('Comparación Alternativas'!$AV$5:$AV$246))","v":0}]
[null,null,null,null,null,null,null,null,null,null,null,null,null,null,null,null,null,null,null,null,null,null,null,null,null,null,null,null,null,null,null,null,null,null,{"$f":"SUMPRODUCT((U761='Comparación Alternativas'!$Z$5:$Z$246)*('Comparación Alternativas'!$AA$5:$AA$246=Alternativas!V761)*('Comparación Alternativas'!$AV$5:$AV$246))","v":0}]
[null,null,null,null,null,null,null,null,null,null,null,null,null,null,null,null,null,null,null,null,null,null,null,null,null,null,null,null,null,null,null,null,null,null,{"$f":"SUMPRODUCT((U762='Comparación Alternativas'!$Z$5:$Z$246)*('Comparación Alternativas'!$AA$5:$AA$246=Alternativas!V762)*('Comparación Alternativas'!$AV$5:$AV$246))","v":0}]
[null,null,null,null,null,null,null,null,null,null,null,null,null,null,null,null,null,null,null,null,null,null,null,null,null,null,null,null,null,null,null,null,null,null,{"$f":"SUMPRODUCT((U763='Comparación Alternativas'!$Z$5:$Z$246)*('Comparación Alternativas'!$AA$5:$AA$246=Alternativas!V763)*('Comparación Alternativas'!$AV$5:$AV$246))","v":0}]
[null,null,null,null,null,null,null,null,null,null,null,null,null,null,null,null,null,null,null,null,null,null,null,null,null,null,null,null,null,null,null,null,null,null,{"$f":"SUMPRODUCT((U764='Comparación Alternativas'!$Z$5:$Z$246)*('Comparación Alternativas'!$AA$5:$AA$246=Alternativas!V764)*('Comparación Alternativas'!$AV$5:$AV$246))","v":0}]
[null,null,null,null,null,null,null,null,null,null,null,null,null,null,null,null,null,null,null,null,null,null,null,null,null,null,null,null,null,null,null,null,null,null,{"$f":"SUMPRODUCT((U765='Comparación Alternativas'!$Z$5:$Z$246)*('Comparación Alternativas'!$AA$5:$AA$246=Alternativas!V765)*('Comparación Alternativas'!$AV$5:$AV$246))","v":0}]
[null,null,null,null,null,null,null,null,null,null,null,null,null,null,null,null,null,null,null,null,null,null,null,null,null,null,null,null,null,null,null,null,null,null,{"$f":"SUMPRODUCT((U766='Comparación Alternativas'!$Z$5:$Z$246)*('Comparación Alternativas'!$AA$5:$AA$246=Alternativas!V766)*('Comparación Alternativas'!$AV$5:$AV$246))","v":0}]
[null,null,null,null,null,null,null,null,null,null,null,null,null,null,null,null,null,null,null,null,null,null,null,null,null,null,null,null,null,null,null,null,null,null,{"$f":"SUMPRODUCT((U767='Comparación Alternativas'!$Z$5:$Z$246)*('Comparación Alternativas'!$AA$5:$AA$246=Alternativas!V767)*('Comparación Alternativas'!$AV$5:$AV$246))","v":0}]
[null,null,null,null,null,null,null,null,null,null,null,null,null,null,null,null,null,null,null,null,null,null,null,null,null,null,null,null,null,null,null,null,null,null,{"$f":"SUMPRODUCT((U768='Comparación Alternativas'!$Z$5:$Z$246)*('Comparación Alternativas'!$AA$5:$AA$246=Alternativas!V768)*('Comparación Alternativas'!$AV$5:$AV$246))","v":0}]
[null,null,null,null,null,null,null,null,null,null,null,null,null,null,null,null,null,null,null,null,null,null,null,null,null,null,null,null,null,null,null,null,null,null,{"$f":"SUMPRODUCT((U769='Comparación Alternativas'!$Z$5:$Z$246)*('Comparación Alternativas'!$AA$5:$AA$246=Alternativas!V769)*('Comparación Alternativas'!$AV$5:$AV$246))","v":0}]
[null,null,null,null,null,null,null,null,null,null,null,null,null,null,null,null,null,null,null,null,null,null,null,null,null,null,null,null,null,null,null,null,null,null,{"$f":"SUMPRODUCT((U770='Comparación Alternativas'!$Z$5:$Z$246)*('Comparación Alternativas'!$AA$5:$AA$246=Alternativas!V770)*('Comparación Alternativas'!$AV$5:$AV$246))","v":0}]
[null,null,null,null,null,null,null,null,null,null,null,null,null,null,null,null,null,null,null,null,null,null,null,null,null,null,null,null,null,null,null,null,null,null,{"$f":"SUMPRODUCT((U771='Comparación Alternativas'!$Z$5:$Z$246)*('Comparación Alternativas'!$AA$5:$AA$246=Alternativas!V771)*('Comparación Alternativas'!$AV$5:$AV$246))","v":0}]
[null,null,null,null,null,null,null,null,null,null,null,null,null,null,null,null,null,null,null,null,null,null,null,null,null,null,null,null,null,null,null,null,null,null,{"$f":"SUMPRODUCT((U772='Comparación Alternativas'!$Z$5:$Z$246)*('Comparación Alternativas'!$AA$5:$AA$246=Alternativas!V772)*('Comparación Alternativas'!$AV$5:$AV$246))","v":0}]
[null,null,null,null,null,null,null,null,null,null,null,null,null,null,null,null,null,null,null,null,null,null,null,null,null,null,null,null,null,null,null,null,null,null,{"$f":"SUMPRODUCT((U773='Comparación Alternativas'!$Z$5:$Z$246)*('Comparación Alternativas'!$AA$5:$AA$246=Alternativas!V773)*('Comparación Alternativas'!$AV$5:$AV$246))","v":0}]
[null,null,null,null,null,null,null,null,null,null,null,null,null,null,null,null,null,null,null,null,null,null,null,null,null,null,null,null,null,null,null,null,null,null,{"$f":"SUMPRODUCT((U774='Comparación Alternativas'!$Z$5:$Z$246)*('Comparación Alternativas'!$AA$5:$AA$246=Alternativas!V774)*('Comparación Alternativas'!$AV$5:$AV$246))","v":0}]
[null,null,null,null,null,null,null,null,null,null,null,null,null,null,null,null,null,null,null,null,null,null,null,null,null,null,null,null,null,null,null,null,null,null,{"$f":"SUMPRODUCT((U775='Comparación Alternativas'!$Z$5:$Z$246)*('Comparación Alternativas'!$AA$5:$AA$246=Alternativas!V775)*('Comparación Alternativas'!$AV$5:$AV$246))","v":0}]
[null,null,null,null,null,null,null,null,null,null,null,null,null,null,null,null,null,null,null,null,null,null,null,null,null,null,null,null,null,null,null,null,null,null,{"$f":"SUMPRODUCT((U776='Comparación Alternativas'!$Z$5:$Z$246)*('Comparación Alternativas'!$AA$5:$AA$246=Alternativas!V776)*('Comparación Alternativas'!$AV$5:$AV$246))","v":0}]
[null,null,null,null,null,null,null,null,null,null,null,null,null,null,null,null,null,null,null,null,null,null,null,null,null,null,null,null,null,null,null,null,null,null,{"$f":"SUMPRODUCT((U777='Comparación Alternativas'!$Z$5:$Z$246)*('Comparación Alternativas'!$AA$5:$AA$246=Alternativas!V777)*('Comparación Alternativas'!$AV$5:$AV$246))","v":0}]
[null,null,null,null,null,null,null,null,null,null,null,null,null,null,null,null,null,null,null,null,null,null,null,null,null,null,null,null,null,null,null,null,null,null,{"$f":"SUMPRODUCT((U778='Comparación Alternativas'!$Z$5:$Z$246)*('Comparación Alternativas'!$AA$5:$AA$246=Alternativas!V778)*('Comparación Alternativas'!$AV$5:$AV$246))","v":0}]
[null,null,null,null,null,null,null,null,null,null,null,null,null,null,null,null,null,null,null,null,null,null,null,null,null,null,null,null,null,null,null,null,null,null,{"$f":"SUMPRODUCT((U779='Comparación Alternativas'!$Z$5:$Z$246)*('Comparación Alternativas'!$AA$5:$AA$246=Alternativas!V779)*('Comparación Alternativas'!$AV$5:$AV$246))","v":0}]
[null,null,null,null,null,null,null,null,null,null,null,null,null,null,null,null,null,null,null,null,null,null,null,null,null,null,null,null,null,null,null,null,null,null,{"$f":"SUMPRODUCT((U780='Comparación Alternativas'!$Z$5:$Z$246)*('Comparación Alternativas'!$AA$5:$AA$246=Alternativas!V780)*('Comparación Alternativas'!$AV$5:$AV$246))","v":0}]
[null,null,null,null,null,null,null,null,null,null,null,null,null,null,null,null,null,null,null,null,null,null,null,null,null,null,null,null,null,null,null,null,null,null,{"$f":"SUMPRODUCT((U781='Comparación Alternativas'!$Z$5:$Z$246)*('Comparación Alternativas'!$AA$5:$AA$246=Alternativas!V781)*('Comparación Alternativas'!$AV$5:$AV$246))","v":0}]
[null,null,null,null,null,null,null,null,null,null,null,null,null,null,null,null,null,null,null,null,null,null,null,null,null,null,null,null,null,null,null,null,null,null,{"$f":"SUMPRODUCT((U782='Comparación Alternativas'!$Z$5:$Z$246)*('Comparación Alternativas'!$AA$5:$AA$246=Alternativas!V782)*('Comparación Alternativas'!$AV$5:$AV$246))","v":0}]
[null,null,null,null,null,null,null,null,null,null,null,null,null,null,null,null,null,null,null,null,null,null,null,null,null,null,null,null,null,null,null,null,null,null,{"$f":"SUMPRODUCT((U783='Comparación Alternativas'!$Z$5:$Z$246)*('Comparación Alternativas'!$AA$5:$AA$246=Alternativas!V783)*('Comparación Alternativas'!$AV$5:$AV$246))","v":0}]
[null,null,null,null,null,null,null,null,null,null,null,null,null,null,null,null,null,null,null,null,null,null,null,null,null,null,null,null,null,null,null,null,null,null,{"$f":"SUMPRODUCT((U784='Comparación Alternativas'!$Z$5:$Z$246)*('Comparación Alternativas'!$AA$5:$AA$246=Alternativas!V784)*('Comparación Alternativas'!$AV$5:$AV$246))","v":0}]
[null,null,null,null,null,null,null,null,null,null,null,null,null,null,null,null,null,null,null,null,null,null,null,null,null,null,null,null,null,null,null,null,null,null,{"$f":"SUMPRODUCT((U785='Comparación Alternativas'!$Z$5:$Z$246)*('Comparación Alternativas'!$AA$5:$AA$246=Alternativas!V785)*('Comparación Alternativas'!$AV$5:$AV$246))","v":0}]
[null,null,null,null,null,null,null,null,null,null,null,null,null,null,null,null,null,null,null,null,null,null,null,null,null,null,null,null,null,null,null,null,null,null,{"$f":"SUMPRODUCT((U786='Comparación Alternativas'!$Z$5:$Z$246)*('Comparación Alternativas'!$AA$5:$AA$246=Alternativas!V786)*('Comparación Alternativas'!$AV$5:$AV$246))","v":0}]
[null,null,null,null,null,null,null,null,null,null,null,null,null,null,null,null,null,null,null,null,null,null,null,null,null,null,null,null,null,null,null,null,null,null,{"$f":"SUMPRODUCT((U787='Comparación Alternativas'!$Z$5:$Z$246)*('Comparación Alternativas'!$AA$5:$AA$246=Alternativas!V787)*('Comparación Alternativas'!$AV$5:$AV$246))","v":0}]
[null,null,null,null,null,null,null,null,null,null,null,null,null,null,null,null,null,null,null,null,null,null,null,null,null,null,null,null,null,null,null,null,null,null,{"$f":"SUMPRODUCT((U788='Comparación Alternativas'!$Z$5:$Z$246)*('Comparación Alternativas'!$AA$5:$AA$246=Alternativas!V788)*('Comparación Alternativas'!$AV$5:$AV$246))","v":0}]
[null,null,null,null,null,null,null,null,null,null,null,null,null,null,null,null,null,null,null,null,null,null,null,null,null,null,null,null,null,null,null,null,null,null,{"$f":"SUMPRODUCT((U789='Comparación Alternativas'!$Z$5:$Z$246)*('Comparación Alternativas'!$AA$5:$AA$246=Alternativas!V789)*('Comparación Alternativas'!$AV$5:$AV$246))","v":0}]
[null,null,null,null,null,null,null,null,null,null,null,null,null,null,null,null,null,null,null,null,null,null,null,null,null,null,null,null,null,null,null,null,null,null,{"$f":"SUMPRODUCT((U790='Comparación Alternativas'!$Z$5:$Z$246)*('Comparación Alternativas'!$AA$5:$AA$246=Alternativas!V790)*('Comparación Alternativas'!$AV$5:$AV$246))","v":0}]
[null,null,null,null,null,null,null,null,null,null,null,null,null,null,null,null,null,null,null,null,null,null,null,null,null,null,null,null,null,null,null,null,null,null,{"$f":"SUMPRODUCT((U791='Comparación Alternativas'!$Z$5:$Z$246)*('Comparación Alternativas'!$AA$5:$AA$246=Alternativas!V791)*('Comparación Alternativas'!$AV$5:$AV$246))","v":0}]
[null,null,null,null,null,null,null,null,null,null,null,null,null,null,null,null,null,null,null,null,null,null,null,null,null,null,null,null,null,null,null,null,null,null,{"$f":"SUMPRODUCT((U792='Comparación Alternativas'!$Z$5:$Z$246)*('Comparación Alternativas'!$AA$5:$AA$246=Alternativas!V792)*('Comparación Alternativas'!$AV$5:$AV$246))","v":0}]
[null,null,null,null,null,null,null,null,null,null,null,null,null,null,null,null,null,null,null,null,null,null,null,null,null,null,null,null,null,null,null,null,null,null,{"$f":"SUMPRODUCT((U793='Comparación Alternativas'!$Z$5:$Z$246)*('Comparación Alternativas'!$AA$5:$AA$246=Alternativas!V793)*('Comparación Alternativas'!$AV$5:$AV$246))","v":0}]
[null,null,null,null,null,null,null,null,null,null,null,null,null,null,null,null,null,null,null,null,null,null,null,null,null,null,null,null,null,null,null,null,null,null,{"$f":"SUMPRODUCT((U794='Comparación Alternativas'!$Z$5:$Z$246)*('Comparación Alternativas'!$AA$5:$AA$246=Alternativas!V794)*('Comparación Alternativas'!$AV$5:$AV$246))","v":0}]
[null,null,null,null,null,null,null,null,null,null,null,null,null,null,null,null,null,null,null,null,null,null,null,null,null,null,null,null,null,null,null,null,null,null,{"$f":"SUMPRODUCT((U795='Comparación Alternativas'!$Z$5:$Z$246)*('Comparación Alternativas'!$AA$5:$AA$246=Alternativas!V795)*('Comparación Alternativas'!$AV$5:$AV$246))","v":0}]
[null,null,null,null,null,null,null,null,null,null,null,null,null,null,null,null,null,null,null,null,null,null,null,null,null,null,null,null,null,null,null,null,null,null,{"$f":"SUMPRODUCT((U796='Comparación Alternativas'!$Z$5:$Z$246)*('Comparación Alternativas'!$AA$5:$AA$246=Alternativas!V796)*('Comparación Alternativas'!$AV$5:$AV$246))","v":0}]
[null,null,null,null,null,null,null,null,null,null,null,null,null,null,null,null,null,null,null,null,null,null,null,null,null,null,null,null,null,null,null,null,null,null,{"$f":"SUMPRODUCT((U797='Comparación Alternativas'!$Z$5:$Z$246)*('Comparación Alternativas'!$AA$5:$AA$246=Alternativas!V797)*('Comparación Alternativas'!$AV$5:$AV$246))","v":0}]
[null,null,null,null,null,null,null,null,null,null,null,null,null,null,null,null,null,null,null,null,null,null,null,null,null,null,null,null,null,null,null,null,null,null,{"$f":"SUMPRODUCT((U798='Comparación Alternativas'!$Z$5:$Z$246)*('Comparación Alternativas'!$AA$5:$AA$246=Alternativas!V798)*('Comparación Alternativas'!$AV$5:$AV$246))","v":0}]
[null,null,null,null,null,null,null,null,null,null,null,null,null,null,null,null,null,null,null,null,null,null,null,null,null,null,null,null,null,null,null,null,null,null,{"$f":"SUMPRODUCT((U799='Comparación Alternativas'!$Z$5:$Z$246)*('Comparación Alternativas'!$AA$5:$AA$246=Alternativas!V799)*('Comparación Alternativas'!$AV$5:$AV$246))","v":0}]
[null,null,null,null,null,null,null,null,null,null,null,null,null,null,null,null,null,null,null,null,null,null,null,null,null,null,null,null,null,null,null,null,null,null,{"$f":"SUMPRODUCT((U800='Comparación Alternativas'!$Z$5:$Z$246)*('Comparación Alternativas'!$AA$5:$AA$246=Alternativas!V800)*('Comparación Alternativas'!$AV$5:$AV$246))","v":0}]
[null,null,null,null,null,null,null,null,null,null,null,null,null,null,null,null,null,null,null,null,null,null,null,null,null,null,null,null,null,null,null,null,null,null,{"$f":"SUMPRODUCT((U801='Comparación Alternativas'!$Z$5:$Z$246)*('Comparación Alternativas'!$AA$5:$AA$246=Alternativas!V801)*('Comparación Alternativas'!$AV$5:$AV$246))","v":0}]
[null,null,null,null,null,null,null,null,null,null,null,null,null,null,null,null,null,null,null,null,null,null,null,null,null,null,null,null,null,null,null,null,null,null,{"$f":"SUMPRODUCT((U802='Comparación Alternativas'!$Z$5:$Z$246)*('Comparación Alternativas'!$AA$5:$AA$246=Alternativas!V802)*('Comparación Alternativas'!$AV$5:$AV$246))","v":0}]
[null,null,null,null,null,null,null,null,null,null,null,null,null,null,null,null,null,null,null,null,null,null,null,null,null,null,null,null,null,null,null,null,null,null,{"$f":"SUMPRODUCT((U803='Comparación Alternativas'!$Z$5:$Z$246)*('Comparación Alternativas'!$AA$5:$AA$246=Alternativas!V803)*('Comparación Alternativas'!$AV$5:$AV$246))","v":0}]
[null,null,null,null,null,null,null,null,null,null,null,null,null,null,null,null,null,null,null,null,null,null,null,null,null,null,null,null,null,null,null,null,null,null,{"$f":"SUMPRODUCT((U804='Comparación Alternativas'!$Z$5:$Z$246)*('Comparación Alternativas'!$AA$5:$AA$246=Alternativas!V804)*('Comparación Alternativas'!$AV$5:$AV$246))","v":0}]
[null,null,null,null,null,null,null,null,null,null,null,null,null,null,null,null,null,null,null,null,null,null,null,null,null,null,null,null,null,null,null,null,null,null,{"$f":"SUMPRODUCT((U805='Comparación Alternativas'!$Z$5:$Z$246)*('Comparación Alternativas'!$AA$5:$AA$246=Alternativas!V805)*('Comparación Alternativas'!$AV$5:$AV$246))","v":0}]
[null,null,null,null,null,null,null,null,null,null,null,null,null,null,null,null,null,null,null,null,null,null,null,null,null,null,null,null,null,null,null,null,null,null,{"$f":"SUMPRODUCT((U806='Comparación Alternativas'!$Z$5:$Z$246)*('Comparación Alternativas'!$AA$5:$AA$246=Alternativas!V806)*('Comparación Alternativas'!$AV$5:$AV$246))","v":0}]
[null,null,null,null,null,null,null,null,null,null,null,null,null,null,null,null,null,null,null,null,null,null,null,null,null,null,null,null,null,null,null,null,null,null,{"$f":"SUMPRODUCT((U807='Comparación Alternativas'!$Z$5:$Z$246)*('Comparación Alternativas'!$AA$5:$AA$246=Alternativas!V807)*('Comparación Alternativas'!$AV$5:$AV$246))","v":0}]
[null,null,null,null,null,null,null,null,null,null,null,null,null,null,null,null,null,null,null,null,null,null,null,null,null,null,null,null,null,null,null,null,null,null,{"$f":"SUMPRODUCT((U808='Comparación Alternativas'!$Z$5:$Z$246)*('Comparación Alternativas'!$AA$5:$AA$246=Alternativas!V808)*('Comparación Alternativas'!$AV$5:$AV$246))","v":0}]
[null,null,null,null,null,null,null,null,null,null,null,null,null,null,null,null,null,null,null,null,null,null,null,null,null,null,null,null,null,null,null,null,null,null,{"$f":"SUMPRODUCT((U809='Comparación Alternativas'!$Z$5:$Z$246)*('Comparación Alternativas'!$AA$5:$AA$246=Alternativas!V809)*('Comparación Alternativas'!$AV$5:$AV$246))","v":0}]
[null,null,null,null,null,null,null,null,null,null,null,null,null,null,null,null,null,null,null,null,null,null,null,null,null,null,null,null,null,null,null,null,null,null,{"$f":"SUMPRODUCT((U810='Comparación Alternativas'!$Z$5:$Z$246)*('Comparación Alternativas'!$AA$5:$AA$246=Alternativas!V810)*('Comparación Alternativas'!$AV$5:$AV$246))","v":0}]
[null,null,null,null,null,null,null,null,null,null,null,null,null,null,null,null,null,null,null,null,null,null,null,null,null,null,null,null,null,null,null,null,null,null,{"$f":"SUMPRODUCT((U811='Comparación Alternativas'!$Z$5:$Z$246)*('Comparación Alternativas'!$AA$5:$AA$246=Alternativas!V811)*('Comparación Alternativas'!$AV$5:$AV$246))","v":0}]
[null,null,null,null,null,null,null,null,null,null,null,null,null,null,null,null,null,null,null,null,null,null,null,null,null,null,null,null,null,null,null,null,null,null,{"$f":"SUMPRODUCT((U812='Comparación Alternativas'!$Z$5:$Z$246)*('Comparación Alternativas'!$AA$5:$AA$246=Alternativas!V812)*('Comparación Alternativas'!$AV$5:$AV$246))","v":0}]
[null,null,null,null,null,null,null,null,null,null,null,null,null,null,null,null,null,null,null,null,null,null,null,null,null,null,null,null,null,null,null,null,null,null,{"$f":"SUMPRODUCT((U813='Comparación Alternativas'!$Z$5:$Z$246)*('Comparación Alternativas'!$AA$5:$AA$246=Alternativas!V813)*('Comparación Alternativas'!$AV$5:$AV$246))","v":0}]
[null,null,null,null,null,null,null,null,null,null,null,null,null,null,null,null,null,null,null,null,null,null,null,null,null,null,null,null,null,null,null,null,null,null,{"$f":"SUMPRODUCT((U814='Comparación Alternativas'!$Z$5:$Z$246)*('Comparación Alternativas'!$AA$5:$AA$246=Alternativas!V814)*('Comparación Alternativas'!$AV$5:$AV$246))","v":0}]
[null,null,null,null,null,null,null,null,null,null,null,null,null,null,null,null,null,null,null,null,null,null,null,null,null,null,null,null,null,null,null,null,null,null,{"$f":"SUMPRODUCT((U815='Comparación Alternativas'!$Z$5:$Z$246)*('Comparación Alternativas'!$AA$5:$AA$246=Alternativas!V815)*('Comparación Alternativas'!$AV$5:$AV$246))","v":0}]
[null,null,null,null,null,null,null,null,null,null,null,null,null,null,null,null,null,null,null,null,null,null,null,null,null,null,null,null,null,null,null,null,null,null,{"$f":"SUMPRODUCT((U816='Comparación Alternativas'!$Z$5:$Z$246)*('Comparación Alternativas'!$AA$5:$AA$246=Alternativas!V816)*('Comparación Alternativas'!$AV$5:$AV$246))","v":0}]
[null,null,null,null,null,null,null,null,null,null,null,null,null,null,null,null,null,null,null,null,null,null,null,null,null,null,null,null,null,null,null,null,null,null,{"$f":"SUMPRODUCT((U817='Comparación Alternativas'!$Z$5:$Z$246)*('Comparación Alternativas'!$AA$5:$AA$246=Alternativas!V817)*('Comparación Alternativas'!$AV$5:$AV$246))","v":0}]
[null,null,null,null,null,null,null,null,null,null,null,null,null,null,null,null,null,null,null,null,null,null,null,null,null,null,null,null,null,null,null,null,null,null,{"$f":"SUMPRODUCT((U818='Comparación Alternativas'!$Z$5:$Z$246)*('Comparación Alternativas'!$AA$5:$AA$246=Alternativas!V818)*('Comparación Alternativas'!$AV$5:$AV$246))","v":0}]
[null,null,null,null,null,null,null,null,null,null,null,null,null,null,null,null,null,null,null,null,null,null,null,null,null,null,null,null,null,null,null,null,null,null,{"$f":"SUMPRODUCT((U819='Comparación Alternativas'!$Z$5:$Z$246)*('Comparación Alternativas'!$AA$5:$AA$246=Alternativas!V819)*('Comparación Alternativas'!$AV$5:$AV$246))","v":0}]
[null,null,null,null,null,null,null,null,null,null,null,null,null,null,null,null,null,null,null,null,null,null,null,null,null,null,null,null,null,null,null,null,null,null,{"$f":"SUMPRODUCT((U820='Comparación Alternativas'!$Z$5:$Z$246)*('Comparación Alternativas'!$AA$5:$AA$246=Alternativas!V820)*('Comparación Alternativas'!$AV$5:$AV$246))","v":0}]
[null,null,null,null,null,null,null,null,null,null,null,null,null,null,null,null,null,null,null,null,null,null,null,null,null,null,null,null,null,null,null,null,null,null,{"$f":"SUMPRODUCT((U821='Comparación Alternativas'!$Z$5:$Z$246)*('Comparación Alternativas'!$AA$5:$AA$246=Alternativas!V821)*('Comparación Alternativas'!$AV$5:$AV$246))","v":0}]
[null,null,null,null,null,null,null,null,null,null,null,null,null,null,null,null,null,null,null,null,null,null,null,null,null,null,null,null,null,null,null,null,null,null,{"$f":"SUMPRODUCT((U822='Comparación Alternativas'!$Z$5:$Z$246)*('Comparación Alternativas'!$AA$5:$AA$246=Alternativas!V822)*('Comparación Alternativas'!$AV$5:$AV$246))","v":0}]
[null,null,null,null,null,null,null,null,null,null,null,null,null,null,null,null,null,null,null,null,null,null,null,null,null,null,null,null,null,null,null,null,null,null,{"$f":"SUMPRODUCT((U823='Comparación Alternativas'!$Z$5:$Z$246)*('Comparación Alternativas'!$AA$5:$AA$246=Alternativas!V823)*('Comparación Alternativas'!$AV$5:$AV$246))","v":0}]
[null,null,null,null,null,null,null,null,null,null,null,null,null,null,null,null,null,null,null,null,null,null,null,null,null,null,null,null,null,null,null,null,null,null,{"$f":"SUMPRODUCT((U824='Comparación Alternativas'!$Z$5:$Z$246)*('Comparación Alternativas'!$AA$5:$AA$246=Alternativas!V824)*('Comparación Alternativas'!$AV$5:$AV$246))","v":0}]
[null,null,null,null,null,null,null,null,null,null,null,null,null,null,null,null,null,null,null,null,null,null,null,null,null,null,null,null,null,null,null,null,null,null,{"$f":"SUMPRODUCT((U825='Comparación Alternativas'!$Z$5:$Z$246)*('Comparación Alternativas'!$AA$5:$AA$246=Alternativas!V825)*('Comparación Alternativas'!$AV$5:$AV$246))","v":0}]
[null,null,null,null,null,null,null,null,null,null,null,null,null,null,null,null,null,null,null,null,null,null,null,null,null,null,null,null,null,null,null,null,null,null,{"$f":"SUMPRODUCT((U826='Comparación Alternativas'!$Z$5:$Z$246)*('Comparación Alternativas'!$AA$5:$AA$246=Alternativas!V826)*('Comparación Alternativas'!$AV$5:$AV$246))","v":0}]
[null,null,null,null,null,null,null,null,null,null,null,null,null,null,null,null,null,null,null,null,null,null,null,null,null,null,null,null,null,null,null,null,null,null,{"$f":"SUMPRODUCT((U827='Comparación Alternativas'!$Z$5:$Z$246)*('Comparación Alternativas'!$AA$5:$AA$246=Alternativas!V827)*('Comparación Alternativas'!$AV$5:$AV$246))","v":0}]
[null,null,null,null,null,null,null,null,null,null,null,null,null,null,null,null,null,null,null,null,null,null,null,null,null,null,null,null,null,null,null,null,null,null,{"$f":"SUMPRODUCT((U828='Comparación Alternativas'!$Z$5:$Z$246)*('Comparación Alternativas'!$AA$5:$AA$246=Alternativas!V828)*('Comparación Alternativas'!$AV$5:$AV$246))","v":0}]
[null,null,null,null,null,null,null,null,null,null,null,null,null,null,null,null,null,null,null,null,null,null,null,null,null,null,null,null,null,null,null,null,null,null,{"$f":"SUMPRODUCT((U829='Comparación Alternativas'!$Z$5:$Z$246)*('Comparación Alternativas'!$AA$5:$AA$246=Alternativas!V829)*('Comparación Alternativas'!$AV$5:$AV$246))","v":0}]
[null,null,null,null,null,null,null,null,null,null,null,null,null,null,null,null,null,null,null,null,null,null,null,null,null,null,null,null,null,null,null,null,null,null,{"$f":"SUMPRODUCT((U830='Comparación Alternativas'!$Z$5:$Z$246)*('Comparación Alternativas'!$AA$5:$AA$246=Alternativas!V830)*('Comparación Alternativas'!$AV$5:$AV$246))","v":0}]
[null,null,null,null,null,null,null,null,null,null,null,null,null,null,null,null,null,null,null,null,null,null,null,null,null,null,null,null,null,null,null,null,null,null,{"$f":"SUMPRODUCT((U831='Comparación Alternativas'!$Z$5:$Z$246)*('Comparación Alternativas'!$AA$5:$AA$246=Alternativas!V831)*('Comparación Alternativas'!$AV$5:$AV$246))","v":0}]
[null,null,null,null,null,null,null,null,null,null,null,null,null,null,null,null,null,null,null,null,null,null,null,null,null,null,null,null,null,null,null,null,null,null,{"$f":"SUMPRODUCT((U832='Comparación Alternativas'!$Z$5:$Z$246)*('Comparación Alternativas'!$AA$5:$AA$246=Alternativas!V832)*('Comparación Alternativas'!$AV$5:$AV$246))","v":0}]
[null,null,null,null,null,null,null,null,null,null,null,null,null,null,null,null,null,null,null,null,null,null,null,null,null,null,null,null,null,null,null,null,null,null,{"$f":"SUMPRODUCT((U833='Comparación Alternativas'!$Z$5:$Z$246)*('Comparación Alternativas'!$AA$5:$AA$246=Alternativas!V833)*('Comparación Alternativas'!$AV$5:$AV$246))","v":0}]
[null,null,null,null,null,null,null,null,null,null,null,null,null,null,null,null,null,null,null,null,null,null,null,null,null,null,null,null,null,null,null,null,null,null,{"$f":"SUMPRODUCT((U834='Comparación Alternativas'!$Z$5:$Z$246)*('Comparación Alternativas'!$AA$5:$AA$246=Alternativas!V834)*('Comparación Alternativas'!$AV$5:$AV$246))","v":0}]
[null,null,null,null,null,null,null,null,null,null,null,null,null,null,null,null,null,null,null,null,null,null,null,null,null,null,null,null,null,null,null,null,null,null,{"$f":"SUMPRODUCT((U835='Comparación Alternativas'!$Z$5:$Z$246)*('Comparación Alternativas'!$AA$5:$AA$246=Alternativas!V835)*('Comparación Alternativas'!$AV$5:$AV$246))","v":0}]
[null,null,null,null,null,null,null,null,null,null,null,null,null,null,null,null,null,null,null,null,null,null,null,null,null,null,null,null,null,null,null,null,null,null,{"$f":"SUMPRODUCT((U836='Comparación Alternativas'!$Z$5:$Z$246)*('Comparación Alternativas'!$AA$5:$AA$246=Alternativas!V836)*('Comparación Alternativas'!$AV$5:$AV$246))","v":0}]
[null,null,null,null,null,null,null,null,null,null,null,null,null,null,null,null,null,null,null,null,null,null,null,null,null,null,null,null,null,null,null,null,null,null,{"$f":"SUMPRODUCT((U837='Comparación Alternativas'!$Z$5:$Z$246)*('Comparación Alternativas'!$AA$5:$AA$246=Alternativas!V837)*('Comparación Alternativas'!$AV$5:$AV$246))","v":0}]
[null,null,null,null,null,null,null,null,null,null,null,null,null,null,null,null,null,null,null,null,null,null,null,null,null,null,null,null,null,null,null,null,null,null,{"$f":"SUMPRODUCT((U838='Comparación Alternativas'!$Z$5:$Z$246)*('Comparación Alternativas'!$AA$5:$AA$246=Alternativas!V838)*('Comparación Alternativas'!$AV$5:$AV$246))","v":0}]
[null,null,null,null,null,null,null,null,null,null,null,null,null,null,null,null,null,null,null,null,null,null,null,null,null,null,null,null,null,null,null,null,null,null,{"$f":"SUMPRODUCT((U839='Comparación Alternativas'!$Z$5:$Z$246)*('Comparación Alternativas'!$AA$5:$AA$246=Alternativas!V839)*('Comparación Alternativas'!$AV$5:$AV$246))","v":0}]
[null,null,null,null,null,null,null,null,null,null,null,null,null,null,null,null,null,null,null,null,null,null,null,null,null,null,null,null,null,null,null,null,null,null,{"$f":"SUMPRODUCT((U840='Comparación Alternativas'!$Z$5:$Z$246)*('Comparación Alternativas'!$AA$5:$AA$246=Alternativas!V840)*('Comparación Alternativas'!$AV$5:$AV$246))","v":0}]
[null,null,null,null,null,null,null,null,null,null,null,null,null,null,null,null,null,null,null,null,null,null,null,null,null,null,null,null,null,null,null,null,null,null,{"$f":"SUMPRODUCT((U841='Comparación Alternativas'!$Z$5:$Z$246)*('Comparación Alternativas'!$AA$5:$AA$246=Alternativas!V841)*('Comparación Alternativas'!$AV$5:$AV$246))","v":0}]
[null,null,null,null,null,null,null,null,null,null,null,null,null,null,null,null,null,null,null,null,null,null,null,null,null,null,null,null,null,null,null,null,null,null,{"$f":"SUMPRODUCT((U842='Comparación Alternativas'!$Z$5:$Z$246)*('Comparación Alternativas'!$AA$5:$AA$246=Alternativas!V842)*('Comparación Alternativas'!$AV$5:$AV$246))","v":0}]
[null,null,null,null,null,null,null,null,null,null,null,null,null,null,null,null,null,null,null,null,null,null,null,null,null,null,null,null,null,null,null,null,null,null,{"$f":"SUMPRODUCT((U843='Comparación Alternativas'!$Z$5:$Z$246)*('Comparación Alternativas'!$AA$5:$AA$246=Alternativas!V843)*('Comparación Alternativas'!$AV$5:$AV$246))","v":0}]
[null,null,null,null,null,null,null,null,null,null,null,null,null,null,null,null,null,null,null,null,null,null,null,null,null,null,null,null,null,null,null,null,null,null,{"$f":"SUMPRODUCT((U844='Comparación Alternativas'!$Z$5:$Z$246)*('Comparación Alternativas'!$AA$5:$AA$246=Alternativas!V844)*('Comparación Alternativas'!$AV$5:$AV$246))","v":0}]
[null,null,null,null,null,null,null,null,null,null,null,null,null,null,null,null,null,null,null,null,null,null,null,null,null,null,null,null,null,null,null,null,null,null,{"$f":"SUMPRODUCT((U845='Comparación Alternativas'!$Z$5:$Z$246)*('Comparación Alternativas'!$AA$5:$AA$246=Alternativas!V845)*('Comparación Alternativas'!$AV$5:$AV$246))","v":0}]
[null,null,null,null,null,null,null,null,null,null,null,null,null,null,null,null,null,null,null,null,null,null,null,null,null,null,null,null,null,null,null,null,null,null,{"$f":"SUMPRODUCT((U846='Comparación Alternativas'!$Z$5:$Z$246)*('Comparación Alternativas'!$AA$5:$AA$246=Alternativas!V846)*('Comparación Alternativas'!$AV$5:$AV$246))","v":0}]
[null,null,null,null,null,null,null,null,null,null,null,null,null,null,null,null,null,null,null,null,null,null,null,null,null,null,null,null,null,null,null,null,null,null,{"$f":"SUMPRODUCT((U847='Comparación Alternativas'!$Z$5:$Z$246)*('Comparación Alternativas'!$AA$5:$AA$246=Alternativas!V847)*('Comparación Alternativas'!$AV$5:$AV$246))","v":0}]
[null,null,null,null,null,null,null,null,null,null,null,null,null,null,null,null,null,null,null,null,null,null,null,null,null,null,null,null,null,null,null,null,null,null,{"$f":"SUMPRODUCT((U848='Comparación Alternativas'!$Z$5:$Z$246)*('Comparación Alternativas'!$AA$5:$AA$246=Alternativas!V848)*('Comparación Alternativas'!$AV$5:$AV$246))","v":0}]
[null,null,null,null,null,null,null,null,null,null,null,null,null,null,null,null,null,null,null,null,null,null,null,null,null,null,null,null,null,null,null,null,null,null,{"$f":"SUMPRODUCT((U849='Comparación Alternativas'!$Z$5:$Z$246)*('Comparación Alternativas'!$AA$5:$AA$246=Alternativas!V849)*('Comparación Alternativas'!$AV$5:$AV$246))","v":0}]
[null,null,null,null,null,null,null,null,null,null,null,null,null,null,null,null,null,null,null,null,null,null,null,null,null,null,null,null,null,null,null,null,null,null,{"$f":"SUMPRODUCT((U850='Comparación Alternativas'!$Z$5:$Z$246)*('Comparación Alternativas'!$AA$5:$AA$246=Alternativas!V850)*('Comparación Alternativas'!$AV$5:$AV$246))","v":0}]
[null,null,null,null,null,null,null,null,null,null,null,null,null,null,null,null,null,null,null,null,null,null,null,null,null,null,null,null,null,null,null,null,null,null,{"$f":"SUMPRODUCT((U851='Comparación Alternativas'!$Z$5:$Z$246)*('Comparación Alternativas'!$AA$5:$AA$246=Alternativas!V851)*('Comparación Alternativas'!$AV$5:$AV$246))","v":0}]
[null,null,null,null,null,null,null,null,null,null,null,null,null,null,null,null,null,null,null,null,null,null,null,null,null,null,null,null,null,null,null,null,null,null,{"$f":"SUMPRODUCT((U852='Comparación Alternativas'!$Z$5:$Z$246)*('Comparación Alternativas'!$AA$5:$AA$246=Alternativas!V852)*('Comparación Alternativas'!$AV$5:$AV$246))","v":0}]
[null,null,null,null,null,null,null,null,null,null,null,null,null,null,null,null,null,null,null,null,null,null,null,null,null,null,null,null,null,null,null,null,null,null,{"$f":"SUMPRODUCT((U853='Comparación Alternativas'!$Z$5:$Z$246)*('Comparación Alternativas'!$AA$5:$AA$246=Alternativas!V853)*('Comparación Alternativas'!$AV$5:$AV$246))","v":0}]
[null,null,null,null,null,null,null,null,null,null,null,null,null,null,null,null,null,null,null,null,null,null,null,null,null,null,null,null,null,null,null,null,null,null,{"$f":"SUMPRODUCT((U854='Comparación Alternativas'!$Z$5:$Z$246)*('Comparación Alternativas'!$AA$5:$AA$246=Alternativas!V854)*('Comparación Alternativas'!$AV$5:$AV$246))","v":0}]
[null,null,null,null,null,null,null,null,null,null,null,null,null,null,null,null,null,null,null,null,null,null,null,null,null,null,null,null,null,null,null,null,null,null,{"$f":"SUMPRODUCT((U855='Comparación Alternativas'!$Z$5:$Z$246)*('Comparación Alternativas'!$AA$5:$AA$246=Alternativas!V855)*('Comparación Alternativas'!$AV$5:$AV$246))","v":0}]
[null,null,null,null,null,null,null,null,null,null,null,null,null,null,null,null,null,null,null,null,null,null,null,null,null,null,null,null,null,null,null,null,null,null,{"$f":"SUMPRODUCT((U856='Comparación Alternativas'!$Z$5:$Z$246)*('Comparación Alternativas'!$AA$5:$AA$246=Alternativas!V856)*('Comparación Alternativas'!$AV$5:$AV$246))","v":0}]
[null,null,null,null,null,null,null,null,null,null,null,null,null,null,null,null,null,null,null,null,null,null,null,null,null,null,null,null,null,null,null,null,null,null,{"$f":"SUMPRODUCT((U857='Comparación Alternativas'!$Z$5:$Z$246)*('Comparación Alternativas'!$AA$5:$AA$246=Alternativas!V857)*('Comparación Alternativas'!$AV$5:$AV$246))","v":0}]
[null,null,null,null,null,null,null,null,null,null,null,null,null,null,null,null,null,null,null,null,null,null,null,null,null,null,null,null,null,null,null,null,null,null,{"$f":"SUMPRODUCT((U858='Comparación Alternativas'!$Z$5:$Z$246)*('Comparación Alternativas'!$AA$5:$AA$246=Alternativas!V858)*('Comparación Alternativas'!$AV$5:$AV$246))","v":0}]
[null,null,null,null,null,null,null,null,null,null,null,null,null,null,null,null,null,null,null,null,null,null,null,null,null,null,null,null,null,null,null,null,null,null,{"$f":"SUMPRODUCT((U859='Comparación Alternativas'!$Z$5:$Z$246)*('Comparación Alternativas'!$AA$5:$AA$246=Alternativas!V859)*('Comparación Alternativas'!$AV$5:$AV$246))","v":0}]
[null,null,null,null,null,null,null,null,null,null,null,null,null,null,null,null,null,null,null,null,null,null,null,null,null,null,null,null,null,null,null,null,null,null,{"$f":"SUMPRODUCT((U860='Comparación Alternativas'!$Z$5:$Z$246)*('Comparación Alternativas'!$AA$5:$AA$246=Alternativas!V860)*('Comparación Alternativas'!$AV$5:$AV$246))","v":0}]
[null,null,null,null,null,null,null,null,null,null,null,null,null,null,null,null,null,null,null,null,null,null,null,null,null,null,null,null,null,null,null,null,null,null,{"$f":"SUMPRODUCT((U861='Comparación Alternativas'!$Z$5:$Z$246)*('Comparación Alternativas'!$AA$5:$AA$246=Alternativas!V861)*('Comparación Alternativas'!$AV$5:$AV$246))","v":0}]
[null,null,null,null,null,null,null,null,null,null,null,null,null,null,null,null,null,null,null,null,null,null,null,null,null,null,null,null,null,null,null,null,null,null,{"$f":"SUMPRODUCT((U862='Comparación Alternativas'!$Z$5:$Z$246)*('Comparación Alternativas'!$AA$5:$AA$246=Alternativas!V862)*('Comparación Alternativas'!$AV$5:$AV$246))","v":0}]
[null,null,null,null,null,null,null,null,null,null,null,null,null,null,null,null,null,null,null,null,null,null,null,null,null,null,null,null,null,null,null,null,null,null,{"$f":"SUMPRODUCT((U863='Comparación Alternativas'!$Z$5:$Z$246)*('Comparación Alternativas'!$AA$5:$AA$246=Alternativas!V863)*('Comparación Alternativas'!$AV$5:$AV$246))","v":0}]
[null,null,null,null,null,null,null,null,null,null,null,null,null,null,null,null,null,null,null,null,null,null,null,null,null,null,null,null,null,null,null,null,null,null,{"$f":"SUMPRODUCT((U864='Comparación Alternativas'!$Z$5:$Z$246)*('Comparación Alternativas'!$AA$5:$AA$246=Alternativas!V864)*('Comparación Alternativas'!$AV$5:$AV$246))","v":0}]
[null,null,null,null,null,null,null,null,null,null,null,null,null,null,null,null,null,null,null,null,null,null,null,null,null,null,null,null,null,null,null,null,null,null,{"$f":"SUMPRODUCT((U865='Comparación Alternativas'!$Z$5:$Z$246)*('Comparación Alternativas'!$AA$5:$AA$246=Alternativas!V865)*('Comparación Alternativas'!$AV$5:$AV$246))","v":0}]
[null,null,null,null,null,null,null,null,null,null,null,null,null,null,null,null,null,null,null,null,null,null,null,null,null,null,null,null,null,null,null,null,null,null,{"$f":"SUMPRODUCT((U866='Comparación Alternativas'!$Z$5:$Z$246)*('Comparación Alternativas'!$AA$5:$AA$246=Alternativas!V866)*('Comparación Alternativas'!$AV$5:$AV$246))","v":0}]
[null,null,null,null,null,null,null,null,null,null,null,null,null,null,null,null,null,null,null,null,null,null,null,null,null,null,null,null,null,null,null,null,null,null,{"$f":"SUMPRODUCT((U867='Comparación Alternativas'!$Z$5:$Z$246)*('Comparación Alternativas'!$AA$5:$AA$246=Alternativas!V867)*('Comparación Alternativas'!$AV$5:$AV$246))","v":0}]
[null,null,null,null,null,null,null,null,null,null,null,null,null,null,null,null,null,null,null,null,null,null,null,null,null,null,null,null,null,null,null,null,null,null,{"$f":"SUMPRODUCT((U868='Comparación Alternativas'!$Z$5:$Z$246)*('Comparación Alternativas'!$AA$5:$AA$246=Alternativas!V868)*('Comparación Alternativas'!$AV$5:$AV$246))","v":0}]
[null,null,null,null,null,null,null,null,null,null,null,null,null,null,null,null,null,null,null,null,null,null,null,null,null,null,null,null,null,null,null,null,null,null,{"$f":"SUMPRODUCT((U869='Comparación Alternativas'!$Z$5:$Z$246)*('Comparación Alternativas'!$AA$5:$AA$246=Alternativas!V869)*('Comparación Alternativas'!$AV$5:$AV$246))","v":0}]
[null,null,null,null,null,null,null,null,null,null,null,null,null,null,null,null,null,null,null,null,null,null,null,null,null,null,null,null,null,null,null,null,null,null,{"$f":"SUMPRODUCT((U870='Comparación Alternativas'!$Z$5:$Z$246)*('Comparación Alternativas'!$AA$5:$AA$246=Alternativas!V870)*('Comparación Alternativas'!$AV$5:$AV$246))","v":0}]
[null,null,null,null,null,null,null,null,null,null,null,null,null,null,null,null,null,null,null,null,null,null,null,null,null,null,null,null,null,null,null,null,null,null,{"$f":"SUMPRODUCT((U871='Comparación Alternativas'!$Z$5:$Z$246)*('Comparación Alternativas'!$AA$5:$AA$246=Alternativas!V871)*('Comparación Alternativas'!$AV$5:$AV$246))","v":0}]
[null,null,null,null,null,null,null,null,null,null,null,null,null,null,null,null,null,null,null,null,null,null,null,null,null,null,null,null,null,null,null,null,null,null,{"$f":"SUMPRODUCT((U872='Comparación Alternativas'!$Z$5:$Z$246)*('Comparación Alternativas'!$AA$5:$AA$246=Alternativas!V872)*('Comparación Alternativas'!$AV$5:$AV$246))","v":0}]
[null,null,null,null,null,null,null,null,null,null,null,null,null,null,null,null,null,null,null,null,null,null,null,null,null,null,null,null,null,null,null,null,null,null,{"$f":"SUMPRODUCT((U873='Comparación Alternativas'!$Z$5:$Z$246)*('Comparación Alternativas'!$AA$5:$AA$246=Alternativas!V873)*('Comparación Alternativas'!$AV$5:$AV$246))","v":0}]
[null,null,null,null,null,null,null,null,null,null,null,null,null,null,null,null,null,null,null,null,null,null,null,null,null,null,null,null,null,null,null,null,null,null,{"$f":"SUMPRODUCT((U874='Comparación Alternativas'!$Z$5:$Z$246)*('Comparación Alternativas'!$AA$5:$AA$246=Alternativas!V874)*('Comparación Alternativas'!$AV$5:$AV$246))","v":0}]
[null,null,null,null,null,null,null,null,null,null,null,null,null,null,null,null,null,null,null,null,null,null,null,null,null,null,null,null,null,null,null,null,null,null,{"$f":"SUMPRODUCT((U875='Comparación Alternativas'!$Z$5:$Z$246)*('Comparación Alternativas'!$AA$5:$AA$246=Alternativas!V875)*('Comparación Alternativas'!$AV$5:$AV$246))","v":0}]
[null,null,null,null,null,null,null,null,null,null,null,null,null,null,null,null,null,null,null,null,null,null,null,null,null,null,null,null,null,null,null,null,null,null,{"$f":"SUMPRODUCT((U876='Comparación Alternativas'!$Z$5:$Z$246)*('Comparación Alternativas'!$AA$5:$AA$246=Alternativas!V876)*('Comparación Alternativas'!$AV$5:$AV$246))","v":0}]
[null,null,null,null,null,null,null,null,null,null,null,null,null,null,null,null,null,null,null,null,null,null,null,null,null,null,null,null,null,null,null,null,null,null,{"$f":"SUMPRODUCT((U877='Comparación Alternativas'!$Z$5:$Z$246)*('Comparación Alternativas'!$AA$5:$AA$246=Alternativas!V877)*('Comparación Alternativas'!$AV$5:$AV$246))","v":0}]
[null,null,null,null,null,null,null,null,null,null,null,null,null,null,null,null,null,null,null,null,null,null,null,null,null,null,null,null,null,null,null,null,null,null,{"$f":"SUMPRODUCT((U878='Comparación Alternativas'!$Z$5:$Z$246)*('Comparación Alternativas'!$AA$5:$AA$246=Alternativas!V878)*('Comparación Alternativas'!$AV$5:$AV$246))","v":0}]
[null,null,null,null,null,null,null,null,null,null,null,null,null,null,null,null,null,null,null,null,null,null,null,null,null,null,null,null,null,null,null,null,null,null,{"$f":"SUMPRODUCT((U879='Comparación Alternativas'!$Z$5:$Z$246)*('Comparación Alternativas'!$AA$5:$AA$246=Alternativas!V879)*('Comparación Alternativas'!$AV$5:$AV$246))","v":0}]
[null,null,null,null,null,null,null,null,null,null,null,null,null,null,null,null,null,null,null,null,null,null,null,null,null,null,null,null,null,null,null,null,null,null,{"$f":"SUMPRODUCT((U880='Comparación Alternativas'!$Z$5:$Z$246)*('Comparación Alternativas'!$AA$5:$AA$246=Alternativas!V880)*('Comparación Alternativas'!$AV$5:$AV$246))","v":0}]
[null,null,null,null,null,null,null,null,null,null,null,null,null,null,null,null,null,null,null,null,null,null,null,null,null,null,null,null,null,null,null,null,null,null,{"$f":"SUMPRODUCT((U881='Comparación Alternativas'!$Z$5:$Z$246)*('Comparación Alternativas'!$AA$5:$AA$246=Alternativas!V881)*('Comparación Alternativas'!$AV$5:$AV$246))","v":0}]
[null,null,null,null,null,null,null,null,null,null,null,null,null,null,null,null,null,null,null,null,null,null,null,null,null,null,null,null,null,null,null,null,null,null,{"$f":"SUMPRODUCT((U882='Comparación Alternativas'!$Z$5:$Z$246)*('Comparación Alternativas'!$AA$5:$AA$246=Alternativas!V882)*('Comparación Alternativas'!$AV$5:$AV$246))","v":0}]
[null,null,null,null,null,null,null,null,null,null,null,null,null,null,null,null,null,null,null,null,null,null,null,null,null,null,null,null,null,null,null,null,null,null,{"$f":"SUMPRODUCT((U883='Comparación Alternativas'!$Z$5:$Z$246)*('Comparación Alternativas'!$AA$5:$AA$246=Alternativas!V883)*('Comparación Alternativas'!$AV$5:$AV$246))","v":0}]
[null,null,null,null,null,null,null,null,null,null,null,null,null,null,null,null,null,null,null,null,null,null,null,null,null,null,null,null,null,null,null,null,null,null,{"$f":"SUMPRODUCT((U884='Comparación Alternativas'!$Z$5:$Z$246)*('Comparación Alternativas'!$AA$5:$AA$246=Alternativas!V884)*('Comparación Alternativas'!$AV$5:$AV$246))","v":0}]
[null,null,null,null,null,null,null,null,null,null,null,null,null,null,null,null,null,null,null,null,null,null,null,null,null,null,null,null,null,null,null,null,null,null,{"$f":"SUMPRODUCT((U885='Comparación Alternativas'!$Z$5:$Z$246)*('Comparación Alternativas'!$AA$5:$AA$246=Alternativas!V885)*('Comparación Alternativas'!$AV$5:$AV$246))","v":0}]
[null,null,null,null,null,null,null,null,null,null,null,null,null,null,null,null,null,null,null,null,null,null,null,null,null,null,null,null,null,null,null,null,null,null,{"$f":"SUMPRODUCT((U886='Comparación Alternativas'!$Z$5:$Z$246)*('Comparación Alternativas'!$AA$5:$AA$246=Alternativas!V886)*('Comparación Alternativas'!$AV$5:$AV$246))","v":0}]
[null,null,null,null,null,null,null,null,null,null,null,null,null,null,null,null,null,null,null,null,null,null,null,null,null,null,null,null,null,null,null,null,null,null,{"$f":"SUMPRODUCT((U887='Comparación Alternativas'!$Z$5:$Z$246)*('Comparación Alternativas'!$AA$5:$AA$246=Alternativas!V887)*('Comparación Alternativas'!$AV$5:$AV$246))","v":0}]
[null,null,null,null,null,null,null,null,null,null,null,null,null,null,null,null,null,null,null,null,null,null,null,null,null,null,null,null,null,null,null,null,null,null,{"$f":"SUMPRODUCT((U888='Comparación Alternativas'!$Z$5:$Z$246)*('Comparación Alternativas'!$AA$5:$AA$246=Alternativas!V888)*('Comparación Alternativas'!$AV$5:$AV$246))","v":0}]
[null,null,null,null,null,null,null,null,null,null,null,null,null,null,null,null,null,null,null,null,null,null,null,null,null,null,null,null,null,null,null,null,null,null,{"$f":"SUMPRODUCT((U889='Comparación Alternativas'!$Z$5:$Z$246)*('Comparación Alternativas'!$AA$5:$AA$246=Alternativas!V889)*('Comparación Alternativas'!$AV$5:$AV$246))","v":0}]
[null,null,null,null,null,null,null,null,null,null,null,null,null,null,null,null,null,null,null,null,null,null,null,null,null,null,null,null,null,null,null,null,null,null,{"$f":"SUMPRODUCT((U890='Comparación Alternativas'!$Z$5:$Z$246)*('Comparación Alternativas'!$AA$5:$AA$246=Alternativas!V890)*('Comparación Alternativas'!$AV$5:$AV$246))","v":0}]
[null,null,null,null,null,null,null,null,null,null,null,null,null,null,null,null,null,null,null,null,null,null,null,null,null,null,null,null,null,null,null,null,null,null,{"$f":"SUMPRODUCT((U891='Comparación Alternativas'!$Z$5:$Z$246)*('Comparación Alternativas'!$AA$5:$AA$246=Alternativas!V891)*('Comparación Alternativas'!$AV$5:$AV$246))","v":0}]
[null,null,null,null,null,null,null,null,null,null,null,null,null,null,null,null,null,null,null,null,null,null,null,null,null,null,null,null,null,null,null,null,null,null,{"$f":"SUMPRODUCT((U892='Comparación Alternativas'!$Z$5:$Z$246)*('Comparación Alternativas'!$AA$5:$AA$246=Alternativas!V892)*('Comparación Alternativas'!$AV$5:$AV$246))","v":0}]
[null,null,null,null,null,null,null,null,null,null,null,null,null,null,null,null,null,null,null,null,null,null,null,null,null,null,null,null,null,null,null,null,null,null,{"$f":"SUMPRODUCT((U893='Comparación Alternativas'!$Z$5:$Z$246)*('Comparación Alternativas'!$AA$5:$AA$246=Alternativas!V893)*('Comparación Alternativas'!$AV$5:$AV$246))","v":0}]
[null,null,null,null,null,null,null,null,null,null,null,null,null,null,null,null,null,null,null,null,null,null,null,null,null,null,null,null,null,null,null,null,null,null,{"$f":"SUMPRODUCT((U894='Comparación Alternativas'!$Z$5:$Z$246)*('Comparación Alternativas'!$AA$5:$AA$246=Alternativas!V894)*('Comparación Alternativas'!$AV$5:$AV$246))","v":0}]
[null,null,null,null,null,null,null,null,null,null,null,null,null,null,null,null,null,null,null,null,null,null,null,null,null,null,null,null,null,null,null,null,null,null,{"$f":"SUMPRODUCT((U895='Comparación Alternativas'!$Z$5:$Z$246)*('Comparación Alternativas'!$AA$5:$AA$246=Alternativas!V895)*('Comparación Alternativas'!$AV$5:$AV$246))","v":0}]
[null,null,null,null,null,null,null,null,null,null,null,null,null,null,null,null,null,null,null,null,null,null,null,null,null,null,null,null,null,null,null,null,null,null,{"$f":"SUMPRODUCT((U896='Comparación Alternativas'!$Z$5:$Z$246)*('Comparación Alternativas'!$AA$5:$AA$246=Alternativas!V896)*('Comparación Alternativas'!$AV$5:$AV$246))","v":0}]
[null,null,null,null,null,null,null,null,null,null,null,null,null,null,null,null,null,null,null,null,null,null,null,null,null,null,null,null,null,null,null,null,null,null,{"$f":"SUMPRODUCT((U897='Comparación Alternativas'!$Z$5:$Z$246)*('Comparación Alternativas'!$AA$5:$AA$246=Alternativas!V897)*('Comparación Alternativas'!$AV$5:$AV$246))","v":0}]
[null,null,null,null,null,null,null,null,null,null,null,null,null,null,null,null,null,null,null,null,null,null,null,null,null,null,null,null,null,null,null,null,null,null,{"$f":"SUMPRODUCT((U898='Comparación Alternativas'!$Z$5:$Z$246)*('Comparación Alternativas'!$AA$5:$AA$246=Alternativas!V898)*('Comparación Alternativas'!$AV$5:$AV$246))","v":0}]
[null,null,null,null,null,null,null,null,null,null,null,null,null,null,null,null,null,null,null,null,null,null,null,null,null,null,null,null,null,null,null,null,null,null,{"$f":"SUMPRODUCT((U899='Comparación Alternativas'!$Z$5:$Z$246)*('Comparación Alternativas'!$AA$5:$AA$246=Alternativas!V899)*('Comparación Alternativas'!$AV$5:$AV$246))","v":0}]
[null,null,null,null,null,null,null,null,null,null,null,null,null,null,null,null,null,null,null,null,null,null,null,null,null,null,null,null,null,null,null,null,null,null,{"$f":"SUMPRODUCT((U900='Comparación Alternativas'!$Z$5:$Z$246)*('Comparación Alternativas'!$AA$5:$AA$246=Alternativas!V900)*('Comparación Alternativas'!$AV$5:$AV$246))","v":0}]
[null,null,null,null,null,null,null,null,null,null,null,null,null,null,null,null,null,null,null,null,null,null,null,null,null,null,null,null,null,null,null,null,null,null,{"$f":"SUMPRODUCT((U901='Comparación Alternativas'!$Z$5:$Z$246)*('Comparación Alternativas'!$AA$5:$AA$246=Alternativas!V901)*('Comparación Alternativas'!$AV$5:$AV$246))","v":0}]
[null,null,null,null,null,null,null,null,null,null,null,null,null,null,null,null,null,null,null,null,null,null,null,null,null,null,null,null,null,null,null,null,null,null,{"$f":"SUMPRODUCT((U902='Comparación Alternativas'!$Z$5:$Z$246)*('Comparación Alternativas'!$AA$5:$AA$246=Alternativas!V902)*('Comparación Alternativas'!$AV$5:$AV$246))","v":0}]
[null,null,null,null,null,null,null,null,null,null,null,null,null,null,null,null,null,null,null,null,null,null,null,null,null,null,null,null,null,null,null,null,null,null,{"$f":"SUMPRODUCT((U903='Comparación Alternativas'!$Z$5:$Z$246)*('Comparación Alternativas'!$AA$5:$AA$246=Alternativas!V903)*('Comparación Alternativas'!$AV$5:$AV$246))","v":0}]
[null,null,null,null,null,null,null,null,null,null,null,null,null,null,null,null,null,null,null,null,null,null,null,null,null,null,null,null,null,null,null,null,null,null,{"$f":"SUMPRODUCT((U904='Comparación Alternativas'!$Z$5:$Z$246)*('Comparación Alternativas'!$AA$5:$AA$246=Alternativas!V904)*('Comparación Alternativas'!$AV$5:$AV$246))","v":0}]
[null,null,null,null,null,null,null,null,null,null,null,null,null,null,null,null,null,null,null,null,null,null,null,null,null,null,null,null,null,null,null,null,null,null,{"$f":"SUMPRODUCT((U905='Comparación Alternativas'!$Z$5:$Z$246)*('Comparación Alternativas'!$AA$5:$AA$246=Alternativas!V905)*('Comparación Alternativas'!$AV$5:$AV$246))","v":0}]
[null,null,null,null,null,null,null,null,null,null,null,null,null,null,null,null,null,null,null,null,null,null,null,null,null,null,null,null,null,null,null,null,null,null,{"$f":"SUMPRODUCT((U906='Comparación Alternativas'!$Z$5:$Z$246)*('Comparación Alternativas'!$AA$5:$AA$246=Alternativas!V906)*('Comparación Alternativas'!$AV$5:$AV$246))","v":0}]
[null,null,null,null,null,null,null,null,null,null,null,null,null,null,null,null,null,null,null,null,null,null,null,null,null,null,null,null,null,null,null,null,null,null,{"$f":"SUMPRODUCT((U907='Comparación Alternativas'!$Z$5:$Z$246)*('Comparación Alternativas'!$AA$5:$AA$246=Alternativas!V907)*('Comparación Alternativas'!$AV$5:$AV$246))","v":0}]
[null,null,null,null,null,null,null,null,null,null,null,null,null,null,null,null,null,null,null,null,null,null,null,null,null,null,null,null,null,null,null,null,null,null,{"$f":"SUMPRODUCT((U908='Comparación Alternativas'!$Z$5:$Z$246)*('Comparación Alternativas'!$AA$5:$AA$246=Alternativas!V908)*('Comparación Alternativas'!$AV$5:$AV$246))","v":0}]
[null,null,null,null,null,null,null,null,null,null,null,null,null,null,null,null,null,null,null,null,null,null,null,null,null,null,null,null,null,null,null,null,null,null,{"$f":"SUMPRODUCT((U909='Comparación Alternativas'!$Z$5:$Z$246)*('Comparación Alternativas'!$AA$5:$AA$246=Alternativas!V909)*('Comparación Alternativas'!$AV$5:$AV$246))","v":0}]
[null,null,null,null,null,null,null,null,null,null,null,null,null,null,null,null,null,null,null,null,null,null,null,null,null,null,null,null,null,null,null,null,null,null,{"$f":"SUMPRODUCT((U910='Comparación Alternativas'!$Z$5:$Z$246)*('Comparación Alternativas'!$AA$5:$AA$246=Alternativas!V910)*('Comparación Alternativas'!$AV$5:$AV$246))","v":0}]
[null,null,null,null,null,null,null,null,null,null,null,null,null,null,null,null,null,null,null,null,null,null,null,null,null,null,null,null,null,null,null,null,null,null,{"$f":"SUMPRODUCT((U911='Comparación Alternativas'!$Z$5:$Z$246)*('Comparación Alternativas'!$AA$5:$AA$246=Alternativas!V911)*('Comparación Alternativas'!$AV$5:$AV$246))","v":0}]
[null,null,null,null,null,null,null,null,null,null,null,null,null,null,null,null,null,null,null,null,null,null,null,null,null,null,null,null,null,null,null,null,null,null,{"$f":"SUMPRODUCT((U912='Comparación Alternativas'!$Z$5:$Z$246)*('Comparación Alternativas'!$AA$5:$AA$246=Alternativas!V912)*('Comparación Alternativas'!$AV$5:$AV$246))","v":0}]
[null,null,null,null,null,null,null,null,null,null,null,null,null,null,null,null,null,null,null,null,null,null,null,null,null,null,null,null,null,null,null,null,null,null,{"$f":"SUMPRODUCT((U913='Comparación Alternativas'!$Z$5:$Z$246)*('Comparación Alternativas'!$AA$5:$AA$246=Alternativas!V913)*('Comparación Alternativas'!$AV$5:$AV$246))","v":0}]
[null,null,null,null,null,null,null,null,null,null,null,null,null,null,null,null,null,null,null,null,null,null,null,null,null,null,null,null,null,null,null,null,null,null,{"$f":"SUMPRODUCT((U914='Comparación Alternativas'!$Z$5:$Z$246)*('Comparación Alternativas'!$AA$5:$AA$246=Alternativas!V914)*('Comparación Alternativas'!$AV$5:$AV$246))","v":0}]
[null,null,null,null,null,null,null,null,null,null,null,null,null,null,null,null,null,null,null,null,null,null,null,null,null,null,null,null,null,null,null,null,null,null,{"$f":"SUMPRODUCT((U915='Comparación Alternativas'!$Z$5:$Z$246)*('Comparación Alternativas'!$AA$5:$AA$246=Alternativas!V915)*('Comparación Alternativas'!$AV$5:$AV$246))","v":0}]
[null,null,null,null,null,null,null,null,null,null,null,null,null,null,null,null,null,null,null,null,null,null,null,null,null,null,null,null,null,null,null,null,null,null,{"$f":"SUMPRODUCT((U916='Comparación Alternativas'!$Z$5:$Z$246)*('Comparación Alternativas'!$AA$5:$AA$246=Alternativas!V916)*('Comparación Alternativas'!$AV$5:$AV$246))","v":0}]
[null,null,null,null,null,null,null,null,null,null,null,null,null,null,null,null,null,null,null,null,null,null,null,null,null,null,null,null,null,null,null,null,null,null,{"$f":"SUMPRODUCT((U917='Comparación Alternativas'!$Z$5:$Z$246)*('Comparación Alternativas'!$AA$5:$AA$246=Alternativas!V917)*('Comparación Alternativas'!$AV$5:$AV$246))","v":0}]
[null,null,null,null,null,null,null,null,null,null,null,null,null,null,null,null,null,null,null,null,null,null,null,null,null,null,null,null,null,null,null,null,null,null,{"$f":"SUMPRODUCT((U918='Comparación Alternativas'!$Z$5:$Z$246)*('Comparación Alternativas'!$AA$5:$AA$246=Alternativas!V918)*('Comparación Alternativas'!$AV$5:$AV$246))","v":0}]
[null,null,null,null,null,null,null,null,null,null,null,null,null,null,null,null,null,null,null,null,null,null,null,null,null,null,null,null,null,null,null,null,null,null,{"$f":"SUMPRODUCT((U919='Comparación Alternativas'!$Z$5:$Z$246)*('Comparación Alternativas'!$AA$5:$AA$246=Alternativas!V919)*('Comparación Alternativas'!$AV$5:$AV$246))","v":0}]
[null,null,null,null,null,null,null,null,null,null,null,null,null,null,null,null,null,null,null,null,null,null,null,null,null,null,null,null,null,null,null,null,null,null,{"$f":"SUMPRODUCT((U920='Comparación Alternativas'!$Z$5:$Z$246)*('Comparación Alternativas'!$AA$5:$AA$246=Alternativas!V920)*('Comparación Alternativas'!$AV$5:$AV$246))","v":0}]
[null,null,null,null,null,null,null,null,null,null,null,null,null,null,null,null,null,null,null,null,null,null,null,null,null,null,null,null,null,null,null,null,null,null,{"$f":"SUMPRODUCT((U921='Comparación Alternativas'!$Z$5:$Z$246)*('Comparación Alternativas'!$AA$5:$AA$246=Alternativas!V921)*('Comparación Alternativas'!$AV$5:$AV$246))","v":0}]
[null,null,null,null,null,null,null,null,null,null,null,null,null,null,null,null,null,null,null,null,null,null,null,null,null,null,null,null,null,null,null,null,null,null,{"$f":"SUMPRODUCT((U922='Comparación Alternativas'!$Z$5:$Z$246)*('Comparación Alternativas'!$AA$5:$AA$246=Alternativas!V922)*('Comparación Alternativas'!$AV$5:$AV$246))","v":0}]
[null,null,null,null,null,null,null,null,null,null,null,null,null,null,null,null,null,null,null,null,null,null,null,null,null,null,null,null,null,null,null,null,null,null,{"$f":"SUMPRODUCT((U923='Comparación Alternativas'!$Z$5:$Z$246)*('Comparación Alternativas'!$AA$5:$AA$246=Alternativas!V923)*('Comparación Alternativas'!$AV$5:$AV$246))","v":0}]
[null,null,null,null,null,null,null,null,null,null,null,null,null,null,null,null,null,null,null,null,null,null,null,null,null,null,null,null,null,null,null,null,null,null,{"$f":"SUMPRODUCT((U924='Comparación Alternativas'!$Z$5:$Z$246)*('Comparación Alternativas'!$AA$5:$AA$246=Alternativas!V924)*('Comparación Alternativas'!$AV$5:$AV$246))","v":0}]
[null,null,null,null,null,null,null,null,null,null,null,null,null,null,null,null,null,null,null,null,null,null,null,null,null,null,null,null,null,null,null,null,null,null,{"$f":"SUMPRODUCT((U925='Comparación Alternativas'!$Z$5:$Z$246)*('Comparación Alternativas'!$AA$5:$AA$246=Alternativas!V925)*('Comparación Alternativas'!$AV$5:$AV$246))","v":0}]
[null,null,null,null,null,null,null,null,null,null,null,null,null,null,null,null,null,null,null,null,null,null,null,null,null,null,null,null,null,null,null,null,null,null,{"$f":"SUMPRODUCT((U926='Comparación Alternativas'!$Z$5:$Z$246)*('Comparación Alternativas'!$AA$5:$AA$246=Alternativas!V926)*('Comparación Alternativas'!$AV$5:$AV$246))","v":0}]
[null,null,null,null,null,null,null,null,null,null,null,null,null,null,null,null,null,null,null,null,null,null,null,null,null,null,null,null,null,null,null,null,null,null,{"$f":"SUMPRODUCT((U927='Comparación Alternativas'!$Z$5:$Z$246)*('Comparación Alternativas'!$AA$5:$AA$246=Alternativas!V927)*('Comparación Alternativas'!$AV$5:$AV$246))","v":0}]
[null,null,null,null,null,null,null,null,null,null,null,null,null,null,null,null,null,null,null,null,null,null,null,null,null,null,null,null,null,null,null,null,null,null,{"$f":"SUMPRODUCT((U928='Comparación Alternativas'!$Z$5:$Z$246)*('Comparación Alternativas'!$AA$5:$AA$246=Alternativas!V928)*('Comparación Alternativas'!$AV$5:$AV$246))","v":0}]
[null,null,null,null,null,null,null,null,null,null,null,null,null,null,null,null,null,null,null,null,null,null,null,null,null,null,null,null,null,null,null,null,null,null,{"$f":"SUMPRODUCT((U929='Comparación Alternativas'!$Z$5:$Z$246)*('Comparación Alternativas'!$AA$5:$AA$246=Alternativas!V929)*('Comparación Alternativas'!$AV$5:$AV$246))","v":0}]
[null,null,null,null,null,null,null,null,null,null,null,null,null,null,null,null,null,null,null,null,null,null,null,null,null,null,null,null,null,null,null,null,null,null,{"$f":"SUMPRODUCT((U930='Comparación Alternativas'!$Z$5:$Z$246)*('Comparación Alternativas'!$AA$5:$AA$246=Alternativas!V930)*('Comparación Alternativas'!$AV$5:$AV$246))","v":0}]
[null,null,null,null,null,null,null,null,null,null,null,null,null,null,null,null,null,null,null,null,null,null,null,null,null,null,null,null,null,null,null,null,null,null,{"$f":"SUMPRODUCT((U931='Comparación Alternativas'!$Z$5:$Z$246)*('Comparación Alternativas'!$AA$5:$AA$246=Alternativas!V931)*('Comparación Alternativas'!$AV$5:$AV$246))","v":0}]
[null,null,null,null,null,null,null,null,null,null,null,null,null,null,null,null,null,null,null,null,null,null,null,null,null,null,null,null,null,null,null,null,null,null,{"$f":"SUMPRODUCT((U932='Comparación Alternativas'!$Z$5:$Z$246)*('Comparación Alternativas'!$AA$5:$AA$246=Alternativas!V932)*('Comparación Alternativas'!$AV$5:$AV$246))","v":0}]
[null,null,null,null,null,null,null,null,null,null,null,null,null,null,null,null,null,null,null,null,null,null,null,null,null,null,null,null,null,null,null,null,null,null,{"$f":"SUMPRODUCT((U933='Comparación Alternativas'!$Z$5:$Z$246)*('Comparación Alternativas'!$AA$5:$AA$246=Alternativas!V933)*('Comparación Alternativas'!$AV$5:$AV$246))","v":0}]
[null,null,null,null,null,null,null,null,null,null,null,null,null,null,null,null,null,null,null,null,null,null,null,null,null,null,null,null,null,null,null,null,null,null,{"$f":"SUMPRODUCT((U934='Comparación Alternativas'!$Z$5:$Z$246)*('Comparación Alternativas'!$AA$5:$AA$246=Alternativas!V934)*('Comparación Alternativas'!$AV$5:$AV$246))","v":0}]
[null,null,null,null,null,null,null,null,null,null,null,null,null,null,null,null,null,null,null,null,null,null,null,null,null,null,null,null,null,null,null,null,null,null,{"$f":"SUMPRODUCT((U935='Comparación Alternativas'!$Z$5:$Z$246)*('Comparación Alternativas'!$AA$5:$AA$246=Alternativas!V935)*('Comparación Alternativas'!$AV$5:$AV$246))","v":0}]
[null,null,null,null,null,null,null,null,null,null,null,null,null,null,null,null,null,null,null,null,null,null,null,null,null,null,null,null,null,null,null,null,null,null,{"$f":"SUMPRODUCT((U936='Comparación Alternativas'!$Z$5:$Z$246)*('Comparación Alternativas'!$AA$5:$AA$246=Alternativas!V936)*('Comparación Alternativas'!$AV$5:$AV$246))","v":0}]
[null,null,null,null,null,null,null,null,null,null,null,null,null,null,null,null,null,null,null,null,null,null,null,null,null,null,null,null,null,null,null,null,null,null,{"$f":"SUMPRODUCT((U937='Comparación Alternativas'!$Z$5:$Z$246)*('Comparación Alternativas'!$AA$5:$AA$246=Alternativas!V937)*('Comparación Alternativas'!$AV$5:$AV$246))","v":0}]
[null,null,null,null,null,null,null,null,null,null,null,null,null,null,null,null,null,null,null,null,null,null,null,null,null,null,null,null,null,null,null,null,null,null,{"$f":"SUMPRODUCT((U938='Comparación Alternativas'!$Z$5:$Z$246)*('Comparación Alternativas'!$AA$5:$AA$246=Alternativas!V938)*('Comparación Alternativas'!$AV$5:$AV$246))","v":0}]
[null,null,null,null,null,null,null,null,null,null,null,null,null,null,null,null,null,null,null,null,null,null,null,null,null,null,null,null,null,null,null,null,null,null,{"$f":"SUMPRODUCT((U939='Comparación Alternativas'!$Z$5:$Z$246)*('Comparación Alternativas'!$AA$5:$AA$246=Alternativas!V939)*('Comparación Alternativas'!$AV$5:$AV$246))","v":0}]
[null,null,null,null,null,null,null,null,null,null,null,null,null,null,null,null,null,null,null,null,null,null,null,null,null,null,null,null,null,null,null,null,null,null,{"$f":"SUMPRODUCT((U940='Comparación Alternativas'!$Z$5:$Z$246)*('Comparación Alternativas'!$AA$5:$AA$246=Alternativas!V940)*('Comparación Alternativas'!$AV$5:$AV$246))","v":0}]
[null,null,null,null,null,null,null,null,null,null,null,null,null,null,null,null,null,null,null,null,null,null,null,null,null,null,null,null,null,null,null,null,null,null,{"$f":"SUMPRODUCT((U941='Comparación Alternativas'!$Z$5:$Z$246)*('Comparación Alternativas'!$AA$5:$AA$246=Alternativas!V941)*('Comparación Alternativas'!$AV$5:$AV$246))","v":0}]
[null,null,null,null,null,null,null,null,null,null,null,null,null,null,null,null,null,null,null,null,null,null,null,null,null,null,null,null,null,null,null,null,null,null,{"$f":"SUMPRODUCT((U942='Comparación Alternativas'!$Z$5:$Z$246)*('Comparación Alternativas'!$AA$5:$AA$246=Alternativas!V942)*('Comparación Alternativas'!$AV$5:$AV$246))","v":0}]
[null,null,null,null,null,null,null,null,null,null,null,null,null,null,null,null,null,null,null,null,null,null,null,null,null,null,null,null,null,null,null,null,null,null,{"$f":"SUMPRODUCT((U943='Comparación Alternativas'!$Z$5:$Z$246)*('Comparación Alternativas'!$AA$5:$AA$246=Alternativas!V943)*('Comparación Alternativas'!$AV$5:$AV$246))","v":0}]
[null,null,null,null,null,null,null,null,null,null,null,null,null,null,null,null,null,null,null,null,null,null,null,null,null,null,null,null,null,null,null,null,null,null,{"$f":"SUMPRODUCT((U944='Comparación Alternativas'!$Z$5:$Z$246)*('Comparación Alternativas'!$AA$5:$AA$246=Alternativas!V944)*('Comparación Alternativas'!$AV$5:$AV$246))","v":0}]
[null,null,null,null,null,null,null,null,null,null,null,null,null,null,null,null,null,null,null,null,null,null,null,null,null,null,null,null,null,null,null,null,null,null,{"$f":"SUMPRODUCT((U945='Comparación Alternativas'!$Z$5:$Z$246)*('Comparación Alternativas'!$AA$5:$AA$246=Alternativas!V945)*('Comparación Alternativas'!$AV$5:$AV$246))","v":0}]
[null,null,null,null,null,null,null,null,null,null,null,null,null,null,null,null,null,null,null,null,null,null,null,null,null,null,null,null,null,null,null,null,null,null,{"$f":"SUMPRODUCT((U946='Comparación Alternativas'!$Z$5:$Z$246)*('Comparación Alternativas'!$AA$5:$AA$246=Alternativas!V946)*('Comparación Alternativas'!$AV$5:$AV$246))","v":0}]
[null,null,null,null,null,null,null,null,null,null,null,null,null,null,null,null,null,null,null,null,null,null,null,null,null,null,null,null,null,null,null,null,null,null,{"$f":"SUMPRODUCT((U947='Comparación Alternativas'!$Z$5:$Z$246)*('Comparación Alternativas'!$AA$5:$AA$246=Alternativas!V947)*('Comparación Alternativas'!$AV$5:$AV$246))","v":0}]
[null,null,null,null,null,null,null,null,null,null,null,null,null,null,null,null,null,null,null,null,null,null,null,null,null,null,null,null,null,null,null,null,null,null,{"$f":"SUMPRODUCT((U948='Comparación Alternativas'!$Z$5:$Z$246)*('Comparación Alternativas'!$AA$5:$AA$246=Alternativas!V948)*('Comparación Alternativas'!$AV$5:$AV$246))","v":0}]
[null,null,null,null,null,null,null,null,null,null,null,null,null,null,null,null,null,null,null,null,null,null,null,null,null,null,null,null,null,null,null,null,null,null,{"$f":"SUMPRODUCT((U949='Comparación Alternativas'!$Z$5:$Z$246)*('Comparación Alternativas'!$AA$5:$AA$246=Alternativas!V949)*('Comparación Alternativas'!$AV$5:$AV$246))","v":0}]
[null,null,null,null,null,null,null,null,null,null,null,null,null,null,null,null,null,null,null,null,null,null,null,null,null,null,null,null,null,null,null,null,null,null,{"$f":"SUMPRODUCT((U950='Comparación Alternativas'!$Z$5:$Z$246)*('Comparación Alternativas'!$AA$5:$AA$246=Alternativas!V950)*('Comparación Alternativas'!$AV$5:$AV$246))","v":0}]
[null,null,null,null,null,null,null,null,null,null,null,null,null,null,null,null,null,null,null,null,null,null,null,null,null,null,null,null,null,null,null,null,null,null,{"$f":"SUMPRODUCT((U951='Comparación Alternativas'!$Z$5:$Z$246)*('Comparación Alternativas'!$AA$5:$AA$246=Alternativas!V951)*('Comparación Alternativas'!$AV$5:$AV$246))","v":0}]
[null,null,null,null,null,null,null,null,null,null,null,null,null,null,null,null,null,null,null,null,null,null,null,null,null,null,null,null,null,null,null,null,null,null,{"$f":"SUMPRODUCT((U952='Comparación Alternativas'!$Z$5:$Z$246)*('Comparación Alternativas'!$AA$5:$AA$246=Alternativas!V952)*('Comparación Alternativas'!$AV$5:$AV$246))","v":0}]
[null,null,null,null,null,null,null,null,null,null,null,null,null,null,null,null,null,null,null,null,null,null,null,null,null,null,null,null,null,null,null,null,null,null,{"$f":"SUMPRODUCT((U953='Comparación Alternativas'!$Z$5:$Z$246)*('Comparación Alternativas'!$AA$5:$AA$246=Alternativas!V953)*('Comparación Alternativas'!$AV$5:$AV$246))","v":0}]
[null,null,null,null,null,null,null,null,null,null,null,null,null,null,null,null,null,null,null,null,null,null,null,null,null,null,null,null,null,null,null,null,null,null,{"$f":"SUMPRODUCT((U954='Comparación Alternativas'!$Z$5:$Z$246)*('Comparación Alternativas'!$AA$5:$AA$246=Alternativas!V954)*('Comparación Alternativas'!$AV$5:$AV$246))","v":0}]
[null,null,null,null,null,null,null,null,null,null,null,null,null,null,null,null,null,null,null,null,null,null,null,null,null,null,null,null,null,null,null,null,null,null,{"$f":"SUMPRODUCT((U955='Comparación Alternativas'!$Z$5:$Z$246)*('Comparación Alternativas'!$AA$5:$AA$246=Alternativas!V955)*('Comparación Alternativas'!$AV$5:$AV$246))","v":0}]
[null,null,null,null,null,null,null,null,null,null,null,null,null,null,null,null,null,null,null,null,null,null,null,null,null,null,null,null,null,null,null,null,null,null,{"$f":"SUMPRODUCT((U956='Comparación Alternativas'!$Z$5:$Z$246)*('Comparación Alternativas'!$AA$5:$AA$246=Alternativas!V956)*('Comparación Alternativas'!$AV$5:$AV$246))","v":0}]
[null,null,null,null,null,null,null,null,null,null,null,null,null,null,null,null,null,null,null,null,null,null,null,null,null,null,null,null,null,null,null,null,null,null,{"$f":"SUMPRODUCT((U957='Comparación Alternativas'!$Z$5:$Z$246)*('Comparación Alternativas'!$AA$5:$AA$246=Alternativas!V957)*('Comparación Alternativas'!$AV$5:$AV$246))","v":0}]
[null,null,null,null,null,null,null,null,null,null,null,null,null,null,null,null,null,null,null,null,null,null,null,null,null,null,null,null,null,null,null,null,null,null,{"$f":"SUMPRODUCT((U958='Comparación Alternativas'!$Z$5:$Z$246)*('Comparación Alternativas'!$AA$5:$AA$246=Alternativas!V958)*('Comparación Alternativas'!$AV$5:$AV$246))","v":0}]
[null,null,null,null,null,null,null,null,null,null,null,null,null,null,null,null,null,null,null,null,null,null,null,null,null,null,null,null,null,null,null,null,null,null,{"$f":"SUMPRODUCT((U959='Comparación Alternativas'!$Z$5:$Z$246)*('Comparación Alternativas'!$AA$5:$AA$246=Alternativas!V959)*('Comparación Alternativas'!$AV$5:$AV$246))","v":0}]
[null,null,null,null,null,null,null,null,null,null,null,null,null,null,null,null,null,null,null,null,null,null,null,null,null,null,null,null,null,null,null,null,null,null,{"$f":"SUMPRODUCT((U960='Comparación Alternativas'!$Z$5:$Z$246)*('Comparación Alternativas'!$AA$5:$AA$246=Alternativas!V960)*('Comparación Alternativas'!$AV$5:$AV$246))","v":0}]
[null,null,null,null,null,null,null,null,null,null,null,null,null,null,null,null,null,null,null,null,null,null,null,null,null,null,null,null,null,null,null,null,null,null,{"$f":"SUMPRODUCT((U961='Comparación Alternativas'!$Z$5:$Z$246)*('Comparación Alternativas'!$AA$5:$AA$246=Alternativas!V961)*('Comparación Alternativas'!$AV$5:$AV$246))","v":0}]
[null,null,null,null,null,null,null,null,null,null,null,null,null,null,null,null,null,null,null,null,null,null,null,null,null,null,null,null,null,null,null,null,null,null,{"$f":"SUMPRODUCT((U962='Comparación Alternativas'!$Z$5:$Z$246)*('Comparación Alternativas'!$AA$5:$AA$246=Alternativas!V962)*('Comparación Alternativas'!$AV$5:$AV$246))","v":0}]
[null,null,null,null,null,null,null,null,null,null,null,null,null,null,null,null,null,null,null,null,null,null,null,null,null,null,null,null,null,null,null,null,null,null,{"$f":"SUMPRODUCT((U963='Comparación Alternativas'!$Z$5:$Z$246)*('Comparación Alternativas'!$AA$5:$AA$246=Alternativas!V963)*('Comparación Alternativas'!$AV$5:$AV$246))","v":0}]
[null,null,null,null,null,null,null,null,null,null,null,null,null,null,null,null,null,null,null,null,null,null,null,null,null,null,null,null,null,null,null,null,null,null,{"$f":"SUMPRODUCT((U964='Comparación Alternativas'!$Z$5:$Z$246)*('Comparación Alternativas'!$AA$5:$AA$246=Alternativas!V964)*('Comparación Alternativas'!$AV$5:$AV$246))","v":0}]
[null,null,null,null,null,null,null,null,null,null,null,null,null,null,null,null,null,null,null,null,null,null,null,null,null,null,null,null,null,null,null,null,null,null,{"$f":"SUMPRODUCT((U965='Comparación Alternativas'!$Z$5:$Z$246)*('Comparación Alternativas'!$AA$5:$AA$246=Alternativas!V965)*('Comparación Alternativas'!$AV$5:$AV$246))","v":0}]
[null,null,null,null,null,null,null,null,null,null,null,null,null,null,null,null,null,null,null,null,null,null,null,null,null,null,null,null,null,null,null,null,null,null,{"$f":"SUMPRODUCT((U966='Comparación Alternativas'!$Z$5:$Z$246)*('Comparación Alternativas'!$AA$5:$AA$246=Alternativas!V966)*('Comparación Alternativas'!$AV$5:$AV$246))","v":0}]
[null,null,null,null,null,null,null,null,null,null,null,null,null,null,null,null,null,null,null,null,null,null,null,null,null,null,null,null,null,null,null,null,null,null,{"$f":"SUMPRODUCT((U967='Comparación Alternativas'!$Z$5:$Z$246)*('Comparación Alternativas'!$AA$5:$AA$246=Alternativas!V967)*('Comparación Alternativas'!$AV$5:$AV$246))","v":0}]
[null,null,null,null,null,null,null,null,null,null,null,null,null,null,null,null,null,null,null,null,null,null,null,null,null,null,null,null,null,null,null,null,null,null,{"$f":"SUMPRODUCT((U968='Comparación Alternativas'!$Z$5:$Z$246)*('Comparación Alternativas'!$AA$5:$AA$246=Alternativas!V968)*('Comparación Alternativas'!$AV$5:$AV$246))","v":0}]
[null,null,null,null,null,null,null,null,null,null,null,null,null,null,null,null,null,null,null,null,null,null,null,null,null,null,null,null,null,null,null,null,null,null,{"$f":"SUMPRODUCT((U969='Comparación Alternativas'!$Z$5:$Z$246)*('Comparación Alternativas'!$AA$5:$AA$246=Alternativas!V969)*('Comparación Alternativas'!$AV$5:$AV$246))","v":0}]
[null,null,null,null,null,null,null,null,null,null,null,null,null,null,null,null,null,null,null,null,null,null,null,null,null,null,null,null,null,null,null,null,null,null,{"$f":"SUMPRODUCT((U970='Comparación Alternativas'!$Z$5:$Z$246)*('Comparación Alternativas'!$AA$5:$AA$246=Alternativas!V970)*('Comparación Alternativas'!$AV$5:$AV$246))","v":0}]
[null,null,null,null,null,null,null,null,null,null,null,null,null,null,null,null,null,null,null,null,null,null,null,null,null,null,null,null,null,null,null,null,null,null,{"$f":"SUMPRODUCT((U971='Comparación Alternativas'!$Z$5:$Z$246)*('Comparación Alternativas'!$AA$5:$AA$246=Alternativas!V971)*('Comparación Alternativas'!$AV$5:$AV$246))","v":0}]
[null,null,null,null,null,null,null,null,null,null,null,null,null,null,null,null,null,null,null,null,null,null,null,null,null,null,null,null,null,null,null,null,null,null,{"$f":"SUMPRODUCT((U972='Comparación Alternativas'!$Z$5:$Z$246)*('Comparación Alternativas'!$AA$5:$AA$246=Alternativas!V972)*('Comparación Alternativas'!$AV$5:$AV$246))","v":0}]
[null,null,null,null,null,null,null,null,null,null,null,null,null,null,null,null,null,null,null,null,null,null,null,null,null,null,null,null,null,null,null,null,null,null,{"$f":"SUMPRODUCT((U973='Comparación Alternativas'!$Z$5:$Z$246)*('Comparación Alternativas'!$AA$5:$AA$246=Alternativas!V973)*('Comparación Alternativas'!$AV$5:$AV$246))","v":0}]

{"sheet":"Comparación Alternativas","index":2,"n_rows":246,"n_cols":58,"rows_kept":246,"cut":false,"hidden":false,"merged":[[2,38,2,41],[2,43,2,46],[2,48,2,51],[2,53,2,56],[7,21,7,22],[6,20,6,22],[23,1,29,2],[6,16,6,18],[6,11,6,12],[14,11,14,12],[22,11,22,12],[7,1,12,2],[15,1,20,2]]}
[]
[]
[null,null,null,null,null,null,null,null,null,"Herramienta Simulador de créditos",null,null,null,null,null,null,null,null,null,null,null,null,null,null,null,null,null,null,"Alternativa 1",null,{"$f":"[1]Alternativas!C9","v":"Pesos"},null,{"$f":"(1+IRR(AG7:AG246))^12-1","v":0.31888050590823225},"Alternativa 2",null,{"$f":"[1]Alternativas!U9","v":"Dólares"},null,{"$f":"(1+IRR(AL5:AL245))^12-1","v":-6.5265668689871825E-2},"Alternativa 1 - Pesos",null,null,null,{"$f":"(1+IRR(AQ5:AQ245))^12-1","v":0.31888050590823225},"Alternativa 2 - Pesos",null,null,null,{"$f":"(1+IRR(AV5:AV245))^12-1","v":0.29144590318528518},"Alternativa 1 U$S",null,null,null,{"$f":"(1+IRR(BA5:BA245))^12-1","v":-0.14965423199138184},"Alternativa 2 U$S",null,null,null,{"$f":"(1+IRR(BF5:BF245))^12-1","v":-6.5265668689871825E-2}]
[null,null,null,null,null,null,null,null,null,null,null,null,null,null,null,null,null,null,null,null,null,null,null,null,null,"Mes","Año","T.C.","Capital","Interés","Cuota","Saldo","Cash","Capital","Interés","Cuota","Saldo","Cash","Capital","Interés","Cuota","Saldo","Cash","Capital","Interés","Cuota","Saldo","Cash","Capital","Interés","Cuota","Saldo","Cash","Capital","Interés","Cuota","Saldo","Cash"]
[]
[null,null,null,"Volver al Instructivo"]
[null,null,null,null,null,"Alternativa 1",null,"Alternativa 2",null,"Diferencia",null,"Punto Equilibrio $",null,null,null,null,"Esperado",null,null,null,"Ajustado",null,null,null,null,{"$f":"+Alternativas!C19","v":1},{"$f":"+Alternativas!C20","v":2022},{"$f":"+Q9","v":100},{"$f":"SUMPRODUCT(($Z7=Alternativas!$C$24:$C$264)*('Comparación Alternativas'!$AA7=Alternativas!$D$24:$D$264)*(Alternativas!M$24:M$264))","v":0},{"$f":"SUMPRODUCT(($Z7=Alternativas!$C$24:$C$264)*('Comparación Alternativas'!$AA7=Alternativas!$D$24:$D$264)*(Alternativas!N$24:N$264))","v":0},{"$f":"SUMPRODUCT(($Z7=Alternativas!$C$24:$C$264)*('Comparación Alternativas'!$AA7=Alternativas!$D$24:$D$264)*(Alternativas!O$24:O$264))","v":0},{"$f":"SUMPRODUCT(($Z7=Alternativas!$C$24:$C$264)*('Comparación Alternativas'!$AA7=Alternativas!$D$24:$D$264)*(Alternativas!P$24:P$264))","v":20000},{"$f":"AE7+AF7","v":20000},{"$f":"SUMPRODUCT(($Z7=Alternativas!$U$24:$U$264)*('Comparación Alternativas'!$AA7=Alternativas!$V$24:$V$264)*(Alternativas!AE$24:AE$264))","v":0},{"$f":"SUMPRODUCT(($Z7=Alternativas!$U$24:$U$264)*('Comparación Alternativas'!$AA7=Alternativas!$V$24:$V$264)*(Alternativas!AF$24:AF$264))","v":0},{"$f":"SUMPRODUCT(($Z7=Alternativas!$U$24:$U$264)*('Comparación Alternativas'!$AA7=Alternativas!$V$24:$V$264)*(Alternativas!AG$24:AG$264))","v":-5000},{"$f":"SUMPRODUCT(($Z7=Alternativas!$U$24:$U$264)*('Comparación Alternativas'!$AA7=Alternativas!$V$24:$V$264)*(Alternativas!AH$24:AH$264))","v":30000},{"$f":"AJ7+AK7","v":25000},{"$f":"IF($AE$3=\"Dólares\",AC7*$AB7,AC7)","v":0},{"$f":"IF($AE$3=\"Dólares\",AD7*$AB7,AD7)","v":0},{"$f":"IF($AE$3=\"Dólares\",AE7*$AB7,AE7)","v":0},{"$f":"IF($AE$3=\"Dólares\",AF7*$AB7,AF7)","v":20000},{"$f":"AO7+AP7","v":20000},{"$f":"IF($AJ$3=\"Dólares\",AH7*$AB7,AH7)","v":0},{"$f":"IF($AJ$3=\"Dólares\",AI7*$AB7,AI7)","v":0},{"$f":"IF($AJ$3=\"Dólares\",AJ7*$AB7,AJ7)","v":-500000},{"$f":"IF($AJ$3=\"Dólares\",AK7*$AB7,AK7)","v":3000000},{"$f":"AT7+AU7","v":2500000},{"$f":"AM7/$AB7","v":0},{"$f":"AN7/$AB7","v":0},{"$f":"AO7/$AB7","v":0},{"$f":"AP7/$AB7","v":200},{"$f":"AY7+AZ7","v":200},{"$f":"AR7/$AB7","v":0},{"$f":"AS7/$AB7","v":0},{"$f":"AT7/$AB7","v":-5000},{"$f":"AU7/$AB7","v":30000},{"$f":"BD7+BE7","v":25000}]
[null,"Pesos",null,"Monto",null,{"$f":"AP5","v":0},null,{"$f":"AU5","v":0},null,{"$f":"F8-H8","v":0},null,null,null,null,null,null,"$/U$S","Devaluación ","Sensibilidad",null,"$/U$S","Devaluación ",null,null,null,{"$f":"IF(Z7=12,1,Z7+1)","v":2},{"$f":"IF(Z8=1,AA7+1,AA7)","v":2022},{"$f":"(AB18-AB5)/12+AB7","v":111.72051579923405},{"$f":"SUMPRODUCT(($Z8=Alternativas!$C$24:$C$264)*('Comparación Alternativas'!$AA8=Alternativas!$D$24:$D$264)*(Alternativas!M$24:M$264))","v":0},{"$f":"SUMPRODUCT(($Z8=Alternativas!$C$24:$C$264)*('Comparación Alternativas'!$AA8=Alternativas!$D$24:$D$264)*(Alternativas!N$24:N$264))","v":-466.66666666666669},{"$f":"SUMPRODUCT(($Z8=Alternativas!$C$24:$C$264)*('Comparación Alternativas'!$AA8=Alternativas!$D$24:$D$264)*(Alternativas!O$24:O$264))","v":-466.66666666666669},{"$f":"SUMPRODUCT(($Z8=Alternativas!$C$24:$C$264)*('Comparación Alternativas'!$AA8=Alternativas!$D$24:$D$264)*(Alternativas!P$24:P$264))","v":20000},{"$f":"AE8","v":-466.66666666666669},{"$f":"SUMPRODUCT(($Z8=Alternativas!$U$24:$U$264)*('Comparación Alternativas'!$AA8=Alternativas!$V$24:$V$264)*(Alternativas!AE$24:AE$264))","v":-486.11642328380776},{"$f":"SUMPRODUCT(($Z8=Alternativas!$U$24:$U$264)*('Comparación Alternativas'!$AA8=Alternativas!$V$24:$V$264)*(Alternativas!AF$24:AF$264))","v":-250},{"$f":"SUMPRODUCT(($Z8=Alternativas!$U$24:$U$264)*('Comparación Alternativas'!$AA8=Alternativas!$V$24:$V$264)*(Alternativas!AG$24:AG$264))","v":-736.11642328380776},{"$f":"SUMPRODUCT(($Z8=Alternativas!$U$24:$U$264)*('Comparación Alternativas'!$AA8=Alternativas!$V$24:$V$264)*(Alternativas!AH$24:AH$264))","v":29513.883576716191},{"$f":"AJ8","v":-736.11642328380776},0,-466.66666666666669,-466.66666666666669,20000,{"$f":"AO8","v":-466.66666666666669},-54309.177547745792,-27930.128949808513,{"$f":"IF($AJ$3=\"Dólares\",AJ8*$AB8,AJ8)","v":-82239.306497554309},{"$f":"IF($AJ$3=\"Dólares\",AK8*$AB8,AK8)","v":3297306.2964292755},{"$f":"AT8","v":-82239.306497554309},0,-4.1770901550909789,-4.1770901550909789,{"$f":"AP8/$AB8","v":179.01814950389908},{"$f":"AY8","v":-4.1770901550909789},-486.11642328380776,-250,-736.11642328380776,29513.883576716191,{"$f":"BD8","v":-736.11642328380776}]
[null,null,null,"Gastos",null,{"$f":"AO5","v":0},null,{"$f":"+AT5","v":0},null,0,null,null,null,null,"Año 0",null,100,"Celda Ajustable",null,null,{"$f":"Q9","v":100},1.1074503117386501,null,null,null,3,2022,{"$f":"(AB18-AB5)/12+AB8","v":123.4410315984681},{"$f":"SUMPRODUCT(($Z9=Alternativas!$C$24:$C$264)*('Comparación Alternativas'!$AA9=Alternativas!$D$24:$D$264)*(Alternativas!M$24:M$264))","v":-800},{"$f":"SUMPRODUCT(($Z9=Alternativas!$C$24:$C$264)*('Comparación Alternativas'!$AA9=Alternativas!$D$24:$D$264)*(Alternativas!N$24:N$264))","v":-466.66666666666669},{"$f":"SUMPRODUCT(($Z9=Alternativas!$C$24:$C$264)*('Comparación Alternativas'!$AA9=Alternativas!$D$24:$D$264)*(Alternativas!O$24:O$264))","v":-1266.6666666666667},{"$f":"SUMPRODUCT(($Z9=Alternativas!$C$24:$C$264)*('Comparación Alternativas'!$AA9=Alternativas!$D$24:$D$264)*(Alternativas!P$24:P$264))","v":19200},-1266.6666666666667,{"$f":"SUMPRODUCT(($Z9=Alternativas!$U$24:$U$264)*('Comparación Alternativas'!$AA9=Alternativas!$V$24:$V$264)*(Alternativas!AE$24:AE$264))","v":-490.16739347783948},{"$f":"SUMPRODUCT(($Z9=Alternativas!$U$24:$U$264)*('Comparación Alternativas'!$AA9=Alternativas!$V$24:$V$264)*(Alternativas!AF$24:AF$264))","v":-245.94902980596828},{"$f":"SUMPRODUCT(($Z9=Alternativas!$U$24:$U$264)*('Comparación Alternativas'!$AA9=Alternativas!$V$24:$V$264)*(Alternativas!AG$24:AG$264))","v":-736.11642328380776},{"$f":"SUMPRODUCT(($Z9=Alternativas!$U$24:$U$264)*('Comparación Alternativas'!$AA9=Alternativas!$V$24:$V$264)*(Alternativas!AH$24:AH$264))","v":29023.71618323835},{"$f":"AJ9","v":-736.11642328380776},-800,-466.66666666666669,-1266.6666666666667,19200,-1266.6666666666667,-60506.76870683673,-30360.201959891103,-90866.970666727837,3582717.4664800949,{"$f":"AT9","v":-90866.970666727837},-6.4808272390517514,-3.7804825561135216,-10.261309795165273,155.53985373724203,-10.261309795165273,-490.16739347783948,-245.94902980596828,-736.11642328380776,29023.71618323835,-736.11642328380776]
[null,null,null,"Capital",null,{"$f":"SUM(AM5:AM246)","v":-20000},null,{"$f":"SUM(AR5:AR246)","v":-2530708.2727694833},null,2510708.2727694833,null,null,null,null,"Año 1",null,{"$f":"Q9*(1+R10)","v":127},{"$f":"S10/100","v":0.27},27,null,{"$f":"Q9*(1+R10)*$V$9","v":140.64618959080855},{"$f":"U10/Q9-1","v":0.40646189590808546},{"$f":"R10-V10","v":-0.13646189590808544},null,null,4,2022,{"$f":"(AB18-AB5)/12+AB9","v":135.16154739770215},{"$f":"SUMPRODUCT(($Z10=Alternativas!$C$24:$C$264)*('Comparación Alternativas'!$AA10=Alternativas!$D$24:$D$264)*(Alternativas!M$24:M$264))","v":-800},{"$f":"SUMPRODUCT(($Z10=Alternativas!$C$24:$C$264)*('Comparación Alternativas'!$AA10=Alternativas!$D$24:$D$264)*(Alternativas!N$24:N$264))","v":-448},{"$f":"SUMPRODUCT(($Z10=Alternativas!$C$24:$C$264)*('Comparación Alternativas'!$AA10=Alternativas!$D$24:$D$264)*(Alternativas!O$24:O$264))","v":-1248},{"$f":"SUMPRODUCT(($Z10=Alternativas!$C$24:$C$264)*('Comparación Alternativas'!$AA10=Alternativas!$D$24:$D$264)*(Alternativas!P$24:P$264))","v":18400},-1248,{"$f":"SUMPRODUCT(($Z10=Alternativas!$U$24:$U$264)*('Comparación Alternativas'!$AA10=Alternativas!$V$24:$V$264)*(Alternativas!AE$24:AE$264))","v":-494.25212175682145},{"$f":"SUMPRODUCT(($Z10=Alternativas!$U$24:$U$264)*('Comparación Alternativas'!$AA10=Alternativas!$V$24:$V$264)*(Alternativas!AF$24:AF$264))","v":-241.86430152698628},{"$f":"SUMPRODUCT(($Z10=Alternativas!$U$24:$U$264)*('Comparación Alternativas'!$AA10=Alternativas!$V$24:$V$264)*(Alternativas!AG$24:AG$264))","v":-736.11642328380776},{"$f":"SUMPRODUCT(($Z10=Alternativas!$U$24:$U$264)*('Comparación Alternativas'!$AA10=Alternativas!$V$24:$V$264)*(Alternativas!AH$24:AH$264))","v":28529.464061481529},-736.11642328380776,-800,-448,-1248,18400,-1248,-66803.881581249472,-32690.753254651881,-99494.634835901365,3856086.5089769759,{"$f":"AT10","v":-99494.634835901365},-5.9188431577071494,-3.3145521683160037,-9.2333953260231532,136.13339262726444,-9.2333953260231532,-494.2521217568214,-241.86430152698628,-736.11642328380776,28529.464061481529,-736.11642328380776]
[null,null,null,"Intereses",null,{"$f":"SUM(AN5:AN246)","v":-6533.3333333333339},null,{"$f":"SUM(AS5:AS246)","v":-869219.86262497329},null,862686.52929163992,null,null,null,null,"Año 2",null,{"$f":"Q10*(1+R11)","v":146.04999999999998},{"$f":"S11/100","v":0.15},15,null,{"$f":"U10*(1+R11)*$V$9","v":179.12246648327331},{"$f":"U11/U10-1","v":0.27356785849944742},{"$f":"R11-V11","v":-0.12356785849944743},null,null,5,2022,{"$f":"(AB18-AB5)/12+AB10","v":146.8820631969362},{"$f":"SUMPRODUCT(($Z11=Alternativas!$C$24:$C$264)*('Comparación Alternativas'!$AA11=Alternativas!$D$24:$D$264)*(Alternativas!M$24:M$264))","v":-800},{"$f":"SUMPRODUCT(($Z11=Alternativas!$C$24:$C$264)*('Comparación Alternativas'!$AA11=Alternativas!$D$24:$D$264)*(Alternativas!N$24:N$264))","v":-429.33333333333337},{"$f":"SUMPRODUCT(($Z11=Alternativas!$C$24:$C$264)*('Comparación Alternativas'!$AA11=Alternativas!$D$24:$D$264)*(Alternativas!O$24:O$264))","v":-1229.3333333333335},{"$f":"SUMPRODUCT(($Z11=Alternativas!$C$24:$C$264)*('Comparación Alternativas'!$AA11=Alternativas!$D$24:$D$264)*(Alternativas!P$24:P$264))","v":17600},-1229.3333333333335,{"$f":"SUMPRODUCT(($Z11=Alternativas!$U$24:$U$264)*('Comparación Alternativas'!$AA11=Alternativas!$V$24:$V$264)*(Alternativas!AE$24:AE$264))","v":-498.3708894381283},{"$f":"SUMPRODUCT(($Z11=Alternativas!$U$24:$U$264)*('Comparación Alternativas'!$AA11=Alternativas!$V$24:$V$264)*(Alternativas!AF$24:AF$264))","v":-237.74553384567943},{"$f":"SUMPRODUCT(($Z11=Alternativas!$U$24:$U$264)*('Comparación Alternativas'!$AA11=Alternativas!$V$24:$V$264)*(Alternativas!AG$24:AG$264))","v":-736.11642328380776},{"$f":"SUMPRODUCT(($Z11=Alternativas!$U$24:$U$264)*('Comparación Alternativas'!$AA11=Alternativas!$V$24:$V$264)*(Alternativas!AH$24:AH$264))","v":28031.093172043402},-736.11642328380776,-800,-429.33333333333337,-1229.3333333333335,17600,-1229.3333333333335,-73201.744477964472,-34920.55452711042,-108122.29900507489,4117264.7987752859,-108122.29900507489,-5.4465465870218459,-2.9229800017017245,-8.3695265887235717,119.82402491448062,-8.3695265887235717,-498.37088943812836,-237.74553384567943,-736.11642328380776,28031.093172043402,-736.11642328380776]
[null,null,null,"Total",null,{"$f":"SUM(F8:F11)","v":-26533.333333333336},null,{"$f":"SUM(H8:H11)","v":-3399928.1353944568},null,{"$f":"F12-H12","v":3373394.8020611233},null,null,null,null,"Año 3",null,162.1155,0.11,11,null,220.18984679438961,0.22926984602990164,-0.11926984602990164,null,null,6,2022,{"$f":"(AB18-AB5)/12+AB11","v":158.60257899617025},{"$f":"SUMPRODUCT(($Z12=Alternativas!$C$24:$C$264)*('Comparación Alternativas'!$AA12=Alternativas!$D$24:$D$264)*(Alternativas!M$24:M$264))","v":-800},{"$f":"SUMPRODUCT(($Z12=Alternativas!$C$24:$C$264)*('Comparación Alternativas'!$AA12=Alternativas!$D$24:$D$264)*(Alternativas!N$24:N$264))","v":-410.66666666666669},{"$f":"SUMPRODUCT(($Z12=Alternativas!$C$24:$C$264)*('Comparación Alternativas'!$AA12=Alternativas!$D$24:$D$264)*(Alternativas!O$24:O$264))","v":-1210.6666666666667},{"$f":"SUMPRODUCT(($Z12=Alternativas!$C$24:$C$264)*('Comparación Alternativas'!$AA12=Alternativas!$D$24:$D$264)*(Alternativas!P$24:P$264))","v":16800},-1210.6666666666667,{"$f":"SUMPRODUCT(($Z12=Alternativas!$U$24:$U$264)*('Comparación Alternativas'!$AA12=Alternativas!$V$24:$V$264)*(Alternativas!AE$24:AE$264))","v":-502.52398018344604},{"$f":"SUMPRODUCT(($Z12=Alternativas!$U$24:$U$264)*('Comparación Alternativas'!$AA12=Alternativas!$V$24:$V$264)*(Alternativas!AF$24:AF$264))","v":-233.59244310036169},{"$f":"SUMPRODUCT(($Z12=Alternativas!$U$24:$U$264)*('Comparación Alternativas'!$AA12=Alternativas!$V$24:$V$264)*(Alternativas!AG$24:AG$264))","v":-736.11642328380776},{"$f":"SUMPRODUCT(($Z12=Alternativas!$U$24:$U$264)*('Comparación Alternativas'!$AA12=Alternativas!$V$24:$V$264)*(Alternativas!AH$24:AH$264))","v":27528.569191859955},-736.11642328380776,-800,-410.66666666666669,-1210.6666666666667,16800,-1210.6666666666667,-79701.599264514894,-37048.363909733518,-116749.96317424842,4366102.0699035069,-116749.96317424842,-5.0440541702623731,-2.589281140734685,-7.6333353109970581,105.92513757550984,-7.6333353109970581,-502.52398018344604,-233.59244310036169,-736.11642328380776,27528.569191859955,-736.11642328380776]
[null,null,null,"TIR Equivalente Anual",null,{"$f":"AQ3","v":0.31888050590823225},null,{"$f":"AV3","v":0.29144590318528518},null,{"$f":"F13-H13","v":2.7434602722947066E-2},null,null,null,null,"Año 4",null,178.32705000000001,0.1,10,null,268.23424592154561,0.21819534291251497,-0.11819534291251496,null,null,7,2022,{"$f":"(AB18-AB5)/12+AB12","v":170.3230947954043},{"$f":"SUMPRODUCT(($Z13=Alternativas!$C$24:$C$264)*('Comparación Alternativas'!$AA13=Alternativas!$D$24:$D$264)*(Alternativas!M$24:M$264))","v":-800},{"$f":"SUMPRODUCT(($Z13=Alternativas!$C$24:$C$264)*('Comparación Alternativas'!$AA13=Alternativas!$D$24:$D$264)*(Alternativas!N$24:N$264))","v":-392},{"$f":"SUMPRODUCT(($Z13=Alternativas!$C$24:$C$264)*('Comparación Alternativas'!$AA13=Alternativas!$D$24:$D$264)*(Alternativas!O$24:O$264))","v":-1192},{"$f":"SUMPRODUCT(($Z13=Alternativas!$C$24:$C$264)*('Comparación Alternativas'!$AA13=Alternativas!$D$24:$D$264)*(Alternativas!P$24:P$264))","v":16000},-1192,{"$f":"SUMPRODUCT(($Z13=Alternativas!$U$24:$U$264)*('Comparación Alternativas'!$AA13=Alternativas!$V$24:$V$264)*(Alternativas!AE$24:AE$264))","v":-506.71168001830813},{"$f":"SUMPRODUCT(($Z13=Alternativas!$U$24:$U$264)*('Comparación Alternativas'!$AA13=Alternativas!$V$24:$V$264)*(Alternativas!AF$24:AF$264))","v":-229.40474326549963},{"$f":"SUMPRODUCT(($Z13=Alternativas!$U$24:$U$264)*('Comparación Alternativas'!$AA13=Alternativas!$V$24:$V$264)*(Alternativas!AG$24:AG$264))","v":-736.11642328380776},{"$f":"SUMPRODUCT(($Z13=Alternativas!$U$24:$U$264)*('Comparación Alternativas'!$AA13=Alternativas!$V$24:$V$264)*(Alternativas!AH$24:AH$264))","v":27021.857511841648},-736.11642328380776,-800,-392,-1192,16000,-1192,-86304.701509696868,-39072.925833725079,{"$f":"IF($AJ$3=\"Dólares\",AJ13*$AB13,AJ13)","v":-125377.62734342195},4602446.3985373126,{"$f":"AT13","v":-125377.62734342195},-4.6969555183398759,-2.3015082039865389,-6.9984637223264148,93.939110366797507,-6.9984637223264148,-506.71168001830813,-229.40474326549963,-736.11642328380776,27021.857511841648,-736.11642328380776]
[null,null,null,null,null,null,null,null,null,null,null,null,null,null,"Año 5",null,194.37648450000003,0.09,9,null,323.79114819862917,0.20712083979512852,-0.11712083979512852,null,null,8,2022,{"$f":"(AB18-AB5)/12+AB13","v":182.04361059463835},{"$f":"SUMPRODUCT(($Z14=Alternativas!$C$24:$C$264)*('Comparación Alternativas'!$AA14=Alternativas!$D$24:$D$264)*(Alternativas!M$24:M$264))","v":-800},{"$f":"SUMPRODUCT(($Z14=Alternativas!$C$24:$C$264)*('Comparación Alternativas'!$AA14=Alternativas!$D$24:$D$264)*(Alternativas!N$24:N$264))","v":-373.33333333333337},{"$f":"SUMPRODUCT(($Z14=Alternativas!$C$24:$C$264)*('Comparación Alternativas'!$AA14=Alternativas!$D$24:$D$264)*(Alternativas!O$24:O$264))","v":-1173.3333333333335},{"$f":"SUMPRODUCT(($Z14=Alternativas!$C$24:$C$264)*('Comparación Alternativas'!$AA14=Alternativas!$D$24:$D$264)*(Alternativas!P$24:P$264))","v":15200},-1173.3333333333335,{"$f":"SUMPRODUCT(($Z14=Alternativas!$U$24:$U$264)*('Comparación Alternativas'!$AA14=Alternativas!$V$24:$V$264)*(Alternativas!AE$24:AE$264))","v":-510.93427735179398},{"$f":"SUMPRODUCT(($Z14=Alternativas!$U$24:$U$264)*('Comparación Alternativas'!$AA14=Alternativas!$V$24:$V$264)*(Alternativas!AF$24:AF$264))","v":-225.18214593201375},{"$f":"SUMPRODUCT(($Z14=Alternativas!$U$24:$U$264)*('Comparación Alternativas'!$AA14=Alternativas!$V$24:$V$264)*(Alternativas!AG$24:AG$264))","v":-736.11642328380776},{"$f":"SUMPRODUCT(($Z14=Alternativas!$U$24:$U$264)*('Comparación Alternativas'!$AA14=Alternativas!$V$24:$V$264)*(Alternativas!AH$24:AH$264))","v":26510.923234489856},-736.11642328380776,-800,-373.33333333333337,-1173.3333333333335,15200,-1173.3333333333335,-93012.320625682929,-40992.970886912539,-134005.29151259549,4826144.1858038213,-134005.29151259549,-4.394551379127404,-2.0507906435927885,-6.445342022720193,83.49647620342067,-6.445342022720193,-510.93427735179398,-225.18214593201375,-736.11642328380788,26510.923234489856,-736.11642328380788]
[null,null,null,null,null,"Alternativa 1",null,"Alternativa 2",null,"Diferencia",null,"Punto Equilibrio U$S",null,null,"Año 6",null,206.03907357000006,0.06,6,null,380.09756449143458,0.17389733044296918,-0.11389733044296918,null,null,9,2022,{"$f":"(AB18-AB5)/12+AB14","v":193.7641263938724},{"$f":"SUMPRODUCT(($Z15=Alternativas!$C$24:$C$264)*('Comparación Alternativas'!$AA15=Alternativas!$D$24:$D$264)*(Alternativas!M$24:M$264))","v":-800},{"$f":"SUMPRODUCT(($Z15=Alternativas!$C$24:$C$264)*('Comparación Alternativas'!$AA15=Alternativas!$D$24:$D$264)*(Alternativas!N$24:N$264))","v":-354.66666666666669},{"$f":"SUMPRODUCT(($Z15=Alternativas!$C$24:$C$264)*('Comparación Alternativas'!$AA15=Alternativas!$D$24:$D$264)*(Alternativas!O$24:O$264))","v":-1154.6666666666667},{"$f":"SUMPRODUCT(($Z15=Alternativas!$C$24:$C$264)*('Comparación Alternativas'!$AA15=Alternativas!$D$24:$D$264)*(Alternativas!P$24:P$264))","v":14400},-1154.6666666666667,{"$f":"SUMPRODUCT(($Z15=Alternativas!$U$24:$U$264)*('Comparación Alternativas'!$AA15=Alternativas!$V$24:$V$264)*(Alternativas!AE$24:AE$264))","v":-515.19206299639234},{"$f":"SUMPRODUCT(($Z15=Alternativas!$U$24:$U$264)*('Comparación Alternativas'!$AA15=Alternativas!$V$24:$V$264)*(Alternativas!AF$24:AF$264))","v":-220.92436028741545},{"$f":"SUMPRODUCT(($Z15=Alternativas!$U$24:$U$264)*('Comparación Alternativas'!$AA15=Alternativas!$V$24:$V$264)*(Alternativas!AG$24:AG$264))","v":-736.11642328380776},{"$f":"SUMPRODUCT(($Z15=Alternativas!$U$24:$U$264)*('Comparación Alternativas'!$AA15=Alternativas!$V$24:$V$264)*(Alternativas!AH$24:AH$264))","v":25995.731171493462},-736.11642328380776,-800,-354.66666666666669,-1154.6666666666667,14400,-1154.6666666666667,-99825.740011552843,-42807.215670216174,-142632.955681769,5037040.1404143879,-142632.955681769,-4.1287312305364861,-1.8304041788711756,-5.9591354094076614,74.317162149656752,-5.9591354094076614,-515.19206299639234,-220.92436028741545,-736.11642328380776,25995.731171493462,-736.11642328380776]
[null,"Dólares",null,"Monto",null,{"$f":"AZ5","v":0},null,{"$f":"BE5","v":0},null,{"$f":"F16-H16","v":0},null,null,null,null,"Año 7",null,218.40141798420007,0.06,6,null,446.19551626436936,0.17389733044296918,-0.11389733044296918,null,null,10,2022,{"$f":"(AB18-AB5)/12+AB15","v":205.48464219310645},{"$f":"SUMPRODUCT(($Z16=Alternativas!$C$24:$C$264)*('Comparación Alternativas'!$AA16=Alternativas!$D$24:$D$264)*(Alternativas!M$24:M$264))","v":-800},{"$f":"SUMPRODUCT(($Z16=Alternativas!$C$24:$C$264)*('Comparación Alternativas'!$AA16=Alternativas!$D$24:$D$264)*(Alternativas!N$24:N$264))","v":-336},{"$f":"SUMPRODUCT(($Z16=Alternativas!$C$24:$C$264)*('Comparación Alternativas'!$AA16=Alternativas!$D$24:$D$264)*(Alternativas!O$24:O$264))","v":-1136},{"$f":"SUMPRODUCT(($Z16=Alternativas!$C$24:$C$264)*('Comparación Alternativas'!$AA16=Alternativas!$D$24:$D$264)*(Alternativas!P$24:P$264))","v":13600},-1136,{"$f":"SUMPRODUCT(($Z16=Alternativas!$U$24:$U$264)*('Comparación Alternativas'!$AA16=Alternativas!$V$24:$V$264)*(Alternativas!AE$24:AE$264))","v":-519.48533018802891},{"$f":"SUMPRODUCT(($Z16=Alternativas!$U$24:$U$264)*('Comparación Alternativas'!$AA16=Alternativas!$V$24:$V$264)*(Alternativas!AF$24:AF$264))","v":-216.63109309577885},{"$f":"SUMPRODUCT(($Z16=Alternativas!$U$24:$U$264)*('Comparación Alternativas'!$AA16=Alternativas!$V$24:$V$264)*(Alternativas!AG$24:AG$264))","v":-736.11642328380776},{"$f":"SUMPRODUCT(($Z16=Alternativas!$U$24:$U$264)*('Comparación Alternativas'!$AA16=Alternativas!$V$24:$V$264)*(Alternativas!AH$24:AH$264))","v":25476.245841305434},-736.11642328380776,-800,-336,-1136,13600,-1136,-106746.25719825488,-44514.362652687654,-151260.61985094254,5234977.2611242635,-151260.61985094254,-3.8932349953832133,-1.6351586980609496,-5.5283936934441629,66.18499492151463,-5.5283936934441629,-519.48533018802891,-216.63109309577888,-736.11642328380776,25476.245841305434,-736.11642328380776]
[null,null,null,"Gastos",null,{"$f":"AY5","v":0},null,{"$f":"BD5","v":0},null,{"$f":"F17-H17","v":0},null,null,null,null,"Año 8",null,218.40141798420007,0,0,null,{"$f":"U16*(1+R17)","v":446.19551626436936},0,0,null,null,11,2022,{"$f":"(AB18-AB5)/12+AB16","v":217.2051579923405},{"$f":"SUMPRODUCT(($Z17=Alternativas!$C$24:$C$264)*('Comparación Alternativas'!$AA17=Alternativas!$D$24:$D$264)*(Alternativas!M$24:M$264))","v":-800},{"$f":"SUMPRODUCT(($Z17=Alternativas!$C$24:$C$264)*('Comparación Alternativas'!$AA17=Alternativas!$D$24:$D$264)*(Alternativas!N$24:N$264))","v":-317.33333333333337},{"$f":"SUMPRODUCT(($Z17=Alternativas!$C$24:$C$264)*('Comparación Alternativas'!$AA17=Alternativas!$D$24:$D$264)*(Alternativas!O$24:O$264))","v":-1117.3333333333335},{"$f":"SUMPRODUCT(($Z17=Alternativas!$C$24:$C$264)*('Comparación Alternativas'!$AA17=Alternativas!$D$24:$D$264)*(Alternativas!P$24:P$264))","v":12800},-1117.3333333333335,{"$f":"SUMPRODUCT(($Z17=Alternativas!$U$24:$U$264)*('Comparación Alternativas'!$AA17=Alternativas!$V$24:$V$264)*(Alternativas!AE$24:AE$264))","v":-523.8143746062625},{"$f":"SUMPRODUCT(($Z17=Alternativas!$U$24:$U$264)*('Comparación Alternativas'!$AA17=Alternativas!$V$24:$V$264)*(Alternativas!AF$24:AF$264))","v":-212.30204867754529},{"$f":"SUMPRODUCT(($Z17=Alternativas!$U$24:$U$264)*('Comparación Alternativas'!$AA17=Alternativas!$V$24:$V$264)*(Alternativas!AG$24:AG$264))","v":-736.11642328380776},{"$f":"SUMPRODUCT(($Z17=Alternativas!$U$24:$U$264)*('Comparación Alternativas'!$AA17=Alternativas!$V$24:$V$264)*(Alternativas!AH$24:AH$264))","v":24952.43146669917},-736.11642328380776,-800,-317.33333333333337,-1117.3333333333335,12800,-1117.3333333333335,-113775.18399501228,-46113.100025103791,-159888.28402011606,5419796.8190174419,-159888.28402011606,-3.6831537860082086,-1.4609843351165894,-5.1441381211247981,58.930460576131338,-5.1441381211247981,-523.8143746062625,-212.30204867754532,-736.11642328380776,24952.43146669917,-736.11642328380776]
[null,null,null,"Capital",null,{"$f":"SUM(AW5:AW246)","v":-125.29054873060912},null,{"$f":"SUM(BB5:BB246)","v":-17114.317652330112},null,16989.027103599503,null,null,null,null,"Año 9",null,218.40141798420007,0,0,null,446.19551626436936,0,0,null,null,{"$f":"IF(Z17=12,1,Z17+1)","v":12},{"$f":"IF(Z18=1,AA17+1,AA17)","v":2022},{"$f":"U10","v":140.64618959080855},{"$f":"SUMPRODUCT(($Z18=Alternativas!$C$24:$C$264)*('Comparación Alternativas'!$AA18=Alternativas!$D$24:$D$264)*(Alternativas!M$24:M$264))","v":-800},{"$f":"SUMPRODUCT(($Z18=Alternativas!$C$24:$C$264)*('Comparación Alternativas'!$AA18=Alternativas!$D$24:$D$264)*(Alternativas!N$24:N$264))","v":-298.66666666666669},{"$f":"SUMPRODUCT(($Z18=Alternativas!$C$24:$C$264)*('Comparación Alternativas'!$AA18=Alternativas!$D$24:$D$264)*(Alternativas!O$24:O$264))","v":-1098.6666666666667},{"$f":"SUMPRODUCT(($Z18=Alternativas!$C$24:$C$264)*('Comparación Alternativas'!$AA18=Alternativas!$D$24:$D$264)*(Alternativas!P$24:P$264))","v":12000},-1098.6666666666667,{"$f":"SUMPRODUCT(($Z18=Alternativas!$U$24:$U$264)*('Comparación Alternativas'!$AA18=Alternativas!$V$24:$V$264)*(Alternativas!AE$24:AE$264))","v":-528.17949439464803},{"$f":"SUMPRODUCT(($Z18=Alternativas!$U$24:$U$264)*('Comparación Alternativas'!$AA18=Alternativas!$V$24:$V$264)*(Alternativas!AF$24:AF$264))","v":-207.93692888915976},{"$f":"SUMPRODUCT(($Z18=Alternativas!$U$24:$U$264)*('Comparación Alternativas'!$AA18=Alternativas!$V$24:$V$264)*(Alternativas!AG$24:AG$264))","v":-736.11642328380776},{"$f":"SUMPRODUCT(($Z18=Alternativas!$U$24:$U$264)*('Comparación Alternativas'!$AA18=Alternativas!$V$24:$V$264)*(Alternativas!AH$24:AH$264))","v":24424.251972304522},-736.11642328380776,-800,-298.66666666666669,-1098.6666666666667,12000,-1098.6666666666667,-74286.433306607069,-29245.536723475238,-103531.9700300823,3435177.9735104213,-103531.9700300823,-5.6880318075270582,-2.1235318748101015,-7.8115636823371597,85.320477112905863,-7.8115636823371597,-528.17949439464803,-207.93692888915976,-736.11642328380776,24424.251972304522,-736.11642328380776]
[null,null,null,"Intereses",null,{"$f":"SUM(AX5:AX246)","v":-42.487773191037896},null,{"$f":"SUM(BC5:BC246)","v":-5705.2914694679312},null,5662.8036962768929,null,null,null,null,"Año 10",null,218.40141798420007,{"$f":"$S$19/100","v":0},0,null,446.19551626436936,0,0,null,null,{"$f":"IF(Z18=12,1,Z18+1)","v":1},2023,{"$f":"(AB30-AB18)/12+AB18","v":143.85254599851393},{"$f":"SUMPRODUCT(($Z19=Alternativas!$C$24:$C$264)*('Comparación Alternativas'!$AA19=Alternativas!$D$24:$D$264)*(Alternativas!M$24:M$264))","v":-800},{"$f":"SUMPRODUCT(($Z19=Alternativas!$C$24:$C$264)*('Comparación Alternativas'!$AA19=Alternativas!$D$24:$D$264)*(Alternativas!N$24:N$264))","v":-280},{"$f":"SUMPRODUCT(($Z19=Alternativas!$C$24:$C$264)*('Comparación Alternativas'!$AA19=Alternativas!$D$24:$D$264)*(Alternativas!O$24:O$264))","v":-1080},{"$f":"SUMPRODUCT(($Z19=Alternativas!$C$24:$C$264)*('Comparación Alternativas'!$AA19=Alternativas!$D$24:$D$264)*(Alternativas!P$24:P$264))","v":11200},-1080,{"$f":"SUMPRODUCT(($Z19=Alternativas!$U$24:$U$264)*('Comparación Alternativas'!$AA19=Alternativas!$V$24:$V$264)*(Alternativas!AE$24:AE$264))","v":-532.58099018127007},{"$f":"SUMPRODUCT(($Z19=Alternativas!$U$24:$U$264)*('Comparación Alternativas'!$AA19=Alternativas!$V$24:$V$264)*(Alternativas!AF$24:AF$264))","v":-203.5354331025377},{"$f":"SUMPRODUCT(($Z19=Alternativas!$U$24:$U$264)*('Comparación Alternativas'!$AA19=Alternativas!$V$24:$V$264)*(Alternativas!AG$24:AG$264))","v":-736.11642328380776},{"$f":"SUMPRODUCT(($Z19=Alternativas!$U$24:$U$264)*('Comparación Alternativas'!$AA19=Alternativas!$V$24:$V$264)*(Alternativas!AH$24:AH$264))","v":23891.670982123251},-736.11642328380776,-800,-280,-1080,11200,-1080,-76613.131387985253,-29279.090252710259,-105892.22164069551,3436877.6989372456,-105892.22164069551,-5.5612501985767038,-1.9464375695018463,-7.5076877680785499,77.857502780073844,-7.5076877680785499,-532.58099018127007,-203.5354331025377,-736.11642328380776,23891.670982123251,-736.11642328380776]
[null,null,null,"Total",null,{"$f":"SUM(F16:F19)","v":-167.77832192164701},null,{"$f":"SUM(H16:H19)","v":-22819.609121798043},null,{"$f":"F20-H20","v":22651.830799876396},null,null,null,null,"Año 11",null,218.40141798420007,{"$f":"$S$19/100","v":0},null,null,446.19551626436936,0,0,null,null,2,2023,{"$f":"(AB30-AB18)/12+AB19","v":147.05890240621932},{"$f":"SUMPRODUCT(($Z20=Alternativas!$C$24:$C$264)*('Comparación Alternativas'!$AA20=Alternativas!$D$24:$D$264)*(Alternativas!M$24:M$264))","v":-800},{"$f":"SUMPRODUCT(($Z20=Alternativas!$C$24:$C$264)*('Comparación Alternativas'!$AA20=Alternativas!$D$24:$D$264)*(Alternativas!N$24:N$264))","v":-261.33333333333337},{"$f":"SUMPRODUCT(($Z20=Alternativas!$C$24:$C$264)*('Comparación Alternativas'!$AA20=Alternativas!$D$24:$D$264)*(Alternativas!O$24:O$264))","v":-1061.3333333333335},{"$f":"SUMPRODUCT(($Z20=Alternativas!$C$24:$C$264)*('Comparación Alternativas'!$AA20=Alternativas!$D$24:$D$264)*(Alternativas!P$24:P$264))","v":10400},-1061.3333333333335,{"$f":"SUMPRODUCT(($Z20=Alternativas!$U$24:$U$264)*('Comparación Alternativas'!$AA20=Alternativas!$V$24:$V$264)*(Alternativas!AE$24:AE$264))","v":-537.01916509944738},{"$f":"SUMPRODUCT(($Z20=Alternativas!$U$24:$U$264)*('Comparación Alternativas'!$AA20=Alternativas!$V$24:$V$264)*(Alternativas!AF$24:AF$264))","v":-199.09725818436041},{"$f":"SUMPRODUCT(($Z20=Alternativas!$U$24:$U$264)*('Comparación Alternativas'!$AA20=Alternativas!$V$24:$V$264)*(Alternativas!AG$24:AG$264))","v":-736.11642328380776},{"$f":"SUMPRODUCT(($Z20=Alternativas!$U$24:$U$264)*('Comparación Alternativas'!$AA20=Alternativas!$V$24:$V$264)*(Alternativas!AH$24:AH$264))","v":23354.651817023805},-736.11642328380776,-800,-261.33333333333337,-1061.3333333333335,10400,-1061.3333333333335,-78973.448990629011,-29279.024260679707,-108252.47325130872,3434509.4622909366,-108252.47325130872,-5.4399970821907004,-1.7770657135156289,-7.2170627957063296,70.719962068479106,-7.2170627957063296,-537.01916509944738,-199.09725818436041,-736.11642328380776,23354.651817023805,-736.11642328380776]
[null,null,null,"TIR Equivalente Anual",null,{"$f":"BA3","v":-0.14965423199138184},null,{"$f":"BF3","v":-6.5265668689871825E-2},null,{"$f":"F21-H21","v":-8.4388563301510011E-2},null,null,null,null,"Año 12",null,218.40141798420007,0,null,null,446.19551626436936,0,0,null,null,3,2023,{"$f":"(AB30-AB18)/12+AB20","v":150.2652588139247},{"$f":"SUMPRODUCT(($Z21=Alternativas!$C$24:$C$264)*('Comparación Alternativas'!$AA21=Alternativas!$D$24:$D$264)*(Alternativas!M$24:M$264))","v":-800},{"$f":"SUMPRODUCT(($Z21=Alternativas!$C$24:$C$264)*('Comparación Alternativas'!$AA21=Alternativas!$D$24:$D$264)*(Alternativas!N$24:N$264))","v":-242.66666666666669},{"$f":"SUMPRODUCT(($Z21=Alternativas!$C$24:$C$264)*('Comparación Alternativas'!$AA21=Alternativas!$D$24:$D$264)*(Alternativas!O$24:O$264))","v":-1042.6666666666667},{"$f":"SUMPRODUCT(($Z21=Alternativas!$C$24:$C$264)*('Comparación Alternativas'!$AA21=Alternativas!$D$24:$D$264)*(Alternativas!P$24:P$264))","v":9600},-1042.6666666666667,{"$f":"SUMPRODUCT(($Z21=Alternativas!$U$24:$U$264)*('Comparación Alternativas'!$AA21=Alternativas!$V$24:$V$264)*(Alternativas!AE$24:AE$264))","v":-541.49432480860935},{"$f":"SUMPRODUCT(($Z21=Alternativas!$U$24:$U$264)*('Comparación Alternativas'!$AA21=Alternativas!$V$24:$V$264)*(Alternativas!AF$24:AF$264))","v":-194.62209847519838},{"$f":"SUMPRODUCT(($Z21=Alternativas!$U$24:$U$264)*('Comparación Alternativas'!$AA21=Alternativas!$V$24:$V$264)*(Alternativas!AG$24:AG$264))","v":-736.11642328380776},{"$f":"SUMPRODUCT(($Z21=Alternativas!$U$24:$U$264)*('Comparación Alternativas'!$AA21=Alternativas!$V$24:$V$264)*(Alternativas!AH$24:AH$264))","v":22813.157492215196},-736.11642328380776,-800,-242.66666666666669,-1042.6666666666667,9600,-1042.6666666666667,-81367.784863637091,-29244.939998284826,-110612.72486192192,3428025.0149305416,-110612.72486192192,-5.3239185578527488,-1.614921962548667,-6.9388405204014161,63.887022694232982,-6.9388405204014161,-541.49432480860935,-194.62209847519838,-736.11642328380776,22813.157492215196,-736.11642328380776]
[null,null,null,null,null,null,null,null,null,null,null,null,null,null,"Año 13",null,218.40141798420007,0,null,null,446.19551626436936,0,0,null,null,4,2023,{"$f":"(AB30-AB18)/12+AB21","v":153.47161522163009},{"$f":"SUMPRODUCT(($Z22=Alternativas!$C$24:$C$264)*('Comparación Alternativas'!$AA22=Alternativas!$D$24:$D$264)*(Alternativas!M$24:M$264))","v":-800},{"$f":"SUMPRODUCT(($Z22=Alternativas!$C$24:$C$264)*('Comparación Alternativas'!$AA22=Alternativas!$D$24:$D$264)*(Alternativas!N$24:N$264))","v":-224},{"$f":"SUMPRODUCT(($Z22=Alternativas!$C$24:$C$264)*('Comparación Alternativas'!$AA22=Alternativas!$D$24:$D$264)*(Alternativas!O$24:O$264))","v":-1024},{"$f":"SUMPRODUCT(($Z22=Alternativas!$C$24:$C$264)*('Comparación Alternativas'!$AA22=Alternativas!$D$24:$D$264)*(Alternativas!P$24:P$264))","v":8800},-1024,{"$f":"SUMPRODUCT(($Z22=Alternativas!$U$24:$U$264)*('Comparación Alternativas'!$AA22=Alternativas!$V$24:$V$264)*(Alternativas!AE$24:AE$264))","v":-546.00677751534784},{"$f":"SUMPRODUCT(($Z22=Alternativas!$U$24:$U$264)*('Comparación Alternativas'!$AA22=Alternativas!$V$24:$V$264)*(Alternativas!AF$24:AF$264))","v":-190.10964576845996},{"$f":"SUMPRODUCT(($Z22=Alternativas!$U$24:$U$264)*('Comparación Alternativas'!$AA22=Alternativas!$V$24:$V$264)*(Alternativas!AG$24:AG$264))","v":-736.11642328380776},{"$f":"SUMPRODUCT(($Z22=Alternativas!$U$24:$U$264)*('Comparación Alternativas'!$AA22=Alternativas!$V$24:$V$264)*(Alternativas!AH$24:AH$264))","v":22267.150714699848},-736.11642328380776,-800,-224,-1024,8800,-1024,-83796.542067237649,-29176.434405297485,-112972.97647253513,3417375.5865684603,-112972.97647253513,-5.2126903000578384,-1.4595532840161947,-6.6722435840740326,57.339593300636217,-6.6722435840740326,-546.00677751534784,-190.10964576845996,-736.11642328380776,22267.150714699848,-736.11642328380776]
[null,null,null,null,null,"Alternativa 1",null,"Alternativa 2",null,null,null,"Esperado = Ajustado",null,null,"Año 14",null,218.40141798420007,0,null,null,446.19551626436936,0,0,null,null,5,2023,{"$f":"(AB30-AB18)/12+AB22","v":156.67797162933547},{"$f":"SUMPRODUCT(($Z23=Alternativas!$C$24:$C$264)*('Comparación Alternativas'!$AA23=Alternativas!$D$24:$D$264)*(Alternativas!M$24:M$264))","v":-800},{"$f":"SUMPRODUCT(($Z23=Alternativas!$C$24:$C$264)*('Comparación Alternativas'!$AA23=Alternativas!$D$24:$D$264)*(Alternativas!N$24:N$264))","v":-205.33333333333334},{"$f":"SUMPRODUCT(($Z23=Alternativas!$C$24:$C$264)*('Comparación Alternativas'!$AA23=Alternativas!$D$24:$D$264)*(Alternativas!O$24:O$264))","v":-1005.3333333333334},{"$f":"SUMPRODUCT(($Z23=Alternativas!$C$24:$C$264)*('Comparación Alternativas'!$AA23=Alternativas!$D$24:$D$264)*(Alternativas!P$24:P$264))","v":8000},-1005.3333333333334,{"$f":"SUMPRODUCT(($Z23=Alternativas!$U$24:$U$264)*('Comparación Alternativas'!$AA23=Alternativas!$V$24:$V$264)*(Alternativas!AE$24:AE$264))","v":-550.55683399464237},{"$f":"SUMPRODUCT(($Z23=Alternativas!$U$24:$U$264)*('Comparación Alternativas'!$AA23=Alternativas!$V$24:$V$264)*(Alternativas!AF$24:AF$264))","v":-185.55958928916542},{"$f":"SUMPRODUCT(($Z23=Alternativas!$U$24:$U$264)*('Comparación Alternativas'!$AA23=Alternativas!$V$24:$V$264)*(Alternativas!AG$24:AG$264))","v":-736.11642328380776},{"$f":"SUMPRODUCT(($Z23=Alternativas!$U$24:$U$264)*('Comparación Alternativas'!$AA23=Alternativas!$V$24:$V$264)*(Alternativas!AH$24:AH$264))","v":21716.593880705204},-736.11642328380776,-800,-205.33333333333334,-1005.3333333333334,8000,-1005.3333333333334,-86260.12801694934,-29073.100066199,-115333.22808314834,3402511.8799269302,-115333.22808314834,-5.1060145321042221,-1.3105437299067504,-6.4165582620109731,51.060145321042221,-6.4165582620109731,-550.55683399464237,-185.55958928916542,-736.11642328380776,21716.593880705204,-736.11642328380776]
[null,"Descripción",null,"Entidad Bancaria",null,{"$f":"Alternativas!C9","v":"BBVA"},null,{"$f":"Alternativas!U9","v":"Santander"},null,null,null,{"$f":"V9","v":1.1074503117386501},null,null,"Año 15",null,218.40141798420007,0,null,null,446.19551626436936,0,0,null,null,6,2023,{"$f":"(AB30-AB18)/12+AB23","v":159.88432803704086},{"$f":"SUMPRODUCT(($Z24=Alternativas!$C$24:$C$264)*('Comparación Alternativas'!$AA24=Alternativas!$D$24:$D$264)*(Alternativas!M$24:M$264))","v":-800},{"$f":"SUMPRODUCT(($Z24=Alternativas!$C$24:$C$264)*('Comparación Alternativas'!$AA24=Alternativas!$D$24:$D$264)*(Alternativas!N$24:N$264))","v":-186.66666666666669},{"$f":"SUMPRODUCT(($Z24=Alternativas!$C$24:$C$264)*('Comparación Alternativas'!$AA24=Alternativas!$D$24:$D$264)*(Alternativas!O$24:O$264))","v":-986.66666666666674},{"$f":"SUMPRODUCT(($Z24=Alternativas!$C$24:$C$264)*('Comparación Alternativas'!$AA24=Alternativas!$D$24:$D$264)*(Alternativas!P$24:P$264))","v":7200},-986.66666666666674,{"$f":"SUMPRODUCT(($Z24=Alternativas!$U$24:$U$264)*('Comparación Alternativas'!$AA24=Alternativas!$V$24:$V$264)*(Alternativas!AE$24:AE$264))","v":-555.14480761126435},{"$f":"SUMPRODUCT(($Z24=Alternativas!$U$24:$U$264)*('Comparación Alternativas'!$AA24=Alternativas!$V$24:$V$264)*(Alternativas!AF$24:AF$264))","v":-180.97161567254338},{"$f":"SUMPRODUCT(($Z24=Alternativas!$U$24:$U$264)*('Comparación Alternativas'!$AA24=Alternativas!$V$24:$V$264)*(Alternativas!AG$24:AG$264))","v":-736.11642328380776},{"$f":"SUMPRODUCT(($Z24=Alternativas!$U$24:$U$264)*('Comparación Alternativas'!$AA24=Alternativas!$V$24:$V$264)*(Alternativas!AH$24:AH$264))","v":21161.44907309394},-736.11642328380776,-800,-186.66666666666669,-986.66666666666674,7200,-986.66666666666674,-88758.954528179325,-28934.52516558221,-117693.47969376155,3383384.0653416859,-117693.47969376155,-5.0036173640149499,-1.1675107182701552,-6.1711280822851062,45.032556276134549,-6.1711280822851062,-555.14480761126435,-180.97161567254338,-736.11642328380776,21161.44907309394,-736.11642328380776]
[null,null,null,"Línea Crediticia",null,{"$f":"Alternativas!C10","v":"Sola Firma"},null,{"$f":"Alternativas!U10","v":"Sola Firma"},null,null,null,null,null,null,"Año 16",null,218.40141798420007,0,null,null,446.19551626436936,0,0,null,null,7,2023,{"$f":"(AB30-AB18)/12+AB24","v":163.09068444474624},{"$f":"SUMPRODUCT(($Z25=Alternativas!$C$24:$C$264)*('Comparación Alternativas'!$AA25=Alternativas!$D$24:$D$264)*(Alternativas!M$24:M$264))","v":-800},{"$f":"SUMPRODUCT(($Z25=Alternativas!$C$24:$C$264)*('Comparación Alternativas'!$AA25=Alternativas!$D$24:$D$264)*(Alternativas!N$24:N$264))","v":-168},{"$f":"SUMPRODUCT(($Z25=Alternativas!$C$24:$C$264)*('Comparación Alternativas'!$AA25=Alternativas!$D$24:$D$264)*(Alternativas!O$24:O$264))","v":-968},{"$f":"SUMPRODUCT(($Z25=Alternativas!$C$24:$C$264)*('Comparación Alternativas'!$AA25=Alternativas!$D$24:$D$264)*(Alternativas!P$24:P$264))","v":6400},-968,{"$f":"SUMPRODUCT(($Z25=Alternativas!$U$24:$U$264)*('Comparación Alternativas'!$AA25=Alternativas!$V$24:$V$264)*(Alternativas!AE$24:AE$264))","v":-559.7710143413583},{"$f":"SUMPRODUCT(($Z25=Alternativas!$U$24:$U$264)*('Comparación Alternativas'!$AA25=Alternativas!$V$24:$V$264)*(Alternativas!AF$24:AF$264))","v":-176.3454089424495},{"$f":"SUMPRODUCT(($Z25=Alternativas!$U$24:$U$264)*('Comparación Alternativas'!$AA25=Alternativas!$V$24:$V$264)*(Alternativas!AG$24:AG$264))","v":-736.11642328380776},{"$f":"SUMPRODUCT(($Z25=Alternativas!$U$24:$U$264)*('Comparación Alternativas'!$AA25=Alternativas!$V$24:$V$264)*(Alternativas!AH$24:AH$264))","v":20601.678058752583},-736.11642328380776,-800,-168,-968,6400,-968,-91293.437861261991,-28760.293443112761,-120053.73130437474,3359941.77531227,-120053.73130437474,-4.9052464444775401,-1.0301017533402834,-5.9353481978178237,39.241971555820321,-5.9353481978178237,-559.7710143413583,-176.3454089424495,-736.11642328380776,20601.678058752583,-736.11642328380776]
[null,null,null,"Moneda",null,{"$f":"Alternativas!C11","v":"Dólares"},null,{"$f":"Alternativas!U11","v":"Dólares"},null,null,null,null,null,null,"Año 17",null,218.40141798420007,0,null,null,446.19551626436936,0,0,null,null,8,2023,{"$f":"(AB30-AB18)/12+AB25","v":166.29704085245163},{"$f":"SUMPRODUCT(($Z26=Alternativas!$C$24:$C$264)*('Comparación Alternativas'!$AA26=Alternativas!$D$24:$D$264)*(Alternativas!M$24:M$264))","v":-800},{"$f":"SUMPRODUCT(($Z26=Alternativas!$C$24:$C$264)*('Comparación Alternativas'!$AA26=Alternativas!$D$24:$D$264)*(Alternativas!N$24:N$264))","v":-149.33333333333334},{"$f":"SUMPRODUCT(($Z26=Alternativas!$C$24:$C$264)*('Comparación Alternativas'!$AA26=Alternativas!$D$24:$D$264)*(Alternativas!O$24:O$264))","v":-949.33333333333337},{"$f":"SUMPRODUCT(($Z26=Alternativas!$C$24:$C$264)*('Comparación Alternativas'!$AA26=Alternativas!$D$24:$D$264)*(Alternativas!P$24:P$264))","v":5600},-949.33333333333337,{"$f":"SUMPRODUCT(($Z26=Alternativas!$U$24:$U$264)*('Comparación Alternativas'!$AA26=Alternativas!$V$24:$V$264)*(Alternativas!AE$24:AE$264))","v":-564.43577279420288},{"$f":"SUMPRODUCT(($Z26=Alternativas!$U$24:$U$264)*('Comparación Alternativas'!$AA26=Alternativas!$V$24:$V$264)*(Alternativas!AF$24:AF$264))","v":-171.68065048960486},{"$f":"SUMPRODUCT(($Z26=Alternativas!$U$24:$U$264)*('Comparación Alternativas'!$AA26=Alternativas!$V$24:$V$264)*(Alternativas!AG$24:AG$264))","v":-736.11642328380776},{"$f":"SUMPRODUCT(($Z26=Alternativas!$U$24:$U$264)*('Comparación Alternativas'!$AA26=Alternativas!$V$24:$V$264)*(Alternativas!AH$24:AH$264))","v":20037.242285958378},-736.11642328380776,-800,-149.33333333333334,-949.33333333333337,5600,-949.33333333333337,-93863.998766942663,-28549.984148045289,-122413.98291498795,3332134.0989984917,-122413.98291498795,-4.8106688844199361,-0.89799152509172142,-5.7086604095116575,33.674682190939549,-5.7086604095116575,-564.43577279420288,-171.68065048960486,-736.11642328380776,20037.242285958378,-736.11642328380776]
[null,null,null,"Monto",null,{"$f":"Alternativas!D12","v":20000},null,{"$f":"Alternativas!V12","v":30000},null,null,null,null,null,null,"Año 18",null,218.40141798420007,0,null,null,446.19551626436936,0,0,null,null,9,2023,{"$f":"(AB30-AB18)/12+AB26","v":169.50339726015702},{"$f":"SUMPRODUCT(($Z27=Alternativas!$C$24:$C$264)*('Comparación Alternativas'!$AA27=Alternativas!$D$24:$D$264)*(Alternativas!M$24:M$264))","v":-800},{"$f":"SUMPRODUCT(($Z27=Alternativas!$C$24:$C$264)*('Comparación Alternativas'!$AA27=Alternativas!$D$24:$D$264)*(Alternativas!N$24:N$264))","v":-130.66666666666669},{"$f":"SUMPRODUCT(($Z27=Alternativas!$C$24:$C$264)*('Comparación Alternativas'!$AA27=Alternativas!$D$24:$D$264)*(Alternativas!O$24:O$264))","v":-930.66666666666674},{"$f":"SUMPRODUCT(($Z27=Alternativas!$C$24:$C$264)*('Comparación Alternativas'!$AA27=Alternativas!$D$24:$D$264)*(Alternativas!P$24:P$264))","v":4800},-930.66666666666674,{"$f":"SUMPRODUCT(($Z27=Alternativas!$U$24:$U$264)*('Comparación Alternativas'!$AA27=Alternativas!$V$24:$V$264)*(Alternativas!AE$24:AE$264))","v":-569.13940423415465},{"$f":"SUMPRODUCT(($Z27=Alternativas!$U$24:$U$264)*('Comparación Alternativas'!$AA27=Alternativas!$V$24:$V$264)*(Alternativas!AF$24:AF$264))","v":-166.97701904965317},{"$f":"SUMPRODUCT(($Z27=Alternativas!$U$24:$U$264)*('Comparación Alternativas'!$AA27=Alternativas!$V$24:$V$264)*(Alternativas!AG$24:AG$264))","v":-736.11642328380776},{"$f":"SUMPRODUCT(($Z27=Alternativas!$U$24:$U$264)*('Comparación Alternativas'!$AA27=Alternativas!$V$24:$V$264)*(Alternativas!AH$24:AH$264))","v":19468.102881724222},-736.11642328380776,-800,-130.66666666666669,-930.66666666666674,4800,-930.66666666666674,-96471.062532311,-28303.171993290165,-124774.23452560116,3299909.5766625083,-124774.23452560116,-4.7196694162545008,-0.77087933798823527,-5.4905487542427363,28.318016497527005,-5.4905487542427363,-569.13940423415465,-166.97701904965317,-736.11642328380776,19468.102881724222,-736.11642328380776]
[null,null,null,"Gastos Otorgamiento",null,{"$f":"Alternativas!C13","v":0},null,{"$f":"Alternativas!U13","v":5000},null,null,null,null,null,null,"Año 19",null,218.40141798420007,0,null,null,446.19551626436936,0,0,null,null,10,2023,{"$f":"(AB30-AB18)/12+AB27","v":172.7097536678624},{"$f":"SUMPRODUCT(($Z28=Alternativas!$C$24:$C$264)*('Comparación Alternativas'!$AA28=Alternativas!$D$24:$D$264)*(Alternativas!M$24:M$264))","v":-800},{"$f":"SUMPRODUCT(($Z28=Alternativas!$C$24:$C$264)*('Comparación Alternativas'!$AA28=Alternativas!$D$24:$D$264)*(Alternativas!N$24:N$264))","v":-112},{"$f":"SUMPRODUCT(($Z28=Alternativas!$C$24:$C$264)*('Comparación Alternativas'!$AA28=Alternativas!$D$24:$D$264)*(Alternativas!O$24:O$264))","v":-912},{"$f":"SUMPRODUCT(($Z28=Alternativas!$C$24:$C$264)*('Comparación Alternativas'!$AA28=Alternativas!$D$24:$D$264)*(Alternativas!P$24:P$264))","v":4000},-912,{"$f":"SUMPRODUCT(($Z28=Alternativas!$U$24:$U$264)*('Comparación Alternativas'!$AA28=Alternativas!$V$24:$V$264)*(Alternativas!AE$24:AE$264))","v":-573.88223260277255},{"$f":"SUMPRODUCT(($Z28=Alternativas!$U$24:$U$264)*('Comparación Alternativas'!$AA28=Alternativas!$V$24:$V$264)*(Alternativas!AF$24:AF$264))","v":-162.23419068103519},{"$f":"SUMPRODUCT(($Z28=Alternativas!$U$24:$U$264)*('Comparación Alternativas'!$AA28=Alternativas!$V$24:$V$264)*(Alternativas!AG$24:AG$264))","v":-736.11642328380776},{"$f":"SUMPRODUCT(($Z28=Alternativas!$U$24:$U$264)*('Comparación Alternativas'!$AA28=Alternativas!$V$24:$V$264)*(Alternativas!AH$24:AH$264))","v":18894.220649121449},-736.11642328380776,-800,-112,-912,4000,-912,-99115.059027187759,-28019.427109026605,-127134.48613621437,3263216.1940560048,-127134.48613621437,-4.6320487581638128,-0.64848682614293374,-5.2805355843067465,23.160243790819063,-5.2805355843067465,-573.88223260277255,-162.23419068103519,-736.11642328380776,18894.220649121449,-736.11642328380776]
[null,null,null,"Sistema amortización",null,{"$f":"Alternativas!C14","v":"Alemán"},null,{"$f":"Alternativas!U14","v":"Francés"},null,null,null,null,null,null,"Año 20",null,218.40141798420007,0,null,null,446.19551626436936,0,0,null,null,11,2023,{"$f":"(AB30-AB18)/12+AB28","v":175.91611007556779},{"$f":"SUMPRODUCT(($Z29=Alternativas!$C$24:$C$264)*('Comparación Alternativas'!$AA29=Alternativas!$D$24:$D$264)*(Alternativas!M$24:M$264))","v":-800},{"$f":"SUMPRODUCT(($Z29=Alternativas!$C$24:$C$264)*('Comparación Alternativas'!$AA29=Alternativas!$D$24:$D$264)*(Alternativas!N$24:N$264))","v":-93.333333333333343},{"$f":"SUMPRODUCT(($Z29=Alternativas!$C$24:$C$264)*('Comparación Alternativas'!$AA29=Alternativas!$D$24:$D$264)*(Alternativas!O$24:O$264))","v":-893.33333333333337},{"$f":"SUMPRODUCT(($Z29=Alternativas!$C$24:$C$264)*('Comparación Alternativas'!$AA29=Alternativas!$D$24:$D$264)*(Alternativas!P$24:P$264))","v":3200},-893.33333333333337,{"$f":"SUMPRODUCT(($Z29=Alternativas!$U$24:$U$264)*('Comparación Alternativas'!$AA29=Alternativas!$V$24:$V$264)*(Alternativas!AE$24:AE$264))","v":-578.66458454112899},{"$f":"SUMPRODUCT(($Z29=Alternativas!$U$24:$U$264)*('Comparación Alternativas'!$AA29=Alternativas!$V$24:$V$264)*(Alternativas!AF$24:AF$264))","v":-157.45183874267875},{"$f":"SUMPRODUCT(($Z29=Alternativas!$U$24:$U$264)*('Comparación Alternativas'!$AA29=Alternativas!$V$24:$V$264)*(Alternativas!AG$24:AG$264))","v":-736.11642328380776},{"$f":"SUMPRODUCT(($Z29=Alternativas!$U$24:$U$264)*('Comparación Alternativas'!$AA29=Alternativas!$V$24:$V$264)*(Alternativas!AH$24:AH$264))","v":18315.55606458032},-736.11642328380776,-800,-93.333333333333343,-893.33333333333337,3200,-893.33333333333337,-101796.42275096994,-27698.314995857621,-129494.73774682758,3222001.3767519449,-129494.73774682758,-4.5476221572677238,-0.53055591834790117,-5.0781780756156252,18.190488629070895,-5.0781780756156252,-578.66458454112899,-157.45183874267875,-736.11642328380776,18315.55606458032,-736.11642328380776]
[null,null,null,"Tasa anual",null,{"$f":"Alternativas!C15","v":0.28000000000000003},null,{"$f":"Alternativas!U15","v":0.1},null,null,null,null,null,null,null,null,null,null,null,null,null,null,null,null,null,12,2023,{"$f":"U11","v":179.12246648327331},{"$f":"SUMPRODUCT(($Z30=Alternativas!$C$24:$C$264)*('Comparación Alternativas'!$AA30=Alternativas!$D$24:$D$264)*(Alternativas!M$24:M$264))","v":-800},{"$f":"SUMPRODUCT(($Z30=Alternativas!$C$24:$C$264)*('Comparación Alternativas'!$AA30=Alternativas!$D$24:$D$264)*(Alternativas!N$24:N$264))","v":-74.666666666666671},{"$f":"SUMPRODUCT(($Z30=Alternativas!$C$24:$C$264)*('Comparación Alternativas'!$AA30=Alternativas!$D$24:$D$264)*(Alternativas!O$24:O$264))","v":-874.66666666666663},{"$f":"SUMPRODUCT(($Z30=Alternativas!$C$24:$C$264)*('Comparación Alternativas'!$AA30=Alternativas!$D$24:$D$264)*(Alternativas!P$24:P$264))","v":2400},-874.66666666666663,{"$f":"SUMPRODUCT(($Z30=Alternativas!$U$24:$U$264)*('Comparación Alternativas'!$AA30=Alternativas!$V$24:$V$264)*(Alternativas!AE$24:AE$264))","v":-583.48678941230514},{"$f":"SUMPRODUCT(($Z30=Alternativas!$U$24:$U$264)*('Comparación Alternativas'!$AA30=Alternativas!$V$24:$V$264)*(Alternativas!AF$24:AF$264))","v":-152.62963387150268},{"$f":"SUMPRODUCT(($Z30=Alternativas!$U$24:$U$264)*('Comparación Alternativas'!$AA30=Alternativas!$V$24:$V$264)*(Alternativas!AG$24:AG$264))","v":-736.11642328380776},{"$f":"SUMPRODUCT(($Z30=Alternativas!$U$24:$U$264)*('Comparación Alternativas'!$AA30=Alternativas!$V$24:$V$264)*(Alternativas!AH$24:AH$264))","v":17732.069275168014},-736.11642328380776,-800,-74.666666666666671,-874.66666666666663,2400,-874.66666666666663,-104515.59287993838,-27339.396477502516,-131854.98935744088,3176211.9844203633,-131854.98935744088,-4.4662180892574135,-0.41684702166402526,-4.8830651109214385,13.39865426777224,-4.8830651109214385,-583.48678941230514,-152.62963387150268,-736.11642328380776,17732.069275168014,-736.11642328380776]
[null,null,null,null,null,null,null,null,null,null,null,null,null,null,null,null,null,null,null,null,null,null,null,null,null,1,2024,{"$f":"(AB42-AB30)/12+AB30","v":164.19559427633388},{"$f":"SUMPRODUCT(($Z31=Alternativas!$C$24:$C$264)*('Comparación Alternativas'!$AA31=Alternativas!$D$24:$D$264)*(Alternativas!M$24:M$264))","v":-800},{"$f":"SUMPRODUCT(($Z31=Alternativas!$C$24:$C$264)*('Comparación Alternativas'!$AA31=Alternativas!$D$24:$D$264)*(Alternativas!N$24:N$264))","v":-56},{"$f":"SUMPRODUCT(($Z31=Alternativas!$C$24:$C$264)*('Comparación Alternativas'!$AA31=Alternativas!$D$24:$D$264)*(Alternativas!O$24:O$264))","v":-856},{"$f":"SUMPRODUCT(($Z31=Alternativas!$C$24:$C$264)*('Comparación Alternativas'!$AA31=Alternativas!$D$24:$D$264)*(Alternativas!P$24:P$264))","v":1600},-856,{"$f":"SUMPRODUCT(($Z31=Alternativas!$U$24:$U$264)*('Comparación Alternativas'!$AA31=Alternativas!$V$24:$V$264)*(Alternativas!AE$24:AE$264))","v":-588.34917932407427},{"$f":"SUMPRODUCT(($Z31=Alternativas!$U$24:$U$264)*('Comparación Alternativas'!$AA31=Alternativas!$V$24:$V$264)*(Alternativas!AF$24:AF$264))","v":-147.76724395973346},{"$f":"SUMPRODUCT(($Z31=Alternativas!$U$24:$U$264)*('Comparación Alternativas'!$AA31=Alternativas!$V$24:$V$264)*(Alternativas!AG$24:AG$264))","v":-736.11642328380776},{"$f":"SUMPRODUCT(($Z31=Alternativas!$U$24:$U$264)*('Comparación Alternativas'!$AA31=Alternativas!$V$24:$V$264)*(Alternativas!AH$24:AH$264))","v":17143.720095843939},-736.11642328380776,-800,-56,-856,1600,-856,-96604.343141109697,-24262.730436544443,-120867.07357765416,2814923.3092442229,-120867.07357765416,-4.8722379155535416,-0.34105665408874791,-5.2132945696422892,9.7444758311070832,-5.2132945696422892,-588.34917932407427,-147.76724395973346,-736.11642328380776,17143.720095843939,-736.11642328380776]
[null,null,null,null,null,null,null,null,null,null,null,null,null,null,null,null,null,null,null,null,null,null,null,null,null,2,2024,{"$f":"(AB42-AB30)/12+AB31","v":149.26872206939444},{"$f":"SUMPRODUCT(($Z32=Alternativas!$C$24:$C$264)*('Comparación Alternativas'!$AA32=Alternativas!$D$24:$D$264)*(Alternativas!M$24:M$264))","v":-800},{"$f":"SUMPRODUCT(($Z32=Alternativas!$C$24:$C$264)*('Comparación Alternativas'!$AA32=Alternativas!$D$24:$D$264)*(Alternativas!N$24:N$264))","v":-37.333333333333336},{"$f":"SUMPRODUCT(($Z32=Alternativas!$C$24:$C$264)*('Comparación Alternativas'!$AA32=Alternativas!$D$24:$D$264)*(Alternativas!O$24:O$264))","v":-837.33333333333337},{"$f":"SUMPRODUCT(($Z32=Alternativas!$C$24:$C$264)*('Comparación Alternativas'!$AA32=Alternativas!$D$24:$D$264)*(Alternativas!P$24:P$264))","v":800},-837.33333333333337,{"$f":"SUMPRODUCT(($Z32=Alternativas!$U$24:$U$264)*('Comparación Alternativas'!$AA32=Alternativas!$V$24:$V$264)*(Alternativas!AE$24:AE$264))","v":-593.25208915177495},{"$f":"SUMPRODUCT(($Z32=Alternativas!$U$24:$U$264)*('Comparación Alternativas'!$AA32=Alternativas!$V$24:$V$264)*(Alternativas!AF$24:AF$264))","v":-142.86433413203284},{"$f":"SUMPRODUCT(($Z32=Alternativas!$U$24:$U$264)*('Comparación Alternativas'!$AA32=Alternativas!$V$24:$V$264)*(Alternativas!AG$24:AG$264))","v":-736.11642328380776},{"$f":"SUMPRODUCT(($Z32=Alternativas!$U$24:$U$264)*('Comparación Alternativas'!$AA32=Alternativas!$V$24:$V$264)*(Alternativas!AH$24:AH$264))","v":16550.468006692165},-736.11642328380776,-800,-37.333333333333336,-837.33333333333337,800,-837.33333333333337,-88553.98121268391,-21325.176585183512,-109879.15779786742,2470467.2090093372,-109879.15779786742,-5.3594617071088955,-0.25010821299841512,-5.6095699201073108,5.3594617071088955,-5.6095699201073108,-593.25208915177495,-142.86433413203284,-736.11642328380776,16550.468006692165,-736.11642328380776]
[null,null,null,null,null,null,null,null,null,null,null,null,null,null,null,null,null,null,null,null,null,null,null,null,null,3,2024,{"$f":"(AB42-AB30)/12+AB32","v":134.34184986245501},{"$f":"SUMPRODUCT(($Z33=Alternativas!$C$24:$C$264)*('Comparación Alternativas'!$AA33=Alternativas!$D$24:$D$264)*(Alternativas!M$24:M$264))","v":-800},{"$f":"SUMPRODUCT(($Z33=Alternativas!$C$24:$C$264)*('Comparación Alternativas'!$AA33=Alternativas!$D$24:$D$264)*(Alternativas!N$24:N$264))","v":-18.666666666666668},{"$f":"SUMPRODUCT(($Z33=Alternativas!$C$24:$C$264)*('Comparación Alternativas'!$AA33=Alternativas!$D$24:$D$264)*(Alternativas!O$24:O$264))","v":-818.66666666666663},{"$f":"SUMPRODUCT(($Z33=Alternativas!$C$24:$C$264)*('Comparación Alternativas'!$AA33=Alternativas!$D$24:$D$264)*(Alternativas!P$24:P$264))","v":0},-818.66666666666663,{"$f":"SUMPRODUCT(($Z33=Alternativas!$U$24:$U$264)*('Comparación Alternativas'!$AA33=Alternativas!$V$24:$V$264)*(Alternativas!AE$24:AE$264))","v":-598.19585656137303},{"$f":"SUMPRODUCT(($Z33=Alternativas!$U$24:$U$264)*('Comparación Alternativas'!$AA33=Alternativas!$V$24:$V$264)*(Alternativas!AF$24:AF$264))","v":-137.9205667224347},{"$f":"SUMPRODUCT(($Z33=Alternativas!$U$24:$U$264)*('Comparación Alternativas'!$AA33=Alternativas!$V$24:$V$264)*(Alternativas!AG$24:AG$264))","v":-736.11642328380776},{"$f":"SUMPRODUCT(($Z33=Alternativas!$U$24:$U$264)*('Comparación Alternativas'!$AA33=Alternativas!$V$24:$V$264)*(Alternativas!AH$24:AH$264))","v":15952.272150130791},-736.11642328380776,-800,-18.666666666666668,-818.66666666666663,0,-818.66666666666663,-80362.737950510651,-18528.504067570029,-98891.24201808068,2143057.7501578932,-98891.24201808068,-5.9549574523432165,-0.13894900722134174,-6.0939064595645585,0,-6.0939064595645585,-598.19585656137303,-137.9205667224347,-736.11642328380776,15952.272150130791,-736.11642328380776]
[null,null,null,null,null,null,null,null,null,null,null,null,null,null,null,null,null,null,null,null,null,null,null,null,null,4,2024,{"$f":"(AB42-AB30)/12+AB33","v":119.41497765551557},{"$f":"SUMPRODUCT(($Z34=Alternativas!$C$24:$C$264)*('Comparación Alternativas'!$AA34=Alternativas!$D$24:$D$264)*(Alternativas!M$24:M$264))","v":0},{"$f":"SUMPRODUCT(($Z34=Alternativas!$C$24:$C$264)*('Comparación Alternativas'!$AA34=Alternativas!$D$24:$D$264)*(Alternativas!N$24:N$264))","v":0},{"$f":"SUMPRODUCT(($Z34=Alternativas!$C$24:$C$264)*('Comparación Alternativas'!$AA34=Alternativas!$D$24:$D$264)*(Alternativas!O$24:O$264))","v":0},{"$f":"SUMPRODUCT(($Z34=Alternativas!$C$24:$C$264)*('Comparación Alternativas'!$AA34=Alternativas!$D$24:$D$264)*(Alternativas!P$24:P$264))","v":0},0,{"$f":"SUMPRODUCT(($Z34=Alternativas!$U$24:$U$264)*('Comparación Alternativas'!$AA34=Alternativas!$V$24:$V$264)*(Alternativas!AE$24:AE$264))","v":-603.18082203271786},{"$f":"SUMPRODUCT(($Z34=Alternativas!$U$24:$U$264)*('Comparación Alternativas'!$AA34=Alternativas!$V$24:$V$264)*(Alternativas!AF$24:AF$264))","v":-132.93560125108993},{"$f":"SUMPRODUCT(($Z34=Alternativas!$U$24:$U$264)*('Comparación Alternativas'!$AA34=Alternativas!$V$24:$V$264)*(Alternativas!AG$24:AG$264))","v":-736.11642328380776},{"$f":"SUMPRODUCT(($Z34=Alternativas!$U$24:$U$264)*('Comparación Alternativas'!$AA34=Alternativas!$V$24:$V$264)*(Alternativas!AH$24:AH$264))","v":15349.091328098073},-736.11642328380776,0,0,0,0,0,-72028.824385272514,-15874.501853021433,-87903.326238293943,1832911.3979772993,-87903.326238293943,0,0,0,0,0,-603.18082203271786,-132.93560125108993,-736.11642328380776,15349.091328098073,-736.11642328380776]
[null,null,null,null,null,null,null,null,null,null,null,null,null,null,null,null,null,null,null,null,null,null,null,null,null,5,2024,{"$f":"(AB42-AB30)/12+AB34","v":104.48810544857614},{"$f":"SUMPRODUCT(($Z35=Alternativas!$C$24:$C$264)*('Comparación Alternativas'!$AA35=Alternativas!$D$24:$D$264)*(Alternativas!M$24:M$264))","v":0},{"$f":"SUMPRODUCT(($Z35=Alternativas!$C$24:$C$264)*('Comparación Alternativas'!$AA35=Alternativas!$D$24:$D$264)*(Alternativas!N$24:N$264))","v":0},{"$f":"SUMPRODUCT(($Z35=Alternativas!$C$24:$C$264)*('Comparación Alternativas'!$AA35=Alternativas!$D$24:$D$264)*(Alternativas!O$24:O$264))","v":0},{"$f":"SUMPRODUCT(($Z35=Alternativas!$C$24:$C$264)*('Comparación Alternativas'!$AA35=Alternativas!$D$24:$D$264)*(Alternativas!P$24:P$264))","v":0},0,{"$f":"SUMPRODUCT(($Z35=Alternativas!$U$24:$U$264)*('Comparación Alternativas'!$AA35=Alternativas!$V$24:$V$264)*(Alternativas!AE$24:AE$264))","v":-608.20732888299051},{"$f":"SUMPRODUCT(($Z35=Alternativas!$U$24:$U$264)*('Comparación Alternativas'!$AA35=Alternativas!$V$24:$V$264)*(Alternativas!AF$24:AF$264))","v":-127.9090944008173},{"$f":"SUMPRODUCT(($Z35=Alternativas!$U$24:$U$264)*('Comparación Alternativas'!$AA35=Alternativas!$V$24:$V$264)*(Alternativas!AG$24:AG$264))","v":-736.11642328380776},{"$f":"SUMPRODUCT(($Z35=Alternativas!$U$24:$U$264)*('Comparación Alternativas'!$AA35=Alternativas!$V$24:$V$264)*(Alternativas!AH$24:AH$264))","v":14740.883999215082},-736.11642328380776,0,0,0,0,0,-63550.43151492274,-13364.978943584478,-76915.410458507205,1540247.0417152143,-76915.410458507205,0,0,0,0,0,-608.20732888299051,-127.90909440081731,-736.11642328380776,14740.883999215082,-736.11642328380776]
[null,null,null,null,null,null,null,null,null,null,null,null,null,null,null,null,null,null,null,null,null,null,null,null,null,6,2024,{"$f":"(AB42-AB30)/12+AB35","v":89.5612332416367},{"$f":"SUMPRODUCT(($Z36=Alternativas!$C$24:$C$264)*('Comparación Alternativas'!$AA36=Alternativas!$D$24:$D$264)*(Alternativas!M$24:M$264))","v":0},{"$f":"SUMPRODUCT(($Z36=Alternativas!$C$24:$C$264)*('Comparación Alternativas'!$AA36=Alternativas!$D$24:$D$264)*(Alternativas!N$24:N$264))","v":0},{"$f":"SUMPRODUCT(($Z36=Alternativas!$C$24:$C$264)*('Comparación Alternativas'!$AA36=Alternativas!$D$24:$D$264)*(Alternativas!O$24:O$264))","v":0},{"$f":"SUMPRODUCT(($Z36=Alternativas!$C$24:$C$264)*('Comparación Alternativas'!$AA36=Alternativas!$D$24:$D$264)*(Alternativas!P$24:P$264))","v":0},0,{"$f":"SUMPRODUCT(($Z36=Alternativas!$U$24:$U$264)*('Comparación Alternativas'!$AA36=Alternativas!$V$24:$V$264)*(Alternativas!AE$24:AE$264))","v":-613.27572329034876},{"$f":"SUMPRODUCT(($Z36=Alternativas!$U$24:$U$264)*('Comparación Alternativas'!$AA36=Alternativas!$V$24:$V$264)*(Alternativas!AF$24:AF$264))","v":-122.84069999345904},{"$f":"SUMPRODUCT(($Z36=Alternativas!$U$24:$U$264)*('Comparación Alternativas'!$AA36=Alternativas!$V$24:$V$264)*(Alternativas!AG$24:AG$264))","v":-736.11642328380776},{"$f":"SUMPRODUCT(($Z36=Alternativas!$U$24:$U$264)*('Comparación Alternativas'!$AA36=Alternativas!$V$24:$V$264)*(Alternativas!AH$24:AH$264))","v":14127.608275924733},-736.11642328380776,0,0,0,0,0,-54925.730095040373,-11001.764583680106,-65927.494678720468,1265286.0199465719,-65927.494678720468,0,0,0,0,0,-613.27572329034876,-122.84069999345905,-736.11642328380765,14127.608275924733,-736.11642328380765]
[null,null,null,null,null,null,null,null,null,null,null,null,null,null,null,null,null,null,null,null,null,null,null,null,null,7,2024,{"$f":"(AB42-AB30)/12+AB36","v":74.634361034697264},{"$f":"SUMPRODUCT(($Z37=Alternativas!$C$24:$C$264)*('Comparación Alternativas'!$AA37=Alternativas!$D$24:$D$264)*(Alternativas!M$24:M$264))","v":0},{"$f":"SUMPRODUCT(($Z37=Alternativas!$C$24:$C$264)*('Comparación Alternativas'!$AA37=Alternativas!$D$24:$D$264)*(Alternativas!N$24:N$264))","v":0},{"$f":"SUMPRODUCT(($Z37=Alternativas!$C$24:$C$264)*('Comparación Alternativas'!$AA37=Alternativas!$D$24:$D$264)*(Alternativas!O$24:O$264))","v":0},{"$f":"SUMPRODUCT(($Z37=Alternativas!$C$24:$C$264)*('Comparación Alternativas'!$AA37=Alternativas!$D$24:$D$264)*(Alternativas!P$24:P$264))","v":0},0,{"$f":"SUMPRODUCT(($Z37=Alternativas!$U$24:$U$264)*('Comparación Alternativas'!$AA37=Alternativas!$V$24:$V$264)*(Alternativas!AE$24:AE$264))","v":-618.38635431776834},{"$f":"SUMPRODUCT(($Z37=Alternativas!$U$24:$U$264)*('Comparación Alternativas'!$AA37=Alternativas!$V$24:$V$264)*(Alternativas!AF$24:AF$264))","v":-117.73006896603944},{"$f":"SUMPRODUCT(($Z37=Alternativas!$U$24:$U$264)*('Comparación Alternativas'!$AA37=Alternativas!$V$24:$V$264)*(Alternativas!AG$24:AG$264))","v":-736.11642328380776},{"$f":"SUMPRODUCT(($Z37=Alternativas!$U$24:$U$264)*('Comparación Alternativas'!$AA37=Alternativas!$V$24:$V$264)*(Alternativas!AH$24:AH$264))","v":13509.221921606964},-736.11642328380776,0,0,0,0,0,-46152.870427082547,-8786.708471851196,-54939.578898933738,1008252.1461950609,-54939.578898933738,0,0,0,0,0,-618.38635431776834,-117.73006896603944,-736.11642328380776,13509.221921606964,-736.11642328380776]
[null,null,null,null,null,null,null,null,null,null,null,null,null,null,null,null,null,null,null,null,null,null,null,null,null,8,2024,{"$f":"(AB42-AB30)/12+AB37","v":59.707488827757821},{"$f":"SUMPRODUCT(($Z38=Alternativas!$C$24:$C$264)*('Comparación Alternativas'!$AA38=Alternativas!$D$24:$D$264)*(Alternativas!M$24:M$264))","v":0},{"$f":"SUMPRODUCT(($Z38=Alternativas!$C$24:$C$264)*('Comparación Alternativas'!$AA38=Alternativas!$D$24:$D$264)*(Alternativas!N$24:N$264))","v":0},{"$f":"SUMPRODUCT(($Z38=Alternativas!$C$24:$C$264)*('Comparación Alternativas'!$AA38=Alternativas!$D$24:$D$264)*(Alternativas!O$24:O$264))","v":0},{"$f":"SUMPRODUCT(($Z38=Alternativas!$C$24:$C$264)*('Comparación Alternativas'!$AA38=Alternativas!$D$24:$D$264)*(Alternativas!P$24:P$264))","v":0},0,{"$f":"SUMPRODUCT(($Z38=Alternativas!$U$24:$U$264)*('Comparación Alternativas'!$AA38=Alternativas!$V$24:$V$264)*(Alternativas!AE$24:AE$264))","v":-623.53957393708311},{"$f":"SUMPRODUCT(($Z38=Alternativas!$U$24:$U$264)*('Comparación Alternativas'!$AA38=Alternativas!$V$24:$V$264)*(Alternativas!AF$24:AF$264))","v":-112.57684934672471},{"$f":"SUMPRODUCT(($Z38=Alternativas!$U$24:$U$264)*('Comparación Alternativas'!$AA38=Alternativas!$V$24:$V$264)*(Alternativas!AG$24:AG$264))","v":-736.11642328380776},{"$f":"SUMPRODUCT(($Z38=Alternativas!$U$24:$U$264)*('Comparación Alternativas'!$AA38=Alternativas!$V$24:$V$264)*(Alternativas!AH$24:AH$264))","v":12885.682347669881},-736.11642328380776,0,0,0,0,0,-37229.982144513262,-6721.6809746337412,-43951.663119147001,769371.73481153557,-43951.663119147001,0,0,0,0,0,-623.53957393708311,-112.57684934672471,-736.11642328380776,12885.682347669881,-736.11642328380776]
[]
[]
[]
[]
[]
[]
[]
[]
[null,null,null,null,null,null,null,null,null,null,null,null,null,null,null,null,null,null,null,null,null,null,null,null,null,1,1,{"$f":"(AB54-AB42)/12+AB46","v":22.352853826795467},{"$f":"SUMPRODUCT(($Z47=Alternativas!$C$24:$C$264)*('Comparación Alternativas'!$AA47=Alternativas!$D$24:$D$264)*(Alternativas!M$24:M$264))","v":0},{"$f":"SUMPRODUCT(($Z47=Alternativas!$C$24:$C$264)*('Comparación Alternativas'!$AA47=Alternativas!$D$24:$D$264)*(Alternativas!N$24:N$264))","v":0},{"$f":"SUMPRODUCT(($Z47=Alternativas!$C$24:$C$264)*('Comparación Alternativas'!$AA47=Alternativas!$D$24:$D$264)*(Alternativas!O$24:O$264))","v":0},{"$f":"SUMPRODUCT(($Z47=Alternativas!$C$24:$C$264)*('Comparación Alternativas'!$AA47=Alternativas!$D$24:$D$264)*(Alternativas!P$24:P$264))","v":0},0,{"$f":"SUMPRODUCT(($Z47=Alternativas!$U$24:$U$264)*('Comparación Alternativas'!$AA47=Alternativas!$V$24:$V$264)*(Alternativas!AE$24:AE$264))","v":0},{"$f":"SUMPRODUCT(($Z47=Alternativas!$U$24:$U$264)*('Comparación Alternativas'!$AA47=Alternativas!$V$24:$V$264)*(Alternativas!AF$24:AF$264))","v":0},{"$f":"SUMPRODUCT(($Z47=Alternativas!$U$24:$U$264)*('Comparación Alternativas'!$AA47=Alternativas!$V$24:$V$264)*(Alternativas!AG$24:AG$264))","v":0},{"$f":"SUMPRODUCT(($Z47=Alternativas!$U$24:$U$264)*('Comparación Alternativas'!$AA47=Alternativas!$V$24:$V$264)*(Alternativas!AH$24:AH$264))","v":0},0,0,0,0,0,0,0,0,0,0,0,0,0,0,0,0,0,0,0,0,0]
[null,null,null,null,null,null,null,null,null,null,null,null,null,null,null,null,null,null,null,null,null,null,null,null,null,2,1,{"$f":"(AB54-AB42)/12+AB47","v":44.705707653590935},{"$f":"SUMPRODUCT(($Z48=Alternativas!$C$24:$C$264)*('Comparación Alternativas'!$AA48=Alternativas!$D$24:$D$264)*(Alternativas!M$24:M$264))","v":0},{"$f":"SUMPRODUCT(($Z48=Alternativas!$C$24:$C$264)*('Comparación Alternativas'!$AA48=Alternativas!$D$24:$D$264)*(Alternativas!N$24:N$264))","v":0},{"$f":"SUMPRODUCT(($Z48=Alternativas!$C$24:$C$264)*('Comparación Alternativas'!$AA48=Alternativas!$D$24:$D$264)*(Alternativas!O$24:O$264))","v":0},{"$f":"SUMPRODUCT(($Z48=Alternativas!$C$24:$C$264)*('Comparación Alternativas'!$AA48=Alternativas!$D$24:$D$264)*(Alternativas!P$24:P$264))","v":0},0,{"$f":"SUMPRODUCT(($Z48=Alternativas!$U$24:$U$264)*('Comparación Alternativas'!$AA48=Alternativas!$V$24:$V$264)*(Alternativas!AE$24:AE$264))","v":0},{"$f":"SUMPRODUCT(($Z48=Alternativas!$U$24:$U$264)*('Comparación Alternativas'!$AA48=Alternativas!$V$24:$V$264)*(Alternativas!AF$24:AF$264))","v":0},{"$f":"SUMPRODUCT(($Z48=Alternativas!$U$24:$U$264)*('Comparación Alternativas'!$AA48=Alternativas!$V$24:$V$264)*(Alternativas!AG$24:AG$264))","v":0},{"$f":"SUMPRODUCT(($Z48=Alternativas!$U$24:$U$264)*('Comparación Alternativas'!$AA48=Alternativas!$V$24:$V$264)*(Alternativas!AH$24:AH$264))","v":0},0,0,0,0,0,0,0,0,0,0,0,0,0,0,0,0,0,0,0,0,0]
[null,null,null,null,null,null,null,null,null,null,null,null,null,null,null,null,null,null,null,null,null,null,null,null,null,3,1,{"$f":"(AB54-AB42)/12+AB48","v":67.058561480386402},{"$f":"SUMPRODUCT(($Z49=Alternativas!$C$24:$C$264)*('Comparación Alternativas'!$AA49=Alternativas!$D$24:$D$264)*(Alternativas!M$24:M$264))","v":0},{"$f":"SUMPRODUCT(($Z49=Alternativas!$C$24:$C$264)*('Comparación Alternativas'!$AA49=Alternativas!$D$24:$D$264)*(Alternativas!N$24:N$264))","v":0},{"$f":"SUMPRODUCT(($Z49=Alternativas!$C$24:$C$264)*('Comparación Alternativas'!$AA49=Alternativas!$D$24:$D$264)*(Alternativas!O$24:O$264))","v":0},{"$f":"SUMPRODUCT(($Z49=Alternativas!$C$24:$C$264)*('Comparación Alternativas'!$AA49=Alternativas!$D$24:$D$264)*(Alternativas!P$24:P$264))","v":0},0,{"$f":"SUMPRODUCT(($Z49=Alternativas!$U$24:$U$264)*('Comparación Alternativas'!$AA49=Alternativas!$V$24:$V$264)*(Alternativas!AE$24:AE$264))","v":0},{"$f":"SUMPRODUCT(($Z49=Alternativas!$U$24:$U$264)*('Comparación Alternativas'!$AA49=Alternativas!$V$24:$V$264)*(Alternativas!AF$24:AF$264))","v":0},{"$f":"SUMPRODUCT(($Z49=Alternativas!$U$24:$U$264)*('Comparación Alternativas'!$AA49=Alternativas!$V$24:$V$264)*(Alternativas!AG$24:AG$264))","v":0},{"$f":"SUMPRODUCT(($Z49=Alternativas!$U$24:$U$264)*('Comparación Alternativas'!$AA49=Alternativas!$V$24:$V$264)*(Alternativas!AH$24:AH$264))","v":0},0,0,0,0,0,0,0,0,0,0,0,0,0,0,0,0,0,0,0,0,0]
[null,null,null,null,null,null,null,null,null,null,null,null,null,null,null,null,null,null,null,null,null,null,null,null,null,4,1,{"$f":"(AB54-AB42)/12+AB49","v":89.411415307181869},{"$f":"SUMPRODUCT(($Z50=Alternativas!$C$24:$C$264)*('Comparación Alternativas'!$AA50=Alternativas!$D$24:$D$264)*(Alternativas!M$24:M$264))","v":0},{"$f":"SUMPRODUCT(($Z50=Alternativas!$C$24:$C$264)*('Comparación Alternativas'!$AA50=Alternativas!$D$24:$D$264)*(Alternativas!N$24:N$264))","v":0},{"$f":"SUMPRODUCT(($Z50=Alternativas!$C$24:$C$264)*('Comparación Alternativas'!$AA50=Alternativas!$D$24:$D$264)*(Alternativas!O$24:O$264))","v":0},{"$f":"SUMPRODUCT(($Z50=Alternativas!$C$24:$C$264)*('Comparación Alternativas'!$AA50=Alternativas!$D$24:$D$264)*(Alternativas!P$24:P$264))","v":0},0,{"$f":"SUMPRODUCT(($Z50=Alternativas!$U$24:$U$264)*('Comparación Alternativas'!$AA50=Alternativas!$V$24:$V$264)*(Alternativas!AE$24:AE$264))","v":0},{"$f":"SUMPRODUCT(($Z50=Alternativas!$U$24:$U$264)*('Comparación Alternativas'!$AA50=Alternativas!$V$24:$V$264)*(Alternativas!AF$24:AF$264))","v":0},{"$f":"SUMPRODUCT(($Z50=Alternativas!$U$24:$U$264)*('Comparación Alternativas'!$AA50=Alternativas!$V$24:$V$264)*(Alternativas!AG$24:AG$264))","v":0},{"$f":"SUMPRODUCT(($Z50=Alternativas!$U$24:$U$264)*('Comparación Alternativas'!$AA50=Alternativas!$V$24:$V$264)*(Alternativas!AH$24:AH$264))","v":0},0,0,0,0,0,0,0,0,0,0,0,0,0,0,0,0,0,0,0,0,0]
[null,null,null,null,null,null,null,null,null,null,null,null,null,null,null,null,null,null,null,null,null,null,null,null,null,5,1,{"$f":"(AB54-AB42)/12+AB50","v":111.76426913397734},{"$f":"SUMPRODUCT(($Z51=Alternativas!$C$24:$C$264)*('Comparación Alternativas'!$AA51=Alternativas!$D$24:$D$264)*(Alternativas!M$24:M$264))","v":0},{"$f":"SUMPRODUCT(($Z51=Alternativas!$C$24:$C$264)*('Comparación Alternativas'!$AA51=Alternativas!$D$24:$D$264)*(Alternativas!N$24:N$264))","v":0},{"$f":"SUMPRODUCT(($Z51=Alternativas!$C$24:$C$264)*('Comparación Alternativas'!$AA51=Alternativas!$D$24:$D$264)*(Alternativas!O$24:O$264))","v":0},{"$f":"SUMPRODUCT(($Z51=Alternativas!$C$24:$C$264)*('Comparación Alternativas'!$AA51=Alternativas!$D$24:$D$264)*(Alternativas!P$24:P$264))","v":0},0,{"$f":"SUMPRODUCT(($Z51=Alternativas!$U$24:$U$264)*('Comparación Alternativas'!$AA51=Alternativas!$V$24:$V$264)*(Alternativas!AE$24:AE$264))","v":0},{"$f":"SUMPRODUCT(($Z51=Alternativas!$U$24:$U$264)*('Comparación Alternativas'!$AA51=Alternativas!$V$24:$V$264)*(Alternativas!AF$24:AF$264))","v":0},{"$f":"SUMPRODUCT(($Z51=Alternativas!$U$24:$U$264)*('Comparación Alternativas'!$AA51=Alternativas!$V$24:$V$264)*(Alternativas!AG$24:AG$264))","v":0},{"$f":"SUMPRODUCT(($Z51=Alternativas!$U$24:$U$264)*('Comparación Alternativas'!$AA51=Alternativas!$V$24:$V$264)*(Alternativas!AH$24:AH$264))","v":0},0,0,0,0,0,0,0,0,0,0,0,0,0,0,0,0,0,0,0,0,0]
[null,null,null,null,null,null,null,null,null,null,null,null,null,null,null,null,null,null,null,null,null,null,null,null,null,6,1,{"$f":"(AB54-AB42)/12+AB51","v":134.1171229607728},{"$f":"SUMPRODUCT(($Z52=Alternativas!$C$24:$C$264)*('Comparación Alternativas'!$AA52=Alternativas!$D$24:$D$264)*(Alternativas!M$24:M$264))","v":0},{"$f":"SUMPRODUCT(($Z52=Alternativas!$C$24:$C$264)*('Comparación Alternativas'!$AA52=Alternativas!$D$24:$D$264)*(Alternativas!N$24:N$264))","v":0},{"$f":"SUMPRODUCT(($Z52=Alternativas!$C$24:$C$264)*('Comparación Alternativas'!$AA52=Alternativas!$D$24:$D$264)*(Alternativas!O$24:O$264))","v":0},{"$f":"SUMPRODUCT(($Z52=Alternativas!$C$24:$C$264)*('Comparación Alternativas'!$AA52=Alternativas!$D$24:$D$264)*(Alternativas!P$24:P$264))","v":0},0,{"$f":"SUMPRODUCT(($Z52=Alternativas!$U$24:$U$264)*('Comparación Alternativas'!$AA52=Alternativas!$V$24:$V$264)*(Alternativas!AE$24:AE$264))","v":0},{"$f":"SUMPRODUCT(($Z52=Alternativas!$U$24:$U$264)*('Comparación Alternativas'!$AA52=Alternativas!$V$24:$V$264)*(Alternativas!AF$24:AF$264))","v":0},{"$f":"SUMPRODUCT(($Z52=Alternativas!$U$24:$U$264)*('Comparación Alternativas'!$AA52=Alternativas!$V$24:$V$264)*(Alternativas!AG$24:AG$264))","v":0},{"$f":"SUMPRODUCT(($Z52=Alternativas!$U$24:$U$264)*('Comparación Alternativas'!$AA52=Alternativas!$V$24:$V$264)*(Alternativas!AH$24:AH$264))","v":0},0,0,0,0,0,0,0,0,0,0,0,0,0,0,0,0,0,0,0,0,0]
[null,null,null,null,null,null,null,null,null,null,null,null,null,null,null,null,null,null,null,null,null,null,null,null,null,7,1,{"$f":"(AB54-AB42)/12+AB52","v":156.46997678756827},{"$f":"SUMPRODUCT(($Z53=Alternativas!$C$24:$C$264)*('Comparación Alternativas'!$AA53=Alternativas!$D$24:$D$264)*(Alternativas!M$24:M$264))","v":0},{"$f":"SUMPRODUCT(($Z53=Alternativas!$C$24:$C$264)*('Comparación Alternativas'!$AA53=Alternativas!$D$24:$D$264)*(Alternativas!N$24:N$264))","v":0},{"$f":"SUMPRODUCT(($Z53=Alternativas!$C$24:$C$264)*('Comparación Alternativas'!$AA53=Alternativas!$D$24:$D$264)*(Alternativas!O$24:O$264))","v":0},{"$f":"SUMPRODUCT(($Z53=Alternativas!$C$24:$C$264)*('Comparación Alternativas'!$AA53=Alternativas!$D$24:$D$264)*(Alternativas!P$24:P$264))","v":0},0,{"$f":"SUMPRODUCT(($Z53=Alternativas!$U$24:$U$264)*('Comparación Alternativas'!$AA53=Alternativas!$V$24:$V$264)*(Alternativas!AE$24:AE$264))","v":0},{"$f":"SUMPRODUCT(($Z53=Alternativas!$U$24:$U$264)*('Comparación Alternativas'!$AA53=Alternativas!$V$24:$V$264)*(Alternativas!AF$24:AF$264))","v":0},{"$f":"SUMPRODUCT(($Z53=Alternativas!$U$24:$U$264)*('Comparación Alternativas'!$AA53=Alternativas!$V$24:$V$264)*(Alternativas!AG$24:AG$264))","v":0},{"$f":"SUMPRODUCT(($Z53=Alternativas!$U$24:$U$264)*('Comparación Alternativas'!$AA53=Alternativas!$V$24:$V$264)*(Alternativas!AH$24:AH$264))","v":0},0,0,0,0,0,0,0,0,0,0,0,0,0,0,0,0,0,0,0,0,0]
[null,null,null,null,null,null,null,null,null,null,null,null,null,null,null,null,null,null,null,null,null,null,null,null,null,8,1,{"$f":"U13","v":268.23424592154561},{"$f":"SUMPRODUCT(($Z54=Alternativas!$C$24:$C$264)*('Comparación Alternativas'!$AA54=Alternativas!$D$24:$D$264)*(Alternativas!M$24:M$264))","v":0},{"$f":"SUMPRODUCT(($Z54=Alternativas!$C$24:$C$264)*('Comparación Alternativas'!$AA54=Alternativas!$D$24:$D$264)*(Alternativas!N$24:N$264))","v":0},{"$f":"SUMPRODUCT(($Z54=Alternativas!$C$24:$C$264)*('Comparación Alternativas'!$AA54=Alternativas!$D$24:$D$264)*(Alternativas!O$24:O$264))","v":0},{"$f":"SUMPRODUCT(($Z54=Alternativas!$C$24:$C$264)*('Comparación Alternativas'!$AA54=Alternativas!$D$24:$D$264)*(Alternativas!P$24:P$264))","v":0},0,{"$f":"SUMPRODUCT(($Z54=Alternativas!$U$24:$U$264)*('Comparación Alternativas'!$AA54=Alternativas!$V$24:$V$264)*(Alternativas!AE$24:AE$264))","v":0},{"$f":"SUMPRODUCT(($Z54=Alternativas!$U$24:$U$264)*('Comparación Alternativas'!$AA54=Alternativas!$V$24:$V$264)*(Alternativas!AF$24:AF$264))","v":0},{"$f":"SUMPRODUCT(($Z54=Alternativas!$U$24:$U$264)*('Comparación Alternativas'!$AA54=Alternativas!$V$24:$V$264)*(Alternativas!AG$24:AG$264))","v":0},{"$f":"SUMPRODUCT(($Z54=Alternativas!$U$24:$U$264)*('Comparación Alternativas'!$AA54=Alternativas!$V$24:$V$264)*(Alternativas!AH$24:AH$264))","v":0},0,0,0,0,0,0,0,0,0,0,0,0,0,0,0,0,0,0,0,0,0]
[null,null,null,null,null,null,null,null,null,null,null,null,null,null,null,null,null,null,null,null,null,null,null,null,null,9,1,{"$f":"(AB66-AB54)/12+AB54","v":272.86398777796921},{"$f":"SUMPRODUCT(($Z55=Alternativas!$C$24:$C$264)*('Comparación Alternativas'!$AA55=Alternativas!$D$24:$D$264)*(Alternativas!M$24:M$264))","v":0},{"$f":"SUMPRODUCT(($Z55=Alternativas!$C$24:$C$264)*('Comparación Alternativas'!$AA55=Alternativas!$D$24:$D$264)*(Alternativas!N$24:N$264))","v":0},{"$f":"SUMPRODUCT(($Z55=Alternativas!$C$24:$C$264)*('Comparación Alternativas'!$AA55=Alternativas!$D$24:$D$264)*(Alternativas!O$24:O$264))","v":0},{"$f":"SUMPRODUCT(($Z55=Alternativas!$C$24:$C$264)*('Comparación Alternativas'!$AA55=Alternativas!$D$24:$D$264)*(Alternativas!P$24:P$264))","v":0},0,{"$f":"SUMPRODUCT(($Z55=Alternativas!$U$24:$U$264)*('Comparación Alternativas'!$AA55=Alternativas!$V$24:$V$264)*(Alternativas!AE$24:AE$264))","v":0},{"$f":"SUMPRODUCT(($Z55=Alternativas!$U$24:$U$264)*('Comparación Alternativas'!$AA55=Alternativas!$V$24:$V$264)*(Alternativas!AF$24:AF$264))","v":0},{"$f":"SUMPRODUCT(($Z55=Alternativas!$U$24:$U$264)*('Comparación Alternativas'!$AA55=Alternativas!$V$24:$V$264)*(Alternativas!AG$24:AG$264))","v":0},{"$f":"SUMPRODUCT(($Z55=Alternativas!$U$24:$U$264)*('Comparación Alternativas'!$AA55=Alternativas!$V$24:$V$264)*(Alternativas!AH$24:AH$264))","v":0},0,0,0,0,0,0,0,0,0,0,0,0,0,0,0,0,0,0,0,0,0]
[null,null,null,null,null,null,null,null,null,null,null,null,null,null,null,null,null,null,null,null,null,null,null,null,null,10,1,{"$f":"(AB66-AB54)/12+AB55","v":277.49372963439282},{"$f":"SUMPRODUCT(($Z56=Alternativas!$C$24:$C$264)*('Comparación Alternativas'!$AA56=Alternativas!$D$24:$D$264)*(Alternativas!M$24:M$264))","v":0},{"$f":"SUMPRODUCT(($Z56=Alternativas!$C$24:$C$264)*('Comparación Alternativas'!$AA56=Alternativas!$D$24:$D$264)*(Alternativas!N$24:N$264))","v":0},{"$f":"SUMPRODUCT(($Z56=Alternativas!$C$24:$C$264)*('Comparación Alternativas'!$AA56=Alternativas!$D$24:$D$264)*(Alternativas!O$24:O$264))","v":0},{"$f":"SUMPRODUCT(($Z56=Alternativas!$C$24:$C$264)*('Comparación Alternativas'!$AA56=Alternativas!$D$24:$D$264)*(Alternativas!P$24:P$264))","v":0},0,{"$f":"SUMPRODUCT(($Z56=Alternativas!$U$24:$U$264)*('Comparación Alternativas'!$AA56=Alternativas!$V$24:$V$264)*(Alternativas!AE$24:AE$264))","v":0},{"$f":"SUMPRODUCT(($Z56=Alternativas!$U$24:$U$264)*('Comparación Alternativas'!$AA56=Alternativas!$V$24:$V$264)*(Alternativas!AF$24:AF$264))","v":0},{"$f":"SUMPRODUCT(($Z56=Alternativas!$U$24:$U$264)*('Comparación Alternativas'!$AA56=Alternativas!$V$24:$V$264)*(Alternativas!AG$24:AG$264))","v":0},{"$f":"SUMPRODUCT(($Z56=Alternativas!$U$24:$U$264)*('Comparación Alternativas'!$AA56=Alternativas!$V$24:$V$264)*(Alternativas!AH$24:AH$264))","v":0},0,0,0,0,0,0,0,0,0,0,0,0,0,0,0,0,0,0,0,0,0]
[null,null,null,null,null,null,null,null,null,null,null,null,null,null,null,null,null,null,null,null,null,null,null,null,null,11,1,{"$f":"(AB66-AB54)/12+AB56","v":282.12347149081643},{"$f":"SUMPRODUCT(($Z57=Alternativas!$C$24:$C$264)*('Comparación Alternativas'!$AA57=Alternativas!$D$24:$D$264)*(Alternativas!M$24:M$264))","v":0},{"$f":"SUMPRODUCT(($Z57=Alternativas!$C$24:$C$264)*('Comparación Alternativas'!$AA57=Alternativas!$D$24:$D$264)*(Alternativas!N$24:N$264))","v":0},{"$f":"SUMPRODUCT(($Z57=Alternativas!$C$24:$C$264)*('Comparación Alternativas'!$AA57=Alternativas!$D$24:$D$264)*(Alternativas!O$24:O$264))","v":0},{"$f":"SUMPRODUCT(($Z57=Alternativas!$C$24:$C$264)*('Comparación Alternativas'!$AA57=Alternativas!$D$24:$D$264)*(Alternativas!P$24:P$264))","v":0},0,{"$f":"SUMPRODUCT(($Z57=Alternativas!$U$24:$U$264)*('Comparación Alternativas'!$AA57=Alternativas!$V$24:$V$264)*(Alternativas!AE$24:AE$264))","v":0},{"$f":"SUMPRODUCT(($Z57=Alternativas!$U$24:$U$264)*('Comparación Alternativas'!$AA57=Alternativas!$V$24:$V$264)*(Alternativas!AF$24:AF$264))","v":0},{"$f":"SUMPRODUCT(($Z57=Alternativas!$U$24:$U$264)*('Comparación Alternativas'!$AA57=Alternativas!$V$24:$V$264)*(Alternativas!AG$24:AG$264))","v":0},{"$f":"SUMPRODUCT(($Z57=Alternativas!$U$24:$U$264)*('Comparación Alternativas'!$AA57=Alternativas!$V$24:$V$264)*(Alternativas!AH$24:AH$264))","v":0},0,0,0,0,0,0,0,0,0,0,0,0,0,0,0,0,0,0,0,0,0]
[null,null,null,null,null,null,null,null,null,null,null,null,null,null,null,null,null,null,null,null,null,null,null,null,null,12,1,{"$f":"(AB66-AB54)/12+AB57","v":286.75321334724003},{"$f":"SUMPRODUCT(($Z58=Alternativas!$C$24:$C$264)*('Comparación Alternativas'!$AA58=Alternativas!$D$24:$D$264)*(Alternativas!M$24:M$264))","v":0},{"$f":"SUMPRODUCT(($Z58=Alternativas!$C$24:$C$264)*('Comparación Alternativas'!$AA58=Alternativas!$D$24:$D$264)*(Alternativas!N$24:N$264))","v":0},{"$f":"SUMPRODUCT(($Z58=Alternativas!$C$24:$C$264)*('Comparación Alternativas'!$AA58=Alternativas!$D$24:$D$264)*(Alternativas!O$24:O$264))","v":0},{"$f":"SUMPRODUCT(($Z58=Alternativas!$C$24:$C$264)*('Comparación Alternativas'!$AA58=Alternativas!$D$24:$D$264)*(Alternativas!P$24:P$264))","v":0},0,{"$f":"SUMPRODUCT(($Z58=Alternativas!$U$24:$U$264)*('Comparación Alternativas'!$AA58=Alternativas!$V$24:$V$264)*(Alternativas!AE$24:AE$264))","v":0},{"$f":"SUMPRODUCT(($Z58=Alternativas!$U$24:$U$264)*('Comparación Alternativas'!$AA58=Alternativas!$V$24:$V$264)*(Alternativas!AF$24:AF$264))","v":0},{"$f":"SUMPRODUCT(($Z58=Alternativas!$U$24:$U$264)*('Comparación Alternativas'!$AA58=Alternativas!$V$24:$V$264)*(Alternativas!AG$24:AG$264))","v":0},{"$f":"SUMPRODUCT(($Z58=Alternativas!$U$24:$U$264)*('Comparación Alternativas'!$AA58=Alternativas!$V$24:$V$264)*(Alternativas!AH$24:AH$264))","v":0},0,0,0,0,0,0,0,0,0,0,0,0,0,0,0,0,0,0,0,0,0]
[null,null,null,null,null,null,null,null,null,null,null,null,null,null,null,null,null,null,null,null,null,null,null,null,null,1,2,{"$f":"(AB66-AB54)/12+AB58","v":291.38295520366364},{"$f":"SUMPRODUCT(($Z59=Alternativas!$C$24:$C$264)*('Comparación Alternativas'!$AA59=Alternativas!$D$24:$D$264)*(Alternativas!M$24:M$264))","v":0},{"$f":"SUMPRODUCT(($Z59=Alternativas!$C$24:$C$264)*('Comparación Alternativas'!$AA59=Alternativas!$D$24:$D$264)*(Alternativas!N$24:N$264))","v":0},{"$f":"SUMPRODUCT(($Z59=Alternativas!$C$24:$C$264)*('Comparación Alternativas'!$AA59=Alternativas!$D$24:$D$264)*(Alternativas!O$24:O$264))","v":0},{"$f":"SUMPRODUCT(($Z59=Alternativas!$C$24:$C$264)*('Comparación Alternativas'!$AA59=Alternativas!$D$24:$D$264)*(Alternativas!P$24:P$264))","v":0},0,{"$f":"SUMPRODUCT(($Z59=Alternativas!$U$24:$U$264)*('Comparación Alternativas'!$AA59=Alternativas!$V$24:$V$264)*(Alternativas!AE$24:AE$264))","v":0},{"$f":"SUMPRODUCT(($Z59=Alternativas!$U$24:$U$264)*('Comparación Alternativas'!$AA59=Alternativas!$V$24:$V$264)*(Alternativas!AF$24:AF$264))","v":0},{"$f":"SUMPRODUCT(($Z59=Alternativas!$U$24:$U$264)*('Comparación Alternativas'!$AA59=Alternativas!$V$24:$V$264)*(Alternativas!AG$24:AG$264))","v":0},{"$f":"SUMPRODUCT(($Z59=Alternativas!$U$24:$U$264)*('Comparación Alternativas'!$AA59=Alternativas!$V$24:$V$264)*(Alternativas!AH$24:AH$264))","v":0},0,0,0,0,0,0,0,0,0,0,0,0,0,0,0,0,0,0,0,0,0]
[null,null,null,null,null,null,null,null,null,null,null,null,null,null,null,null,null,null,null,null,null,null,null,null,null,2,2,{"$f":"(AB66-AB54)/12+AB59","v":296.01269706008725},{"$f":"SUMPRODUCT(($Z60=Alternativas!$C$24:$C$264)*('Comparación Alternativas'!$AA60=Alternativas!$D$24:$D$264)*(Alternativas!M$24:M$264))","v":0},{"$f":"SUMPRODUCT(($Z60=Alternativas!$C$24:$C$264)*('Comparación Alternativas'!$AA60=Alternativas!$D$24:$D$264)*(Alternativas!N$24:N$264))","v":0},{"$f":"SUMPRODUCT(($Z60=Alternativas!$C$24:$C$264)*('Comparación Alternativas'!$AA60=Alternativas!$D$24:$D$264)*(Alternativas!O$24:O$264))","v":0},{"$f":"SUMPRODUCT(($Z60=Alternativas!$C$24:$C$264)*('Comparación Alternativas'!$AA60=Alternativas!$D$24:$D$264)*(Alternativas!P$24:P$264))","v":0},0,{"$f":"SUMPRODUCT(($Z60=Alternativas!$U$24:$U$264)*('Comparación Alternativas'!$AA60=Alternativas!$V$24:$V$264)*(Alternativas!AE$24:AE$264))","v":0},{"$f":"SUMPRODUCT(($Z60=Alternativas!$U$24:$U$264)*('Comparación Alternativas'!$AA60=Alternativas!$V$24:$V$264)*(Alternativas!AF$24:AF$264))","v":0},{"$f":"SUMPRODUCT(($Z60=Alternativas!$U$24:$U$264)*('Comparación Alternativas'!$AA60=Alternativas!$V$24:$V$264)*(Alternativas!AG$24:AG$264))","v":0},{"$f":"SUMPRODUCT(($Z60=Alternativas!$U$24:$U$264)*('Comparación Alternativas'!$AA60=Alternativas!$V$24:$V$264)*(Alternativas!AH$24:AH$264))","v":0},0,0,0,0,0,0,0,0,0,0,0,0,0,0,0,0,0,0,0,0,0]
[null,null,null,null,null,null,null,null,null,null,null,null,null,null,null,null,null,null,null,null,null,null,null,null,null,3,2,{"$f":"(AB66-AB54)/12+AB60","v":300.64243891651086},{"$f":"SUMPRODUCT(($Z61=Alternativas!$C$24:$C$264)*('Comparación Alternativas'!$AA61=Alternativas!$D$24:$D$264)*(Alternativas!M$24:M$264))","v":0},{"$f":"SUMPRODUCT(($Z61=Alternativas!$C$24:$C$264)*('Comparación Alternativas'!$AA61=Alternativas!$D$24:$D$264)*(Alternativas!N$24:N$264))","v":0},{"$f":"SUMPRODUCT(($Z61=Alternativas!$C$24:$C$264)*('Comparación Alternativas'!$AA61=Alternativas!$D$24:$D$264)*(Alternativas!O$24:O$264))","v":0},{"$f":"SUMPRODUCT(($Z61=Alternativas!$C$24:$C$264)*('Comparación Alternativas'!$AA61=Alternativas!$D$24:$D$264)*(Alternativas!P$24:P$264))","v":0},0,{"$f":"SUMPRODUCT(($Z61=Alternativas!$U$24:$U$264)*('Comparación Alternativas'!$AA61=Alternativas!$V$24:$V$264)*(Alternativas!AE$24:AE$264))","v":0},{"$f":"SUMPRODUCT(($Z61=Alternativas!$U$24:$U$264)*('Comparación Alternativas'!$AA61=Alternativas!$V$24:$V$264)*(Alternativas!AF$24:AF$264))","v":0},{"$f":"SUMPRODUCT(($Z61=Alternativas!$U$24:$U$264)*('Comparación Alternativas'!$AA61=Alternativas!$V$24:$V$264)*(Alternativas!AG$24:AG$264))","v":0},{"$f":"SUMPRODUCT(($Z61=Alternativas!$U$24:$U$264)*('Comparación Alternativas'!$AA61=Alternativas!$V$24:$V$264)*(Alternativas!AH$24:AH$264))","v":0},0,0,0,0,0,0,0,0,0,0,0,0,0,0,0,0,0,0,0,0,0]
[null,null,null,null,null,null,null,null,null,null,null,null,null,null,null,null,null,null,null,null,null,null,null,null,null,4,2,{"$f":"(AB66-AB54)/12+AB61","v":305.27218077293446},{"$f":"SUMPRODUCT(($Z62=Alternativas!$C$24:$C$264)*('Comparación Alternativas'!$AA62=Alternativas!$D$24:$D$264)*(Alternativas!M$24:M$264))","v":0},{"$f":"SUMPRODUCT(($Z62=Alternativas!$C$24:$C$264)*('Comparación Alternativas'!$AA62=Alternativas!$D$24:$D$264)*(Alternativas!N$24:N$264))","v":0},{"$f":"SUMPRODUCT(($Z62=Alternativas!$C$24:$C$264)*('Comparación Alternativas'!$AA62=Alternativas!$D$24:$D$264)*(Alternativas!O$24:O$264))","v":0},{"$f":"SUMPRODUCT(($Z62=Alternativas!$C$24:$C$264)*('Comparación Alternativas'!$AA62=Alternativas!$D$24:$D$264)*(Alternativas!P$24:P$264))","v":0},0,{"$f":"SUMPRODUCT(($Z62=Alternativas!$U$24:$U$264)*('Comparación Alternativas'!$AA62=Alternativas!$V$24:$V$264)*(Alternativas!AE$24:AE$264))","v":0},{"$f":"SUMPRODUCT(($Z62=Alternativas!$U$24:$U$264)*('Comparación Alternativas'!$AA62=Alternativas!$V$24:$V$264)*(Alternativas!AF$24:AF$264))","v":0},{"$f":"SUMPRODUCT(($Z62=Alternativas!$U$24:$U$264)*('Comparación Alternativas'!$AA62=Alternativas!$V$24:$V$264)*(Alternativas!AG$24:AG$264))","v":0},{"$f":"SUMPRODUCT(($Z62=Alternativas!$U$24:$U$264)*('Comparación Alternativas'!$AA62=Alternativas!$V$24:$V$264)*(Alternativas!AH$24:AH$264))","v":0},0,0,0,0,0,0,0,0,0,0,0,0,0,0,0,0,0,0,0,0,0]
[null,null,null,null,null,null,null,null,null,null,null,null,null,null,null,null,null,null,null,null,null,null,null,null,null,5,2,{"$f":"(AB66-AB54)/12+AB62","v":309.90192262935807},{"$f":"SUMPRODUCT(($Z63=Alternativas!$C$24:$C$264)*('Comparación Alternativas'!$AA63=Alternativas!$D$24:$D$264)*(Alternativas!M$24:M$264))","v":0},{"$f":"SUMPRODUCT(($Z63=Alternativas!$C$24:$C$264)*('Comparación Alternativas'!$AA63=Alternativas!$D$24:$D$264)*(Alternativas!N$24:N$264))","v":0},{"$f":"SUMPRODUCT(($Z63=Alternativas!$C$24:$C$264)*('Comparación Alternativas'!$AA63=Alternativas!$D$24:$D$264)*(Alternativas!O$24:O$264))","v":0},{"$f":"SUMPRODUCT(($Z63=Alternativas!$C$24:$C$264)*('Comparación Alternativas'!$AA63=Alternativas!$D$24:$D$264)*(Alternativas!P$24:P$264))","v":0},0,{"$f":"SUMPRODUCT(($Z63=Alternativas!$U$24:$U$264)*('Comparación Alternativas'!$AA63=Alternativas!$V$24:$V$264)*(Alternativas!AE$24:AE$264))","v":0},{"$f":"SUMPRODUCT(($Z63=Alternativas!$U$24:$U$264)*('Comparación Alternativas'!$AA63=Alternativas!$V$24:$V$264)*(Alternativas!AF$24:AF$264))","v":0},{"$f":"SUMPRODUCT(($Z63=Alternativas!$U$24:$U$264)*('Comparación Alternativas'!$AA63=Alternativas!$V$24:$V$264)*(Alternativas!AG$24:AG$264))","v":0},{"$f":"SUMPRODUCT(($Z63=Alternativas!$U$24:$U$264)*('Comparación Alternativas'!$AA63=Alternativas!$V$24:$V$264)*(Alternativas!AH$24:AH$264))","v":0},0,0,0,0,0,0,0,0,0,0,0,0,0,0,0,0,0,0,0,0,0]
[null,null,null,null,null,null,null,null,null,null,null,null,null,null,null,null,null,null,null,null,null,null,null,null,null,6,2,{"$f":"(AB66-AB54)/12+AB63","v":314.53166448578168},{"$f":"SUMPRODUCT(($Z64=Alternativas!$C$24:$C$264)*('Comparación Alternativas'!$AA64=Alternativas!$D$24:$D$264)*(Alternativas!M$24:M$264))","v":0},{"$f":"SUMPRODUCT(($Z64=Alternativas!$C$24:$C$264)*('Comparación Alternativas'!$AA64=Alternativas!$D$24:$D$264)*(Alternativas!N$24:N$264))","v":0},{"$f":"SUMPRODUCT(($Z64=Alternativas!$C$24:$C$264)*('Comparación Alternativas'!$AA64=Alternativas!$D$24:$D$264)*(Alternativas!O$24:O$264))","v":0},{"$f":"SUMPRODUCT(($Z64=Alternativas!$C$24:$C$264)*('Comparación Alternativas'!$AA64=Alternativas!$D$24:$D$264)*(Alternativas!P$24:P$264))","v":0},0,{"$f":"SUMPRODUCT(($Z64=Alternativas!$U$24:$U$264)*('Comparación Alternativas'!$AA64=Alternativas!$V$24:$V$264)*(Alternativas!AE$24:AE$264))","v":0},{"$f":"SUMPRODUCT(($Z64=Alternativas!$U$24:$U$264)*('Comparación Alternativas'!$AA64=Alternativas!$V$24:$V$264)*(Alternativas!AF$24:AF$264))","v":0},{"$f":"SUMPRODUCT(($Z64=Alternativas!$U$24:$U$264)*('Comparación Alternativas'!$AA64=Alternativas!$V$24:$V$264)*(Alternativas!AG$24:AG$264))","v":0},{"$f":"SUMPRODUCT(($Z64=Alternativas!$U$24:$U$264)*('Comparación Alternativas'!$AA64=Alternativas!$V$24:$V$264)*(Alternativas!AH$24:AH$264))","v":0},0,0,0,0,0,0,0,0,0,0,0,0,0,0,0,0,0,0,0,0,0]
[null,null,null,null,null,null,null,null,null,null,null,null,null,null,null,null,null,null,null,null,null,null,null,null,null,7,2,{"$f":"(AB66-AB54)/12+AB64","v":319.16140634220528},{"$f":"SUMPRODUCT(($Z65=Alternativas!$C$24:$C$264)*('Comparación Alternativas'!$AA65=Alternativas!$D$24:$D$264)*(Alternativas!M$24:M$264))","v":0},{"$f":"SUMPRODUCT(($Z65=Alternativas!$C$24:$C$264)*('Comparación Alternativas'!$AA65=Alternativas!$D$24:$D$264)*(Alternativas!N$24:N$264))","v":0},{"$f":"SUMPRODUCT(($Z65=Alternativas!$C$24:$C$264)*('Comparación Alternativas'!$AA65=Alternativas!$D$24:$D$264)*(Alternativas!O$24:O$264))","v":0},{"$f":"SUMPRODUCT(($Z65=Alternativas!$C$24:$C$264)*('Comparación Alternativas'!$AA65=Alternativas!$D$24:$D$264)*(Alternativas!P$24:P$264))","v":0},0,{"$f":"SUMPRODUCT(($Z65=Alternativas!$U$24:$U$264)*('Comparación Alternativas'!$AA65=Alternativas!$V$24:$V$264)*(Alternativas!AE$24:AE$264))","v":0},{"$f":"SUMPRODUCT(($Z65=Alternativas!$U$24:$U$264)*('Comparación Alternativas'!$AA65=Alternativas!$V$24:$V$264)*(Alternativas!AF$24:AF$264))","v":0},{"$f":"SUMPRODUCT(($Z65=Alternativas!$U$24:$U$264)*('Comparación Alternativas'!$AA65=Alternativas!$V$24:$V$264)*(Alternativas!AG$24:AG$264))","v":0},{"$f":"SUMPRODUCT(($Z65=Alternativas!$U$24:$U$264)*('Comparación Alternativas'!$AA65=Alternativas!$V$24:$V$264)*(Alternativas!AH$24:AH$264))","v":0},0,0,0,0,0,0,0,0,0,0,0,0,0,0,0,0,0,0,0,0,0]
[null,null,null,null,null,null,null,null,null,null,null,null,null,null,null,null,null,null,null,null,null,null,null,null,null,8,2,{"$f":"U14","v":323.79114819862917},{"$f":"SUMPRODUCT(($Z66=Alternativas!$C$24:$C$264)*('Comparación Alternativas'!$AA66=Alternativas!$D$24:$D$264)*(Alternativas!M$24:M$264))","v":0},{"$f":"SUMPRODUCT(($Z66=Alternativas!$C$24:$C$264)*('Comparación Alternativas'!$AA66=Alternativas!$D$24:$D$264)*(Alternativas!N$24:N$264))","v":0},{"$f":"SUMPRODUCT(($Z66=Alternativas!$C$24:$C$264)*('Comparación Alternativas'!$AA66=Alternativas!$D$24:$D$264)*(Alternativas!O$24:O$264))","v":0},{"$f":"SUMPRODUCT(($Z66=Alternativas!$C$24:$C$264)*('Comparación Alternativas'!$AA66=Alternativas!$D$24:$D$264)*(Alternativas!P$24:P$264))","v":0},0,{"$f":"SUMPRODUCT(($Z66=Alternativas!$U$24:$U$264)*('Comparación Alternativas'!$AA66=Alternativas!$V$24:$V$264)*(Alternativas!AE$24:AE$264))","v":0},{"$f":"SUMPRODUCT(($Z66=Alternativas!$U$24:$U$264)*('Comparación Alternativas'!$AA66=Alternativas!$V$24:$V$264)*(Alternativas!AF$24:AF$264))","v":0},{"$f":"SUMPRODUCT(($Z66=Alternativas!$U$24:$U$264)*('Comparación Alternativas'!$AA66=Alternativas!$V$24:$V$264)*(Alternativas!AG$24:AG$264))","v":0},{"$f":"SUMPRODUCT(($Z66=Alternativas!$U$24:$U$264)*('Comparación Alternativas'!$AA66=Alternativas!$V$24:$V$264)*(Alternativas!AH$24:AH$264))","v":0},0,0,0,0,0,0,0,0,0,0,0,0,0,0,0,0,0,0,0,0,0]
[null,null,null,null,null,null,null,null,null,null,null,null,null,null,null,null,null,null,null,null,null,null,null,null,null,9,2,{"$f":"(AB78-AB66)/12+AB66","v":328.48334955636295},{"$f":"SUMPRODUCT(($Z67=Alternativas!$C$24:$C$264)*('Comparación Alternativas'!$AA67=Alternativas!$D$24:$D$264)*(Alternativas!M$24:M$264))","v":0},{"$f":"SUMPRODUCT(($Z67=Alternativas!$C$24:$C$264)*('Comparación Alternativas'!$AA67=Alternativas!$D$24:$D$264)*(Alternativas!N$24:N$264))","v":0},{"$f":"SUMPRODUCT(($Z67=Alternativas!$C$24:$C$264)*('Comparación Alternativas'!$AA67=Alternativas!$D$24:$D$264)*(Alternativas!O$24:O$264))","v":0},{"$f":"SUMPRODUCT(($Z67=Alternativas!$C$24:$C$264)*('Comparación Alternativas'!$AA67=Alternativas!$D$24:$D$264)*(Alternativas!P$24:P$264))","v":0},0,{"$f":"SUMPRODUCT(($Z67=Alternativas!$U$24:$U$264)*('Comparación Alternativas'!$AA67=Alternativas!$V$24:$V$264)*(Alternativas!AE$24:AE$264))","v":0},{"$f":"SUMPRODUCT(($Z67=Alternativas!$U$24:$U$264)*('Comparación Alternativas'!$AA67=Alternativas!$V$24:$V$264)*(Alternativas!AF$24:AF$264))","v":0},{"$f":"SUMPRODUCT(($Z67=Alternativas!$U$24:$U$264)*('Comparación Alternativas'!$AA67=Alternativas!$V$24:$V$264)*(Alternativas!AG$24:AG$264))","v":0},{"$f":"SUMPRODUCT(($Z67=Alternativas!$U$24:$U$264)*('Comparación Alternativas'!$AA67=Alternativas!$V$24:$V$264)*(Alternativas!AH$24:AH$264))","v":0},0,0,0,0,0,0,0,0,0,0,0,0,0,0,0,0,0,0,0,0,0]
[null,null,null,null,null,null,null,null,null,null,null,null,null,null,null,null,null,null,null,null,null,null,null,null,null,10,2,{"$f":"(AB78-AB66)/12+AB67","v":333.17555091409673},{"$f":"SUMPRODUCT(($Z68=Alternativas!$C$24:$C$264)*('Comparación Alternativas'!$AA68=Alternativas!$D$24:$D$264)*(Alternativas!M$24:M$264))","v":0},{"$f":"SUMPRODUCT(($Z68=Alternativas!$C$24:$C$264)*('Comparación Alternativas'!$AA68=Alternativas!$D$24:$D$264)*(Alternativas!N$24:N$264))","v":0},{"$f":"SUMPRODUCT(($Z68=Alternativas!$C$24:$C$264)*('Comparación Alternativas'!$AA68=Alternativas!$D$24:$D$264)*(Alternativas!O$24:O$264))","v":0},{"$f":"SUMPRODUCT(($Z68=Alternativas!$C$24:$C$264)*('Comparación Alternativas'!$AA68=Alternativas!$D$24:$D$264)*(Alternativas!P$24:P$264))","v":0},0,{"$f":"SUMPRODUCT(($Z68=Alternativas!$U$24:$U$264)*('Comparación Alternativas'!$AA68=Alternativas!$V$24:$V$264)*(Alternativas!AE$24:AE$264))","v":0},{"$f":"SUMPRODUCT(($Z68=Alternativas!$U$24:$U$264)*('Comparación Alternativas'!$AA68=Alternativas!$V$24:$V$264)*(Alternativas!AF$24:AF$264))","v":0},{"$f":"SUMPRODUCT(($Z68=Alternativas!$U$24:$U$264)*('Comparación Alternativas'!$AA68=Alternativas!$V$24:$V$264)*(Alternativas!AG$24:AG$264))","v":0},{"$f":"SUMPRODUCT(($Z68=Alternativas!$U$24:$U$264)*('Comparación Alternativas'!$AA68=Alternativas!$V$24:$V$264)*(Alternativas!AH$24:AH$264))","v":0},0,0,0,0,0,0,0,0,0,0,0,0,0,0,0,0,0,0,0,0,0]
[null,null,null,null,null,null,null,null,null,null,null,null,null,null,null,null,null,null,null,null,null,null,null,null,null,11,2,{"$f":"(AB78-AB66)/12+AB68","v":337.86775227183051},{"$f":"SUMPRODUCT(($Z69=Alternativas!$C$24:$C$264)*('Comparación Alternativas'!$AA69=Alternativas!$D$24:$D$264)*(Alternativas!M$24:M$264))","v":0},{"$f":"SUMPRODUCT(($Z69=Alternativas!$C$24:$C$264)*('Comparación Alternativas'!$AA69=Alternativas!$D$24:$D$264)*(Alternativas!N$24:N$264))","v":0},{"$f":"SUMPRODUCT(($Z69=Alternativas!$C$24:$C$264)*('Comparación Alternativas'!$AA69=Alternativas!$D$24:$D$264)*(Alternativas!O$24:O$264))","v":0},{"$f":"SUMPRODUCT(($Z69=Alternativas!$C$24:$C$264)*('Comparación Alternativas'!$AA69=Alternativas!$D$24:$D$264)*(Alternativas!P$24:P$264))","v":0},0,{"$f":"SUMPRODUCT(($Z69=Alternativas!$U$24:$U$264)*('Comparación Alternativas'!$AA69=Alternativas!$V$24:$V$264)*(Alternativas!AE$24:AE$264))","v":0},{"$f":"SUMPRODUCT(($Z69=Alternativas!$U$24:$U$264)*('Comparación Alternativas'!$AA69=Alternativas!$V$24:$V$264)*(Alternativas!AF$24:AF$264))","v":0},{"$f":"SUMPRODUCT(($Z69=Alternativas!$U$24:$U$264)*('Comparación Alternativas'!$AA69=Alternativas!$V$24:$V$264)*(Alternativas!AG$24:AG$264))","v":0},{"$f":"SUMPRODUCT(($Z69=Alternativas!$U$24:$U$264)*('Comparación Alternativas'!$AA69=Alternativas!$V$24:$V$264)*(Alternativas!AH$24:AH$264))","v":0},0,0,0,0,0,0,0,0,0,0,0,0,0,0,0,0,0,0,0,0,0]
[null,null,null,null,null,null,null,null,null,null,null,null,null,null,null,null,null,null,null,null,null,null,null,null,null,12,2,{"$f":"(AB78-AB66)/12+AB69","v":342.55995362956429},{"$f":"SUMPRODUCT(($Z70=Alternativas!$C$24:$C$264)*('Comparación Alternativas'!$AA70=Alternativas!$D$24:$D$264)*(Alternativas!M$24:M$264))","v":0},{"$f":"SUMPRODUCT(($Z70=Alternativas!$C$24:$C$264)*('Comparación Alternativas'!$AA70=Alternativas!$D$24:$D$264)*(Alternativas!N$24:N$264))","v":0},{"$f":"SUMPRODUCT(($Z70=Alternativas!$C$24:$C$264)*('Comparación Alternativas'!$AA70=Alternativas!$D$24:$D$264)*(Alternativas!O$24:O$264))","v":0},{"$f":"SUMPRODUCT(($Z70=Alternativas!$C$24:$C$264)*('Comparación Alternativas'!$AA70=Alternativas!$D$24:$D$264)*(Alternativas!P$24:P$264))","v":0},0,{"$f":"SUMPRODUCT(($Z70=Alternativas!$U$24:$U$264)*('Comparación Alternativas'!$AA70=Alternativas!$V$24:$V$264)*(Alternativas!AE$24:AE$264))","v":0},{"$f":"SUMPRODUCT(($Z70=Alternativas!$U$24:$U$264)*('Comparación Alternativas'!$AA70=Alternativas!$V$24:$V$264)*(Alternativas!AF$24:AF$264))","v":0},{"$f":"SUMPRODUCT(($Z70=Alternativas!$U$24:$U$264)*('Comparación Alternativas'!$AA70=Alternativas!$V$24:$V$264)*(Alternativas!AG$24:AG$264))","v":0},{"$f":"SUMPRODUCT(($Z70=Alternativas!$U$24:$U$264)*('Comparación Alternativas'!$AA70=Alternativas!$V$24:$V$264)*(Alternativas!AH$24:AH$264))","v":0},0,0,0,0,0,0,0,0,0,0,0,0,{"$f":"AN70/$AB70","v":0},{"$f":"AO70/$AB70","v":0},{"$f":"AP70/$AB70","v":0},0,{"$f":"AR70/$AB70","v":0},{"$f":"AS70/$AB70","v":0},{"$f":"AT70/$AB70","v":0},{"$f":"AU70/$AB70","v":0},0]
[null,null,null,null,null,null,null,null,null,null,null,null,null,null,null,null,null,null,null,null,null,null,null,null,null,1,3,{"$f":"(AB78-AB66)/12+AB70","v":347.25215498729807},{"$f":"SUMPRODUCT(($Z71=Alternativas!$C$24:$C$264)*('Comparación Alternativas'!$AA71=Alternativas!$D$24:$D$264)*(Alternativas!M$24:M$264))","v":0},{"$f":"SUMPRODUCT(($Z71=Alternativas!$C$24:$C$264)*('Comparación Alternativas'!$AA71=Alternativas!$D$24:$D$264)*(Alternativas!N$24:N$264))","v":0},{"$f":"SUMPRODUCT(($Z71=Alternativas!$C$24:$C$264)*('Comparación Alternativas'!$AA71=Alternativas!$D$24:$D$264)*(Alternativas!O$24:O$264))","v":0},{"$f":"SUMPRODUCT(($Z71=Alternativas!$C$24:$C$264)*('Comparación Alternativas'!$AA71=Alternativas!$D$24:$D$264)*(Alternativas!P$24:P$264))","v":0},{"$f":"AE71","v":0},{"$f":"SUMPRODUCT(($Z71=Alternativas!$U$24:$U$264)*('Comparación Alternativas'!$AA71=Alternativas!$V$24:$V$264)*(Alternativas!AE$24:AE$264))","v":0},{"$f":"SUMPRODUCT(($Z71=Alternativas!$U$24:$U$264)*('Comparación Alternativas'!$AA71=Alternativas!$V$24:$V$264)*(Alternativas!AF$24:AF$264))","v":0},{"$f":"SUMPRODUCT(($Z71=Alternativas!$U$24:$U$264)*('Comparación Alternativas'!$AA71=Alternativas!$V$24:$V$264)*(Alternativas!AG$24:AG$264))","v":0},{"$f":"SUMPRODUCT(($Z71=Alternativas!$U$24:$U$264)*('Comparación Alternativas'!$AA71=Alternativas!$V$24:$V$264)*(Alternativas!AH$24:AH$264))","v":0},{"$f":"AJ71","v":0},{"$f":"IF($AE$3=\"Dólares\",AC71*$AB71,AC71)","v":0},{"$f":"IF($AE$3=\"Dólares\",AD71*$AB71,AD71)","v":0},{"$f":"IF($AE$3=\"Dólares\",AE71*$AB71,AE71)","v":0},{"$f":"IF($AE$3=\"Dólares\",AF71*$AB71,AF71)","v":0},{"$f":"AO71","v":0},{"$f":"IF($AJ$3=\"Dólares\",AH71*$AB71,AH71)","v":0},{"$f":"IF($AJ$3=\"Dólares\",AI71*$AB71,AI71)","v":0},{"$f":"IF($AJ$3=\"Dólares\",AJ71*$AB71,AJ71)","v":0},{"$f":"IF($AJ$3=\"Dólares\",AK71*$AB71,AK71)","v":0},{"$f":"AT71","v":0},{"$f":"AM71/$AB71","v":0},0,0,0,{"$f":"AY71","v":0},0,0,0,0,{"$f":"BD71","v":0}]
[null,null,null,null,null,null,null,null,null,null,null,null,null,null,null,null,null,null,null,null,null,null,null,null,null,{"$f":"IF(Z71=12,1,Z71+1)","v":2},{"$f":"IF(Z72=1,AA71+1,AA71)","v":3},{"$f":"(AB78-AB66)/12+AB71","v":351.94435634503185},{"$f":"SUMPRODUCT(($Z72=Alternativas!$C$24:$C$264)*('Comparación Alternativas'!$AA72=Alternativas!$D$24:$D$264)*(Alternativas!M$24:M$264))","v":0},{"$f":"SUMPRODUCT(($Z72=Alternativas!$C$24:$C$264)*('Comparación Alternativas'!$AA72=Alternativas!$D$24:$D$264)*(Alternativas!N$24:N$264))","v":0},{"$f":"SUMPRODUCT(($Z72=Alternativas!$C$24:$C$264)*('Comparación Alternativas'!$AA72=Alternativas!$D$24:$D$264)*(Alternativas!O$24:O$264))","v":0},{"$f":"SUMPRODUCT(($Z72=Alternativas!$C$24:$C$264)*('Comparación Alternativas'!$AA72=Alternativas!$D$24:$D$264)*(Alternativas!P$24:P$264))","v":0},0,{"$f":"SUMPRODUCT(($Z72=Alternativas!$U$24:$U$264)*('Comparación Alternativas'!$AA72=Alternativas!$V$24:$V$264)*(Alternativas!AE$24:AE$264))","v":0},{"$f":"SUMPRODUCT(($Z72=Alternativas!$U$24:$U$264)*('Comparación Alternativas'!$AA72=Alternativas!$V$24:$V$264)*(Alternativas!AF$24:AF$264))","v":0},{"$f":"SUMPRODUCT(($Z72=Alternativas!$U$24:$U$264)*('Comparación Alternativas'!$AA72=Alternativas!$V$24:$V$264)*(Alternativas!AG$24:AG$264))","v":0},{"$f":"SUMPRODUCT(($Z72=Alternativas!$U$24:$U$264)*('Comparación Alternativas'!$AA72=Alternativas!$V$24:$V$264)*(Alternativas!AH$24:AH$264))","v":0},0,0,0,0,0,0,0,0,0,0,0,0,0,0,0,0,0,0,0,0,0]
[null,null,null,null,null,null,null,null,null,null,null,null,null,null,null,null,null,null,null,null,null,null,null,null,null,3,3,{"$f":"(AB78-AB66)/12+AB72","v":356.63655770276563},{"$f":"SUMPRODUCT(($Z73=Alternativas!$C$24:$C$264)*('Comparación Alternativas'!$AA73=Alternativas!$D$24:$D$264)*(Alternativas!M$24:M$264))","v":0},{"$f":"SUMPRODUCT(($Z73=Alternativas!$C$24:$C$264)*('Comparación Alternativas'!$AA73=Alternativas!$D$24:$D$264)*(Alternativas!N$24:N$264))","v":0},{"$f":"SUMPRODUCT(($Z73=Alternativas!$C$24:$C$264)*('Comparación Alternativas'!$AA73=Alternativas!$D$24:$D$264)*(Alternativas!O$24:O$264))","v":0},{"$f":"SUMPRODUCT(($Z73=Alternativas!$C$24:$C$264)*('Comparación Alternativas'!$AA73=Alternativas!$D$24:$D$264)*(Alternativas!P$24:P$264))","v":0},0,{"$f":"SUMPRODUCT(($Z73=Alternativas!$U$24:$U$264)*('Comparación Alternativas'!$AA73=Alternativas!$V$24:$V$264)*(Alternativas!AE$24:AE$264))","v":0},{"$f":"SUMPRODUCT(($Z73=Alternativas!$U$24:$U$264)*('Comparación Alternativas'!$AA73=Alternativas!$V$24:$V$264)*(Alternativas!AF$24:AF$264))","v":0},{"$f":"SUMPRODUCT(($Z73=Alternativas!$U$24:$U$264)*('Comparación Alternativas'!$AA73=Alternativas!$V$24:$V$264)*(Alternativas!AG$24:AG$264))","v":0},{"$f":"SUMPRODUCT(($Z73=Alternativas!$U$24:$U$264)*('Comparación Alternativas'!$AA73=Alternativas!$V$24:$V$264)*(Alternativas!AH$24:AH$264))","v":0},0,0,0,0,0,0,0,0,0,0,0,0,0,0,0,0,0,0,0,0,0]
[null,null,null,null,null,null,null,null,null,null,null,null,null,null,null,null,null,null,null,null,null,null,null,null,null,4,3,{"$f":"(AB78-AB66)/12+AB73","v":361.32875906049941},{"$f":"SUMPRODUCT(($Z74=Alternativas!$C$24:$C$264)*('Comparación Alternativas'!$AA74=Alternativas!$D$24:$D$264)*(Alternativas!M$24:M$264))","v":0},{"$f":"SUMPRODUCT(($Z74=Alternativas!$C$24:$C$264)*('Comparación Alternativas'!$AA74=Alternativas!$D$24:$D$264)*(Alternativas!N$24:N$264))","v":0},{"$f":"SUMPRODUCT(($Z74=Alternativas!$C$24:$C$264)*('Comparación Alternativas'!$AA74=Alternativas!$D$24:$D$264)*(Alternativas!O$24:O$264))","v":0},{"$f":"SUMPRODUCT(($Z74=Alternativas!$C$24:$C$264)*('Comparación Alternativas'!$AA74=Alternativas!$D$24:$D$264)*(Alternativas!P$24:P$264))","v":0},0,{"$f":"SUMPRODUCT(($Z74=Alternativas!$U$24:$U$264)*('Comparación Alternativas'!$AA74=Alternativas!$V$24:$V$264)*(Alternativas!AE$24:AE$264))","v":0},{"$f":"SUMPRODUCT(($Z74=Alternativas!$U$24:$U$264)*('Comparación Alternativas'!$AA74=Alternativas!$V$24:$V$264)*(Alternativas!AF$24:AF$264))","v":0},{"$f":"SUMPRODUCT(($Z74=Alternativas!$U$24:$U$264)*('Comparación Alternativas'!$AA74=Alternativas!$V$24:$V$264)*(Alternativas!AG$24:AG$264))","v":0},{"$f":"SUMPRODUCT(($Z74=Alternativas!$U$24:$U$264)*('Comparación Alternativas'!$AA74=Alternativas!$V$24:$V$264)*(Alternativas!AH$24:AH$264))","v":0},0,0,0,0,0,0,0,0,0,0,0,0,0,0,0,0,0,0,0,0,0]
[null,null,null,null,null,null,null,null,null,null,null,null,null,null,null,null,null,null,null,null,null,null,null,null,null,5,3,{"$f":"(AB78-AB66)/12+AB74","v":366.02096041823319},{"$f":"SUMPRODUCT(($Z75=Alternativas!$C$24:$C$264)*('Comparación Alternativas'!$AA75=Alternativas!$D$24:$D$264)*(Alternativas!M$24:M$264))","v":0},{"$f":"SUMPRODUCT(($Z75=Alternativas!$C$24:$C$264)*('Comparación Alternativas'!$AA75=Alternativas!$D$24:$D$264)*(Alternativas!N$24:N$264))","v":0},{"$f":"SUMPRODUCT(($Z75=Alternativas!$C$24:$C$264)*('Comparación Alternativas'!$AA75=Alternativas!$D$24:$D$264)*(Alternativas!O$24:O$264))","v":0},{"$f":"SUMPRODUCT(($Z75=Alternativas!$C$24:$C$264)*('Comparación Alternativas'!$AA75=Alternativas!$D$24:$D$264)*(Alternativas!P$24:P$264))","v":0},0,{"$f":"SUMPRODUCT(($Z75=Alternativas!$U$24:$U$264)*('Comparación Alternativas'!$AA75=Alternativas!$V$24:$V$264)*(Alternativas!AE$24:AE$264))","v":0},{"$f":"SUMPRODUCT(($Z75=Alternativas!$U$24:$U$264)*('Comparación Alternativas'!$AA75=Alternativas!$V$24:$V$264)*(Alternativas!AF$24:AF$264))","v":0},{"$f":"SUMPRODUCT(($Z75=Alternativas!$U$24:$U$264)*('Comparación Alternativas'!$AA75=Alternativas!$V$24:$V$264)*(Alternativas!AG$24:AG$264))","v":0},{"$f":"SUMPRODUCT(($Z75=Alternativas!$U$24:$U$264)*('Comparación Alternativas'!$AA75=Alternativas!$V$24:$V$264)*(Alternativas!AH$24:AH$264))","v":0},0,0,0,0,0,0,0,0,0,0,0,0,0,0,0,0,0,0,0,0,0]
[null,null,null,null,null,null,null,null,null,null,null,null,null,null,null,null,null,null,null,null,null,null,null,null,null,6,3,{"$f":"(AB78-AB66)/12+AB75","v":370.71316177596697},{"$f":"SUMPRODUCT(($Z76=Alternativas!$C$24:$C$264)*('Comparación Alternativas'!$AA76=Alternativas!$D$24:$D$264)*(Alternativas!M$24:M$264))","v":0},{"$f":"SUMPRODUCT(($Z76=Alternativas!$C$24:$C$264)*('Comparación Alternativas'!$AA76=Alternativas!$D$24:$D$264)*(Alternativas!N$24:N$264))","v":0},{"$f":"SUMPRODUCT(($Z76=Alternativas!$C$24:$C$264)*('Comparación Alternativas'!$AA76=Alternativas!$D$24:$D$264)*(Alternativas!O$24:O$264))","v":0},{"$f":"SUMPRODUCT(($Z76=Alternativas!$C$24:$C$264)*('Comparación Alternativas'!$AA76=Alternativas!$D$24:$D$264)*(Alternativas!P$24:P$264))","v":0},0,{"$f":"SUMPRODUCT(($Z76=Alternativas!$U$24:$U$264)*('Comparación Alternativas'!$AA76=Alternativas!$V$24:$V$264)*(Alternativas!AE$24:AE$264))","v":0},{"$f":"SUMPRODUCT(($Z76=Alternativas!$U$24:$U$264)*('Comparación Alternativas'!$AA76=Alternativas!$V$24:$V$264)*(Alternativas!AF$24:AF$264))","v":0},{"$f":"SUMPRODUCT(($Z76=Alternativas!$U$24:$U$264)*('Comparación Alternativas'!$AA76=Alternativas!$V$24:$V$264)*(Alternativas!AG$24:AG$264))","v":0},{"$f":"SUMPRODUCT(($Z76=Alternativas!$U$24:$U$264)*('Comparación Alternativas'!$AA76=Alternativas!$V$24:$V$264)*(Alternativas!AH$24:AH$264))","v":0},0,0,0,0,0,0,0,0,0,0,0,0,0,0,0,0,0,0,0,0,0]
[null,null,null,null,null,null,null,null,null,null,null,null,null,null,null,null,null,null,null,null,null,null,null,null,null,7,3,{"$f":"(AB78-AB66)/12+AB76","v":375.40536313370075},{"$f":"SUMPRODUCT(($Z77=Alternativas!$C$24:$C$264)*('Comparación Alternativas'!$AA77=Alternativas!$D$24:$D$264)*(Alternativas!M$24:M$264))","v":0},{"$f":"SUMPRODUCT(($Z77=Alternativas!$C$24:$C$264)*('Comparación Alternativas'!$AA77=Alternativas!$D$24:$D$264)*(Alternativas!N$24:N$264))","v":0},{"$f":"SUMPRODUCT(($Z77=Alternativas!$C$24:$C$264)*('Comparación Alternativas'!$AA77=Alternativas!$D$24:$D$264)*(Alternativas!O$24:O$264))","v":0},{"$f":"SUMPRODUCT(($Z77=Alternativas!$C$24:$C$264)*('Comparación Alternativas'!$AA77=Alternativas!$D$24:$D$264)*(Alternativas!P$24:P$264))","v":0},0,{"$f":"SUMPRODUCT(($Z77=Alternativas!$U$24:$U$264)*('Comparación Alternativas'!$AA77=Alternativas!$V$24:$V$264)*(Alternativas!AE$24:AE$264))","v":0},{"$f":"SUMPRODUCT(($Z77=Alternativas!$U$24:$U$264)*('Comparación Alternativas'!$AA77=Alternativas!$V$24:$V$264)*(Alternativas!AF$24:AF$264))","v":0},{"$f":"SUMPRODUCT(($Z77=Alternativas!$U$24:$U$264)*('Comparación Alternativas'!$AA77=Alternativas!$V$24:$V$264)*(Alternativas!AG$24:AG$264))","v":0},{"$f":"SUMPRODUCT(($Z77=Alternativas!$U$24:$U$264)*('Comparación Alternativas'!$AA77=Alternativas!$V$24:$V$264)*(Alternativas!AH$24:AH$264))","v":0},0,0,0,0,0,0,0,0,0,0,0,0,0,0,0,0,0,0,0,0,0]
[null,null,null,null,null,null,null,null,null,null,null,null,null,null,null,null,null,null,null,null,null,null,null,null,null,8,3,{"$f":"U15","v":380.09756449143458},{"$f":"SUMPRODUCT(($Z78=Alternativas!$C$24:$C$264)*('Comparación Alternativas'!$AA78=Alternativas!$D$24:$D$264)*(Alternativas!M$24:M$264))","v":0},{"$f":"SUMPRODUCT(($Z78=Alternativas!$C$24:$C$264)*('Comparación Alternativas'!$AA78=Alternativas!$D$24:$D$264)*(Alternativas!N$24:N$264))","v":0},{"$f":"SUMPRODUCT(($Z78=Alternativas!$C$24:$C$264)*('Comparación Alternativas'!$AA78=Alternativas!$D$24:$D$264)*(Alternativas!O$24:O$264))","v":0},{"$f":"SUMPRODUCT(($Z78=Alternativas!$C$24:$C$264)*('Comparación Alternativas'!$AA78=Alternativas!$D$24:$D$264)*(Alternativas!P$24:P$264))","v":0},0,{"$f":"SUMPRODUCT(($Z78=Alternativas!$U$24:$U$264)*('Comparación Alternativas'!$AA78=Alternativas!$V$24:$V$264)*(Alternativas!AE$24:AE$264))","v":0},{"$f":"SUMPRODUCT(($Z78=Alternativas!$U$24:$U$264)*('Comparación Alternativas'!$AA78=Alternativas!$V$24:$V$264)*(Alternativas!AF$24:AF$264))","v":0},{"$f":"SUMPRODUCT(($Z78=Alternativas!$U$24:$U$264)*('Comparación Alternativas'!$AA78=Alternativas!$V$24:$V$264)*(Alternativas!AG$24:AG$264))","v":0},{"$f":"SUMPRODUCT(($Z78=Alternativas!$U$24:$U$264)*('Comparación Alternativas'!$AA78=Alternativas!$V$24:$V$264)*(Alternativas!AH$24:AH$264))","v":0},0,0,0,0,0,0,0,0,0,0,0,0,0,0,0,0,0,0,0,0,0]
[null,null,null,null,null,null,null,null,null,null,null,null,null,null,null,null,null,null,null,null,null,null,null,null,null,9,3,{"$f":"(AB90-AB78)/12+AB78","v":385.60572713917912},{"$f":"SUMPRODUCT(($Z79=Alternativas!$C$24:$C$264)*('Comparación Alternativas'!$AA79=Alternativas!$D$24:$D$264)*(Alternativas!M$24:M$264))","v":0},{"$f":"SUMPRODUCT(($Z79=Alternativas!$C$24:$C$264)*('Comparación Alternativas'!$AA79=Alternativas!$D$24:$D$264)*(Alternativas!N$24:N$264))","v":0},{"$f":"SUMPRODUCT(($Z79=Alternativas!$C$24:$C$264)*('Comparación Alternativas'!$AA79=Alternativas!$D$24:$D$264)*(Alternativas!O$24:O$264))","v":0},{"$f":"SUMPRODUCT(($Z79=Alternativas!$C$24:$C$264)*('Comparación Alternativas'!$AA79=Alternativas!$D$24:$D$264)*(Alternativas!P$24:P$264))","v":0},0,{"$f":"SUMPRODUCT(($Z79=Alternativas!$U$24:$U$264)*('Comparación Alternativas'!$AA79=Alternativas!$V$24:$V$264)*(Alternativas!AE$24:AE$264))","v":0},{"$f":"SUMPRODUCT(($Z79=Alternativas!$U$24:$U$264)*('Comparación Alternativas'!$AA79=Alternativas!$V$24:$V$264)*(Alternativas!AF$24:AF$264))","v":0},{"$f":"SUMPRODUCT(($Z79=Alternativas!$U$24:$U$264)*('Comparación Alternativas'!$AA79=Alternativas!$V$24:$V$264)*(Alternativas!AG$24:AG$264))","v":0},{"$f":"SUMPRODUCT(($Z79=Alternativas!$U$24:$U$264)*('Comparación Alternativas'!$AA79=Alternativas!$V$24:$V$264)*(Alternativas!AH$24:AH$264))","v":0},0,0,0,0,0,0,0,0,0,0,0,0,0,0,0,0,0,0,0,0,0]
[null,null,null,null,null,null,null,null,null,null,null,null,null,null,null,null,null,null,null,null,null,null,null,null,null,10,3,{"$f":"(AB90-AB78)/12+AB79","v":391.11388978692366},{"$f":"SUMPRODUCT(($Z80=Alternativas!$C$24:$C$264)*('Comparación Alternativas'!$AA80=Alternativas!$D$24:$D$264)*(Alternativas!M$24:M$264))","v":0},{"$f":"SUMPRODUCT(($Z80=Alternativas!$C$24:$C$264)*('Comparación Alternativas'!$AA80=Alternativas!$D$24:$D$264)*(Alternativas!N$24:N$264))","v":0},{"$f":"SUMPRODUCT(($Z80=Alternativas!$C$24:$C$264)*('Comparación Alternativas'!$AA80=Alternativas!$D$24:$D$264)*(Alternativas!O$24:O$264))","v":0},{"$f":"SUMPRODUCT(($Z80=Alternativas!$C$24:$C$264)*('Comparación Alternativas'!$AA80=Alternativas!$D$24:$D$264)*(Alternativas!P$24:P$264))","v":0},0,{"$f":"SUMPRODUCT(($Z80=Alternativas!$U$24:$U$264)*('Comparación Alternativas'!$AA80=Alternativas!$V$24:$V$264)*(Alternativas!AE$24:AE$264))","v":0},{"$f":"SUMPRODUCT(($Z80=Alternativas!$U$24:$U$264)*('Comparación Alternativas'!$AA80=Alternativas!$V$24:$V$264)*(Alternativas!AF$24:AF$264))","v":0},{"$f":"SUMPRODUCT(($Z80=Alternativas!$U$24:$U$264)*('Comparación Alternativas'!$AA80=Alternativas!$V$24:$V$264)*(Alternativas!AG$24:AG$264))","v":0},{"$f":"SUMPRODUCT(($Z80=Alternativas!$U$24:$U$264)*('Comparación Alternativas'!$AA80=Alternativas!$V$24:$V$264)*(Alternativas!AH$24:AH$264))","v":0},0,0,0,0,0,0,0,0,0,0,0,0,0,0,0,0,0,0,0,0,0]
[null,null,null,null,null,null,null,null,null,null,null,null,null,null,null,null,null,null,null,null,null,null,null,null,null,11,3,{"$f":"(AB90-AB78)/12+AB80","v":396.62205243466821},{"$f":"SUMPRODUCT(($Z81=Alternativas!$C$24:$C$264)*('Comparación Alternativas'!$AA81=Alternativas!$D$24:$D$264)*(Alternativas!M$24:M$264))","v":0},{"$f":"SUMPRODUCT(($Z81=Alternativas!$C$24:$C$264)*('Comparación Alternativas'!$AA81=Alternativas!$D$24:$D$264)*(Alternativas!N$24:N$264))","v":0},{"$f":"SUMPRODUCT(($Z81=Alternativas!$C$24:$C$264)*('Comparación Alternativas'!$AA81=Alternativas!$D$24:$D$264)*(Alternativas!O$24:O$264))","v":0},{"$f":"SUMPRODUCT(($Z81=Alternativas!$C$24:$C$264)*('Comparación Alternativas'!$AA81=Alternativas!$D$24:$D$264)*(Alternativas!P$24:P$264))","v":0},0,{"$f":"SUMPRODUCT(($Z81=Alternativas!$U$24:$U$264)*('Comparación Alternativas'!$AA81=Alternativas!$V$24:$V$264)*(Alternativas!AE$24:AE$264))","v":0},{"$f":"SUMPRODUCT(($Z81=Alternativas!$U$24:$U$264)*('Comparación Alternativas'!$AA81=Alternativas!$V$24:$V$264)*(Alternativas!AF$24:AF$264))","v":0},{"$f":"SUMPRODUCT(($Z81=Alternativas!$U$24:$U$264)*('Comparación Alternativas'!$AA81=Alternativas!$V$24:$V$264)*(Alternativas!AG$24:AG$264))","v":0},{"$f":"SUMPRODUCT(($Z81=Alternativas!$U$24:$U$264)*('Comparación Alternativas'!$AA81=Alternativas!$V$24:$V$264)*(Alternativas!AH$24:AH$264))","v":0},0,0,0,0,0,0,0,0,0,0,0,0,0,0,0,0,0,0,0,0,0]
[null,null,null,null,null,null,null,null,null,null,null,null,null,null,null,null,null,null,null,null,null,null,null,null,null,12,3,{"$f":"(AB90-AB78)/12+AB81","v":402.13021508241275},{"$f":"SUMPRODUCT(($Z82=Alternativas!$C$24:$C$264)*('Comparación Alternativas'!$AA82=Alternativas!$D$24:$D$264)*(Alternativas!M$24:M$264))","v":0},{"$f":"SUMPRODUCT(($Z82=Alternativas!$C$24:$C$264)*('Comparación Alternativas'!$AA82=Alternativas!$D$24:$D$264)*(Alternativas!N$24:N$264))","v":0},{"$f":"SUMPRODUCT(($Z82=Alternativas!$C$24:$C$264)*('Comparación Alternativas'!$AA82=Alternativas!$D$24:$D$264)*(Alternativas!O$24:O$264))","v":0},{"$f":"SUMPRODUCT(($Z82=Alternativas!$C$24:$C$264)*('Comparación Alternativas'!$AA82=Alternativas!$D$24:$D$264)*(Alternativas!P$24:P$264))","v":0},0,{"$f":"SUMPRODUCT(($Z82=Alternativas!$U$24:$U$264)*('Comparación Alternativas'!$AA82=Alternativas!$V$24:$V$264)*(Alternativas!AE$24:AE$264))","v":0},{"$f":"SUMPRODUCT(($Z82=Alternativas!$U$24:$U$264)*('Comparación Alternativas'!$AA82=Alternativas!$V$24:$V$264)*(Alternativas!AF$24:AF$264))","v":0},{"$f":"SUMPRODUCT(($Z82=Alternativas!$U$24:$U$264)*('Comparación Alternativas'!$AA82=Alternativas!$V$24:$V$264)*(Alternativas!AG$24:AG$264))","v":0},{"$f":"SUMPRODUCT(($Z82=Alternativas!$U$24:$U$264)*('Comparación Alternativas'!$AA82=Alternativas!$V$24:$V$264)*(Alternativas!AH$24:AH$264))","v":0},0,0,0,0,0,0,0,0,0,0,0,0,0,0,0,0,0,0,0,0,0]
[null,null,null,null,null,null,null,null,null,null,null,null,null,null,null,null,null,null,null,null,null,null,null,null,null,1,4,{"$f":"(AB90-AB78)/12+AB82","v":407.63837773015729},{"$f":"SUMPRODUCT(($Z83=Alternativas!$C$24:$C$264)*('Comparación Alternativas'!$AA83=Alternativas!$D$24:$D$264)*(Alternativas!M$24:M$264))","v":0},{"$f":"SUMPRODUCT(($Z83=Alternativas!$C$24:$C$264)*('Comparación Alternativas'!$AA83=Alternativas!$D$24:$D$264)*(Alternativas!N$24:N$264))","v":0},{"$f":"SUMPRODUCT(($Z83=Alternativas!$C$24:$C$264)*('Comparación Alternativas'!$AA83=Alternativas!$D$24:$D$264)*(Alternativas!O$24:O$264))","v":0},{"$f":"SUMPRODUCT(($Z83=Alternativas!$C$24:$C$264)*('Comparación Alternativas'!$AA83=Alternativas!$D$24:$D$264)*(Alternativas!P$24:P$264))","v":0},0,{"$f":"SUMPRODUCT(($Z83=Alternativas!$U$24:$U$264)*('Comparación Alternativas'!$AA83=Alternativas!$V$24:$V$264)*(Alternativas!AE$24:AE$264))","v":0},{"$f":"SUMPRODUCT(($Z83=Alternativas!$U$24:$U$264)*('Comparación Alternativas'!$AA83=Alternativas!$V$24:$V$264)*(Alternativas!AF$24:AF$264))","v":0},{"$f":"SUMPRODUCT(($Z83=Alternativas!$U$24:$U$264)*('Comparación Alternativas'!$AA83=Alternativas!$V$24:$V$264)*(Alternativas!AG$24:AG$264))","v":0},{"$f":"SUMPRODUCT(($Z83=Alternativas!$U$24:$U$264)*('Comparación Alternativas'!$AA83=Alternativas!$V$24:$V$264)*(Alternativas!AH$24:AH$264))","v":0},0,0,0,0,0,0,0,0,0,0,0,0,0,0,0,0,0,0,0,0,0]
[null,null,null,null,null,null,null,null,null,null,null,null,null,null,null,null,null,null,null,null,null,null,null,null,null,2,4,{"$f":"(AB90-AB78)/12+AB83","v":413.14654037790183},{"$f":"SUMPRODUCT(($Z84=Alternativas!$C$24:$C$264)*('Comparación Alternativas'!$AA84=Alternativas!$D$24:$D$264)*(Alternativas!M$24:M$264))","v":0},{"$f":"SUMPRODUCT(($Z84=Alternativas!$C$24:$C$264)*('Comparación Alternativas'!$AA84=Alternativas!$D$24:$D$264)*(Alternativas!N$24:N$264))","v":0},{"$f":"SUMPRODUCT(($Z84=Alternativas!$C$24:$C$264)*('Comparación Alternativas'!$AA84=Alternativas!$D$24:$D$264)*(Alternativas!O$24:O$264))","v":0},{"$f":"SUMPRODUCT(($Z84=Alternativas!$C$24:$C$264)*('Comparación Alternativas'!$AA84=Alternativas!$D$24:$D$264)*(Alternativas!P$24:P$264))","v":0},0,{"$f":"SUMPRODUCT(($Z84=Alternativas!$U$24:$U$264)*('Comparación Alternativas'!$AA84=Alternativas!$V$24:$V$264)*(Alternativas!AE$24:AE$264))","v":0},{"$f":"SUMPRODUCT(($Z84=Alternativas!$U$24:$U$264)*('Comparación Alternativas'!$AA84=Alternativas!$V$24:$V$264)*(Alternativas!AF$24:AF$264))","v":0},{"$f":"SUMPRODUCT(($Z84=Alternativas!$U$24:$U$264)*('Comparación Alternativas'!$AA84=Alternativas!$V$24:$V$264)*(Alternativas!AG$24:AG$264))","v":0},{"$f":"SUMPRODUCT(($Z84=Alternativas!$U$24:$U$264)*('Comparación Alternativas'!$AA84=Alternativas!$V$24:$V$264)*(Alternativas!AH$24:AH$264))","v":0},0,0,0,0,0,0,0,0,0,0,0,0,0,0,0,0,0,0,0,0,0]
[null,null,null,null,null,null,null,null,null,null,null,null,null,null,null,null,null,null,null,null,null,null,null,null,null,3,4,{"$f":"(AB90-AB78)/12+AB84","v":418.65470302564637},{"$f":"SUMPRODUCT(($Z85=Alternativas!$C$24:$C$264)*('Comparación Alternativas'!$AA85=Alternativas!$D$24:$D$264)*(Alternativas!M$24:M$264))","v":0},{"$f":"SUMPRODUCT(($Z85=Alternativas!$C$24:$C$264)*('Comparación Alternativas'!$AA85=Alternativas!$D$24:$D$264)*(Alternativas!N$24:N$264))","v":0},{"$f":"SUMPRODUCT(($Z85=Alternativas!$C$24:$C$264)*('Comparación Alternativas'!$AA85=Alternativas!$D$24:$D$264)*(Alternativas!O$24:O$264))","v":0},{"$f":"SUMPRODUCT(($Z85=Alternativas!$C$24:$C$264)*('Comparación Alternativas'!$AA85=Alternativas!$D$24:$D$264)*(Alternativas!P$24:P$264))","v":0},0,{"$f":"SUMPRODUCT(($Z85=Alternativas!$U$24:$U$264)*('Comparación Alternativas'!$AA85=Alternativas!$V$24:$V$264)*(Alternativas!AE$24:AE$264))","v":0},{"$f":"SUMPRODUCT(($Z85=Alternativas!$U$24:$U$264)*('Comparación Alternativas'!$AA85=Alternativas!$V$24:$V$264)*(Alternativas!AF$24:AF$264))","v":0},{"$f":"SUMPRODUCT(($Z85=Alternativas!$U$24:$U$264)*('Comparación Alternativas'!$AA85=Alternativas!$V$24:$V$264)*(Alternativas!AG$24:AG$264))","v":0},{"$f":"SUMPRODUCT(($Z85=Alternativas!$U$24:$U$264)*('Comparación Alternativas'!$AA85=Alternativas!$V$24:$V$264)*(Alternativas!AH$24:AH$264))","v":0},0,0,0,0,0,0,0,0,0,0,0,0,0,0,0,0,0,0,0,0,0]
[null,null,null,null,null,null,null,null,null,null,null,null,null,null,null,null,null,null,null,null,null,null,null,null,null,4,4,{"$f":"(AB90-AB78)/12+AB85","v":424.16286567339091},{"$f":"SUMPRODUCT(($Z86=Alternativas!$C$24:$C$264)*('Comparación Alternativas'!$AA86=Alternativas!$D$24:$D$264)*(Alternativas!M$24:M$264))","v":0},{"$f":"SUMPRODUCT(($Z86=Alternativas!$C$24:$C$264)*('Comparación Alternativas'!$AA86=Alternativas!$D$24:$D$264)*(Alternativas!N$24:N$264))","v":0},{"$f":"SUMPRODUCT(($Z86=Alternativas!$C$24:$C$264)*('Comparación Alternativas'!$AA86=Alternativas!$D$24:$D$264)*(Alternativas!O$24:O$264))","v":0},{"$f":"SUMPRODUCT(($Z86=Alternativas!$C$24:$C$264)*('Comparación Alternativas'!$AA86=Alternativas!$D$24:$D$264)*(Alternativas!P$24:P$264))","v":0},0,{"$f":"SUMPRODUCT(($Z86=Alternativas!$U$24:$U$264)*('Comparación Alternativas'!$AA86=Alternativas!$V$24:$V$264)*(Alternativas!AE$24:AE$264))","v":0},{"$f":"SUMPRODUCT(($Z86=Alternativas!$U$24:$U$264)*('Comparación Alternativas'!$AA86=Alternativas!$V$24:$V$264)*(Alternativas!AF$24:AF$264))","v":0},{"$f":"SUMPRODUCT(($Z86=Alternativas!$U$24:$U$264)*('Comparación Alternativas'!$AA86=Alternativas!$V$24:$V$264)*(Alternativas!AG$24:AG$264))","v":0},{"$f":"SUMPRODUCT(($Z86=Alternativas!$U$24:$U$264)*('Comparación Alternativas'!$AA86=Alternativas!$V$24:$V$264)*(Alternativas!AH$24:AH$264))","v":0},0,0,0,0,0,0,0,0,0,0,0,0,0,0,0,0,0,0,0,0,0]
[null,null,null,null,null,null,null,null,null,null,null,null,null,null,null,null,null,null,null,null,null,null,null,null,null,5,4,{"$f":"(AB90-AB78)/12+AB86","v":429.67102832113545},{"$f":"SUMPRODUCT(($Z87=Alternativas!$C$24:$C$264)*('Comparación Alternativas'!$AA87=Alternativas!$D$24:$D$264)*(Alternativas!M$24:M$264))","v":0},{"$f":"SUMPRODUCT(($Z87=Alternativas!$C$24:$C$264)*('Comparación Alternativas'!$AA87=Alternativas!$D$24:$D$264)*(Alternativas!N$24:N$264))","v":0},{"$f":"SUMPRODUCT(($Z87=Alternativas!$C$24:$C$264)*('Comparación Alternativas'!$AA87=Alternativas!$D$24:$D$264)*(Alternativas!O$24:O$264))","v":0},{"$f":"SUMPRODUCT(($Z87=Alternativas!$C$24:$C$264)*('Comparación Alternativas'!$AA87=Alternativas!$D$24:$D$264)*(Alternativas!P$24:P$264))","v":0},0,{"$f":"SUMPRODUCT(($Z87=Alternativas!$U$24:$U$264)*('Comparación Alternativas'!$AA87=Alternativas!$V$24:$V$264)*(Alternativas!AE$24:AE$264))","v":0},{"$f":"SUMPRODUCT(($Z87=Alternativas!$U$24:$U$264)*('Comparación Alternativas'!$AA87=Alternativas!$V$24:$V$264)*(Alternativas!AF$24:AF$264))","v":0},{"$f":"SUMPRODUCT(($Z87=Alternativas!$U$24:$U$264)*('Comparación Alternativas'!$AA87=Alternativas!$V$24:$V$264)*(Alternativas!AG$24:AG$264))","v":0},{"$f":"SUMPRODUCT(($Z87=Alternativas!$U$24:$U$264)*('Comparación Alternativas'!$AA87=Alternativas!$V$24:$V$264)*(Alternativas!AH$24:AH$264))","v":0},0,0,0,0,0,0,0,0,0,0,0,0,0,0,0,0,0,0,0,0,0]
[null,null,null,null,null,null,null,null,null,null,null,null,null,null,null,null,null,null,null,null,null,null,null,null,null,6,4,{"$f":"(AB90-AB78)/12+AB87","v":435.17919096887999},{"$f":"SUMPRODUCT(($Z88=Alternativas!$C$24:$C$264)*('Comparación Alternativas'!$AA88=Alternativas!$D$24:$D$264)*(Alternativas!M$24:M$264))","v":0},{"$f":"SUMPRODUCT(($Z88=Alternativas!$C$24:$C$264)*('Comparación Alternativas'!$AA88=Alternativas!$D$24:$D$264)*(Alternativas!N$24:N$264))","v":0},{"$f":"SUMPRODUCT(($Z88=Alternativas!$C$24:$C$264)*('Comparación Alternativas'!$AA88=Alternativas!$D$24:$D$264)*(Alternativas!O$24:O$264))","v":0},{"$f":"SUMPRODUCT(($Z88=Alternativas!$C$24:$C$264)*('Comparación Alternativas'!$AA88=Alternativas!$D$24:$D$264)*(Alternativas!P$24:P$264))","v":0},0,{"$f":"SUMPRODUCT(($Z88=Alternativas!$U$24:$U$264)*('Comparación Alternativas'!$AA88=Alternativas!$V$24:$V$264)*(Alternativas!AE$24:AE$264))","v":0},{"$f":"SUMPRODUCT(($Z88=Alternativas!$U$24:$U$264)*('Comparación Alternativas'!$AA88=Alternativas!$V$24:$V$264)*(Alternativas!AF$24:AF$264))","v":0},{"$f":"SUMPRODUCT(($Z88=Alternativas!$U$24:$U$264)*('Comparación Alternativas'!$AA88=Alternativas!$V$24:$V$264)*(Alternativas!AG$24:AG$264))","v":0},{"$f":"SUMPRODUCT(($Z88=Alternativas!$U$24:$U$264)*('Comparación Alternativas'!$AA88=Alternativas!$V$24:$V$264)*(Alternativas!AH$24:AH$264))","v":0},0,0,0,0,0,0,0,0,0,0,0,0,0,0,0,0,0,0,0,0,0]
[null,null,null,null,null,null,null,null,null,null,null,null,null,null,null,null,null,null,null,null,null,null,null,null,null,7,4,{"$f":"(AB90-AB78)/12+AB88","v":440.68735361662453},{"$f":"SUMPRODUCT(($Z89=Alternativas!$C$24:$C$264)*('Comparación Alternativas'!$AA89=Alternativas!$D$24:$D$264)*(Alternativas!M$24:M$264))","v":0},{"$f":"SUMPRODUCT(($Z89=Alternativas!$C$24:$C$264)*('Comparación Alternativas'!$AA89=Alternativas!$D$24:$D$264)*(Alternativas!N$24:N$264))","v":0},{"$f":"SUMPRODUCT(($Z89=Alternativas!$C$24:$C$264)*('Comparación Alternativas'!$AA89=Alternativas!$D$24:$D$264)*(Alternativas!O$24:O$264))","v":0},{"$f":"SUMPRODUCT(($Z89=Alternativas!$C$24:$C$264)*('Comparación Alternativas'!$AA89=Alternativas!$D$24:$D$264)*(Alternativas!P$24:P$264))","v":0},0,{"$f":"SUMPRODUCT(($Z89=Alternativas!$U$24:$U$264)*('Comparación Alternativas'!$AA89=Alternativas!$V$24:$V$264)*(Alternativas!AE$24:AE$264))","v":0},{"$f":"SUMPRODUCT(($Z89=Alternativas!$U$24:$U$264)*('Comparación Alternativas'!$AA89=Alternativas!$V$24:$V$264)*(Alternativas!AF$24:AF$264))","v":0},{"$f":"SUMPRODUCT(($Z89=Alternativas!$U$24:$U$264)*('Comparación Alternativas'!$AA89=Alternativas!$V$24:$V$264)*(Alternativas!AG$24:AG$264))","v":0},{"$f":"SUMPRODUCT(($Z89=Alternativas!$U$24:$U$264)*('Comparación Alternativas'!$AA89=Alternativas!$V$24:$V$264)*(Alternativas!AH$24:AH$264))","v":0},0,0,0,0,0,0,0,0,0,0,0,0,0,0,0,0,0,0,0,0,0]
[null,null,null,null,null,null,null,null,null,null,null,null,null,null,null,null,null,null,null,null,null,null,null,null,null,8,4,{"$f":"U16","v":446.19551626436936},{"$f":"SUMPRODUCT(($Z90=Alternativas!$C$24:$C$264)*('Comparación Alternativas'!$AA90=Alternativas!$D$24:$D$264)*(Alternativas!M$24:M$264))","v":0},{"$f":"SUMPRODUCT(($Z90=Alternativas!$C$24:$C$264)*('Comparación Alternativas'!$AA90=Alternativas!$D$24:$D$264)*(Alternativas!N$24:N$264))","v":0},{"$f":"SUMPRODUCT(($Z90=Alternativas!$C$24:$C$264)*('Comparación Alternativas'!$AA90=Alternativas!$D$24:$D$264)*(Alternativas!O$24:O$264))","v":0},{"$f":"SUMPRODUCT(($Z90=Alternativas!$C$24:$C$264)*('Comparación Alternativas'!$AA90=Alternativas!$D$24:$D$264)*(Alternativas!P$24:P$264))","v":0},0,{"$f":"SUMPRODUCT(($Z90=Alternativas!$U$24:$U$264)*('Comparación Alternativas'!$AA90=Alternativas!$V$24:$V$264)*(Alternativas!AE$24:AE$264))","v":0},{"$f":"SUMPRODUCT(($Z90=Alternativas!$U$24:$U$264)*('Comparación Alternativas'!$AA90=Alternativas!$V$24:$V$264)*(Alternativas!AF$24:AF$264))","v":0},{"$f":"SUMPRODUCT(($Z90=Alternativas!$U$24:$U$264)*('Comparación Alternativas'!$AA90=Alternativas!$V$24:$V$264)*(Alternativas!AG$24:AG$264))","v":0},{"$f":"SUMPRODUCT(($Z90=Alternativas!$U$24:$U$264)*('Comparación Alternativas'!$AA90=Alternativas!$V$24:$V$264)*(Alternativas!AH$24:AH$264))","v":0},0,0,0,0,0,0,0,0,0,0,0,0,0,0,0,0,0,0,0,0,0]
[null,null,null,null,null,null,null,null,null,null,null,null,null,null,null,null,null,null,null,null,null,null,null,null,null,9,4,{"$f":"(AB102-AB90)/12+AB90","v":446.19551626436936},{"$f":"SUMPRODUCT(($Z91=Alternativas!$C$24:$C$264)*('Comparación Alternativas'!$AA91=Alternativas!$D$24:$D$264)*(Alternativas!M$24:M$264))","v":0},{"$f":"SUMPRODUCT(($Z91=Alternativas!$C$24:$C$264)*('Comparación Alternativas'!$AA91=Alternativas!$D$24:$D$264)*(Alternativas!N$24:N$264))","v":0},{"$f":"SUMPRODUCT(($Z91=Alternativas!$C$24:$C$264)*('Comparación Alternativas'!$AA91=Alternativas!$D$24:$D$264)*(Alternativas!O$24:O$264))","v":0},{"$f":"SUMPRODUCT(($Z91=Alternativas!$C$24:$C$264)*('Comparación Alternativas'!$AA91=Alternativas!$D$24:$D$264)*(Alternativas!P$24:P$264))","v":0},0,{"$f":"SUMPRODUCT(($Z91=Alternativas!$U$24:$U$264)*('Comparación Alternativas'!$AA91=Alternativas!$V$24:$V$264)*(Alternativas!AE$24:AE$264))","v":0},{"$f":"SUMPRODUCT(($Z91=Alternativas!$U$24:$U$264)*('Comparación Alternativas'!$AA91=Alternativas!$V$24:$V$264)*(Alternativas!AF$24:AF$264))","v":0},{"$f":"SUMPRODUCT(($Z91=Alternativas!$U$24:$U$264)*('Comparación Alternativas'!$AA91=Alternativas!$V$24:$V$264)*(Alternativas!AG$24:AG$264))","v":0},{"$f":"SUMPRODUCT(($Z91=Alternativas!$U$24:$U$264)*('Comparación Alternativas'!$AA91=Alternativas!$V$24:$V$264)*(Alternativas!AH$24:AH$264))","v":0},0,0,0,0,0,0,0,0,0,0,0,0,0,0,0,0,0,0,0,0,0]
[null,null,null,null,null,null,null,null,null,null,null,null,null,null,null,null,null,null,null,null,null,null,null,null,null,10,4,{"$f":"(AB102-AB90)/12+AB91","v":446.19551626436936},{"$f":"SUMPRODUCT(($Z92=Alternativas!$C$24:$C$264)*('Comparación Alternativas'!$AA92=Alternativas!$D$24:$D$264)*(Alternativas!M$24:M$264))","v":0},{"$f":"SUMPRODUCT(($Z92=Alternativas!$C$24:$C$264)*('Comparación Alternativas'!$AA92=Alternativas!$D$24:$D$264)*(Alternativas!N$24:N$264))","v":0},{"$f":"SUMPRODUCT(($Z92=Alternativas!$C$24:$C$264)*('Comparación Alternativas'!$AA92=Alternativas!$D$24:$D$264)*(Alternativas!O$24:O$264))","v":0},{"$f":"SUMPRODUCT(($Z92=Alternativas!$C$24:$C$264)*('Comparación Alternativas'!$AA92=Alternativas!$D$24:$D$264)*(Alternativas!P$24:P$264))","v":0},0,{"$f":"SUMPRODUCT(($Z92=Alternativas!$U$24:$U$264)*('Comparación Alternativas'!$AA92=Alternativas!$V$24:$V$264)*(Alternativas!AE$24:AE$264))","v":0},{"$f":"SUMPRODUCT(($Z92=Alternativas!$U$24:$U$264)*('Comparación Alternativas'!$AA92=Alternativas!$V$24:$V$264)*(Alternativas!AF$24:AF$264))","v":0},{"$f":"SUMPRODUCT(($Z92=Alternativas!$U$24:$U$264)*('Comparación Alternativas'!$AA92=Alternativas!$V$24:$V$264)*(Alternativas!AG$24:AG$264))","v":0},{"$f":"SUMPRODUCT(($Z92=Alternativas!$U$24:$U$264)*('Comparación Alternativas'!$AA92=Alternativas!$V$24:$V$264)*(Alternativas!AH$24:AH$264))","v":0},0,0,0,0,0,0,0,0,0,0,0,0,0,0,0,0,0,0,0,0,0]
[null,null,null,null,null,null,null,null,null,null,null,null,null,null,null,null,null,null,null,null,null,null,null,null,null,11,4,{"$f":"(AB102-AB90)/12+AB92","v":446.19551626436936},{"$f":"SUMPRODUCT(($Z93=Alternativas!$C$24:$C$264)*('Comparación Alternativas'!$AA93=Alternativas!$D$24:$D$264)*(Alternativas!M$24:M$264))","v":0},{"$f":"SUMPRODUCT(($Z93=Alternativas!$C$24:$C$264)*('Comparación Alternativas'!$AA93=Alternativas!$D$24:$D$264)*(Alternativas!N$24:N$264))","v":0},{"$f":"SUMPRODUCT(($Z93=Alternativas!$C$24:$C$264)*('Comparación Alternativas'!$AA93=Alternativas!$D$24:$D$264)*(Alternativas!O$24:O$264))","v":0},{"$f":"SUMPRODUCT(($Z93=Alternativas!$C$24:$C$264)*('Comparación Alternativas'!$AA93=Alternativas!$D$24:$D$264)*(Alternativas!P$24:P$264))","v":0},0,{"$f":"SUMPRODUCT(($Z93=Alternativas!$U$24:$U$264)*('Comparación Alternativas'!$AA93=Alternativas!$V$24:$V$264)*(Alternativas!AE$24:AE$264))","v":0},{"$f":"SUMPRODUCT(($Z93=Alternativas!$U$24:$U$264)*('Comparación Alternativas'!$AA93=Alternativas!$V$24:$V$264)*(Alternativas!AF$24:AF$264))","v":0},{"$f":"SUMPRODUCT(($Z93=Alternativas!$U$24:$U$264)*('Comparación Alternativas'!$AA93=Alternativas!$V$24:$V$264)*(Alternativas!AG$24:AG$264))","v":0},{"$f":"SUMPRODUCT(($Z93=Alternativas!$U$24:$U$264)*('Comparación Alternativas'!$AA93=Alternativas!$V$24:$V$264)*(Alternativas!AH$24:AH$264))","v":0},0,0,0,0,0,0,0,0,0,0,0,0,0,0,0,0,0,0,0,0,0]
[null,null,null,null,null,null,null,null,null,null,null,null,null,null,null,null,null,null,null,null,null,null,null,null,null,12,4,{"$f":"(AB102-AB90)/12+AB93","v":446.19551626436936},{"$f":"SUMPRODUCT(($Z94=Alternativas!$C$24:$C$264)*('Comparación Alternativas'!$AA94=Alternativas!$D$24:$D$264)*(Alternativas!M$24:M$264))","v":0},{"$f":"SUMPRODUCT(($Z94=Alternativas!$C$24:$C$264)*('Comparación Alternativas'!$AA94=Alternativas!$D$24:$D$264)*(Alternativas!N$24:N$264))","v":0},{"$f":"SUMPRODUCT(($Z94=Alternativas!$C$24:$C$264)*('Comparación Alternativas'!$AA94=Alternativas!$D$24:$D$264)*(Alternativas!O$24:O$264))","v":0},{"$f":"SUMPRODUCT(($Z94=Alternativas!$C$24:$C$264)*('Comparación Alternativas'!$AA94=Alternativas!$D$24:$D$264)*(Alternativas!P$24:P$264))","v":0},0,{"$f":"SUMPRODUCT(($Z94=Alternativas!$U$24:$U$264)*('Comparación Alternativas'!$AA94=Alternativas!$V$24:$V$264)*(Alternativas!AE$24:AE$264))","v":0},{"$f":"SUMPRODUCT(($Z94=Alternativas!$U$24:$U$264)*('Comparación Alternativas'!$AA94=Alternativas!$V$24:$V$264)*(Alternativas!AF$24:AF$264))","v":0},{"$f":"SUMPRODUCT(($Z94=Alternativas!$U$24:$U$264)*('Comparación Alternativas'!$AA94=Alternativas!$V$24:$V$264)*(Alternativas!AG$24:AG$264))","v":0},{"$f":"SUMPRODUCT(($Z94=Alternativas!$U$24:$U$264)*('Comparación Alternativas'!$AA94=Alternativas!$V$24:$V$264)*(Alternativas!AH$24:AH$264))","v":0},0,0,0,0,0,0,0,0,0,0,0,0,0,0,0,0,0,0,0,0,0]
[null,null,null,null,null,null,null,null,null,null,null,null,null,null,null,null,null,null,null,null,null,null,null,null,null,1,5,{"$f":"(AB102-AB90)/12+AB94","v":446.19551626436936},{"$f":"SUMPRODUCT(($Z95=Alternativas!$C$24:$C$264)*('Comparación Alternativas'!$AA95=Alternativas!$D$24:$D$264)*(Alternativas!M$24:M$264))","v":0},{"$f":"SUMPRODUCT(($Z95=Alternativas!$C$24:$C$264)*('Comparación Alternativas'!$AA95=Alternativas!$D$24:$D$264)*(Alternativas!N$24:N$264))","v":0},{"$f":"SUMPRODUCT(($Z95=Alternativas!$C$24:$C$264)*('Comparación Alternativas'!$AA95=Alternativas!$D$24:$D$264)*(Alternativas!O$24:O$264))","v":0},{"$f":"SUMPRODUCT(($Z95=Alternativas!$C$24:$C$264)*('Comparación Alternativas'!$AA95=Alternativas!$D$24:$D$264)*(Alternativas!P$24:P$264))","v":0},0,{"$f":"SUMPRODUCT(($Z95=Alternativas!$U$24:$U$264)*('Comparación Alternativas'!$AA95=Alternativas!$V$24:$V$264)*(Alternativas!AE$24:AE$264))","v":0},{"$f":"SUMPRODUCT(($Z95=Alternativas!$U$24:$U$264)*('Comparación Alternativas'!$AA95=Alternativas!$V$24:$V$264)*(Alternativas!AF$24:AF$264))","v":0},{"$f":"SUMPRODUCT(($Z95=Alternativas!$U$24:$U$264)*('Comparación Alternativas'!$AA95=Alternativas!$V$24:$V$264)*(Alternativas!AG$24:AG$264))","v":0},{"$f":"SUMPRODUCT(($Z95=Alternativas!$U$24:$U$264)*('Comparación Alternativas'!$AA95=Alternativas!$V$24:$V$264)*(Alternativas!AH$24:AH$264))","v":0},0,0,0,0,0,0,0,0,0,0,0,0,0,0,0,0,0,0,0,0,0]
[null,null,null,null,null,null,null,null,null,null,null,null,null,null,null,null,null,null,null,null,null,null,null,null,null,2,5,{"$f":"(AB102-AB90)/12+AB95","v":446.19551626436936},{"$f":"SUMPRODUCT(($Z96=Alternativas!$C$24:$C$264)*('Comparación Alternativas'!$AA96=Alternativas!$D$24:$D$264)*(Alternativas!M$24:M$264))","v":0},{"$f":"SUMPRODUCT(($Z96=Alternativas!$C$24:$C$264)*('Comparación Alternativas'!$AA96=Alternativas!$D$24:$D$264)*(Alternativas!N$24:N$264))","v":0},{"$f":"SUMPRODUCT(($Z96=Alternativas!$C$24:$C$264)*('Comparación Alternativas'!$AA96=Alternativas!$D$24:$D$264)*(Alternativas!O$24:O$264))","v":0},{"$f":"SUMPRODUCT(($Z96=Alternativas!$C$24:$C$264)*('Comparación Alternativas'!$AA96=Alternativas!$D$24:$D$264)*(Alternativas!P$24:P$264))","v":0},0,{"$f":"SUMPRODUCT(($Z96=Alternativas!$U$24:$U$264)*('Comparación Alternativas'!$AA96=Alternativas!$V$24:$V$264)*(Alternativas!AE$24:AE$264))","v":0},{"$f":"SUMPRODUCT(($Z96=Alternativas!$U$24:$U$264)*('Comparación Alternativas'!$AA96=Alternativas!$V$24:$V$264)*(Alternativas!AF$24:AF$264))","v":0},{"$f":"SUMPRODUCT(($Z96=Alternativas!$U$24:$U$264)*('Comparación Alternativas'!$AA96=Alternativas!$V$24:$V$264)*(Alternativas!AG$24:AG$264))","v":0},{"$f":"SUMPRODUCT(($Z96=Alternativas!$U$24:$U$264)*('Comparación Alternativas'!$AA96=Alternativas!$V$24:$V$264)*(Alternativas!AH$24:AH$264))","v":0},0,0,0,0,0,0,0,0,0,0,0,0,0,0,0,0,0,0,0,0,0]
[null,null,null,null,null,null,null,null,null,null,null,null,null,null,null,null,null,null,null,null,null,null,null,null,null,3,5,{"$f":"(AB102-AB90)/12+AB96","v":446.19551626436936},{"$f":"SUMPRODUCT(($Z97=Alternativas!$C$24:$C$264)*('Comparación Alternativas'!$AA97=Alternativas!$D$24:$D$264)*(Alternativas!M$24:M$264))","v":0},{"$f":"SUMPRODUCT(($Z97=Alternativas!$C$24:$C$264)*('Comparación Alternativas'!$AA97=Alternativas!$D$24:$D$264)*(Alternativas!N$24:N$264))","v":0},{"$f":"SUMPRODUCT(($Z97=Alternativas!$C$24:$C$264)*('Comparación Alternativas'!$AA97=Alternativas!$D$24:$D$264)*(Alternativas!O$24:O$264))","v":0},{"$f":"SUMPRODUCT(($Z97=Alternativas!$C$24:$C$264)*('Comparación Alternativas'!$AA97=Alternativas!$D$24:$D$264)*(Alternativas!P$24:P$264))","v":0},0,{"$f":"SUMPRODUCT(($Z97=Alternativas!$U$24:$U$264)*('Comparación Alternativas'!$AA97=Alternativas!$V$24:$V$264)*(Alternativas!AE$24:AE$264))","v":0},{"$f":"SUMPRODUCT(($Z97=Alternativas!$U$24:$U$264)*('Comparación Alternativas'!$AA97=Alternativas!$V$24:$V$264)*(Alternativas!AF$24:AF$264))","v":0},{"$f":"SUMPRODUCT(($Z97=Alternativas!$U$24:$U$264)*('Comparación Alternativas'!$AA97=Alternativas!$V$24:$V$264)*(Alternativas!AG$24:AG$264))","v":0},{"$f":"SUMPRODUCT(($Z97=Alternativas!$U$24:$U$264)*('Comparación Alternativas'!$AA97=Alternativas!$V$24:$V$264)*(Alternativas!AH$24:AH$264))","v":0},0,0,0,0,0,0,0,0,0,0,0,0,0,0,0,0,0,0,0,0,0]
[null,null,null,null,null,null,null,null,null,null,null,null,null,null,null,null,null,null,null,null,null,null,null,null,null,4,5,{"$f":"(AB102-AB90)/12+AB97","v":446.19551626436936},{"$f":"SUMPRODUCT(($Z98=Alternativas!$C$24:$C$264)*('Comparación Alternativas'!$AA98=Alternativas!$D$24:$D$264)*(Alternativas!M$24:M$264))","v":0},{"$f":"SUMPRODUCT(($Z98=Alternativas!$C$24:$C$264)*('Comparación Alternativas'!$AA98=Alternativas!$D$24:$D$264)*(Alternativas!N$24:N$264))","v":0},{"$f":"SUMPRODUCT(($Z98=Alternativas!$C$24:$C$264)*('Comparación Alternativas'!$AA98=Alternativas!$D$24:$D$264)*(Alternativas!O$24:O$264))","v":0},{"$f":"SUMPRODUCT(($Z98=Alternativas!$C$24:$C$264)*('Comparación Alternativas'!$AA98=Alternativas!$D$24:$D$264)*(Alternativas!P$24:P$264))","v":0},0,{"$f":"SUMPRODUCT(($Z98=Alternativas!$U$24:$U$264)*('Comparación Alternativas'!$AA98=Alternativas!$V$24:$V$264)*(Alternativas!AE$24:AE$264))","v":0},{"$f":"SUMPRODUCT(($Z98=Alternativas!$U$24:$U$264)*('Comparación Alternativas'!$AA98=Alternativas!$V$24:$V$264)*(Alternativas!AF$24:AF$264))","v":0},{"$f":"SUMPRODUCT(($Z98=Alternativas!$U$24:$U$264)*('Comparación Alternativas'!$AA98=Alternativas!$V$24:$V$264)*(Alternativas!AG$24:AG$264))","v":0},{"$f":"SUMPRODUCT(($Z98=Alternativas!$U$24:$U$264)*('Comparación Alternativas'!$AA98=Alternativas!$V$24:$V$264)*(Alternativas!AH$24:AH$264))","v":0},0,0,0,0,0,0,0,0,0,0,0,0,0,0,0,0,0,0,0,0,0]
[null,null,null,null,null,null,null,null,null,null,null,null,null,null,null,null,null,null,null,null,null,null,null,null,null,5,5,{"$f":"(AB102-AB90)/12+AB98","v":446.19551626436936},{"$f":"SUMPRODUCT(($Z99=Alternativas!$C$24:$C$264)*('Comparación Alternativas'!$AA99=Alternativas!$D$24:$D$264)*(Alternativas!M$24:M$264))","v":0},{"$f":"SUMPRODUCT(($Z99=Alternativas!$C$24:$C$264)*('Comparación Alternativas'!$AA99=Alternativas!$D$24:$D$264)*(Alternativas!N$24:N$264))","v":0},{"$f":"SUMPRODUCT(($Z99=Alternativas!$C$24:$C$264)*('Comparación Alternativas'!$AA99=Alternativas!$D$24:$D$264)*(Alternativas!O$24:O$264))","v":0},{"$f":"SUMPRODUCT(($Z99=Alternativas!$C$24:$C$264)*('Comparación Alternativas'!$AA99=Alternativas!$D$24:$D$264)*(Alternativas!P$24:P$264))","v":0},0,{"$f":"SUMPRODUCT(($Z99=Alternativas!$U$24:$U$264)*('Comparación Alternativas'!$AA99=Alternativas!$V$24:$V$264)*(Alternativas!AE$24:AE$264))","v":0},{"$f":"SUMPRODUCT(($Z99=Alternativas!$U$24:$U$264)*('Comparación Alternativas'!$AA99=Alternativas!$V$24:$V$264)*(Alternativas!AF$24:AF$264))","v":0},{"$f":"SUMPRODUCT(($Z99=Alternativas!$U$24:$U$264)*('Comparación Alternativas'!$AA99=Alternativas!$V$24:$V$264)*(Alternativas!AG$24:AG$264))","v":0},{"$f":"SUMPRODUCT(($Z99=Alternativas!$U$24:$U$264)*('Comparación Alternativas'!$AA99=Alternativas!$V$24:$V$264)*(Alternativas!AH$24:AH$264))","v":0},0,0,0,0,0,0,0,0,0,0,0,0,0,0,0,0,0,0,0,0,0]
[null,null,null,null,null,null,null,null,null,null,null,null,null,null,null,null,null,null,null,null,null,null,null,null,null,6,5,{"$f":"(AB102-AB90)/12+AB99","v":446.19551626436936},{"$f":"SUMPRODUCT(($Z100=Alternativas!$C$24:$C$264)*('Comparación Alternativas'!$AA100=Alternativas!$D$24:$D$264)*(Alternativas!M$24:M$264))","v":0},{"$f":"SUMPRODUCT(($Z100=Alternativas!$C$24:$C$264)*('Comparación Alternativas'!$AA100=Alternativas!$D$24:$D$264)*(Alternativas!N$24:N$264))","v":0},{"$f":"SUMPRODUCT(($Z100=Alternativas!$C$24:$C$264)*('Comparación Alternativas'!$AA100=Alternativas!$D$24:$D$264)*(Alternativas!O$24:O$264))","v":0},{"$f":"SUMPRODUCT(($Z100=Alternativas!$C$24:$C$264)*('Comparación Alternativas'!$AA100=Alternativas!$D$24:$D$264)*(Alternativas!P$24:P$264))","v":0},0,{"$f":"SUMPRODUCT(($Z100=Alternativas!$U$24:$U$264)*('Comparación Alternativas'!$AA100=Alternativas!$V$24:$V$264)*(Alternativas!AE$24:AE$264))","v":0},{"$f":"SUMPRODUCT(($Z100=Alternativas!$U$24:$U$264)*('Comparación Alternativas'!$AA100=Alternativas!$V$24:$V$264)*(Alternativas!AF$24:AF$264))","v":0},{"$f":"SUMPRODUCT(($Z100=Alternativas!$U$24:$U$264)*('Comparación Alternativas'!$AA100=Alternativas!$V$24:$V$264)*(Alternativas!AG$24:AG$264))","v":0},{"$f":"SUMPRODUCT(($Z100=Alternativas!$U$24:$U$264)*('Comparación Alternativas'!$AA100=Alternativas!$V$24:$V$264)*(Alternativas!AH$24:AH$264))","v":0},0,0,0,0,0,0,0,0,0,0,0,0,0,0,0,0,0,0,0,0,0]
[null,null,null,null,null,null,null,null,null,null,null,null,null,null,null,null,null,null,null,null,null,null,null,null,null,7,5,{"$f":"(AB102-AB90)/12+AB100","v":446.19551626436936},{"$f":"SUMPRODUCT(($Z101=Alternativas!$C$24:$C$264)*('Comparación Alternativas'!$AA101=Alternativas!$D$24:$D$264)*(Alternativas!M$24:M$264))","v":0},{"$f":"SUMPRODUCT(($Z101=Alternativas!$C$24:$C$264)*('Comparación Alternativas'!$AA101=Alternativas!$D$24:$D$264)*(Alternativas!N$24:N$264))","v":0},{"$f":"SUMPRODUCT(($Z101=Alternativas!$C$24:$C$264)*('Comparación Alternativas'!$AA101=Alternativas!$D$24:$D$264)*(Alternativas!O$24:O$264))","v":0},{"$f":"SUMPRODUCT(($Z101=Alternativas!$C$24:$C$264)*('Comparación Alternativas'!$AA101=Alternativas!$D$24:$D$264)*(Alternativas!P$24:P$264))","v":0},0,{"$f":"SUMPRODUCT(($Z101=Alternativas!$U$24:$U$264)*('Comparación Alternativas'!$AA101=Alternativas!$V$24:$V$264)*(Alternativas!AE$24:AE$264))","v":0},{"$f":"SUMPRODUCT(($Z101=Alternativas!$U$24:$U$264)*('Comparación Alternativas'!$AA101=Alternativas!$V$24:$V$264)*(Alternativas!AF$24:AF$264))","v":0},{"$f":"SUMPRODUCT(($Z101=Alternativas!$U$24:$U$264)*('Comparación Alternativas'!$AA101=Alternativas!$V$24:$V$264)*(Alternativas!AG$24:AG$264))","v":0},{"$f":"SUMPRODUCT(($Z101=Alternativas!$U$24:$U$264)*('Comparación Alternativas'!$AA101=Alternativas!$V$24:$V$264)*(Alternativas!AH$24:AH$264))","v":0},0,0,0,0,0,0,0,0,0,0,0,0,0,0,0,0,0,0,0,0,0]
[null,null,null,null,null,null,null,null,null,null,null,null,null,null,null,null,null,null,null,null,null,null,null,null,null,8,5,{"$f":"U17","v":446.19551626436936},{"$f":"SUMPRODUCT(($Z102=Alternativas!$C$24:$C$264)*('Comparación Alternativas'!$AA102=Alternativas!$D$24:$D$264)*(Alternativas!M$24:M$264))","v":0},{"$f":"SUMPRODUCT(($Z102=Alternativas!$C$24:$C$264)*('Comparación Alternativas'!$AA102=Alternativas!$D$24:$D$264)*(Alternativas!N$24:N$264))","v":0},{"$f":"SUMPRODUCT(($Z102=Alternativas!$C$24:$C$264)*('Comparación Alternativas'!$AA102=Alternativas!$D$24:$D$264)*(Alternativas!O$24:O$264))","v":0},{"$f":"SUMPRODUCT(($Z102=Alternativas!$C$24:$C$264)*('Comparación Alternativas'!$AA102=Alternativas!$D$24:$D$264)*(Alternativas!P$24:P$264))","v":0},0,{"$f":"SUMPRODUCT(($Z102=Alternativas!$U$24:$U$264)*('Comparación Alternativas'!$AA102=Alternativas!$V$24:$V$264)*(Alternativas!AE$24:AE$264))","v":0},{"$f":"SUMPRODUCT(($Z102=Alternativas!$U$24:$U$264)*('Comparación Alternativas'!$AA102=Alternativas!$V$24:$V$264)*(Alternativas!AF$24:AF$264))","v":0},{"$f":"SUMPRODUCT(($Z102=Alternativas!$U$24:$U$264)*('Comparación Alternativas'!$AA102=Alternativas!$V$24:$V$264)*(Alternativas!AG$24:AG$264))","v":0},{"$f":"SUMPRODUCT(($Z102=Alternativas!$U$24:$U$264)*('Comparación Alternativas'!$AA102=Alternativas!$V$24:$V$264)*(Alternativas!AH$24:AH$264))","v":0},0,0,0,0,0,0,0,0,0,0,0,0,0,0,0,0,0,0,0,0,0]
[null,null,null,null,null,null,null,null,null,null,null,null,null,null,null,null,null,null,null,null,null,null,null,null,null,9,5,{"$f":"(AB114-AB102)/12+AB102","v":446.19551626436936},{"$f":"SUMPRODUCT(($Z103=Alternativas!$C$24:$C$264)*('Comparación Alternativas'!$AA103=Alternativas!$D$24:$D$264)*(Alternativas!M$24:M$264))","v":0},{"$f":"SUMPRODUCT(($Z103=Alternativas!$C$24:$C$264)*('Comparación Alternativas'!$AA103=Alternativas!$D$24:$D$264)*(Alternativas!N$24:N$264))","v":0},{"$f":"SUMPRODUCT(($Z103=Alternativas!$C$24:$C$264)*('Comparación Alternativas'!$AA103=Alternativas!$D$24:$D$264)*(Alternativas!O$24:O$264))","v":0},{"$f":"SUMPRODUCT(($Z103=Alternativas!$C$24:$C$264)*('Comparación Alternativas'!$AA103=Alternativas!$D$24:$D$264)*(Alternativas!P$24:P$264))","v":0},0,{"$f":"SUMPRODUCT(($Z103=Alternativas!$U$24:$U$264)*('Comparación Alternativas'!$AA103=Alternativas!$V$24:$V$264)*(Alternativas!AE$24:AE$264))","v":0},{"$f":"SUMPRODUCT(($Z103=Alternativas!$U$24:$U$264)*('Comparación Alternativas'!$AA103=Alternativas!$V$24:$V$264)*(Alternativas!AF$24:AF$264))","v":0},{"$f":"SUMPRODUCT(($Z103=Alternativas!$U$24:$U$264)*('Comparación Alternativas'!$AA103=Alternativas!$V$24:$V$264)*(Alternativas!AG$24:AG$264))","v":0},{"$f":"SUMPRODUCT(($Z103=Alternativas!$U$24:$U$264)*('Comparación Alternativas'!$AA103=Alternativas!$V$24:$V$264)*(Alternativas!AH$24:AH$264))","v":0},0,0,0,0,0,0,0,0,0,0,0,0,0,0,0,0,0,0,0,0,0]
[null,null,null,null,null,null,null,null,null,null,null,null,null,null,null,null,null,null,null,null,null,null,null,null,null,10,5,{"$f":"(AB114-AB102)/12+AB103","v":446.19551626436936},{"$f":"SUMPRODUCT(($Z104=Alternativas!$C$24:$C$264)*('Comparación Alternativas'!$AA104=Alternativas!$D$24:$D$264)*(Alternativas!M$24:M$264))","v":0},{"$f":"SUMPRODUCT(($Z104=Alternativas!$C$24:$C$264)*('Comparación Alternativas'!$AA104=Alternativas!$D$24:$D$264)*(Alternativas!N$24:N$264))","v":0},{"$f":"SUMPRODUCT(($Z104=Alternativas!$C$24:$C$264)*('Comparación Alternativas'!$AA104=Alternativas!$D$24:$D$264)*(Alternativas!O$24:O$264))","v":0},{"$f":"SUMPRODUCT(($Z104=Alternativas!$C$24:$C$264)*('Comparación Alternativas'!$AA104=Alternativas!$D$24:$D$264)*(Alternativas!P$24:P$264))","v":0},0,{"$f":"SUMPRODUCT(($Z104=Alternativas!$U$24:$U$264)*('Comparación Alternativas'!$AA104=Alternativas!$V$24:$V$264)*(Alternativas!AE$24:AE$264))","v":0},{"$f":"SUMPRODUCT(($Z104=Alternativas!$U$24:$U$264)*('Comparación Alternativas'!$AA104=Alternativas!$V$24:$V$264)*(Alternativas!AF$24:AF$264))","v":0},{"$f":"SUMPRODUCT(($Z104=Alternativas!$U$24:$U$264)*('Comparación Alternativas'!$AA104=Alternativas!$V$24:$V$264)*(Alternativas!AG$24:AG$264))","v":0},{"$f":"SUMPRODUCT(($Z104=Alternativas!$U$24:$U$264)*('Comparación Alternativas'!$AA104=Alternativas!$V$24:$V$264)*(Alternativas!AH$24:AH$264))","v":0},0,0,0,0,0,0,0,0,0,0,0,0,0,0,0,0,0,0,0,0,0]
[null,null,null,null,null,null,null,null,null,null,null,null,null,null,null,null,null,null,null,null,null,null,null,null,null,11,5,{"$f":"(AB114-AB102)/12+AB104","v":446.19551626436936},{"$f":"SUMPRODUCT(($Z105=Alternativas!$C$24:$C$264)*('Comparación Alternativas'!$AA105=Alternativas!$D$24:$D$264)*(Alternativas!M$24:M$264))","v":0},{"$f":"SUMPRODUCT(($Z105=Alternativas!$C$24:$C$264)*('Comparación Alternativas'!$AA105=Alternativas!$D$24:$D$264)*(Alternativas!N$24:N$264))","v":0},{"$f":"SUMPRODUCT(($Z105=Alternativas!$C$24:$C$264)*('Comparación Alternativas'!$AA105=Alternativas!$D$24:$D$264)*(Alternativas!O$24:O$264))","v":0},{"$f":"SUMPRODUCT(($Z105=Alternativas!$C$24:$C$264)*('Comparación Alternativas'!$AA105=Alternativas!$D$24:$D$264)*(Alternativas!P$24:P$264))","v":0},0,{"$f":"SUMPRODUCT(($Z105=Alternativas!$U$24:$U$264)*('Comparación Alternativas'!$AA105=Alternativas!$V$24:$V$264)*(Alternativas!AE$24:AE$264))","v":0},{"$f":"SUMPRODUCT(($Z105=Alternativas!$U$24:$U$264)*('Comparación Alternativas'!$AA105=Alternativas!$V$24:$V$264)*(Alternativas!AF$24:AF$264))","v":0},{"$f":"SUMPRODUCT(($Z105=Alternativas!$U$24:$U$264)*('Comparación Alternativas'!$AA105=Alternativas!$V$24:$V$264)*(Alternativas!AG$24:AG$264))","v":0},{"$f":"SUMPRODUCT(($Z105=Alternativas!$U$24:$U$264)*('Comparación Alternativas'!$AA105=Alternativas!$V$24:$V$264)*(Alternativas!AH$24:AH$264))","v":0},0,0,0,0,0,0,0,0,0,0,0,0,0,0,0,0,0,0,0,0,0]
[null,null,null,null,null,null,null,null,null,null,null,null,null,null,null,null,null,null,null,null,null,null,null,null,null,12,5,{"$f":"(AB114-AB102)/12+AB105","v":446.19551626436936},{"$f":"SUMPRODUCT(($Z106=Alternativas!$C$24:$C$264)*('Comparación Alternativas'!$AA106=Alternativas!$D$24:$D$264)*(Alternativas!M$24:M$264))","v":0},{"$f":"SUMPRODUCT(($Z106=Alternativas!$C$24:$C$264)*('Comparación Alternativas'!$AA106=Alternativas!$D$24:$D$264)*(Alternativas!N$24:N$264))","v":0},{"$f":"SUMPRODUCT(($Z106=Alternativas!$C$24:$C$264)*('Comparación Alternativas'!$AA106=Alternativas!$D$24:$D$264)*(Alternativas!O$24:O$264))","v":0},{"$f":"SUMPRODUCT(($Z106=Alternativas!$C$24:$C$264)*('Comparación Alternativas'!$AA106=Alternativas!$D$24:$D$264)*(Alternativas!P$24:P$264))","v":0},0,{"$f":"SUMPRODUCT(($Z106=Alternativas!$U$24:$U$264)*('Comparación Alternativas'!$AA106=Alternativas!$V$24:$V$264)*(Alternativas!AE$24:AE$264))","v":0},{"$f":"SUMPRODUCT(($Z106=Alternativas!$U$24:$U$264)*('Comparación Alternativas'!$AA106=Alternativas!$V$24:$V$264)*(Alternativas!AF$24:AF$264))","v":0},{"$f":"SUMPRODUCT(($Z106=Alternativas!$U$24:$U$264)*('Comparación Alternativas'!$AA106=Alternativas!$V$24:$V$264)*(Alternativas!AG$24:AG$264))","v":0},{"$f":"SUMPRODUCT(($Z106=Alternativas!$U$24:$U$264)*('Comparación Alternativas'!$AA106=Alternativas!$V$24:$V$264)*(Alternativas!AH$24:AH$264))","v":0},0,0,0,0,0,0,0,0,0,0,0,0,0,0,0,0,0,0,0,0,0]
[null,null,null,null,null,null,null,null,null,null,null,null,null,null,null,null,null,null,null,null,null,null,null,null,null,1,6,{"$f":"(AB114-AB102)/12+AB106","v":446.19551626436936},{"$f":"SUMPRODUCT(($Z107=Alternativas!$C$24:$C$264)*('Comparación Alternativas'!$AA107=Alternativas!$D$24:$D$264)*(Alternativas!M$24:M$264))","v":0},{"$f":"SUMPRODUCT(($Z107=Alternativas!$C$24:$C$264)*('Comparación Alternativas'!$AA107=Alternativas!$D$24:$D$264)*(Alternativas!N$24:N$264))","v":0},{"$f":"SUMPRODUCT(($Z107=Alternativas!$C$24:$C$264)*('Comparación Alternativas'!$AA107=Alternativas!$D$24:$D$264)*(Alternativas!O$24:O$264))","v":0},{"$f":"SUMPRODUCT(($Z107=Alternativas!$C$24:$C$264)*('Comparación Alternativas'!$AA107=Alternativas!$D$24:$D$264)*(Alternativas!P$24:P$264))","v":0},0,{"$f":"SUMPRODUCT(($Z107=Alternativas!$U$24:$U$264)*('Comparación Alternativas'!$AA107=Alternativas!$V$24:$V$264)*(Alternativas!AE$24:AE$264))","v":0},{"$f":"SUMPRODUCT(($Z107=Alternativas!$U$24:$U$264)*('Comparación Alternativas'!$AA107=Alternativas!$V$24:$V$264)*(Alternativas!AF$24:AF$264))","v":0},{"$f":"SUMPRODUCT(($Z107=Alternativas!$U$24:$U$264)*('Comparación Alternativas'!$AA107=Alternativas!$V$24:$V$264)*(Alternativas!AG$24:AG$264))","v":0},{"$f":"SUMPRODUCT(($Z107=Alternativas!$U$24:$U$264)*('Comparación Alternativas'!$AA107=Alternativas!$V$24:$V$264)*(Alternativas!AH$24:AH$264))","v":0},0,0,0,0,0,0,0,0,0,0,0,0,0,0,0,0,0,0,0,0,0]
[null,null,null,null,null,null,null,null,null,null,null,null,null,null,null,null,null,null,null,null,null,null,null,null,null,2,6,{"$f":"(AB114-AB102)/12+AB107","v":446.19551626436936},{"$f":"SUMPRODUCT(($Z108=Alternativas!$C$24:$C$264)*('Comparación Alternativas'!$AA108=Alternativas!$D$24:$D$264)*(Alternativas!M$24:M$264))","v":0},{"$f":"SUMPRODUCT(($Z108=Alternativas!$C$24:$C$264)*('Comparación Alternativas'!$AA108=Alternativas!$D$24:$D$264)*(Alternativas!N$24:N$264))","v":0},{"$f":"SUMPRODUCT(($Z108=Alternativas!$C$24:$C$264)*('Comparación Alternativas'!$AA108=Alternativas!$D$24:$D$264)*(Alternativas!O$24:O$264))","v":0},{"$f":"SUMPRODUCT(($Z108=Alternativas!$C$24:$C$264)*('Comparación Alternativas'!$AA108=Alternativas!$D$24:$D$264)*(Alternativas!P$24:P$264))","v":0},0,{"$f":"SUMPRODUCT(($Z108=Alternativas!$U$24:$U$264)*('Comparación Alternativas'!$AA108=Alternativas!$V$24:$V$264)*(Alternativas!AE$24:AE$264))","v":0},{"$f":"SUMPRODUCT(($Z108=Alternativas!$U$24:$U$264)*('Comparación Alternativas'!$AA108=Alternativas!$V$24:$V$264)*(Alternativas!AF$24:AF$264))","v":0},{"$f":"SUMPRODUCT(($Z108=Alternativas!$U$24:$U$264)*('Comparación Alternativas'!$AA108=Alternativas!$V$24:$V$264)*(Alternativas!AG$24:AG$264))","v":0},{"$f":"SUMPRODUCT(($Z108=Alternativas!$U$24:$U$264)*('Comparación Alternativas'!$AA108=Alternativas!$V$24:$V$264)*(Alternativas!AH$24:AH$264))","v":0},0,0,0,0,0,0,0,0,0,0,0,0,0,0,0,0,0,0,0,0,0]
[null,null,null,null,null,null,null,null,null,null,null,null,null,null,null,null,null,null,null,null,null,null,null,null,null,3,6,{"$f":"(AB114-AB102)/12+AB108","v":446.19551626436936},{"$f":"SUMPRODUCT(($Z109=Alternativas!$C$24:$C$264)*('Comparación Alternativas'!$AA109=Alternativas!$D$24:$D$264)*(Alternativas!M$24:M$264))","v":0},{"$f":"SUMPRODUCT(($Z109=Alternativas!$C$24:$C$264)*('Comparación Alternativas'!$AA109=Alternativas!$D$24:$D$264)*(Alternativas!N$24:N$264))","v":0},{"$f":"SUMPRODUCT(($Z109=Alternativas!$C$24:$C$264)*('Comparación Alternativas'!$AA109=Alternativas!$D$24:$D$264)*(Alternativas!O$24:O$264))","v":0},{"$f":"SUMPRODUCT(($Z109=Alternativas!$C$24:$C$264)*('Comparación Alternativas'!$AA109=Alternativas!$D$24:$D$264)*(Alternativas!P$24:P$264))","v":0},0,{"$f":"SUMPRODUCT(($Z109=Alternativas!$U$24:$U$264)*('Comparación Alternativas'!$AA109=Alternativas!$V$24:$V$264)*(Alternativas!AE$24:AE$264))","v":0},{"$f":"SUMPRODUCT(($Z109=Alternativas!$U$24:$U$264)*('Comparación Alternativas'!$AA109=Alternativas!$V$24:$V$264)*(Alternativas!AF$24:AF$264))","v":0},{"$f":"SUMPRODUCT(($Z109=Alternativas!$U$24:$U$264)*('Comparación Alternativas'!$AA109=Alternativas!$V$24:$V$264)*(Alternativas!AG$24:AG$264))","v":0},{"$f":"SUMPRODUCT(($Z109=Alternativas!$U$24:$U$264)*('Comparación Alternativas'!$AA109=Alternativas!$V$24:$V$264)*(Alternativas!AH$24:AH$264))","v":0},0,0,0,0,0,0,0,0,0,0,0,0,0,0,0,0,0,0,0,0,0]
[null,null,null,null,null,null,null,null,null,null,null,null,null,null,null,null,null,null,null,null,null,null,null,null,null,4,6,{"$f":"(AB114-AB102)/12+AB109","v":446.19551626436936},{"$f":"SUMPRODUCT(($Z110=Alternativas!$C$24:$C$264)*('Comparación Alternativas'!$AA110=Alternativas!$D$24:$D$264)*(Alternativas!M$24:M$264))","v":0},{"$f":"SUMPRODUCT(($Z110=Alternativas!$C$24:$C$264)*('Comparación Alternativas'!$AA110=Alternativas!$D$24:$D$264)*(Alternativas!N$24:N$264))","v":0},{"$f":"SUMPRODUCT(($Z110=Alternativas!$C$24:$C$264)*('Comparación Alternativas'!$AA110=Alternativas!$D$24:$D$264)*(Alternativas!O$24:O$264))","v":0},{"$f":"SUMPRODUCT(($Z110=Alternativas!$C$24:$C$264)*('Comparación Alternativas'!$AA110=Alternativas!$D$24:$D$264)*(Alternativas!P$24:P$264))","v":0},0,{"$f":"SUMPRODUCT(($Z110=Alternativas!$U$24:$U$264)*('Comparación Alternativas'!$AA110=Alternativas!$V$24:$V$264)*(Alternativas!AE$24:AE$264))","v":0},{"$f":"SUMPRODUCT(($Z110=Alternativas!$U$24:$U$264)*('Comparación Alternativas'!$AA110=Alternativas!$V$24:$V$264)*(Alternativas!AF$24:AF$264))","v":0},{"$f":"SUMPRODUCT(($Z110=Alternativas!$U$24:$U$264)*('Comparación Alternativas'!$AA110=Alternativas!$V$24:$V$264)*(Alternativas!AG$24:AG$264))","v":0},{"$f":"SUMPRODUCT(($Z110=Alternativas!$U$24:$U$264)*('Comparación Alternativas'!$AA110=Alternativas!$V$24:$V$264)*(Alternativas!AH$24:AH$264))","v":0},0,0,0,0,0,0,0,0,0,0,0,0,0,0,0,0,0,0,0,0,0]
[null,null,null,null,null,null,null,null,null,null,null,null,null,null,null,null,null,null,null,null,null,null,null,null,null,5,6,{"$f":"(AB114-AB102)/12+AB110","v":446.19551626436936},{"$f":"SUMPRODUCT(($Z111=Alternativas!$C$24:$C$264)*('Comparación Alternativas'!$AA111=Alternativas!$D$24:$D$264)*(Alternativas!M$24:M$264))","v":0},{"$f":"SUMPRODUCT(($Z111=Alternativas!$C$24:$C$264)*('Comparación Alternativas'!$AA111=Alternativas!$D$24:$D$264)*(Alternativas!N$24:N$264))","v":0},{"$f":"SUMPRODUCT(($Z111=Alternativas!$C$24:$C$264)*('Comparación Alternativas'!$AA111=Alternativas!$D$24:$D$264)*(Alternativas!O$24:O$264))","v":0},{"$f":"SUMPRODUCT(($Z111=Alternativas!$C$24:$C$264)*('Comparación Alternativas'!$AA111=Alternativas!$D$24:$D$264)*(Alternativas!P$24:P$264))","v":0},0,{"$f":"SUMPRODUCT(($Z111=Alternativas!$U$24:$U$264)*('Comparación Alternativas'!$AA111=Alternativas!$V$24:$V$264)*(Alternativas!AE$24:AE$264))","v":0},{"$f":"SUMPRODUCT(($Z111=Alternativas!$U$24:$U$264)*('Comparación Alternativas'!$AA111=Alternativas!$V$24:$V$264)*(Alternativas!AF$24:AF$264))","v":0},{"$f":"SUMPRODUCT(($Z111=Alternativas!$U$24:$U$264)*('Comparación Alternativas'!$AA111=Alternativas!$V$24:$V$264)*(Alternativas!AG$24:AG$264))","v":0},{"$f":"SUMPRODUCT(($Z111=Alternativas!$U$24:$U$264)*('Comparación Alternativas'!$AA111=Alternativas!$V$24:$V$264)*(Alternativas!AH$24:AH$264))","v":0},0,0,0,0,0,0,0,0,0,0,0,0,0,0,0,0,0,0,0,0,0]
[null,null,null,null,null,null,null,null,null,null,null,null,null,null,null,null,null,null,null,null,null,null,null,null,null,6,6,{"$f":"(AB114-AB102)/12+AB111","v":446.19551626436936},{"$f":"SUMPRODUCT(($Z112=Alternativas!$C$24:$C$264)*('Comparación Alternativas'!$AA112=Alternativas!$D$24:$D$264)*(Alternativas!M$24:M$264))","v":0},{"$f":"SUMPRODUCT(($Z112=Alternativas!$C$24:$C$264)*('Comparación Alternativas'!$AA112=Alternativas!$D$24:$D$264)*(Alternativas!N$24:N$264))","v":0},{"$f":"SUMPRODUCT(($Z112=Alternativas!$C$24:$C$264)*('Comparación Alternativas'!$AA112=Alternativas!$D$24:$D$264)*(Alternativas!O$24:O$264))","v":0},{"$f":"SUMPRODUCT(($Z112=Alternativas!$C$24:$C$264)*('Comparación Alternativas'!$AA112=Alternativas!$D$24:$D$264)*(Alternativas!P$24:P$264))","v":0},0,{"$f":"SUMPRODUCT(($Z112=Alternativas!$U$24:$U$264)*('Comparación Alternativas'!$AA112=Alternativas!$V$24:$V$264)*(Alternativas!AE$24:AE$264))","v":0},{"$f":"SUMPRODUCT(($Z112=Alternativas!$U$24:$U$264)*('Comparación Alternativas'!$AA112=Alternativas!$V$24:$V$264)*(Alternativas!AF$24:AF$264))","v":0},{"$f":"SUMPRODUCT(($Z112=Alternativas!$U$24:$U$264)*('Comparación Alternativas'!$AA112=Alternativas!$V$24:$V$264)*(Alternativas!AG$24:AG$264))","v":0},{"$f":"SUMPRODUCT(($Z112=Alternativas!$U$24:$U$264)*('Comparación Alternativas'!$AA112=Alternativas!$V$24:$V$264)*(Alternativas!AH$24:AH$264))","v":0},0,0,0,0,0,0,0,0,0,0,0,0,0,0,0,0,0,0,0,0,0]
[null,null,null,null,null,null,null,null,null,null,null,null,null,null,null,null,null,null,null,null,null,null,null,null,null,7,6,{"$f":"(AB114-AB102)/12+AB112","v":446.19551626436936},{"$f":"SUMPRODUCT(($Z113=Alternativas!$C$24:$C$264)*('Comparación Alternativas'!$AA113=Alternativas!$D$24:$D$264)*(Alternativas!M$24:M$264))","v":0},{"$f":"SUMPRODUCT(($Z113=Alternativas!$C$24:$C$264)*('Comparación Alternativas'!$AA113=Alternativas!$D$24:$D$264)*(Alternativas!N$24:N$264))","v":0},{"$f":"SUMPRODUCT(($Z113=Alternativas!$C$24:$C$264)*('Comparación Alternativas'!$AA113=Alternativas!$D$24:$D$264)*(Alternativas!O$24:O$264))","v":0},{"$f":"SUMPRODUCT(($Z113=Alternativas!$C$24:$C$264)*('Comparación Alternativas'!$AA113=Alternativas!$D$24:$D$264)*(Alternativas!P$24:P$264))","v":0},0,{"$f":"SUMPRODUCT(($Z113=Alternativas!$U$24:$U$264)*('Comparación Alternativas'!$AA113=Alternativas!$V$24:$V$264)*(Alternativas!AE$24:AE$264))","v":0},{"$f":"SUMPRODUCT(($Z113=Alternativas!$U$24:$U$264)*('Comparación Alternativas'!$AA113=Alternativas!$V$24:$V$264)*(Alternativas!AF$24:AF$264))","v":0},{"$f":"SUMPRODUCT(($Z113=Alternativas!$U$24:$U$264)*('Comparación Alternativas'!$AA113=Alternativas!$V$24:$V$264)*(Alternativas!AG$24:AG$264))","v":0},{"$f":"SUMPRODUCT(($Z113=Alternativas!$U$24:$U$264)*('Comparación Alternativas'!$AA113=Alternativas!$V$24:$V$264)*(Alternativas!AH$24:AH$264))","v":0},0,0,0,0,0,0,0,0,0,0,0,0,0,0,0,0,0,0,0,0,0]
[null,null,null,null,null,null,null,null,null,null,null,null,null,null,null,null,null,null,null,null,null,null,null,null,null,8,6,{"$f":"U18","v":446.19551626436936},{"$f":"SUMPRODUCT(($Z114=Alternativas!$C$24:$C$264)*('Comparación Alternativas'!$AA114=Alternativas!$D$24:$D$264)*(Alternativas!M$24:M$264))","v":0},{"$f":"SUMPRODUCT(($Z114=Alternativas!$C$24:$C$264)*('Comparación Alternativas'!$AA114=Alternativas!$D$24:$D$264)*(Alternativas!N$24:N$264))","v":0},{"$f":"SUMPRODUCT(($Z114=Alternativas!$C$24:$C$264)*('Comparación Alternativas'!$AA114=Alternativas!$D$24:$D$264)*(Alternativas!O$24:O$264))","v":0},{"$f":"SUMPRODUCT(($Z114=Alternativas!$C$24:$C$264)*('Comparación Alternativas'!$AA114=Alternativas!$D$24:$D$264)*(Alternativas!P$24:P$264))","v":0},0,{"$f":"SUMPRODUCT(($Z114=Alternativas!$U$24:$U$264)*('Comparación Alternativas'!$AA114=Alternativas!$V$24:$V$264)*(Alternativas!AE$24:AE$264))","v":0},{"$f":"SUMPRODUCT(($Z114=Alternativas!$U$24:$U$264)*('Comparación Alternativas'!$AA114=Alternativas!$V$24:$V$264)*(Alternativas!AF$24:AF$264))","v":0},{"$f":"SUMPRODUCT(($Z114=Alternativas!$U$24:$U$264)*('Comparación Alternativas'!$AA114=Alternativas!$V$24:$V$264)*(Alternativas!AG$24:AG$264))","v":0},{"$f":"SUMPRODUCT(($Z114=Alternativas!$U$24:$U$264)*('Comparación Alternativas'!$AA114=Alternativas!$V$24:$V$264)*(Alternativas!AH$24:AH$264))","v":0},0,0,0,0,0,0,0,0,0,0,0,0,0,0,0,0,0,0,0,0,0]
[null,null,null,null,null,null,null,null,null,null,null,null,null,null,null,null,null,null,null,null,null,null,null,null,null,9,6,{"$f":"(AB126-AB114)/12+AB114","v":446.19551626436936},{"$f":"SUMPRODUCT(($Z115=Alternativas!$C$24:$C$264)*('Comparación Alternativas'!$AA115=Alternativas!$D$24:$D$264)*(Alternativas!M$24:M$264))","v":0},{"$f":"SUMPRODUCT(($Z115=Alternativas!$C$24:$C$264)*('Comparación Alternativas'!$AA115=Alternativas!$D$24:$D$264)*(Alternativas!N$24:N$264))","v":0},{"$f":"SUMPRODUCT(($Z115=Alternativas!$C$24:$C$264)*('Comparación Alternativas'!$AA115=Alternativas!$D$24:$D$264)*(Alternativas!O$24:O$264))","v":0},{"$f":"SUMPRODUCT(($Z115=Alternativas!$C$24:$C$264)*('Comparación Alternativas'!$AA115=Alternativas!$D$24:$D$264)*(Alternativas!P$24:P$264))","v":0},0,{"$f":"SUMPRODUCT(($Z115=Alternativas!$U$24:$U$264)*('Comparación Alternativas'!$AA115=Alternativas!$V$24:$V$264)*(Alternativas!AE$24:AE$264))","v":0},{"$f":"SUMPRODUCT(($Z115=Alternativas!$U$24:$U$264)*('Comparación Alternativas'!$AA115=Alternativas!$V$24:$V$264)*(Alternativas!AF$24:AF$264))","v":0},{"$f":"SUMPRODUCT(($Z115=Alternativas!$U$24:$U$264)*('Comparación Alternativas'!$AA115=Alternativas!$V$24:$V$264)*(Alternativas!AG$24:AG$264))","v":0},{"$f":"SUMPRODUCT(($Z115=Alternativas!$U$24:$U$264)*('Comparación Alternativas'!$AA115=Alternativas!$V$24:$V$264)*(Alternativas!AH$24:AH$264))","v":0},0,0,0,0,0,0,0,0,0,0,0,0,0,0,0,0,0,0,0,0,0]
[null,null,null,null,null,null,null,null,null,null,null,null,null,null,null,null,null,null,null,null,null,null,null,null,null,10,6,{"$f":"(AB126-AB114)/12+AB115","v":446.19551626436936},{"$f":"SUMPRODUCT(($Z116=Alternativas!$C$24:$C$264)*('Comparación Alternativas'!$AA116=Alternativas!$D$24:$D$264)*(Alternativas!M$24:M$264))","v":0},{"$f":"SUMPRODUCT(($Z116=Alternativas!$C$24:$C$264)*('Comparación Alternativas'!$AA116=Alternativas!$D$24:$D$264)*(Alternativas!N$24:N$264))","v":0},{"$f":"SUMPRODUCT(($Z116=Alternativas!$C$24:$C$264)*('Comparación Alternativas'!$AA116=Alternativas!$D$24:$D$264)*(Alternativas!O$24:O$264))","v":0},{"$f":"SUMPRODUCT(($Z116=Alternativas!$C$24:$C$264)*('Comparación Alternativas'!$AA116=Alternativas!$D$24:$D$264)*(Alternativas!P$24:P$264))","v":0},0,{"$f":"SUMPRODUCT(($Z116=Alternativas!$U$24:$U$264)*('Comparación Alternativas'!$AA116=Alternativas!$V$24:$V$264)*(Alternativas!AE$24:AE$264))","v":0},{"$f":"SUMPRODUCT(($Z116=Alternativas!$U$24:$U$264)*('Comparación Alternativas'!$AA116=Alternativas!$V$24:$V$264)*(Alternativas!AF$24:AF$264))","v":0},{"$f":"SUMPRODUCT(($Z116=Alternativas!$U$24:$U$264)*('Comparación Alternativas'!$AA116=Alternativas!$V$24:$V$264)*(Alternativas!AG$24:AG$264))","v":0},{"$f":"SUMPRODUCT(($Z116=Alternativas!$U$24:$U$264)*('Comparación Alternativas'!$AA116=Alternativas!$V$24:$V$264)*(Alternativas!AH$24:AH$264))","v":0},0,0,0,0,0,0,0,0,0,0,0,0,0,0,0,0,0,0,0,0,0]
[null,null,null,null,null,null,null,null,null,null,null,null,null,null,null,null,null,null,null,null,null,null,null,null,null,11,6,{"$f":"(AB126-AB114)/12+AB116","v":446.19551626436936},{"$f":"SUMPRODUCT(($Z117=Alternativas!$C$24:$C$264)*('Comparación Alternativas'!$AA117=Alternativas!$D$24:$D$264)*(Alternativas!M$24:M$264))","v":0},{"$f":"SUMPRODUCT(($Z117=Alternativas!$C$24:$C$264)*('Comparación Alternativas'!$AA117=Alternativas!$D$24:$D$264)*(Alternativas!N$24:N$264))","v":0},{"$f":"SUMPRODUCT(($Z117=Alternativas!$C$24:$C$264)*('Comparación Alternativas'!$AA117=Alternativas!$D$24:$D$264)*(Alternativas!O$24:O$264))","v":0},{"$f":"SUMPRODUCT(($Z117=Alternativas!$C$24:$C$264)*('Comparación Alternativas'!$AA117=Alternativas!$D$24:$D$264)*(Alternativas!P$24:P$264))","v":0},0,{"$f":"SUMPRODUCT(($Z117=Alternativas!$U$24:$U$264)*('Comparación Alternativas'!$AA117=Alternativas!$V$24:$V$264)*(Alternativas!AE$24:AE$264))","v":0},{"$f":"SUMPRODUCT(($Z117=Alternativas!$U$24:$U$264)*('Comparación Alternativas'!$AA117=Alternativas!$V$24:$V$264)*(Alternativas!AF$24:AF$264))","v":0},{"$f":"SUMPRODUCT(($Z117=Alternativas!$U$24:$U$264)*('Comparación Alternativas'!$AA117=Alternativas!$V$24:$V$264)*(Alternativas!AG$24:AG$264))","v":0},{"$f":"SUMPRODUCT(($Z117=Alternativas!$U$24:$U$264)*('Comparación Alternativas'!$AA117=Alternativas!$V$24:$V$264)*(Alternativas!AH$24:AH$264))","v":0},0,0,0,0,0,0,0,0,0,0,0,0,0,0,0,0,0,0,0,0,0]
[null,null,null,null,null,null,null,null,null,null,null,null,null,null,null,null,null,null,null,null,null,null,null,null,null,12,6,{"$f":"(AB126-AB114)/12+AB117","v":446.19551626436936},{"$f":"SUMPRODUCT(($Z118=Alternativas!$C$24:$C$264)*('Comparación Alternativas'!$AA118=Alternativas!$D$24:$D$264)*(Alternativas!M$24:M$264))","v":0},{"$f":"SUMPRODUCT(($Z118=Alternativas!$C$24:$C$264)*('Comparación Alternativas'!$AA118=Alternativas!$D$24:$D$264)*(Alternativas!N$24:N$264))","v":0},{"$f":"SUMPRODUCT(($Z118=Alternativas!$C$24:$C$264)*('Comparación Alternativas'!$AA118=Alternativas!$D$24:$D$264)*(Alternativas!O$24:O$264))","v":0},{"$f":"SUMPRODUCT(($Z118=Alternativas!$C$24:$C$264)*('Comparación Alternativas'!$AA118=Alternativas!$D$24:$D$264)*(Alternativas!P$24:P$264))","v":0},0,{"$f":"SUMPRODUCT(($Z118=Alternativas!$U$24:$U$264)*('Comparación Alternativas'!$AA118=Alternativas!$V$24:$V$264)*(Alternativas!AE$24:AE$264))","v":0},{"$f":"SUMPRODUCT(($Z118=Alternativas!$U$24:$U$264)*('Comparación Alternativas'!$AA118=Alternativas!$V$24:$V$264)*(Alternativas!AF$24:AF$264))","v":0},{"$f":"SUMPRODUCT(($Z118=Alternativas!$U$24:$U$264)*('Comparación Alternativas'!$AA118=Alternativas!$V$24:$V$264)*(Alternativas!AG$24:AG$264))","v":0},{"$f":"SUMPRODUCT(($Z118=Alternativas!$U$24:$U$264)*('Comparación Alternativas'!$AA118=Alternativas!$V$24:$V$264)*(Alternativas!AH$24:AH$264))","v":0},0,0,0,0,0,0,0,0,0,0,0,0,0,0,0,0,0,0,0,0,0]
[null,null,null,null,null,null,null,null,null,null,null,null,null,null,null,null,null,null,null,null,null,null,null,null,null,1,7,{"$f":"(AB126-AB114)/12+AB118","v":446.19551626436936},{"$f":"SUMPRODUCT(($Z119=Alternativas!$C$24:$C$264)*('Comparación Alternativas'!$AA119=Alternativas!$D$24:$D$264)*(Alternativas!M$24:M$264))","v":0},{"$f":"SUMPRODUCT(($Z119=Alternativas!$C$24:$C$264)*('Comparación Alternativas'!$AA119=Alternativas!$D$24:$D$264)*(Alternativas!N$24:N$264))","v":0},{"$f":"SUMPRODUCT(($Z119=Alternativas!$C$24:$C$264)*('Comparación Alternativas'!$AA119=Alternativas!$D$24:$D$264)*(Alternativas!O$24:O$264))","v":0},{"$f":"SUMPRODUCT(($Z119=Alternativas!$C$24:$C$264)*('Comparación Alternativas'!$AA119=Alternativas!$D$24:$D$264)*(Alternativas!P$24:P$264))","v":0},0,{"$f":"SUMPRODUCT(($Z119=Alternativas!$U$24:$U$264)*('Comparación Alternativas'!$AA119=Alternativas!$V$24:$V$264)*(Alternativas!AE$24:AE$264))","v":0},{"$f":"SUMPRODUCT(($Z119=Alternativas!$U$24:$U$264)*('Comparación Alternativas'!$AA119=Alternativas!$V$24:$V$264)*(Alternativas!AF$24:AF$264))","v":0},{"$f":"SUMPRODUCT(($Z119=Alternativas!$U$24:$U$264)*('Comparación Alternativas'!$AA119=Alternativas!$V$24:$V$264)*(Alternativas!AG$24:AG$264))","v":0},{"$f":"SUMPRODUCT(($Z119=Alternativas!$U$24:$U$264)*('Comparación Alternativas'!$AA119=Alternativas!$V$24:$V$264)*(Alternativas!AH$24:AH$264))","v":0},0,0,0,0,0,0,0,0,0,0,0,0,0,0,0,0,0,0,0,0,0]
[null,null,null,null,null,null,null,null,null,null,null,null,null,null,null,null,null,null,null,null,null,null,null,null,null,2,7,{"$f":"(AB126-AB114)/12+AB119","v":446.19551626436936},{"$f":"SUMPRODUCT(($Z120=Alternativas!$C$24:$C$264)*('Comparación Alternativas'!$AA120=Alternativas!$D$24:$D$264)*(Alternativas!M$24:M$264))","v":0},{"$f":"SUMPRODUCT(($Z120=Alternativas!$C$24:$C$264)*('Comparación Alternativas'!$AA120=Alternativas!$D$24:$D$264)*(Alternativas!N$24:N$264))","v":0},{"$f":"SUMPRODUCT(($Z120=Alternativas!$C$24:$C$264)*('Comparación Alternativas'!$AA120=Alternativas!$D$24:$D$264)*(Alternativas!O$24:O$264))","v":0},{"$f":"SUMPRODUCT(($Z120=Alternativas!$C$24:$C$264)*('Comparación Alternativas'!$AA120=Alternativas!$D$24:$D$264)*(Alternativas!P$24:P$264))","v":0},0,{"$f":"SUMPRODUCT(($Z120=Alternativas!$U$24:$U$264)*('Comparación Alternativas'!$AA120=Alternativas!$V$24:$V$264)*(Alternativas!AE$24:AE$264))","v":0},{"$f":"SUMPRODUCT(($Z120=Alternativas!$U$24:$U$264)*('Comparación Alternativas'!$AA120=Alternativas!$V$24:$V$264)*(Alternativas!AF$24:AF$264))","v":0},{"$f":"SUMPRODUCT(($Z120=Alternativas!$U$24:$U$264)*('Comparación Alternativas'!$AA120=Alternativas!$V$24:$V$264)*(Alternativas!AG$24:AG$264))","v":0},{"$f":"SUMPRODUCT(($Z120=Alternativas!$U$24:$U$264)*('Comparación Alternativas'!$AA120=Alternativas!$V$24:$V$264)*(Alternativas!AH$24:AH$264))","v":0},0,0,0,0,0,0,0,0,0,0,0,0,0,0,0,0,0,0,0,0,0]
[null,null,null,null,null,null,null,null,null,null,null,null,null,null,null,null,null,null,null,null,null,null,null,null,null,3,7,{"$f":"(AB126-AB114)/12+AB120","v":446.19551626436936},{"$f":"SUMPRODUCT(($Z121=Alternativas!$C$24:$C$264)*('Comparación Alternativas'!$AA121=Alternativas!$D$24:$D$264)*(Alternativas!M$24:M$264))","v":0},{"$f":"SUMPRODUCT(($Z121=Alternativas!$C$24:$C$264)*('Comparación Alternativas'!$AA121=Alternativas!$D$24:$D$264)*(Alternativas!N$24:N$264))","v":0},{"$f":"SUMPRODUCT(($Z121=Alternativas!$C$24:$C$264)*('Comparación Alternativas'!$AA121=Alternativas!$D$24:$D$264)*(Alternativas!O$24:O$264))","v":0},{"$f":"SUMPRODUCT(($Z121=Alternativas!$C$24:$C$264)*('Comparación Alternativas'!$AA121=Alternativas!$D$24:$D$264)*(Alternativas!P$24:P$264))","v":0},0,{"$f":"SUMPRODUCT(($Z121=Alternativas!$U$24:$U$264)*('Comparación Alternativas'!$AA121=Alternativas!$V$24:$V$264)*(Alternativas!AE$24:AE$264))","v":0},{"$f":"SUMPRODUCT(($Z121=Alternativas!$U$24:$U$264)*('Comparación Alternativas'!$AA121=Alternativas!$V$24:$V$264)*(Alternativas!AF$24:AF$264))","v":0},{"$f":"SUMPRODUCT(($Z121=Alternativas!$U$24:$U$264)*('Comparación Alternativas'!$AA121=Alternativas!$V$24:$V$264)*(Alternativas!AG$24:AG$264))","v":0},{"$f":"SUMPRODUCT(($Z121=Alternativas!$U$24:$U$264)*('Comparación Alternativas'!$AA121=Alternativas!$V$24:$V$264)*(Alternativas!AH$24:AH$264))","v":0},0,0,0,0,0,0,0,0,0,0,0,0,0,0,0,0,0,0,0,0,0]
[null,null,null,null,null,null,null,null,null,null,null,null,null,null,null,null,null,null,null,null,null,null,null,null,null,4,7,{"$f":"(AB126-AB114)/12+AB121","v":446.19551626436936},{"$f":"SUMPRODUCT(($Z122=Alternativas!$C$24:$C$264)*('Comparación Alternativas'!$AA122=Alternativas!$D$24:$D$264)*(Alternativas!M$24:M$264))","v":0},{"$f":"SUMPRODUCT(($Z122=Alternativas!$C$24:$C$264)*('Comparación Alternativas'!$AA122=Alternativas!$D$24:$D$264)*(Alternativas!N$24:N$264))","v":0},{"$f":"SUMPRODUCT(($Z122=Alternativas!$C$24:$C$264)*('Comparación Alternativas'!$AA122=Alternativas!$D$24:$D$264)*(Alternativas!O$24:O$264))","v":0},{"$f":"SUMPRODUCT(($Z122=Alternativas!$C$24:$C$264)*('Comparación Alternativas'!$AA122=Alternativas!$D$24:$D$264)*(Alternativas!P$24:P$264))","v":0},0,{"$f":"SUMPRODUCT(($Z122=Alternativas!$U$24:$U$264)*('Comparación Alternativas'!$AA122=Alternativas!$V$24:$V$264)*(Alternativas!AE$24:AE$264))","v":0},{"$f":"SUMPRODUCT(($Z122=Alternativas!$U$24:$U$264)*('Comparación Alternativas'!$AA122=Alternativas!$V$24:$V$264)*(Alternativas!AF$24:AF$264))","v":0},{"$f":"SUMPRODUCT(($Z122=Alternativas!$U$24:$U$264)*('Comparación Alternativas'!$AA122=Alternativas!$V$24:$V$264)*(Alternativas!AG$24:AG$264))","v":0},{"$f":"SUMPRODUCT(($Z122=Alternativas!$U$24:$U$264)*('Comparación Alternativas'!$AA122=Alternativas!$V$24:$V$264)*(Alternativas!AH$24:AH$264))","v":0},0,0,0,0,0,0,0,0,0,0,0,0,0,0,0,0,0,0,0,0,0]
[null,null,null,null,null,null,null,null,null,null,null,null,null,null,null,null,null,null,null,null,null,null,null,null,null,5,7,{"$f":"(AB126-AB114)/12+AB122","v":446.19551626436936},{"$f":"SUMPRODUCT(($Z123=Alternativas!$C$24:$C$264)*('Comparación Alternativas'!$AA123=Alternativas!$D$24:$D$264)*(Alternativas!M$24:M$264))","v":0},{"$f":"SUMPRODUCT(($Z123=Alternativas!$C$24:$C$264)*('Comparación Alternativas'!$AA123=Alternativas!$D$24:$D$264)*(Alternativas!N$24:N$264))","v":0},{"$f":"SUMPRODUCT(($Z123=Alternativas!$C$24:$C$264)*('Comparación Alternativas'!$AA123=Alternativas!$D$24:$D$264)*(Alternativas!O$24:O$264))","v":0},{"$f":"SUMPRODUCT(($Z123=Alternativas!$C$24:$C$264)*('Comparación Alternativas'!$AA123=Alternativas!$D$24:$D$264)*(Alternativas!P$24:P$264))","v":0},0,{"$f":"SUMPRODUCT(($Z123=Alternativas!$U$24:$U$264)*('Comparación Alternativas'!$AA123=Alternativas!$V$24:$V$264)*(Alternativas!AE$24:AE$264))","v":0},{"$f":"SUMPRODUCT(($Z123=Alternativas!$U$24:$U$264)*('Comparación Alternativas'!$AA123=Alternativas!$V$24:$V$264)*(Alternativas!AF$24:AF$264))","v":0},{"$f":"SUMPRODUCT(($Z123=Alternativas!$U$24:$U$264)*('Comparación Alternativas'!$AA123=Alternativas!$V$24:$V$264)*(Alternativas!AG$24:AG$264))","v":0},{"$f":"SUMPRODUCT(($Z123=Alternativas!$U$24:$U$264)*('Comparación Alternativas'!$AA123=Alternativas!$V$24:$V$264)*(Alternativas!AH$24:AH$264))","v":0},0,0,0,0,0,0,0,0,0,0,0,0,0,0,0,0,0,0,0,0,0]
[null,null,null,null,null,null,null,null,null,null,null,null,null,null,null,null,null,null,null,null,null,null,null,null,null,6,7,{"$f":"(AB126-AB114)/12+AB123","v":446.19551626436936},{"$f":"SUMPRODUCT(($Z124=Alternativas!$C$24:$C$264)*('Comparación Alternativas'!$AA124=Alternativas!$D$24:$D$264)*(Alternativas!M$24:M$264))","v":0},{"$f":"SUMPRODUCT(($Z124=Alternativas!$C$24:$C$264)*('Comparación Alternativas'!$AA124=Alternativas!$D$24:$D$264)*(Alternativas!N$24:N$264))","v":0},{"$f":"SUMPRODUCT(($Z124=Alternativas!$C$24:$C$264)*('Comparación Alternativas'!$AA124=Alternativas!$D$24:$D$264)*(Alternativas!O$24:O$264))","v":0},{"$f":"SUMPRODUCT(($Z124=Alternativas!$C$24:$C$264)*('Comparación Alternativas'!$AA124=Alternativas!$D$24:$D$264)*(Alternativas!P$24:P$264))","v":0},0,{"$f":"SUMPRODUCT(($Z124=Alternativas!$U$24:$U$264)*('Comparación Alternativas'!$AA124=Alternativas!$V$24:$V$264)*(Alternativas!AE$24:AE$264))","v":0},{"$f":"SUMPRODUCT(($Z124=Alternativas!$U$24:$U$264)*('Comparación Alternativas'!$AA124=Alternativas!$V$24:$V$264)*(Alternativas!AF$24:AF$264))","v":0},{"$f":"SUMPRODUCT(($Z124=Alternativas!$U$24:$U$264)*('Comparación Alternativas'!$AA124=Alternativas!$V$24:$V$264)*(Alternativas!AG$24:AG$264))","v":0},{"$f":"SUMPRODUCT(($Z124=Alternativas!$U$24:$U$264)*('Comparación Alternativas'!$AA124=Alternativas!$V$24:$V$264)*(Alternativas!AH$24:AH$264))","v":0},0,0,0,0,0,0,0,0,0,0,0,0,0,0,0,0,0,0,0,0,0]
[null,null,null,null,null,null,null,null,null,null,null,null,null,null,null,null,null,null,null,null,null,null,null,null,null,7,7,{"$f":"(AB126-AB114)/12+AB124","v":446.19551626436936},{"$f":"SUMPRODUCT(($Z125=Alternativas!$C$24:$C$264)*('Comparación Alternativas'!$AA125=Alternativas!$D$24:$D$264)*(Alternativas!M$24:M$264))","v":0},{"$f":"SUMPRODUCT(($Z125=Alternativas!$C$24:$C$264)*('Comparación Alternativas'!$AA125=Alternativas!$D$24:$D$264)*(Alternativas!N$24:N$264))","v":0},{"$f":"SUMPRODUCT(($Z125=Alternativas!$C$24:$C$264)*('Comparación Alternativas'!$AA125=Alternativas!$D$24:$D$264)*(Alternativas!O$24:O$264))","v":0},{"$f":"SUMPRODUCT(($Z125=Alternativas!$C$24:$C$264)*('Comparación Alternativas'!$AA125=Alternativas!$D$24:$D$264)*(Alternativas!P$24:P$264))","v":0},0,{"$f":"SUMPRODUCT(($Z125=Alternativas!$U$24:$U$264)*('Comparación Alternativas'!$AA125=Alternativas!$V$24:$V$264)*(Alternativas!AE$24:AE$264))","v":0},{"$f":"SUMPRODUCT(($Z125=Alternativas!$U$24:$U$264)*('Comparación Alternativas'!$AA125=Alternativas!$V$24:$V$264)*(Alternativas!AF$24:AF$264))","v":0},{"$f":"SUMPRODUCT(($Z125=Alternativas!$U$24:$U$264)*('Comparación Alternativas'!$AA125=Alternativas!$V$24:$V$264)*(Alternativas!AG$24:AG$264))","v":0},{"$f":"SUMPRODUCT(($Z125=Alternativas!$U$24:$U$264)*('Comparación Alternativas'!$AA125=Alternativas!$V$24:$V$264)*(Alternativas!AH$24:AH$264))","v":0},0,0,0,0,0,0,0,0,0,0,0,0,0,0,0,0,0,0,0,0,0]
[null,null,null,null,null,null,null,null,null,null,null,null,null,null,null,null,null,null,null,null,null,null,null,null,null,8,7,{"$f":"U19","v":446.19551626436936},{"$f":"SUMPRODUCT(($Z126=Alternativas!$C$24:$C$264)*('Comparación Alternativas'!$AA126=Alternativas!$D$24:$D$264)*(Alternativas!M$24:M$264))","v":0},{"$f":"SUMPRODUCT(($Z126=Alternativas!$C$24:$C$264)*('Comparación Alternativas'!$AA126=Alternativas!$D$24:$D$264)*(Alternativas!N$24:N$264))","v":0},{"$f":"SUMPRODUCT(($Z126=Alternativas!$C$24:$C$264)*('Comparación Alternativas'!$AA126=Alternativas!$D$24:$D$264)*(Alternativas!O$24:O$264))","v":0},{"$f":"SUMPRODUCT(($Z126=Alternativas!$C$24:$C$264)*('Comparación Alternativas'!$AA126=Alternativas!$D$24:$D$264)*(Alternativas!P$24:P$264))","v":0},0,{"$f":"SUMPRODUCT(($Z126=Alternativas!$U$24:$U$264)*('Comparación Alternativas'!$AA126=Alternativas!$V$24:$V$264)*(Alternativas!AE$24:AE$264))","v":0},{"$f":"SUMPRODUCT(($Z126=Alternativas!$U$24:$U$264)*('Comparación Alternativas'!$AA126=Alternativas!$V$24:$V$264)*(Alternativas!AF$24:AF$264))","v":0},{"$f":"SUMPRODUCT(($Z126=Alternativas!$U$24:$U$264)*('Comparación Alternativas'!$AA126=Alternativas!$V$24:$V$264)*(Alternativas!AG$24:AG$264))","v":0},{"$f":"SUMPRODUCT(($Z126=Alternativas!$U$24:$U$264)*('Comparación Alternativas'!$AA126=Alternativas!$V$24:$V$264)*(Alternativas!AH$24:AH$264))","v":0},0,0,0,0,0,0,0,0,0,0,0,0,0,0,0,0,0,0,0,0,0]
[null,null,null,null,null,null,null,null,null,null,null,null,null,null,null,null,null,null,null,null,null,null,null,null,null,9,7,{"$f":"(AB138-AB126)/12+AB126","v":446.19551626436936},{"$f":"SUMPRODUCT(($Z127=Alternativas!$C$24:$C$264)*('Comparación Alternativas'!$AA127=Alternativas!$D$24:$D$264)*(Alternativas!M$24:M$264))","v":0},{"$f":"SUMPRODUCT(($Z127=Alternativas!$C$24:$C$264)*('Comparación Alternativas'!$AA127=Alternativas!$D$24:$D$264)*(Alternativas!N$24:N$264))","v":0},{"$f":"SUMPRODUCT(($Z127=Alternativas!$C$24:$C$264)*('Comparación Alternativas'!$AA127=Alternativas!$D$24:$D$264)*(Alternativas!O$24:O$264))","v":0},{"$f":"SUMPRODUCT(($Z127=Alternativas!$C$24:$C$264)*('Comparación Alternativas'!$AA127=Alternativas!$D$24:$D$264)*(Alternativas!P$24:P$264))","v":0},0,{"$f":"SUMPRODUCT(($Z127=Alternativas!$U$24:$U$264)*('Comparación Alternativas'!$AA127=Alternativas!$V$24:$V$264)*(Alternativas!AE$24:AE$264))","v":0},{"$f":"SUMPRODUCT(($Z127=Alternativas!$U$24:$U$264)*('Comparación Alternativas'!$AA127=Alternativas!$V$24:$V$264)*(Alternativas!AF$24:AF$264))","v":0},{"$f":"SUMPRODUCT(($Z127=Alternativas!$U$24:$U$264)*('Comparación Alternativas'!$AA127=Alternativas!$V$24:$V$264)*(Alternativas!AG$24:AG$264))","v":0},{"$f":"SUMPRODUCT(($Z127=Alternativas!$U$24:$U$264)*('Comparación Alternativas'!$AA127=Alternativas!$V$24:$V$264)*(Alternativas!AH$24:AH$264))","v":0},0,0,0,0,0,0,0,0,0,0,0,0,0,0,0,0,0,0,0,0,0]
[null,null,null,null,null,null,null,null,null,null,null,null,null,null,null,null,null,null,null,null,null,null,null,null,null,10,7,{"$f":"(AB138-AB126)/12+AB127","v":446.19551626436936},{"$f":"SUMPRODUCT(($Z128=Alternativas!$C$24:$C$264)*('Comparación Alternativas'!$AA128=Alternativas!$D$24:$D$264)*(Alternativas!M$24:M$264))","v":0},{"$f":"SUMPRODUCT(($Z128=Alternativas!$C$24:$C$264)*('Comparación Alternativas'!$AA128=Alternativas!$D$24:$D$264)*(Alternativas!N$24:N$264))","v":0},{"$f":"SUMPRODUCT(($Z128=Alternativas!$C$24:$C$264)*('Comparación Alternativas'!$AA128=Alternativas!$D$24:$D$264)*(Alternativas!O$24:O$264))","v":0},{"$f":"SUMPRODUCT(($Z128=Alternativas!$C$24:$C$264)*('Comparación Alternativas'!$AA128=Alternativas!$D$24:$D$264)*(Alternativas!P$24:P$264))","v":0},0,{"$f":"SUMPRODUCT(($Z128=Alternativas!$U$24:$U$264)*('Comparación Alternativas'!$AA128=Alternativas!$V$24:$V$264)*(Alternativas!AE$24:AE$264))","v":0},{"$f":"SUMPRODUCT(($Z128=Alternativas!$U$24:$U$264)*('Comparación Alternativas'!$AA128=Alternativas!$V$24:$V$264)*(Alternativas!AF$24:AF$264))","v":0},{"$f":"SUMPRODUCT(($Z128=Alternativas!$U$24:$U$264)*('Comparación Alternativas'!$AA128=Alternativas!$V$24:$V$264)*(Alternativas!AG$24:AG$264))","v":0},{"$f":"SUMPRODUCT(($Z128=Alternativas!$U$24:$U$264)*('Comparación Alternativas'!$AA128=Alternativas!$V$24:$V$264)*(Alternativas!AH$24:AH$264))","v":0},0,0,0,0,0,0,0,0,0,0,0,0,0,0,0,0,0,0,0,0,0]
[null,null,null,null,null,null,null,null,null,null,null,null,null,null,null,null,null,null,null,null,null,null,null,null,null,11,7,{"$f":"(AB138-AB126)/12+AB128","v":446.19551626436936},{"$f":"SUMPRODUCT(($Z129=Alternativas!$C$24:$C$264)*('Comparación Alternativas'!$AA129=Alternativas!$D$24:$D$264)*(Alternativas!M$24:M$264))","v":0},{"$f":"SUMPRODUCT(($Z129=Alternativas!$C$24:$C$264)*('Comparación Alternativas'!$AA129=Alternativas!$D$24:$D$264)*(Alternativas!N$24:N$264))","v":0},{"$f":"SUMPRODUCT(($Z129=Alternativas!$C$24:$C$264)*('Comparación Alternativas'!$AA129=Alternativas!$D$24:$D$264)*(Alternativas!O$24:O$264))","v":0},{"$f":"SUMPRODUCT(($Z129=Alternativas!$C$24:$C$264)*('Comparación Alternativas'!$AA129=Alternativas!$D$24:$D$264)*(Alternativas!P$24:P$264))","v":0},0,{"$f":"SUMPRODUCT(($Z129=Alternativas!$U$24:$U$264)*('Comparación Alternativas'!$AA129=Alternativas!$V$24:$V$264)*(Alternativas!AE$24:AE$264))","v":0},{"$f":"SUMPRODUCT(($Z129=Alternativas!$U$24:$U$264)*('Comparación Alternativas'!$AA129=Alternativas!$V$24:$V$264)*(Alternativas!AF$24:AF$264))","v":0},{"$f":"SUMPRODUCT(($Z129=Alternativas!$U$24:$U$264)*('Comparación Alternativas'!$AA129=Alternativas!$V$24:$V$264)*(Alternativas!AG$24:AG$264))","v":0},{"$f":"SUMPRODUCT(($Z129=Alternativas!$U$24:$U$264)*('Comparación Alternativas'!$AA129=Alternativas!$V$24:$V$264)*(Alternativas!AH$24:AH$264))","v":0},0,0,0,0,0,0,0,0,0,0,0,0,0,0,0,0,0,0,0,0,0]
[null,null,null,null,null,null,null,null,null,null,null,null,null,null,null,null,null,null,null,null,null,null,null,null,null,12,7,{"$f":"(AB138-AB126)/12+AB129","v":446.19551626436936},{"$f":"SUMPRODUCT(($Z130=Alternativas!$C$24:$C$264)*('Comparación Alternativas'!$AA130=Alternativas!$D$24:$D$264)*(Alternativas!M$24:M$264))","v":0},{"$f":"SUMPRODUCT(($Z130=Alternativas!$C$24:$C$264)*('Comparación Alternativas'!$AA130=Alternativas!$D$24:$D$264)*(Alternativas!N$24:N$264))","v":0},{"$f":"SUMPRODUCT(($Z130=Alternativas!$C$24:$C$264)*('Comparación Alternativas'!$AA130=Alternativas!$D$24:$D$264)*(Alternativas!O$24:O$264))","v":0},{"$f":"SUMPRODUCT(($Z130=Alternativas!$C$24:$C$264)*('Comparación Alternativas'!$AA130=Alternativas!$D$24:$D$264)*(Alternativas!P$24:P$264))","v":0},0,{"$f":"SUMPRODUCT(($Z130=Alternativas!$U$24:$U$264)*('Comparación Alternativas'!$AA130=Alternativas!$V$24:$V$264)*(Alternativas!AE$24:AE$264))","v":0},{"$f":"SUMPRODUCT(($Z130=Alternativas!$U$24:$U$264)*('Comparación Alternativas'!$AA130=Alternativas!$V$24:$V$264)*(Alternativas!AF$24:AF$264))","v":0},{"$f":"SUMPRODUCT(($Z130=Alternativas!$U$24:$U$264)*('Comparación Alternativas'!$AA130=Alternativas!$V$24:$V$264)*(Alternativas!AG$24:AG$264))","v":0},{"$f":"SUMPRODUCT(($Z130=Alternativas!$U$24:$U$264)*('Comparación Alternativas'!$AA130=Alternativas!$V$24:$V$264)*(Alternativas!AH$24:AH$264))","v":0},0,0,0,0,0,0,0,0,0,0,0,0,0,0,0,0,0,0,0,0,0]
[null,null,null,null,null,null,null,null,null,null,null,null,null,null,null,null,null,null,null,null,null,null,null,null,null,1,8,{"$f":"(AB138-AB126)/12+AB130","v":446.19551626436936},{"$f":"SUMPRODUCT(($Z131=Alternativas!$C$24:$C$264)*('Comparación Alternativas'!$AA131=Alternativas!$D$24:$D$264)*(Alternativas!M$24:M$264))","v":0},{"$f":"SUMPRODUCT(($Z131=Alternativas!$C$24:$C$264)*('Comparación Alternativas'!$AA131=Alternativas!$D$24:$D$264)*(Alternativas!N$24:N$264))","v":0},{"$f":"SUMPRODUCT(($Z131=Alternativas!$C$24:$C$264)*('Comparación Alternativas'!$AA131=Alternativas!$D$24:$D$264)*(Alternativas!O$24:O$264))","v":0},{"$f":"SUMPRODUCT(($Z131=Alternativas!$C$24:$C$264)*('Comparación Alternativas'!$AA131=Alternativas!$D$24:$D$264)*(Alternativas!P$24:P$264))","v":0},0,{"$f":"SUMPRODUCT(($Z131=Alternativas!$U$24:$U$264)*('Comparación Alternativas'!$AA131=Alternativas!$V$24:$V$264)*(Alternativas!AE$24:AE$264))","v":0},{"$f":"SUMPRODUCT(($Z131=Alternativas!$U$24:$U$264)*('Comparación Alternativas'!$AA131=Alternativas!$V$24:$V$264)*(Alternativas!AF$24:AF$264))","v":0},{"$f":"SUMPRODUCT(($Z131=Alternativas!$U$24:$U$264)*('Comparación Alternativas'!$AA131=Alternativas!$V$24:$V$264)*(Alternativas!AG$24:AG$264))","v":0},{"$f":"SUMPRODUCT(($Z131=Alternativas!$U$24:$U$264)*('Comparación Alternativas'!$AA131=Alternativas!$V$24:$V$264)*(Alternativas!AH$24:AH$264))","v":0},0,0,0,0,0,0,0,0,0,0,0,0,0,0,0,0,0,0,0,0,0]
[null,null,null,null,null,null,null,null,null,null,null,null,null,null,null,null,null,null,null,null,null,null,null,null,null,2,8,{"$f":"(AB138-AB126)/12+AB131","v":446.19551626436936},{"$f":"SUMPRODUCT(($Z132=Alternativas!$C$24:$C$264)*('Comparación Alternativas'!$AA132=Alternativas!$D$24:$D$264)*(Alternativas!M$24:M$264))","v":0},{"$f":"SUMPRODUCT(($Z132=Alternativas!$C$24:$C$264)*('Comparación Alternativas'!$AA132=Alternativas!$D$24:$D$264)*(Alternativas!N$24:N$264))","v":0},{"$f":"SUMPRODUCT(($Z132=Alternativas!$C$24:$C$264)*('Comparación Alternativas'!$AA132=Alternativas!$D$24:$D$264)*(Alternativas!O$24:O$264))","v":0},{"$f":"SUMPRODUCT(($Z132=Alternativas!$C$24:$C$264)*('Comparación Alternativas'!$AA132=Alternativas!$D$24:$D$264)*(Alternativas!P$24:P$264))","v":0},0,{"$f":"SUMPRODUCT(($Z132=Alternativas!$U$24:$U$264)*('Comparación Alternativas'!$AA132=Alternativas!$V$24:$V$264)*(Alternativas!AE$24:AE$264))","v":0},{"$f":"SUMPRODUCT(($Z132=Alternativas!$U$24:$U$264)*('Comparación Alternativas'!$AA132=Alternativas!$V$24:$V$264)*(Alternativas!AF$24:AF$264))","v":0},{"$f":"SUMPRODUCT(($Z132=Alternativas!$U$24:$U$264)*('Comparación Alternativas'!$AA132=Alternativas!$V$24:$V$264)*(Alternativas!AG$24:AG$264))","v":0},{"$f":"SUMPRODUCT(($Z132=Alternativas!$U$24:$U$264)*('Comparación Alternativas'!$AA132=Alternativas!$V$24:$V$264)*(Alternativas!AH$24:AH$264))","v":0},0,0,0,0,0,0,0,0,0,0,0,0,0,0,0,0,0,0,0,0,0]
[null,null,null,null,null,null,null,null,null,null,null,null,null,null,null,null,null,null,null,null,null,null,null,null,null,3,8,{"$f":"(AB138-AB126)/12+AB132","v":446.19551626436936},{"$f":"SUMPRODUCT(($Z133=Alternativas!$C$24:$C$264)*('Comparación Alternativas'!$AA133=Alternativas!$D$24:$D$264)*(Alternativas!M$24:M$264))","v":0},{"$f":"SUMPRODUCT(($Z133=Alternativas!$C$24:$C$264)*('Comparación Alternativas'!$AA133=Alternativas!$D$24:$D$264)*(Alternativas!N$24:N$264))","v":0},{"$f":"SUMPRODUCT(($Z133=Alternativas!$C$24:$C$264)*('Comparación Alternativas'!$AA133=Alternativas!$D$24:$D$264)*(Alternativas!O$24:O$264))","v":0},{"$f":"SUMPRODUCT(($Z133=Alternativas!$C$24:$C$264)*('Comparación Alternativas'!$AA133=Alternativas!$D$24:$D$264)*(Alternativas!P$24:P$264))","v":0},0,{"$f":"SUMPRODUCT(($Z133=Alternativas!$U$24:$U$264)*('Comparación Alternativas'!$AA133=Alternativas!$V$24:$V$264)*(Alternativas!AE$24:AE$264))","v":0},{"$f":"SUMPRODUCT(($Z133=Alternativas!$U$24:$U$264)*('Comparación Alternativas'!$AA133=Alternativas!$V$24:$V$264)*(Alternativas!AF$24:AF$264))","v":0},{"$f":"SUMPRODUCT(($Z133=Alternativas!$U$24:$U$264)*('Comparación Alternativas'!$AA133=Alternativas!$V$24:$V$264)*(Alternativas!AG$24:AG$264))","v":0},{"$f":"SUMPRODUCT(($Z133=Alternativas!$U$24:$U$264)*('Comparación Alternativas'!$AA133=Alternativas!$V$24:$V$264)*(Alternativas!AH$24:AH$264))","v":0},0,0,0,0,0,0,0,0,0,0,0,0,0,0,0,0,0,0,0,0,0]
[null,null,null,null,null,null,null,null,null,null,null,null,null,null,null,null,null,null,null,null,null,null,null,null,null,4,8,{"$f":"(AB138-AB126)/12+AB133","v":446.19551626436936},{"$f":"SUMPRODUCT(($Z134=Alternativas!$C$24:$C$264)*('Comparación Alternativas'!$AA134=Alternativas!$D$24:$D$264)*(Alternativas!M$24:M$264))","v":0},{"$f":"SUMPRODUCT(($Z134=Alternativas!$C$24:$C$264)*('Comparación Alternativas'!$AA134=Alternativas!$D$24:$D$264)*(Alternativas!N$24:N$264))","v":0},{"$f":"SUMPRODUCT(($Z134=Alternativas!$C$24:$C$264)*('Comparación Alternativas'!$AA134=Alternativas!$D$24:$D$264)*(Alternativas!O$24:O$264))","v":0},{"$f":"SUMPRODUCT(($Z134=Alternativas!$C$24:$C$264)*('Comparación Alternativas'!$AA134=Alternativas!$D$24:$D$264)*(Alternativas!P$24:P$264))","v":0},0,{"$f":"SUMPRODUCT(($Z134=Alternativas!$U$24:$U$264)*('Comparación Alternativas'!$AA134=Alternativas!$V$24:$V$264)*(Alternativas!AE$24:AE$264))","v":0},{"$f":"SUMPRODUCT(($Z134=Alternativas!$U$24:$U$264)*('Comparación Alternativas'!$AA134=Alternativas!$V$24:$V$264)*(Alternativas!AF$24:AF$264))","v":0},{"$f":"SUMPRODUCT(($Z134=Alternativas!$U$24:$U$264)*('Comparación Alternativas'!$AA134=Alternativas!$V$24:$V$264)*(Alternativas!AG$24:AG$264))","v":0},{"$f":"SUMPRODUCT(($Z134=Alternativas!$U$24:$U$264)*('Comparación Alternativas'!$AA134=Alternativas!$V$24:$V$264)*(Alternativas!AH$24:AH$264))","v":0},0,0,0,0,0,0,0,0,0,0,0,0,{"$f":"AN134/$AB134","v":0},{"$f":"AO134/$AB134","v":0},{"$f":"AP134/$AB134","v":0},0,{"$f":"AR134/$AB134","v":0},{"$f":"AS134/$AB134","v":0},{"$f":"AT134/$AB134","v":0},{"$f":"AU134/$AB134","v":0},0]
[null,null,null,null,null,null,null,null,null,null,null,null,null,null,null,null,null,null,null,null,null,null,null,null,null,5,8,{"$f":"(AB138-AB126)/12+AB134","v":446.19551626436936},{"$f":"SUMPRODUCT(($Z135=Alternativas!$C$24:$C$264)*('Comparación Alternativas'!$AA135=Alternativas!$D$24:$D$264)*(Alternativas!M$24:M$264))","v":0},{"$f":"SUMPRODUCT(($Z135=Alternativas!$C$24:$C$264)*('Comparación Alternativas'!$AA135=Alternativas!$D$24:$D$264)*(Alternativas!N$24:N$264))","v":0},{"$f":"SUMPRODUCT(($Z135=Alternativas!$C$24:$C$264)*('Comparación Alternativas'!$AA135=Alternativas!$D$24:$D$264)*(Alternativas!O$24:O$264))","v":0},{"$f":"SUMPRODUCT(($Z135=Alternativas!$C$24:$C$264)*('Comparación Alternativas'!$AA135=Alternativas!$D$24:$D$264)*(Alternativas!P$24:P$264))","v":0},{"$f":"AE135","v":0},{"$f":"SUMPRODUCT(($Z135=Alternativas!$U$24:$U$264)*('Comparación Alternativas'!$AA135=Alternativas!$V$24:$V$264)*(Alternativas!AE$24:AE$264))","v":0},{"$f":"SUMPRODUCT(($Z135=Alternativas!$U$24:$U$264)*('Comparación Alternativas'!$AA135=Alternativas!$V$24:$V$264)*(Alternativas!AF$24:AF$264))","v":0},{"$f":"SUMPRODUCT(($Z135=Alternativas!$U$24:$U$264)*('Comparación Alternativas'!$AA135=Alternativas!$V$24:$V$264)*(Alternativas!AG$24:AG$264))","v":0},{"$f":"SUMPRODUCT(($Z135=Alternativas!$U$24:$U$264)*('Comparación Alternativas'!$AA135=Alternativas!$V$24:$V$264)*(Alternativas!AH$24:AH$264))","v":0},{"$f":"AJ135","v":0},{"$f":"IF($AE$3=\"Dólares\",AC135*$AB135,AC135)","v":0},{"$f":"IF($AE$3=\"Dólares\",AD135*$AB135,AD135)","v":0},{"$f":"IF($AE$3=\"Dólares\",AE135*$AB135,AE135)","v":0},{"$f":"IF($AE$3=\"Dólares\",AF135*$AB135,AF135)","v":0},{"$f":"AO135","v":0},{"$f":"IF($AJ$3=\"Dólares\",AH135*$AB135,AH135)","v":0},{"$f":"IF($AJ$3=\"Dólares\",AI135*$AB135,AI135)","v":0},{"$f":"IF($AJ$3=\"Dólares\",AJ135*$AB135,AJ135)","v":0},{"$f":"IF($AJ$3=\"Dólares\",AK135*$AB135,AK135)","v":0},{"$f":"AT135","v":0},{"$f":"AM135/$AB135","v":0},0,0,0,{"$f":"AY135","v":0},0,0,0,0,{"$f":"BD135","v":0}]
[null,null,null,null,null,null,null,null,null,null,null,null,null,null,null,null,null,null,null,null,null,null,null,null,null,{"$f":"IF(Z135=12,1,Z135+1)","v":6},{"$f":"IF(Z136=1,AA135+1,AA135)","v":8},{"$f":"(AB138-AB126)/12+AB135","v":446.19551626436936},{"$f":"SUMPRODUCT(($Z136=Alternativas!$C$24:$C$264)*('Comparación Alternativas'!$AA136=Alternativas!$D$24:$D$264)*(Alternativas!M$24:M$264))","v":0},{"$f":"SUMPRODUCT(($Z136=Alternativas!$C$24:$C$264)*('Comparación Alternativas'!$AA136=Alternativas!$D$24:$D$264)*(Alternativas!N$24:N$264))","v":0},{"$f":"SUMPRODUCT(($Z136=Alternativas!$C$24:$C$264)*('Comparación Alternativas'!$AA136=Alternativas!$D$24:$D$264)*(Alternativas!O$24:O$264))","v":0},{"$f":"SUMPRODUCT(($Z136=Alternativas!$C$24:$C$264)*('Comparación Alternativas'!$AA136=Alternativas!$D$24:$D$264)*(Alternativas!P$24:P$264))","v":0},0,{"$f":"SUMPRODUCT(($Z136=Alternativas!$U$24:$U$264)*('Comparación Alternativas'!$AA136=Alternativas!$V$24:$V$264)*(Alternativas!AE$24:AE$264))","v":0},{"$f":"SUMPRODUCT(($Z136=Alternativas!$U$24:$U$264)*('Comparación Alternativas'!$AA136=Alternativas!$V$24:$V$264)*(Alternativas!AF$24:AF$264))","v":0},{"$f":"SUMPRODUCT(($Z136=Alternativas!$U$24:$U$264)*('Comparación Alternativas'!$AA136=Alternativas!$V$24:$V$264)*(Alternativas!AG$24:AG$264))","v":0},{"$f":"SUMPRODUCT(($Z136=Alternativas!$U$24:$U$264)*('Comparación Alternativas'!$AA136=Alternativas!$V$24:$V$264)*(Alternativas!AH$24:AH$264))","v":0},0,0,0,0,0,0,0,0,0,0,0,0,0,0,0,0,0,0,0,0,0]
[null,null,null,null,null,null,null,null,null,null,null,null,null,null,null,null,null,null,null,null,null,null,null,null,null,7,8,{"$f":"(AB138-AB126)/12+AB136","v":446.19551626436936},{"$f":"SUMPRODUCT(($Z137=Alternativas!$C$24:$C$264)*('Comparación Alternativas'!$AA137=Alternativas!$D$24:$D$264)*(Alternativas!M$24:M$264))","v":0},{"$f":"SUMPRODUCT(($Z137=Alternativas!$C$24:$C$264)*('Comparación Alternativas'!$AA137=Alternativas!$D$24:$D$264)*(Alternativas!N$24:N$264))","v":0},{"$f":"SUMPRODUCT(($Z137=Alternativas!$C$24:$C$264)*('Comparación Alternativas'!$AA137=Alternativas!$D$24:$D$264)*(Alternativas!O$24:O$264))","v":0},{"$f":"SUMPRODUCT(($Z137=Alternativas!$C$24:$C$264)*('Comparación Alternativas'!$AA137=Alternativas!$D$24:$D$264)*(Alternativas!P$24:P$264))","v":0},0,{"$f":"SUMPRODUCT(($Z137=Alternativas!$U$24:$U$264)*('Comparación Alternativas'!$AA137=Alternativas!$V$24:$V$264)*(Alternativas!AE$24:AE$264))","v":0},{"$f":"SUMPRODUCT(($Z137=Alternativas!$U$24:$U$264)*('Comparación Alternativas'!$AA137=Alternativas!$V$24:$V$264)*(Alternativas!AF$24:AF$264))","v":0},{"$f":"SUMPRODUCT(($Z137=Alternativas!$U$24:$U$264)*('Comparación Alternativas'!$AA137=Alternativas!$V$24:$V$264)*(Alternativas!AG$24:AG$264))","v":0},{"$f":"SUMPRODUCT(($Z137=Alternativas!$U$24:$U$264)*('Comparación Alternativas'!$AA137=Alternativas!$V$24:$V$264)*(Alternativas!AH$24:AH$264))","v":0},0,0,0,0,0,0,0,0,0,0,0,0,0,0,0,0,0,0,0,0,0]
[null,null,null,null,null,null,null,null,null,null,null,null,null,null,null,null,null,null,null,null,null,null,null,null,null,8,8,{"$f":"U20","v":446.19551626436936},{"$f":"SUMPRODUCT(($Z138=Alternativas!$C$24:$C$264)*('Comparación Alternativas'!$AA138=Alternativas!$D$24:$D$264)*(Alternativas!M$24:M$264))","v":0},{"$f":"SUMPRODUCT(($Z138=Alternativas!$C$24:$C$264)*('Comparación Alternativas'!$AA138=Alternativas!$D$24:$D$264)*(Alternativas!N$24:N$264))","v":0},{"$f":"SUMPRODUCT(($Z138=Alternativas!$C$24:$C$264)*('Comparación Alternativas'!$AA138=Alternativas!$D$24:$D$264)*(Alternativas!O$24:O$264))","v":0},{"$f":"SUMPRODUCT(($Z138=Alternativas!$C$24:$C$264)*('Comparación Alternativas'!$AA138=Alternativas!$D$24:$D$264)*(Alternativas!P$24:P$264))","v":0},0,{"$f":"SUMPRODUCT(($Z138=Alternativas!$U$24:$U$264)*('Comparación Alternativas'!$AA138=Alternativas!$V$24:$V$264)*(Alternativas!AE$24:AE$264))","v":0},{"$f":"SUMPRODUCT(($Z138=Alternativas!$U$24:$U$264)*('Comparación Alternativas'!$AA138=Alternativas!$V$24:$V$264)*(Alternativas!AF$24:AF$264))","v":0},{"$f":"SUMPRODUCT(($Z138=Alternativas!$U$24:$U$264)*('Comparación Alternativas'!$AA138=Alternativas!$V$24:$V$264)*(Alternativas!AG$24:AG$264))","v":0},{"$f":"SUMPRODUCT(($Z138=Alternativas!$U$24:$U$264)*('Comparación Alternativas'!$AA138=Alternativas!$V$24:$V$264)*(Alternativas!AH$24:AH$264))","v":0},0,0,0,0,0,0,0,0,0,0,0,0,0,0,0,0,0,0,0,0,0]
[null,null,null,null,null,null,null,null,null,null,null,null,null,null,null,null,null,null,null,null,null,null,null,null,null,9,8,{"$f":"(AB150-AB138)/12+AB138","v":446.19551626436936},{"$f":"SUMPRODUCT(($Z139=Alternativas!$C$24:$C$264)*('Comparación Alternativas'!$AA139=Alternativas!$D$24:$D$264)*(Alternativas!M$24:M$264))","v":0},{"$f":"SUMPRODUCT(($Z139=Alternativas!$C$24:$C$264)*('Comparación Alternativas'!$AA139=Alternativas!$D$24:$D$264)*(Alternativas!N$24:N$264))","v":0},{"$f":"SUMPRODUCT(($Z139=Alternativas!$C$24:$C$264)*('Comparación Alternativas'!$AA139=Alternativas!$D$24:$D$264)*(Alternativas!O$24:O$264))","v":0},{"$f":"SUMPRODUCT(($Z139=Alternativas!$C$24:$C$264)*('Comparación Alternativas'!$AA139=Alternativas!$D$24:$D$264)*(Alternativas!P$24:P$264))","v":0},0,{"$f":"SUMPRODUCT(($Z139=Alternativas!$U$24:$U$264)*('Comparación Alternativas'!$AA139=Alternativas!$V$24:$V$264)*(Alternativas!AE$24:AE$264))","v":0},{"$f":"SUMPRODUCT(($Z139=Alternativas!$U$24:$U$264)*('Comparación Alternativas'!$AA139=Alternativas!$V$24:$V$264)*(Alternativas!AF$24:AF$264))","v":0},{"$f":"SUMPRODUCT(($Z139=Alternativas!$U$24:$U$264)*('Comparación Alternativas'!$AA139=Alternativas!$V$24:$V$264)*(Alternativas!AG$24:AG$264))","v":0},{"$f":"SUMPRODUCT(($Z139=Alternativas!$U$24:$U$264)*('Comparación Alternativas'!$AA139=Alternativas!$V$24:$V$264)*(Alternativas!AH$24:AH$264))","v":0},0,0,0,0,0,0,0,0,0,0,0,0,0,0,0,0,0,0,0,0,0]
[null,null,null,null,null,null,null,null,null,null,null,null,null,null,null,null,null,null,null,null,null,null,null,null,null,10,8,{"$f":"(AB150-AB138)/12+AB139","v":446.19551626436936},{"$f":"SUMPRODUCT(($Z140=Alternativas!$C$24:$C$264)*('Comparación Alternativas'!$AA140=Alternativas!$D$24:$D$264)*(Alternativas!M$24:M$264))","v":0},{"$f":"SUMPRODUCT(($Z140=Alternativas!$C$24:$C$264)*('Comparación Alternativas'!$AA140=Alternativas!$D$24:$D$264)*(Alternativas!N$24:N$264))","v":0},{"$f":"SUMPRODUCT(($Z140=Alternativas!$C$24:$C$264)*('Comparación Alternativas'!$AA140=Alternativas!$D$24:$D$264)*(Alternativas!O$24:O$264))","v":0},{"$f":"SUMPRODUCT(($Z140=Alternativas!$C$24:$C$264)*('Comparación Alternativas'!$AA140=Alternativas!$D$24:$D$264)*(Alternativas!P$24:P$264))","v":0},0,{"$f":"SUMPRODUCT(($Z140=Alternativas!$U$24:$U$264)*('Comparación Alternativas'!$AA140=Alternativas!$V$24:$V$264)*(Alternativas!AE$24:AE$264))","v":0},{"$f":"SUMPRODUCT(($Z140=Alternativas!$U$24:$U$264)*('Comparación Alternativas'!$AA140=Alternativas!$V$24:$V$264)*(Alternativas!AF$24:AF$264))","v":0},{"$f":"SUMPRODUCT(($Z140=Alternativas!$U$24:$U$264)*('Comparación Alternativas'!$AA140=Alternativas!$V$24:$V$264)*(Alternativas!AG$24:AG$264))","v":0},{"$f":"SUMPRODUCT(($Z140=Alternativas!$U$24:$U$264)*('Comparación Alternativas'!$AA140=Alternativas!$V$24:$V$264)*(Alternativas!AH$24:AH$264))","v":0},0,0,0,0,0,0,0,0,0,0,0,0,0,0,0,0,0,0,0,0,0]
[null,null,null,null,null,null,null,null,null,null,null,null,null,null,null,null,null,null,null,null,null,null,null,null,null,11,8,{"$f":"(AB150-AB138)/12+AB140","v":446.19551626436936},{"$f":"SUMPRODUCT(($Z141=Alternativas!$C$24:$C$264)*('Comparación Alternativas'!$AA141=Alternativas!$D$24:$D$264)*(Alternativas!M$24:M$264))","v":0},{"$f":"SUMPRODUCT(($Z141=Alternativas!$C$24:$C$264)*('Comparación Alternativas'!$AA141=Alternativas!$D$24:$D$264)*(Alternativas!N$24:N$264))","v":0},{"$f":"SUMPRODUCT(($Z141=Alternativas!$C$24:$C$264)*('Comparación Alternativas'!$AA141=Alternativas!$D$24:$D$264)*(Alternativas!O$24:O$264))","v":0},{"$f":"SUMPRODUCT(($Z141=Alternativas!$C$24:$C$264)*('Comparación Alternativas'!$AA141=Alternativas!$D$24:$D$264)*(Alternativas!P$24:P$264))","v":0},0,{"$f":"SUMPRODUCT(($Z141=Alternativas!$U$24:$U$264)*('Comparación Alternativas'!$AA141=Alternativas!$V$24:$V$264)*(Alternativas!AE$24:AE$264))","v":0},{"$f":"SUMPRODUCT(($Z141=Alternativas!$U$24:$U$264)*('Comparación Alternativas'!$AA141=Alternativas!$V$24:$V$264)*(Alternativas!AF$24:AF$264))","v":0},{"$f":"SUMPRODUCT(($Z141=Alternativas!$U$24:$U$264)*('Comparación Alternativas'!$AA141=Alternativas!$V$24:$V$264)*(Alternativas!AG$24:AG$264))","v":0},{"$f":"SUMPRODUCT(($Z141=Alternativas!$U$24:$U$264)*('Comparación Alternativas'!$AA141=Alternativas!$V$24:$V$264)*(Alternativas!AH$24:AH$264))","v":0},0,0,0,0,0,0,0,0,0,0,0,0,0,0,0,0,0,0,0,0,0]
[null,null,null,null,null,null,null,null,null,null,null,null,null,null,null,null,null,null,null,null,null,null,null,null,null,12,8,{"$f":"(AB150-AB138)/12+AB141","v":446.19551626436936},{"$f":"SUMPRODUCT(($Z142=Alternativas!$C$24:$C$264)*('Comparación Alternativas'!$AA142=Alternativas!$D$24:$D$264)*(Alternativas!M$24:M$264))","v":0},{"$f":"SUMPRODUCT(($Z142=Alternativas!$C$24:$C$264)*('Comparación Alternativas'!$AA142=Alternativas!$D$24:$D$264)*(Alternativas!N$24:N$264))","v":0},{"$f":"SUMPRODUCT(($Z142=Alternativas!$C$24:$C$264)*('Comparación Alternativas'!$AA142=Alternativas!$D$24:$D$264)*(Alternativas!O$24:O$264))","v":0},{"$f":"SUMPRODUCT(($Z142=Alternativas!$C$24:$C$264)*('Comparación Alternativas'!$AA142=Alternativas!$D$24:$D$264)*(Alternativas!P$24:P$264))","v":0},0,{"$f":"SUMPRODUCT(($Z142=Alternativas!$U$24:$U$264)*('Comparación Alternativas'!$AA142=Alternativas!$V$24:$V$264)*(Alternativas!AE$24:AE$264))","v":0},{"$f":"SUMPRODUCT(($Z142=Alternativas!$U$24:$U$264)*('Comparación Alternativas'!$AA142=Alternativas!$V$24:$V$264)*(Alternativas!AF$24:AF$264))","v":0},{"$f":"SUMPRODUCT(($Z142=Alternativas!$U$24:$U$264)*('Comparación Alternativas'!$AA142=Alternativas!$V$24:$V$264)*(Alternativas!AG$24:AG$264))","v":0},{"$f":"SUMPRODUCT(($Z142=Alternativas!$U$24:$U$264)*('Comparación Alternativas'!$AA142=Alternativas!$V$24:$V$264)*(Alternativas!AH$24:AH$264))","v":0},0,0,0,0,0,0,0,0,0,0,0,0,0,0,0,0,0,0,0,0,0]
[null,null,null,null,null,null,null,null,null,null,null,null,null,null,null,null,null,null,null,null,null,null,null,null,null,1,9,{"$f":"(AB150-AB138)/12+AB142","v":446.19551626436936},{"$f":"SUMPRODUCT(($Z143=Alternativas!$C$24:$C$264)*('Comparación Alternativas'!$AA143=Alternativas!$D$24:$D$264)*(Alternativas!M$24:M$264))","v":0},{"$f":"SUMPRODUCT(($Z143=Alternativas!$C$24:$C$264)*('Comparación Alternativas'!$AA143=Alternativas!$D$24:$D$264)*(Alternativas!N$24:N$264))","v":0},{"$f":"SUMPRODUCT(($Z143=Alternativas!$C$24:$C$264)*('Comparación Alternativas'!$AA143=Alternativas!$D$24:$D$264)*(Alternativas!O$24:O$264))","v":0},{"$f":"SUMPRODUCT(($Z143=Alternativas!$C$24:$C$264)*('Comparación Alternativas'!$AA143=Alternativas!$D$24:$D$264)*(Alternativas!P$24:P$264))","v":0},0,{"$f":"SUMPRODUCT(($Z143=Alternativas!$U$24:$U$264)*('Comparación Alternativas'!$AA143=Alternativas!$V$24:$V$264)*(Alternativas!AE$24:AE$264))","v":0},{"$f":"SUMPRODUCT(($Z143=Alternativas!$U$24:$U$264)*('Comparación Alternativas'!$AA143=Alternativas!$V$24:$V$264)*(Alternativas!AF$24:AF$264))","v":0},{"$f":"SUMPRODUCT(($Z143=Alternativas!$U$24:$U$264)*('Comparación Alternativas'!$AA143=Alternativas!$V$24:$V$264)*(Alternativas!AG$24:AG$264))","v":0},{"$f":"SUMPRODUCT(($Z143=Alternativas!$U$24:$U$264)*('Comparación Alternativas'!$AA143=Alternativas!$V$24:$V$264)*(Alternativas!AH$24:AH$264))","v":0},0,0,0,0,0,0,0,0,0,0,0,0,0,0,0,0,0,0,0,0,0]
[null,null,null,null,null,null,null,null,null,null,null,null,null,null,null,null,null,null,null,null,null,null,null,null,null,2,9,{"$f":"(AB150-AB138)/12+AB143","v":446.19551626436936},{"$f":"SUMPRODUCT(($Z144=Alternativas!$C$24:$C$264)*('Comparación Alternativas'!$AA144=Alternativas!$D$24:$D$264)*(Alternativas!M$24:M$264))","v":0},{"$f":"SUMPRODUCT(($Z144=Alternativas!$C$24:$C$264)*('Comparación Alternativas'!$AA144=Alternativas!$D$24:$D$264)*(Alternativas!N$24:N$264))","v":0},{"$f":"SUMPRODUCT(($Z144=Alternativas!$C$24:$C$264)*('Comparación Alternativas'!$AA144=Alternativas!$D$24:$D$264)*(Alternativas!O$24:O$264))","v":0},{"$f":"SUMPRODUCT(($Z144=Alternativas!$C$24:$C$264)*('Comparación Alternativas'!$AA144=Alternativas!$D$24:$D$264)*(Alternativas!P$24:P$264))","v":0},0,{"$f":"SUMPRODUCT(($Z144=Alternativas!$U$24:$U$264)*('Comparación Alternativas'!$AA144=Alternativas!$V$24:$V$264)*(Alternativas!AE$24:AE$264))","v":0},{"$f":"SUMPRODUCT(($Z144=Alternativas!$U$24:$U$264)*('Comparación Alternativas'!$AA144=Alternativas!$V$24:$V$264)*(Alternativas!AF$24:AF$264))","v":0},{"$f":"SUMPRODUCT(($Z144=Alternativas!$U$24:$U$264)*('Comparación Alternativas'!$AA144=Alternativas!$V$24:$V$264)*(Alternativas!AG$24:AG$264))","v":0},{"$f":"SUMPRODUCT(($Z144=Alternativas!$U$24:$U$264)*('Comparación Alternativas'!$AA144=Alternativas!$V$24:$V$264)*(Alternativas!AH$24:AH$264))","v":0},0,0,0,0,0,0,0,0,0,0,0,0,0,0,0,0,0,0,0,0,0]
[null,null,null,null,null,null,null,null,null,null,null,null,null,null,null,null,null,null,null,null,null,null,null,null,null,3,9,{"$f":"(AB150-AB138)/12+AB144","v":446.19551626436936},{"$f":"SUMPRODUCT(($Z145=Alternativas!$C$24:$C$264)*('Comparación Alternativas'!$AA145=Alternativas!$D$24:$D$264)*(Alternativas!M$24:M$264))","v":0},{"$f":"SUMPRODUCT(($Z145=Alternativas!$C$24:$C$264)*('Comparación Alternativas'!$AA145=Alternativas!$D$24:$D$264)*(Alternativas!N$24:N$264))","v":0},{"$f":"SUMPRODUCT(($Z145=Alternativas!$C$24:$C$264)*('Comparación Alternativas'!$AA145=Alternativas!$D$24:$D$264)*(Alternativas!O$24:O$264))","v":0},{"$f":"SUMPRODUCT(($Z145=Alternativas!$C$24:$C$264)*('Comparación Alternativas'!$AA145=Alternativas!$D$24:$D$264)*(Alternativas!P$24:P$264))","v":0},0,{"$f":"SUMPRODUCT(($Z145=Alternativas!$U$24:$U$264)*('Comparación Alternativas'!$AA145=Alternativas!$V$24:$V$264)*(Alternativas!AE$24:AE$264))","v":0},{"$f":"SUMPRODUCT(($Z145=Alternativas!$U$24:$U$264)*('Comparación Alternativas'!$AA145=Alternativas!$V$24:$V$264)*(Alternativas!AF$24:AF$264))","v":0},{"$f":"SUMPRODUCT(($Z145=Alternativas!$U$24:$U$264)*('Comparación Alternativas'!$AA145=Alternativas!$V$24:$V$264)*(Alternativas!AG$24:AG$264))","v":0},{"$f":"SUMPRODUCT(($Z145=Alternativas!$U$24:$U$264)*('Comparación Alternativas'!$AA145=Alternativas!$V$24:$V$264)*(Alternativas!AH$24:AH$264))","v":0},0,0,0,0,0,0,0,0,0,0,0,0,0,0,0,0,0,0,0,0,0]
[null,null,null,null,null,null,null,null,null,null,null,null,null,null,null,null,null,null,null,null,null,null,null,null,null,4,9,{"$f":"(AB150-AB138)/12+AB145","v":446.19551626436936},{"$f":"SUMPRODUCT(($Z146=Alternativas!$C$24:$C$264)*('Comparación Alternativas'!$AA146=Alternativas!$D$24:$D$264)*(Alternativas!M$24:M$264))","v":0},{"$f":"SUMPRODUCT(($Z146=Alternativas!$C$24:$C$264)*('Comparación Alternativas'!$AA146=Alternativas!$D$24:$D$264)*(Alternativas!N$24:N$264))","v":0},{"$f":"SUMPRODUCT(($Z146=Alternativas!$C$24:$C$264)*('Comparación Alternativas'!$AA146=Alternativas!$D$24:$D$264)*(Alternativas!O$24:O$264))","v":0},{"$f":"SUMPRODUCT(($Z146=Alternativas!$C$24:$C$264)*('Comparación Alternativas'!$AA146=Alternativas!$D$24:$D$264)*(Alternativas!P$24:P$264))","v":0},0,{"$f":"SUMPRODUCT(($Z146=Alternativas!$U$24:$U$264)*('Comparación Alternativas'!$AA146=Alternativas!$V$24:$V$264)*(Alternativas!AE$24:AE$264))","v":0},{"$f":"SUMPRODUCT(($Z146=Alternativas!$U$24:$U$264)*('Comparación Alternativas'!$AA146=Alternativas!$V$24:$V$264)*(Alternativas!AF$24:AF$264))","v":0},{"$f":"SUMPRODUCT(($Z146=Alternativas!$U$24:$U$264)*('Comparación Alternativas'!$AA146=Alternativas!$V$24:$V$264)*(Alternativas!AG$24:AG$264))","v":0},{"$f":"SUMPRODUCT(($Z146=Alternativas!$U$24:$U$264)*('Comparación Alternativas'!$AA146=Alternativas!$V$24:$V$264)*(Alternativas!AH$24:AH$264))","v":0},0,0,0,0,0,0,0,0,0,0,0,0,0,0,0,0,0,0,0,0,0]
[null,null,null,null,null,null,null,null,null,null,null,null,null,null,null,null,null,null,null,null,null,null,null,null,null,5,9,{"$f":"(AB150-AB138)/12+AB146","v":446.19551626436936},{"$f":"SUMPRODUCT(($Z147=Alternativas!$C$24:$C$264)*('Comparación Alternativas'!$AA147=Alternativas!$D$24:$D$264)*(Alternativas!M$24:M$264))","v":0},{"$f":"SUMPRODUCT(($Z147=Alternativas!$C$24:$C$264)*('Comparación Alternativas'!$AA147=Alternativas!$D$24:$D$264)*(Alternativas!N$24:N$264))","v":0},{"$f":"SUMPRODUCT(($Z147=Alternativas!$C$24:$C$264)*('Comparación Alternativas'!$AA147=Alternativas!$D$24:$D$264)*(Alternativas!O$24:O$264))","v":0},{"$f":"SUMPRODUCT(($Z147=Alternativas!$C$24:$C$264)*('Comparación Alternativas'!$AA147=Alternativas!$D$24:$D$264)*(Alternativas!P$24:P$264))","v":0},0,{"$f":"SUMPRODUCT(($Z147=Alternativas!$U$24:$U$264)*('Comparación Alternativas'!$AA147=Alternativas!$V$24:$V$264)*(Alternativas!AE$24:AE$264))","v":0},{"$f":"SUMPRODUCT(($Z147=Alternativas!$U$24:$U$264)*('Comparación Alternativas'!$AA147=Alternativas!$V$24:$V$264)*(Alternativas!AF$24:AF$264))","v":0},{"$f":"SUMPRODUCT(($Z147=Alternativas!$U$24:$U$264)*('Comparación Alternativas'!$AA147=Alternativas!$V$24:$V$264)*(Alternativas!AG$24:AG$264))","v":0},{"$f":"SUMPRODUCT(($Z147=Alternativas!$U$24:$U$264)*('Comparación Alternativas'!$AA147=Alternativas!$V$24:$V$264)*(Alternativas!AH$24:AH$264))","v":0},0,0,0,0,0,0,0,0,0,0,0,0,0,0,0,0,0,0,0,0,0]
[null,null,null,null,null,null,null,null,null,null,null,null,null,null,null,null,null,null,null,null,null,null,null,null,null,6,9,{"$f":"(AB150-AB138)/12+AB147","v":446.19551626436936},{"$f":"SUMPRODUCT(($Z148=Alternativas!$C$24:$C$264)*('Comparación Alternativas'!$AA148=Alternativas!$D$24:$D$264)*(Alternativas!M$24:M$264))","v":0},{"$f":"SUMPRODUCT(($Z148=Alternativas!$C$24:$C$264)*('Comparación Alternativas'!$AA148=Alternativas!$D$24:$D$264)*(Alternativas!N$24:N$264))","v":0},{"$f":"SUMPRODUCT(($Z148=Alternativas!$C$24:$C$264)*('Comparación Alternativas'!$AA148=Alternativas!$D$24:$D$264)*(Alternativas!O$24:O$264))","v":0},{"$f":"SUMPRODUCT(($Z148=Alternativas!$C$24:$C$264)*('Comparación Alternativas'!$AA148=Alternativas!$D$24:$D$264)*(Alternativas!P$24:P$264))","v":0},0,{"$f":"SUMPRODUCT(($Z148=Alternativas!$U$24:$U$264)*('Comparación Alternativas'!$AA148=Alternativas!$V$24:$V$264)*(Alternativas!AE$24:AE$264))","v":0},{"$f":"SUMPRODUCT(($Z148=Alternativas!$U$24:$U$264)*('Comparación Alternativas'!$AA148=Alternativas!$V$24:$V$264)*(Alternativas!AF$24:AF$264))","v":0},{"$f":"SUMPRODUCT(($Z148=Alternativas!$U$24:$U$264)*('Comparación Alternativas'!$AA148=Alternativas!$V$24:$V$264)*(Alternativas!AG$24:AG$264))","v":0},{"$f":"SUMPRODUCT(($Z148=Alternativas!$U$24:$U$264)*('Comparación Alternativas'!$AA148=Alternativas!$V$24:$V$264)*(Alternativas!AH$24:AH$264))","v":0},0,0,0,0,0,0,0,0,0,0,0,0,0,0,0,0,0,0,0,0,0]
[null,null,null,null,null,null,null,null,null,null,null,null,null,null,null,null,null,null,null,null,null,null,null,null,null,7,9,{"$f":"(AB150-AB138)/12+AB148","v":446.19551626436936},{"$f":"SUMPRODUCT(($Z149=Alternativas!$C$24:$C$264)*('Comparación Alternativas'!$AA149=Alternativas!$D$24:$D$264)*(Alternativas!M$24:M$264))","v":0},{"$f":"SUMPRODUCT(($Z149=Alternativas!$C$24:$C$264)*('Comparación Alternativas'!$AA149=Alternativas!$D$24:$D$264)*(Alternativas!N$24:N$264))","v":0},{"$f":"SUMPRODUCT(($Z149=Alternativas!$C$24:$C$264)*('Comparación Alternativas'!$AA149=Alternativas!$D$24:$D$264)*(Alternativas!O$24:O$264))","v":0},{"$f":"SUMPRODUCT(($Z149=Alternativas!$C$24:$C$264)*('Comparación Alternativas'!$AA149=Alternativas!$D$24:$D$264)*(Alternativas!P$24:P$264))","v":0},0,{"$f":"SUMPRODUCT(($Z149=Alternativas!$U$24:$U$264)*('Comparación Alternativas'!$AA149=Alternativas!$V$24:$V$264)*(Alternativas!AE$24:AE$264))","v":0},{"$f":"SUMPRODUCT(($Z149=Alternativas!$U$24:$U$264)*('Comparación Alternativas'!$AA149=Alternativas!$V$24:$V$264)*(Alternativas!AF$24:AF$264))","v":0},{"$f":"SUMPRODUCT(($Z149=Alternativas!$U$24:$U$264)*('Comparación Alternativas'!$AA149=Alternativas!$V$24:$V$264)*(Alternativas!AG$24:AG$264))","v":0},{"$f":"SUMPRODUCT(($Z149=Alternativas!$U$24:$U$264)*('Comparación Alternativas'!$AA149=Alternativas!$V$24:$V$264)*(Alternativas!AH$24:AH$264))","v":0},0,0,0,0,0,0,0,0,0,0,0,0,0,0,0,0,0,0,0,0,0]
[null,null,null,null,null,null,null,null,null,null,null,null,null,null,null,null,null,null,null,null,null,null,null,null,null,8,9,{"$f":"U21","v":446.19551626436936},{"$f":"SUMPRODUCT(($Z150=Alternativas!$C$24:$C$264)*('Comparación Alternativas'!$AA150=Alternativas!$D$24:$D$264)*(Alternativas!M$24:M$264))","v":0},{"$f":"SUMPRODUCT(($Z150=Alternativas!$C$24:$C$264)*('Comparación Alternativas'!$AA150=Alternativas!$D$24:$D$264)*(Alternativas!N$24:N$264))","v":0},{"$f":"SUMPRODUCT(($Z150=Alternativas!$C$24:$C$264)*('Comparación Alternativas'!$AA150=Alternativas!$D$24:$D$264)*(Alternativas!O$24:O$264))","v":0},{"$f":"SUMPRODUCT(($Z150=Alternativas!$C$24:$C$264)*('Comparación Alternativas'!$AA150=Alternativas!$D$24:$D$264)*(Alternativas!P$24:P$264))","v":0},0,{"$f":"SUMPRODUCT(($Z150=Alternativas!$U$24:$U$264)*('Comparación Alternativas'!$AA150=Alternativas!$V$24:$V$264)*(Alternativas!AE$24:AE$264))","v":0},{"$f":"SUMPRODUCT(($Z150=Alternativas!$U$24:$U$264)*('Comparación Alternativas'!$AA150=Alternativas!$V$24:$V$264)*(Alternativas!AF$24:AF$264))","v":0},{"$f":"SUMPRODUCT(($Z150=Alternativas!$U$24:$U$264)*('Comparación Alternativas'!$AA150=Alternativas!$V$24:$V$264)*(Alternativas!AG$24:AG$264))","v":0},{"$f":"SUMPRODUCT(($Z150=Alternativas!$U$24:$U$264)*('Comparación Alternativas'!$AA150=Alternativas!$V$24:$V$264)*(Alternativas!AH$24:AH$264))","v":0},0,0,0,0,0,0,0,0,0,0,0,0,0,0,0,0,0,0,0,0,0]
[null,null,null,null,null,null,null,null,null,null,null,null,null,null,null,null,null,null,null,null,null,null,null,null,null,9,9,{"$f":"(AB162-AB150)/12+AB150","v":446.19551626436936},{"$f":"SUMPRODUCT(($Z151=Alternativas!$C$24:$C$264)*('Comparación Alternativas'!$AA151=Alternativas!$D$24:$D$264)*(Alternativas!M$24:M$264))","v":0},{"$f":"SUMPRODUCT(($Z151=Alternativas!$C$24:$C$264)*('Comparación Alternativas'!$AA151=Alternativas!$D$24:$D$264)*(Alternativas!N$24:N$264))","v":0},{"$f":"SUMPRODUCT(($Z151=Alternativas!$C$24:$C$264)*('Comparación Alternativas'!$AA151=Alternativas!$D$24:$D$264)*(Alternativas!O$24:O$264))","v":0},{"$f":"SUMPRODUCT(($Z151=Alternativas!$C$24:$C$264)*('Comparación Alternativas'!$AA151=Alternativas!$D$24:$D$264)*(Alternativas!P$24:P$264))","v":0},0,{"$f":"SUMPRODUCT(($Z151=Alternativas!$U$24:$U$264)*('Comparación Alternativas'!$AA151=Alternativas!$V$24:$V$264)*(Alternativas!AE$24:AE$264))","v":0},{"$f":"SUMPRODUCT(($Z151=Alternativas!$U$24:$U$264)*('Comparación Alternativas'!$AA151=Alternativas!$V$24:$V$264)*(Alternativas!AF$24:AF$264))","v":0},{"$f":"SUMPRODUCT(($Z151=Alternativas!$U$24:$U$264)*('Comparación Alternativas'!$AA151=Alternativas!$V$24:$V$264)*(Alternativas!AG$24:AG$264))","v":0},{"$f":"SUMPRODUCT(($Z151=Alternativas!$U$24:$U$264)*('Comparación Alternativas'!$AA151=Alternativas!$V$24:$V$264)*(Alternativas!AH$24:AH$264))","v":0},0,0,0,0,0,0,0,0,0,0,0,0,0,0,0,0,0,0,0,0,0]
[null,null,null,null,null,null,null,null,null,null,null,null,null,null,null,null,null,null,null,null,null,null,null,null,null,10,9,{"$f":"(AB162-AB150)/12+AB151","v":446.19551626436936},{"$f":"SUMPRODUCT(($Z152=Alternativas!$C$24:$C$264)*('Comparación Alternativas'!$AA152=Alternativas!$D$24:$D$264)*(Alternativas!M$24:M$264))","v":0},{"$f":"SUMPRODUCT(($Z152=Alternativas!$C$24:$C$264)*('Comparación Alternativas'!$AA152=Alternativas!$D$24:$D$264)*(Alternativas!N$24:N$264))","v":0},{"$f":"SUMPRODUCT(($Z152=Alternativas!$C$24:$C$264)*('Comparación Alternativas'!$AA152=Alternativas!$D$24:$D$264)*(Alternativas!O$24:O$264))","v":0},{"$f":"SUMPRODUCT(($Z152=Alternativas!$C$24:$C$264)*('Comparación Alternativas'!$AA152=Alternativas!$D$24:$D$264)*(Alternativas!P$24:P$264))","v":0},0,{"$f":"SUMPRODUCT(($Z152=Alternativas!$U$24:$U$264)*('Comparación Alternativas'!$AA152=Alternativas!$V$24:$V$264)*(Alternativas!AE$24:AE$264))","v":0},{"$f":"SUMPRODUCT(($Z152=Alternativas!$U$24:$U$264)*('Comparación Alternativas'!$AA152=Alternativas!$V$24:$V$264)*(Alternativas!AF$24:AF$264))","v":0},{"$f":"SUMPRODUCT(($Z152=Alternativas!$U$24:$U$264)*('Comparación Alternativas'!$AA152=Alternativas!$V$24:$V$264)*(Alternativas!AG$24:AG$264))","v":0},{"$f":"SUMPRODUCT(($Z152=Alternativas!$U$24:$U$264)*('Comparación Alternativas'!$AA152=Alternativas!$V$24:$V$264)*(Alternativas!AH$24:AH$264))","v":0},0,0,0,0,0,0,0,0,0,0,0,0,0,0,0,0,0,0,0,0,0]
[null,null,null,null,null,null,null,null,null,null,null,null,null,null,null,null,null,null,null,null,null,null,null,null,null,11,9,{"$f":"(AB162-AB150)/12+AB152","v":446.19551626436936},{"$f":"SUMPRODUCT(($Z153=Alternativas!$C$24:$C$264)*('Comparación Alternativas'!$AA153=Alternativas!$D$24:$D$264)*(Alternativas!M$24:M$264))","v":0},{"$f":"SUMPRODUCT(($Z153=Alternativas!$C$24:$C$264)*('Comparación Alternativas'!$AA153=Alternativas!$D$24:$D$264)*(Alternativas!N$24:N$264))","v":0},{"$f":"SUMPRODUCT(($Z153=Alternativas!$C$24:$C$264)*('Comparación Alternativas'!$AA153=Alternativas!$D$24:$D$264)*(Alternativas!O$24:O$264))","v":0},{"$f":"SUMPRODUCT(($Z153=Alternativas!$C$24:$C$264)*('Comparación Alternativas'!$AA153=Alternativas!$D$24:$D$264)*(Alternativas!P$24:P$264))","v":0},0,{"$f":"SUMPRODUCT(($Z153=Alternativas!$U$24:$U$264)*('Comparación Alternativas'!$AA153=Alternativas!$V$24:$V$264)*(Alternativas!AE$24:AE$264))","v":0},{"$f":"SUMPRODUCT(($Z153=Alternativas!$U$24:$U$264)*('Comparación Alternativas'!$AA153=Alternativas!$V$24:$V$264)*(Alternativas!AF$24:AF$264))","v":0},{"$f":"SUMPRODUCT(($Z153=Alternativas!$U$24:$U$264)*('Comparación Alternativas'!$AA153=Alternativas!$V$24:$V$264)*(Alternativas!AG$24:AG$264))","v":0},{"$f":"SUMPRODUCT(($Z153=Alternativas!$U$24:$U$264)*('Comparación Alternativas'!$AA153=Alternativas!$V$24:$V$264)*(Alternativas!AH$24:AH$264))","v":0},0,0,0,0,0,0,0,0,0,0,0,0,0,0,0,0,0,0,0,0,0]
[null,null,null,null,null,null,null,null,null,null,null,null,null,null,null,null,null,null,null,null,null,null,null,null,null,12,9,{"$f":"(AB162-AB150)/12+AB153","v":446.19551626436936},{"$f":"SUMPRODUCT(($Z154=Alternativas!$C$24:$C$264)*('Comparación Alternativas'!$AA154=Alternativas!$D$24:$D$264)*(Alternativas!M$24:M$264))","v":0},{"$f":"SUMPRODUCT(($Z154=Alternativas!$C$24:$C$264)*('Comparación Alternativas'!$AA154=Alternativas!$D$24:$D$264)*(Alternativas!N$24:N$264))","v":0},{"$f":"SUMPRODUCT(($Z154=Alternativas!$C$24:$C$264)*('Comparación Alternativas'!$AA154=Alternativas!$D$24:$D$264)*(Alternativas!O$24:O$264))","v":0},{"$f":"SUMPRODUCT(($Z154=Alternativas!$C$24:$C$264)*('Comparación Alternativas'!$AA154=Alternativas!$D$24:$D$264)*(Alternativas!P$24:P$264))","v":0},0,{"$f":"SUMPRODUCT(($Z154=Alternativas!$U$24:$U$264)*('Comparación Alternativas'!$AA154=Alternativas!$V$24:$V$264)*(Alternativas!AE$24:AE$264))","v":0},{"$f":"SUMPRODUCT(($Z154=Alternativas!$U$24:$U$264)*('Comparación Alternativas'!$AA154=Alternativas!$V$24:$V$264)*(Alternativas!AF$24:AF$264))","v":0},{"$f":"SUMPRODUCT(($Z154=Alternativas!$U$24:$U$264)*('Comparación Alternativas'!$AA154=Alternativas!$V$24:$V$264)*(Alternativas!AG$24:AG$264))","v":0},{"$f":"SUMPRODUCT(($Z154=Alternativas!$U$24:$U$264)*('Comparación Alternativas'!$AA154=Alternativas!$V$24:$V$264)*(Alternativas!AH$24:AH$264))","v":0},0,0,0,0,0,0,0,0,0,0,0,0,0,0,0,0,0,0,0,0,0]
[null,null,null,null,null,null,null,null,null,null,null,null,null,null,null,null,null,null,null,null,null,null,null,null,null,1,10,{"$f":"(AB162-AB150)/12+AB154","v":446.19551626436936},{"$f":"SUMPRODUCT(($Z155=Alternativas!$C$24:$C$264)*('Comparación Alternativas'!$AA155=Alternativas!$D$24:$D$264)*(Alternativas!M$24:M$264))","v":0},{"$f":"SUMPRODUCT(($Z155=Alternativas!$C$24:$C$264)*('Comparación Alternativas'!$AA155=Alternativas!$D$24:$D$264)*(Alternativas!N$24:N$264))","v":0},{"$f":"SUMPRODUCT(($Z155=Alternativas!$C$24:$C$264)*('Comparación Alternativas'!$AA155=Alternativas!$D$24:$D$264)*(Alternativas!O$24:O$264))","v":0},{"$f":"SUMPRODUCT(($Z155=Alternativas!$C$24:$C$264)*('Comparación Alternativas'!$AA155=Alternativas!$D$24:$D$264)*(Alternativas!P$24:P$264))","v":0},0,{"$f":"SUMPRODUCT(($Z155=Alternativas!$U$24:$U$264)*('Comparación Alternativas'!$AA155=Alternativas!$V$24:$V$264)*(Alternativas!AE$24:AE$264))","v":0},{"$f":"SUMPRODUCT(($Z155=Alternativas!$U$24:$U$264)*('Comparación Alternativas'!$AA155=Alternativas!$V$24:$V$264)*(Alternativas!AF$24:AF$264))","v":0},{"$f":"SUMPRODUCT(($Z155=Alternativas!$U$24:$U$264)*('Comparación Alternativas'!$AA155=Alternativas!$V$24:$V$264)*(Alternativas!AG$24:AG$264))","v":0},{"$f":"SUMPRODUCT(($Z155=Alternativas!$U$24:$U$264)*('Comparación Alternativas'!$AA155=Alternativas!$V$24:$V$264)*(Alternativas!AH$24:AH$264))","v":0},0,0,0,0,0,0,0,0,0,0,0,0,0,0,0,0,0,0,0,0,0]
[null,null,null,null,null,null,null,null,null,null,null,null,null,null,null,null,null,null,null,null,null,null,null,null,null,2,10,{"$f":"(AB162-AB150)/12+AB155","v":446.19551626436936},{"$f":"SUMPRODUCT(($Z156=Alternativas!$C$24:$C$264)*('Comparación Alternativas'!$AA156=Alternativas!$D$24:$D$264)*(Alternativas!M$24:M$264))","v":0},{"$f":"SUMPRODUCT(($Z156=Alternativas!$C$24:$C$264)*('Comparación Alternativas'!$AA156=Alternativas!$D$24:$D$264)*(Alternativas!N$24:N$264))","v":0},{"$f":"SUMPRODUCT(($Z156=Alternativas!$C$24:$C$264)*('Comparación Alternativas'!$AA156=Alternativas!$D$24:$D$264)*(Alternativas!O$24:O$264))","v":0},{"$f":"SUMPRODUCT(($Z156=Alternativas!$C$24:$C$264)*('Comparación Alternativas'!$AA156=Alternativas!$D$24:$D$264)*(Alternativas!P$24:P$264))","v":0},0,{"$f":"SUMPRODUCT(($Z156=Alternativas!$U$24:$U$264)*('Comparación Alternativas'!$AA156=Alternativas!$V$24:$V$264)*(Alternativas!AE$24:AE$264))","v":0},{"$f":"SUMPRODUCT(($Z156=Alternativas!$U$24:$U$264)*('Comparación Alternativas'!$AA156=Alternativas!$V$24:$V$264)*(Alternativas!AF$24:AF$264))","v":0},{"$f":"SUMPRODUCT(($Z156=Alternativas!$U$24:$U$264)*('Comparación Alternativas'!$AA156=Alternativas!$V$24:$V$264)*(Alternativas!AG$24:AG$264))","v":0},{"$f":"SUMPRODUCT(($Z156=Alternativas!$U$24:$U$264)*('Comparación Alternativas'!$AA156=Alternativas!$V$24:$V$264)*(Alternativas!AH$24:AH$264))","v":0},0,0,0,0,0,0,0,0,0,0,0,0,0,0,0,0,0,0,0,0,0]
[null,null,null,null,null,null,null,null,null,null,null,null,null,null,null,null,null,null,null,null,null,null,null,null,null,3,10,{"$f":"(AB162-AB150)/12+AB156","v":446.19551626436936},{"$f":"SUMPRODUCT(($Z157=Alternativas!$C$24:$C$264)*('Comparación Alternativas'!$AA157=Alternativas!$D$24:$D$264)*(Alternativas!M$24:M$264))","v":0},{"$f":"SUMPRODUCT(($Z157=Alternativas!$C$24:$C$264)*('Comparación Alternativas'!$AA157=Alternativas!$D$24:$D$264)*(Alternativas!N$24:N$264))","v":0},{"$f":"SUMPRODUCT(($Z157=Alternativas!$C$24:$C$264)*('Comparación Alternativas'!$AA157=Alternativas!$D$24:$D$264)*(Alternativas!O$24:O$264))","v":0},{"$f":"SUMPRODUCT(($Z157=Alternativas!$C$24:$C$264)*('Comparación Alternativas'!$AA157=Alternativas!$D$24:$D$264)*(Alternativas!P$24:P$264))","v":0},0,{"$f":"SUMPRODUCT(($Z157=Alternativas!$U$24:$U$264)*('Comparación Alternativas'!$AA157=Alternativas!$V$24:$V$264)*(Alternativas!AE$24:AE$264))","v":0},{"$f":"SUMPRODUCT(($Z157=Alternativas!$U$24:$U$264)*('Comparación Alternativas'!$AA157=Alternativas!$V$24:$V$264)*(Alternativas!AF$24:AF$264))","v":0},{"$f":"SUMPRODUCT(($Z157=Alternativas!$U$24:$U$264)*('Comparación Alternativas'!$AA157=Alternativas!$V$24:$V$264)*(Alternativas!AG$24:AG$264))","v":0},{"$f":"SUMPRODUCT(($Z157=Alternativas!$U$24:$U$264)*('Comparación Alternativas'!$AA157=Alternativas!$V$24:$V$264)*(Alternativas!AH$24:AH$264))","v":0},0,0,0,0,0,0,0,0,0,0,0,0,0,0,0,0,0,0,0,0,0]
[null,null,null,null,null,null,null,null,null,null,null,null,null,null,null,null,null,null,null,null,null,null,null,null,null,4,10,{"$f":"(AB162-AB150)/12+AB157","v":446.19551626436936},{"$f":"SUMPRODUCT(($Z158=Alternativas!$C$24:$C$264)*('Comparación Alternativas'!$AA158=Alternativas!$D$24:$D$264)*(Alternativas!M$24:M$264))","v":0},{"$f":"SUMPRODUCT(($Z158=Alternativas!$C$24:$C$264)*('Comparación Alternativas'!$AA158=Alternativas!$D$24:$D$264)*(Alternativas!N$24:N$264))","v":0},{"$f":"SUMPRODUCT(($Z158=Alternativas!$C$24:$C$264)*('Comparación Alternativas'!$AA158=Alternativas!$D$24:$D$264)*(Alternativas!O$24:O$264))","v":0},{"$f":"SUMPRODUCT(($Z158=Alternativas!$C$24:$C$264)*('Comparación Alternativas'!$AA158=Alternativas!$D$24:$D$264)*(Alternativas!P$24:P$264))","v":0},0,{"$f":"SUMPRODUCT(($Z158=Alternativas!$U$24:$U$264)*('Comparación Alternativas'!$AA158=Alternativas!$V$24:$V$264)*(Alternativas!AE$24:AE$264))","v":0},{"$f":"SUMPRODUCT(($Z158=Alternativas!$U$24:$U$264)*('Comparación Alternativas'!$AA158=Alternativas!$V$24:$V$264)*(Alternativas!AF$24:AF$264))","v":0},{"$f":"SUMPRODUCT(($Z158=Alternativas!$U$24:$U$264)*('Comparación Alternativas'!$AA158=Alternativas!$V$24:$V$264)*(Alternativas!AG$24:AG$264))","v":0},{"$f":"SUMPRODUCT(($Z158=Alternativas!$U$24:$U$264)*('Comparación Alternativas'!$AA158=Alternativas!$V$24:$V$264)*(Alternativas!AH$24:AH$264))","v":0},0,0,0,0,0,0,0,0,0,0,0,0,0,0,0,0,0,0,0,0,0]
[null,null,null,null,null,null,null,null,null,null,null,null,null,null,null,null,null,null,null,null,null,null,null,null,null,5,10,{"$f":"(AB162-AB150)/12+AB158","v":446.19551626436936},{"$f":"SUMPRODUCT(($Z159=Alternativas!$C$24:$C$264)*('Comparación Alternativas'!$AA159=Alternativas!$D$24:$D$264)*(Alternativas!M$24:M$264))","v":0},{"$f":"SUMPRODUCT(($Z159=Alternativas!$C$24:$C$264)*('Comparación Alternativas'!$AA159=Alternativas!$D$24:$D$264)*(Alternativas!N$24:N$264))","v":0},{"$f":"SUMPRODUCT(($Z159=Alternativas!$C$24:$C$264)*('Comparación Alternativas'!$AA159=Alternativas!$D$24:$D$264)*(Alternativas!O$24:O$264))","v":0},{"$f":"SUMPRODUCT(($Z159=Alternativas!$C$24:$C$264)*('Comparación Alternativas'!$AA159=Alternativas!$D$24:$D$264)*(Alternativas!P$24:P$264))","v":0},0,{"$f":"SUMPRODUCT(($Z159=Alternativas!$U$24:$U$264)*('Comparación Alternativas'!$AA159=Alternativas!$V$24:$V$264)*(Alternativas!AE$24:AE$264))","v":0},{"$f":"SUMPRODUCT(($Z159=Alternativas!$U$24:$U$264)*('Comparación Alternativas'!$AA159=Alternativas!$V$24:$V$264)*(Alternativas!AF$24:AF$264))","v":0},{"$f":"SUMPRODUCT(($Z159=Alternativas!$U$24:$U$264)*('Comparación Alternativas'!$AA159=Alternativas!$V$24:$V$264)*(Alternativas!AG$24:AG$264))","v":0},{"$f":"SUMPRODUCT(($Z159=Alternativas!$U$24:$U$264)*('Comparación Alternativas'!$AA159=Alternativas!$V$24:$V$264)*(Alternativas!AH$24:AH$264))","v":0},0,0,0,0,0,0,0,0,0,0,0,0,0,0,0,0,0,0,0,0,0]
[null,null,null,null,null,null,null,null,null,null,null,null,null,null,null,null,null,null,null,null,null,null,null,null,null,6,10,{"$f":"(AB162-AB150)/12+AB159","v":446.19551626436936},{"$f":"SUMPRODUCT(($Z160=Alternativas!$C$24:$C$264)*('Comparación Alternativas'!$AA160=Alternativas!$D$24:$D$264)*(Alternativas!M$24:M$264))","v":0},{"$f":"SUMPRODUCT(($Z160=Alternativas!$C$24:$C$264)*('Comparación Alternativas'!$AA160=Alternativas!$D$24:$D$264)*(Alternativas!N$24:N$264))","v":0},{"$f":"SUMPRODUCT(($Z160=Alternativas!$C$24:$C$264)*('Comparación Alternativas'!$AA160=Alternativas!$D$24:$D$264)*(Alternativas!O$24:O$264))","v":0},{"$f":"SUMPRODUCT(($Z160=Alternativas!$C$24:$C$264)*('Comparación Alternativas'!$AA160=Alternativas!$D$24:$D$264)*(Alternativas!P$24:P$264))","v":0},0,{"$f":"SUMPRODUCT(($Z160=Alternativas!$U$24:$U$264)*('Comparación Alternativas'!$AA160=Alternativas!$V$24:$V$264)*(Alternativas!AE$24:AE$264))","v":0},{"$f":"SUMPRODUCT(($Z160=Alternativas!$U$24:$U$264)*('Comparación Alternativas'!$AA160=Alternativas!$V$24:$V$264)*(Alternativas!AF$24:AF$264))","v":0},{"$f":"SUMPRODUCT(($Z160=Alternativas!$U$24:$U$264)*('Comparación Alternativas'!$AA160=Alternativas!$V$24:$V$264)*(Alternativas!AG$24:AG$264))","v":0},{"$f":"SUMPRODUCT(($Z160=Alternativas!$U$24:$U$264)*('Comparación Alternativas'!$AA160=Alternativas!$V$24:$V$264)*(Alternativas!AH$24:AH$264))","v":0},0,0,0,0,0,0,0,0,0,0,0,0,0,0,0,0,0,0,0,0,0]
[null,null,null,null,null,null,null,null,null,null,null,null,null,null,null,null,null,null,null,null,null,null,null,null,null,7,10,{"$f":"(AB162-AB150)/12+AB160","v":446.19551626436936},{"$f":"SUMPRODUCT(($Z161=Alternativas!$C$24:$C$264)*('Comparación Alternativas'!$AA161=Alternativas!$D$24:$D$264)*(Alternativas!M$24:M$264))","v":0},{"$f":"SUMPRODUCT(($Z161=Alternativas!$C$24:$C$264)*('Comparación Alternativas'!$AA161=Alternativas!$D$24:$D$264)*(Alternativas!N$24:N$264))","v":0},{"$f":"SUMPRODUCT(($Z161=Alternativas!$C$24:$C$264)*('Comparación Alternativas'!$AA161=Alternativas!$D$24:$D$264)*(Alternativas!O$24:O$264))","v":0},{"$f":"SUMPRODUCT(($Z161=Alternativas!$C$24:$C$264)*('Comparación Alternativas'!$AA161=Alternativas!$D$24:$D$264)*(Alternativas!P$24:P$264))","v":0},0,{"$f":"SUMPRODUCT(($Z161=Alternativas!$U$24:$U$264)*('Comparación Alternativas'!$AA161=Alternativas!$V$24:$V$264)*(Alternativas!AE$24:AE$264))","v":0},{"$f":"SUMPRODUCT(($Z161=Alternativas!$U$24:$U$264)*('Comparación Alternativas'!$AA161=Alternativas!$V$24:$V$264)*(Alternativas!AF$24:AF$264))","v":0},{"$f":"SUMPRODUCT(($Z161=Alternativas!$U$24:$U$264)*('Comparación Alternativas'!$AA161=Alternativas!$V$24:$V$264)*(Alternativas!AG$24:AG$264))","v":0},{"$f":"SUMPRODUCT(($Z161=Alternativas!$U$24:$U$264)*('Comparación Alternativas'!$AA161=Alternativas!$V$24:$V$264)*(Alternativas!AH$24:AH$264))","v":0},0,0,0,0,0,0,0,0,0,0,0,0,0,0,0,0,0,0,0,0,0]
[null,null,null,null,null,null,null,null,null,null,null,null,null,null,null,null,null,null,null,null,null,null,null,null,null,8,10,{"$f":"U22","v":446.19551626436936},{"$f":"SUMPRODUCT(($Z162=Alternativas!$C$24:$C$264)*('Comparación Alternativas'!$AA162=Alternativas!$D$24:$D$264)*(Alternativas!M$24:M$264))","v":0},{"$f":"SUMPRODUCT(($Z162=Alternativas!$C$24:$C$264)*('Comparación Alternativas'!$AA162=Alternativas!$D$24:$D$264)*(Alternativas!N$24:N$264))","v":0},{"$f":"SUMPRODUCT(($Z162=Alternativas!$C$24:$C$264)*('Comparación Alternativas'!$AA162=Alternativas!$D$24:$D$264)*(Alternativas!O$24:O$264))","v":0},{"$f":"SUMPRODUCT(($Z162=Alternativas!$C$24:$C$264)*('Comparación Alternativas'!$AA162=Alternativas!$D$24:$D$264)*(Alternativas!P$24:P$264))","v":0},0,{"$f":"SUMPRODUCT(($Z162=Alternativas!$U$24:$U$264)*('Comparación Alternativas'!$AA162=Alternativas!$V$24:$V$264)*(Alternativas!AE$24:AE$264))","v":0},{"$f":"SUMPRODUCT(($Z162=Alternativas!$U$24:$U$264)*('Comparación Alternativas'!$AA162=Alternativas!$V$24:$V$264)*(Alternativas!AF$24:AF$264))","v":0},{"$f":"SUMPRODUCT(($Z162=Alternativas!$U$24:$U$264)*('Comparación Alternativas'!$AA162=Alternativas!$V$24:$V$264)*(Alternativas!AG$24:AG$264))","v":0},{"$f":"SUMPRODUCT(($Z162=Alternativas!$U$24:$U$264)*('Comparación Alternativas'!$AA162=Alternativas!$V$24:$V$264)*(Alternativas!AH$24:AH$264))","v":0},0,0,0,0,0,0,0,0,0,0,0,0,0,0,0,0,0,0,0,0,0]
[null,null,null,null,null,null,null,null,null,null,null,null,null,null,null,null,null,null,null,null,null,null,null,null,null,9,10,{"$f":"(AB174-AB162)/12+AB162","v":446.19551626436936},{"$f":"SUMPRODUCT(($Z163=Alternativas!$C$24:$C$264)*('Comparación Alternativas'!$AA163=Alternativas!$D$24:$D$264)*(Alternativas!M$24:M$264))","v":0},{"$f":"SUMPRODUCT(($Z163=Alternativas!$C$24:$C$264)*('Comparación Alternativas'!$AA163=Alternativas!$D$24:$D$264)*(Alternativas!N$24:N$264))","v":0},{"$f":"SUMPRODUCT(($Z163=Alternativas!$C$24:$C$264)*('Comparación Alternativas'!$AA163=Alternativas!$D$24:$D$264)*(Alternativas!O$24:O$264))","v":0},{"$f":"SUMPRODUCT(($Z163=Alternativas!$C$24:$C$264)*('Comparación Alternativas'!$AA163=Alternativas!$D$24:$D$264)*(Alternativas!P$24:P$264))","v":0},0,{"$f":"SUMPRODUCT(($Z163=Alternativas!$U$24:$U$264)*('Comparación Alternativas'!$AA163=Alternativas!$V$24:$V$264)*(Alternativas!AE$24:AE$264))","v":0},{"$f":"SUMPRODUCT(($Z163=Alternativas!$U$24:$U$264)*('Comparación Alternativas'!$AA163=Alternativas!$V$24:$V$264)*(Alternativas!AF$24:AF$264))","v":0},{"$f":"SUMPRODUCT(($Z163=Alternativas!$U$24:$U$264)*('Comparación Alternativas'!$AA163=Alternativas!$V$24:$V$264)*(Alternativas!AG$24:AG$264))","v":0},{"$f":"SUMPRODUCT(($Z163=Alternativas!$U$24:$U$264)*('Comparación Alternativas'!$AA163=Alternativas!$V$24:$V$264)*(Alternativas!AH$24:AH$264))","v":0},0,0,0,0,0,0,0,0,0,0,0,0,0,0,0,0,0,0,0,0,0]
[null,null,null,null,null,null,null,null,null,null,null,null,null,null,null,null,null,null,null,null,null,null,null,null,null,10,10,{"$f":"(AB174-AB162)/12+AB163","v":446.19551626436936},{"$f":"SUMPRODUCT(($Z164=Alternativas!$C$24:$C$264)*('Comparación Alternativas'!$AA164=Alternativas!$D$24:$D$264)*(Alternativas!M$24:M$264))","v":0},{"$f":"SUMPRODUCT(($Z164=Alternativas!$C$24:$C$264)*('Comparación Alternativas'!$AA164=Alternativas!$D$24:$D$264)*(Alternativas!N$24:N$264))","v":0},{"$f":"SUMPRODUCT(($Z164=Alternativas!$C$24:$C$264)*('Comparación Alternativas'!$AA164=Alternativas!$D$24:$D$264)*(Alternativas!O$24:O$264))","v":0},{"$f":"SUMPRODUCT(($Z164=Alternativas!$C$24:$C$264)*('Comparación Alternativas'!$AA164=Alternativas!$D$24:$D$264)*(Alternativas!P$24:P$264))","v":0},0,{"$f":"SUMPRODUCT(($Z164=Alternativas!$U$24:$U$264)*('Comparación Alternativas'!$AA164=Alternativas!$V$24:$V$264)*(Alternativas!AE$24:AE$264))","v":0},{"$f":"SUMPRODUCT(($Z164=Alternativas!$U$24:$U$264)*('Comparación Alternativas'!$AA164=Alternativas!$V$24:$V$264)*(Alternativas!AF$24:AF$264))","v":0},{"$f":"SUMPRODUCT(($Z164=Alternativas!$U$24:$U$264)*('Comparación Alternativas'!$AA164=Alternativas!$V$24:$V$264)*(Alternativas!AG$24:AG$264))","v":0},{"$f":"SUMPRODUCT(($Z164=Alternativas!$U$24:$U$264)*('Comparación Alternativas'!$AA164=Alternativas!$V$24:$V$264)*(Alternativas!AH$24:AH$264))","v":0},0,0,0,0,0,0,0,0,0,0,0,0,0,0,0,0,0,0,0,0,0]
[null,null,null,null,null,null,null,null,null,null,null,null,null,null,null,null,null,null,null,null,null,null,null,null,null,11,10,{"$f":"(AB174-AB162)/12+AB164","v":446.19551626436936},{"$f":"SUMPRODUCT(($Z165=Alternativas!$C$24:$C$264)*('Comparación Alternativas'!$AA165=Alternativas!$D$24:$D$264)*(Alternativas!M$24:M$264))","v":0},{"$f":"SUMPRODUCT(($Z165=Alternativas!$C$24:$C$264)*('Comparación Alternativas'!$AA165=Alternativas!$D$24:$D$264)*(Alternativas!N$24:N$264))","v":0},{"$f":"SUMPRODUCT(($Z165=Alternativas!$C$24:$C$264)*('Comparación Alternativas'!$AA165=Alternativas!$D$24:$D$264)*(Alternativas!O$24:O$264))","v":0},{"$f":"SUMPRODUCT(($Z165=Alternativas!$C$24:$C$264)*('Comparación Alternativas'!$AA165=Alternativas!$D$24:$D$264)*(Alternativas!P$24:P$264))","v":0},0,{"$f":"SUMPRODUCT(($Z165=Alternativas!$U$24:$U$264)*('Comparación Alternativas'!$AA165=Alternativas!$V$24:$V$264)*(Alternativas!AE$24:AE$264))","v":0},{"$f":"SUMPRODUCT(($Z165=Alternativas!$U$24:$U$264)*('Comparación Alternativas'!$AA165=Alternativas!$V$24:$V$264)*(Alternativas!AF$24:AF$264))","v":0},{"$f":"SUMPRODUCT(($Z165=Alternativas!$U$24:$U$264)*('Comparación Alternativas'!$AA165=Alternativas!$V$24:$V$264)*(Alternativas!AG$24:AG$264))","v":0},{"$f":"SUMPRODUCT(($Z165=Alternativas!$U$24:$U$264)*('Comparación Alternativas'!$AA165=Alternativas!$V$24:$V$264)*(Alternativas!AH$24:AH$264))","v":0},0,0,0,0,0,0,0,0,0,0,0,0,0,0,0,0,0,0,0,0,0]
[null,null,null,null,null,null,null,null,null,null,null,null,null,null,null,null,null,null,null,null,null,null,null,null,null,12,10,{"$f":"(AB174-AB162)/12+AB165","v":446.19551626436936},{"$f":"SUMPRODUCT(($Z166=Alternativas!$C$24:$C$264)*('Comparación Alternativas'!$AA166=Alternativas!$D$24:$D$264)*(Alternativas!M$24:M$264))","v":0},{"$f":"SUMPRODUCT(($Z166=Alternativas!$C$24:$C$264)*('Comparación Alternativas'!$AA166=Alternativas!$D$24:$D$264)*(Alternativas!N$24:N$264))","v":0},{"$f":"SUMPRODUCT(($Z166=Alternativas!$C$24:$C$264)*('Comparación Alternativas'!$AA166=Alternativas!$D$24:$D$264)*(Alternativas!O$24:O$264))","v":0},{"$f":"SUMPRODUCT(($Z166=Alternativas!$C$24:$C$264)*('Comparación Alternativas'!$AA166=Alternativas!$D$24:$D$264)*(Alternativas!P$24:P$264))","v":0},0,{"$f":"SUMPRODUCT(($Z166=Alternativas!$U$24:$U$264)*('Comparación Alternativas'!$AA166=Alternativas!$V$24:$V$264)*(Alternativas!AE$24:AE$264))","v":0},{"$f":"SUMPRODUCT(($Z166=Alternativas!$U$24:$U$264)*('Comparación Alternativas'!$AA166=Alternativas!$V$24:$V$264)*(Alternativas!AF$24:AF$264))","v":0},{"$f":"SUMPRODUCT(($Z166=Alternativas!$U$24:$U$264)*('Comparación Alternativas'!$AA166=Alternativas!$V$24:$V$264)*(Alternativas!AG$24:AG$264))","v":0},{"$f":"SUMPRODUCT(($Z166=Alternativas!$U$24:$U$264)*('Comparación Alternativas'!$AA166=Alternativas!$V$24:$V$264)*(Alternativas!AH$24:AH$264))","v":0},0,0,0,0,0,0,0,0,0,0,0,0,0,0,0,0,0,0,0,0,0]
[null,null,null,null,null,null,null,null,null,null,null,null,null,null,null,null,null,null,null,null,null,null,null,null,null,1,11,{"$f":"(AB174-AB162)/12+AB166","v":446.19551626436936},{"$f":"SUMPRODUCT(($Z167=Alternativas!$C$24:$C$264)*('Comparación Alternativas'!$AA167=Alternativas!$D$24:$D$264)*(Alternativas!M$24:M$264))","v":0},{"$f":"SUMPRODUCT(($Z167=Alternativas!$C$24:$C$264)*('Comparación Alternativas'!$AA167=Alternativas!$D$24:$D$264)*(Alternativas!N$24:N$264))","v":0},{"$f":"SUMPRODUCT(($Z167=Alternativas!$C$24:$C$264)*('Comparación Alternativas'!$AA167=Alternativas!$D$24:$D$264)*(Alternativas!O$24:O$264))","v":0},{"$f":"SUMPRODUCT(($Z167=Alternativas!$C$24:$C$264)*('Comparación Alternativas'!$AA167=Alternativas!$D$24:$D$264)*(Alternativas!P$24:P$264))","v":0},0,{"$f":"SUMPRODUCT(($Z167=Alternativas!$U$24:$U$264)*('Comparación Alternativas'!$AA167=Alternativas!$V$24:$V$264)*(Alternativas!AE$24:AE$264))","v":0},{"$f":"SUMPRODUCT(($Z167=Alternativas!$U$24:$U$264)*('Comparación Alternativas'!$AA167=Alternativas!$V$24:$V$264)*(Alternativas!AF$24:AF$264))","v":0},{"$f":"SUMPRODUCT(($Z167=Alternativas!$U$24:$U$264)*('Comparación Alternativas'!$AA167=Alternativas!$V$24:$V$264)*(Alternativas!AG$24:AG$264))","v":0},{"$f":"SUMPRODUCT(($Z167=Alternativas!$U$24:$U$264)*('Comparación Alternativas'!$AA167=Alternativas!$V$24:$V$264)*(Alternativas!AH$24:AH$264))","v":0},0,0,0,0,0,0,0,0,0,0,0,0,0,0,0,0,0,0,0,0,0]
[null,null,null,null,null,null,null,null,null,null,null,null,null,null,null,null,null,null,null,null,null,null,null,null,null,2,11,{"$f":"(AB174-AB162)/12+AB167","v":446.19551626436936},{"$f":"SUMPRODUCT(($Z168=Alternativas!$C$24:$C$264)*('Comparación Alternativas'!$AA168=Alternativas!$D$24:$D$264)*(Alternativas!M$24:M$264))","v":0},{"$f":"SUMPRODUCT(($Z168=Alternativas!$C$24:$C$264)*('Comparación Alternativas'!$AA168=Alternativas!$D$24:$D$264)*(Alternativas!N$24:N$264))","v":0},{"$f":"SUMPRODUCT(($Z168=Alternativas!$C$24:$C$264)*('Comparación Alternativas'!$AA168=Alternativas!$D$24:$D$264)*(Alternativas!O$24:O$264))","v":0},{"$f":"SUMPRODUCT(($Z168=Alternativas!$C$24:$C$264)*('Comparación Alternativas'!$AA168=Alternativas!$D$24:$D$264)*(Alternativas!P$24:P$264))","v":0},0,{"$f":"SUMPRODUCT(($Z168=Alternativas!$U$24:$U$264)*('Comparación Alternativas'!$AA168=Alternativas!$V$24:$V$264)*(Alternativas!AE$24:AE$264))","v":0},{"$f":"SUMPRODUCT(($Z168=Alternativas!$U$24:$U$264)*('Comparación Alternativas'!$AA168=Alternativas!$V$24:$V$264)*(Alternativas!AF$24:AF$264))","v":0},{"$f":"SUMPRODUCT(($Z168=Alternativas!$U$24:$U$264)*('Comparación Alternativas'!$AA168=Alternativas!$V$24:$V$264)*(Alternativas!AG$24:AG$264))","v":0},{"$f":"SUMPRODUCT(($Z168=Alternativas!$U$24:$U$264)*('Comparación Alternativas'!$AA168=Alternativas!$V$24:$V$264)*(Alternativas!AH$24:AH$264))","v":0},0,0,0,0,0,0,0,0,0,0,0,0,0,0,0,0,0,0,0,0,0]
[null,null,null,null,null,null,null,null,null,null,null,null,null,null,null,null,null,null,null,null,null,null,null,null,null,3,11,{"$f":"(AB174-AB162)/12+AB168","v":446.19551626436936},{"$f":"SUMPRODUCT(($Z169=Alternativas!$C$24:$C$264)*('Comparación Alternativas'!$AA169=Alternativas!$D$24:$D$264)*(Alternativas!M$24:M$264))","v":0},{"$f":"SUMPRODUCT(($Z169=Alternativas!$C$24:$C$264)*('Comparación Alternativas'!$AA169=Alternativas!$D$24:$D$264)*(Alternativas!N$24:N$264))","v":0},{"$f":"SUMPRODUCT(($Z169=Alternativas!$C$24:$C$264)*('Comparación Alternativas'!$AA169=Alternativas!$D$24:$D$264)*(Alternativas!O$24:O$264))","v":0},{"$f":"SUMPRODUCT(($Z169=Alternativas!$C$24:$C$264)*('Comparación Alternativas'!$AA169=Alternativas!$D$24:$D$264)*(Alternativas!P$24:P$264))","v":0},0,{"$f":"SUMPRODUCT(($Z169=Alternativas!$U$24:$U$264)*('Comparación Alternativas'!$AA169=Alternativas!$V$24:$V$264)*(Alternativas!AE$24:AE$264))","v":0},{"$f":"SUMPRODUCT(($Z169=Alternativas!$U$24:$U$264)*('Comparación Alternativas'!$AA169=Alternativas!$V$24:$V$264)*(Alternativas!AF$24:AF$264))","v":0},{"$f":"SUMPRODUCT(($Z169=Alternativas!$U$24:$U$264)*('Comparación Alternativas'!$AA169=Alternativas!$V$24:$V$264)*(Alternativas!AG$24:AG$264))","v":0},{"$f":"SUMPRODUCT(($Z169=Alternativas!$U$24:$U$264)*('Comparación Alternativas'!$AA169=Alternativas!$V$24:$V$264)*(Alternativas!AH$24:AH$264))","v":0},0,0,0,0,0,0,0,0,0,0,0,0,0,0,0,0,0,0,0,0,0]
[null,null,null,null,null,null,null,null,null,null,null,null,null,null,null,null,null,null,null,null,null,null,null,null,null,4,11,{"$f":"(AB174-AB162)/12+AB169","v":446.19551626436936},{"$f":"SUMPRODUCT(($Z170=Alternativas!$C$24:$C$264)*('Comparación Alternativas'!$AA170=Alternativas!$D$24:$D$264)*(Alternativas!M$24:M$264))","v":0},{"$f":"SUMPRODUCT(($Z170=Alternativas!$C$24:$C$264)*('Comparación Alternativas'!$AA170=Alternativas!$D$24:$D$264)*(Alternativas!N$24:N$264))","v":0},{"$f":"SUMPRODUCT(($Z170=Alternativas!$C$24:$C$264)*('Comparación Alternativas'!$AA170=Alternativas!$D$24:$D$264)*(Alternativas!O$24:O$264))","v":0},{"$f":"SUMPRODUCT(($Z170=Alternativas!$C$24:$C$264)*('Comparación Alternativas'!$AA170=Alternativas!$D$24:$D$264)*(Alternativas!P$24:P$264))","v":0},0,{"$f":"SUMPRODUCT(($Z170=Alternativas!$U$24:$U$264)*('Comparación Alternativas'!$AA170=Alternativas!$V$24:$V$264)*(Alternativas!AE$24:AE$264))","v":0},{"$f":"SUMPRODUCT(($Z170=Alternativas!$U$24:$U$264)*('Comparación Alternativas'!$AA170=Alternativas!$V$24:$V$264)*(Alternativas!AF$24:AF$264))","v":0},{"$f":"SUMPRODUCT(($Z170=Alternativas!$U$24:$U$264)*('Comparación Alternativas'!$AA170=Alternativas!$V$24:$V$264)*(Alternativas!AG$24:AG$264))","v":0},{"$f":"SUMPRODUCT(($Z170=Alternativas!$U$24:$U$264)*('Comparación Alternativas'!$AA170=Alternativas!$V$24:$V$264)*(Alternativas!AH$24:AH$264))","v":0},0,0,0,0,0,0,0,0,0,0,0,0,0,0,0,0,0,0,0,0,0]
[null,null,null,null,null,null,null,null,null,null,null,null,null,null,null,null,null,null,null,null,null,null,null,null,null,5,11,{"$f":"(AB174-AB162)/12+AB170","v":446.19551626436936},{"$f":"SUMPRODUCT(($Z171=Alternativas!$C$24:$C$264)*('Comparación Alternativas'!$AA171=Alternativas!$D$24:$D$264)*(Alternativas!M$24:M$264))","v":0},{"$f":"SUMPRODUCT(($Z171=Alternativas!$C$24:$C$264)*('Comparación Alternativas'!$AA171=Alternativas!$D$24:$D$264)*(Alternativas!N$24:N$264))","v":0},{"$f":"SUMPRODUCT(($Z171=Alternativas!$C$24:$C$264)*('Comparación Alternativas'!$AA171=Alternativas!$D$24:$D$264)*(Alternativas!O$24:O$264))","v":0},{"$f":"SUMPRODUCT(($Z171=Alternativas!$C$24:$C$264)*('Comparación Alternativas'!$AA171=Alternativas!$D$24:$D$264)*(Alternativas!P$24:P$264))","v":0},0,{"$f":"SUMPRODUCT(($Z171=Alternativas!$U$24:$U$264)*('Comparación Alternativas'!$AA171=Alternativas!$V$24:$V$264)*(Alternativas!AE$24:AE$264))","v":0},{"$f":"SUMPRODUCT(($Z171=Alternativas!$U$24:$U$264)*('Comparación Alternativas'!$AA171=Alternativas!$V$24:$V$264)*(Alternativas!AF$24:AF$264))","v":0},{"$f":"SUMPRODUCT(($Z171=Alternativas!$U$24:$U$264)*('Comparación Alternativas'!$AA171=Alternativas!$V$24:$V$264)*(Alternativas!AG$24:AG$264))","v":0},{"$f":"SUMPRODUCT(($Z171=Alternativas!$U$24:$U$264)*('Comparación Alternativas'!$AA171=Alternativas!$V$24:$V$264)*(Alternativas!AH$24:AH$264))","v":0},0,0,0,0,0,0,0,0,0,0,0,0,0,0,0,0,0,0,0,0,0]
[null,null,null,null,null,null,null,null,null,null,null,null,null,null,null,null,null,null,null,null,null,null,null,null,null,6,11,{"$f":"(AB174-AB162)/12+AB171","v":446.19551626436936},{"$f":"SUMPRODUCT(($Z172=Alternativas!$C$24:$C$264)*('Comparación Alternativas'!$AA172=Alternativas!$D$24:$D$264)*(Alternativas!M$24:M$264))","v":0},{"$f":"SUMPRODUCT(($Z172=Alternativas!$C$24:$C$264)*('Comparación Alternativas'!$AA172=Alternativas!$D$24:$D$264)*(Alternativas!N$24:N$264))","v":0},{"$f":"SUMPRODUCT(($Z172=Alternativas!$C$24:$C$264)*('Comparación Alternativas'!$AA172=Alternativas!$D$24:$D$264)*(Alternativas!O$24:O$264))","v":0},{"$f":"SUMPRODUCT(($Z172=Alternativas!$C$24:$C$264)*('Comparación Alternativas'!$AA172=Alternativas!$D$24:$D$264)*(Alternativas!P$24:P$264))","v":0},0,{"$f":"SUMPRODUCT(($Z172=Alternativas!$U$24:$U$264)*('Comparación Alternativas'!$AA172=Alternativas!$V$24:$V$264)*(Alternativas!AE$24:AE$264))","v":0},{"$f":"SUMPRODUCT(($Z172=Alternativas!$U$24:$U$264)*('Comparación Alternativas'!$AA172=Alternativas!$V$24:$V$264)*(Alternativas!AF$24:AF$264))","v":0},{"$f":"SUMPRODUCT(($Z172=Alternativas!$U$24:$U$264)*('Comparación Alternativas'!$AA172=Alternativas!$V$24:$V$264)*(Alternativas!AG$24:AG$264))","v":0},{"$f":"SUMPRODUCT(($Z172=Alternativas!$U$24:$U$264)*('Comparación Alternativas'!$AA172=Alternativas!$V$24:$V$264)*(Alternativas!AH$24:AH$264))","v":0},0,0,0,0,0,0,0,0,0,0,0,0,0,0,0,0,0,0,0,0,0]
[null,null,null,null,null,null,null,null,null,null,null,null,null,null,null,null,null,null,null,null,null,null,null,null,null,7,11,{"$f":"(AB174-AB162)/12+AB172","v":446.19551626436936},{"$f":"SUMPRODUCT(($Z173=Alternativas!$C$24:$C$264)*('Comparación Alternativas'!$AA173=Alternativas!$D$24:$D$264)*(Alternativas!M$24:M$264))","v":0},{"$f":"SUMPRODUCT(($Z173=Alternativas!$C$24:$C$264)*('Comparación Alternativas'!$AA173=Alternativas!$D$24:$D$264)*(Alternativas!N$24:N$264))","v":0},{"$f":"SUMPRODUCT(($Z173=Alternativas!$C$24:$C$264)*('Comparación Alternativas'!$AA173=Alternativas!$D$24:$D$264)*(Alternativas!O$24:O$264))","v":0},{"$f":"SUMPRODUCT(($Z173=Alternativas!$C$24:$C$264)*('Comparación Alternativas'!$AA173=Alternativas!$D$24:$D$264)*(Alternativas!P$24:P$264))","v":0},0,{"$f":"SUMPRODUCT(($Z173=Alternativas!$U$24:$U$264)*('Comparación Alternativas'!$AA173=Alternativas!$V$24:$V$264)*(Alternativas!AE$24:AE$264))","v":0},{"$f":"SUMPRODUCT(($Z173=Alternativas!$U$24:$U$264)*('Comparación Alternativas'!$AA173=Alternativas!$V$24:$V$264)*(Alternativas!AF$24:AF$264))","v":0},{"$f":"SUMPRODUCT(($Z173=Alternativas!$U$24:$U$264)*('Comparación Alternativas'!$AA173=Alternativas!$V$24:$V$264)*(Alternativas!AG$24:AG$264))","v":0},{"$f":"SUMPRODUCT(($Z173=Alternativas!$U$24:$U$264)*('Comparación Alternativas'!$AA173=Alternativas!$V$24:$V$264)*(Alternativas!AH$24:AH$264))","v":0},0,0,0,0,0,0,0,0,0,0,0,0,0,0,0,0,0,0,0,0,0]
[null,null,null,null,null,null,null,null,null,null,null,null,null,null,null,null,null,null,null,null,null,null,null,null,null,8,11,{"$f":"U23","v":446.19551626436936},{"$f":"SUMPRODUCT(($Z174=Alternativas!$C$24:$C$264)*('Comparación Alternativas'!$AA174=Alternativas!$D$24:$D$264)*(Alternativas!M$24:M$264))","v":0},{"$f":"SUMPRODUCT(($Z174=Alternativas!$C$24:$C$264)*('Comparación Alternativas'!$AA174=Alternativas!$D$24:$D$264)*(Alternativas!N$24:N$264))","v":0},{"$f":"SUMPRODUCT(($Z174=Alternativas!$C$24:$C$264)*('Comparación Alternativas'!$AA174=Alternativas!$D$24:$D$264)*(Alternativas!O$24:O$264))","v":0},{"$f":"SUMPRODUCT(($Z174=Alternativas!$C$24:$C$264)*('Comparación Alternativas'!$AA174=Alternativas!$D$24:$D$264)*(Alternativas!P$24:P$264))","v":0},0,{"$f":"SUMPRODUCT(($Z174=Alternativas!$U$24:$U$264)*('Comparación Alternativas'!$AA174=Alternativas!$V$24:$V$264)*(Alternativas!AE$24:AE$264))","v":0},{"$f":"SUMPRODUCT(($Z174=Alternativas!$U$24:$U$264)*('Comparación Alternativas'!$AA174=Alternativas!$V$24:$V$264)*(Alternativas!AF$24:AF$264))","v":0},{"$f":"SUMPRODUCT(($Z174=Alternativas!$U$24:$U$264)*('Comparación Alternativas'!$AA174=Alternativas!$V$24:$V$264)*(Alternativas!AG$24:AG$264))","v":0},{"$f":"SUMPRODUCT(($Z174=Alternativas!$U$24:$U$264)*('Comparación Alternativas'!$AA174=Alternativas!$V$24:$V$264)*(Alternativas!AH$24:AH$264))","v":0},0,0,0,0,0,0,0,0,0,0,0,0,0,0,0,0,0,0,0,0,0]
[null,null,null,null,null,null,null,null,null,null,null,null,null,null,null,null,null,null,null,null,null,null,null,null,null,9,11,{"$f":"(AB186-AB174)/12+AB174","v":446.19551626436936},{"$f":"SUMPRODUCT(($Z175=Alternativas!$C$24:$C$264)*('Comparación Alternativas'!$AA175=Alternativas!$D$24:$D$264)*(Alternativas!M$24:M$264))","v":0},{"$f":"SUMPRODUCT(($Z175=Alternativas!$C$24:$C$264)*('Comparación Alternativas'!$AA175=Alternativas!$D$24:$D$264)*(Alternativas!N$24:N$264))","v":0},{"$f":"SUMPRODUCT(($Z175=Alternativas!$C$24:$C$264)*('Comparación Alternativas'!$AA175=Alternativas!$D$24:$D$264)*(Alternativas!O$24:O$264))","v":0},{"$f":"SUMPRODUCT(($Z175=Alternativas!$C$24:$C$264)*('Comparación Alternativas'!$AA175=Alternativas!$D$24:$D$264)*(Alternativas!P$24:P$264))","v":0},0,{"$f":"SUMPRODUCT(($Z175=Alternativas!$U$24:$U$264)*('Comparación Alternativas'!$AA175=Alternativas!$V$24:$V$264)*(Alternativas!AE$24:AE$264))","v":0},{"$f":"SUMPRODUCT(($Z175=Alternativas!$U$24:$U$264)*('Comparación Alternativas'!$AA175=Alternativas!$V$24:$V$264)*(Alternativas!AF$24:AF$264))","v":0},{"$f":"SUMPRODUCT(($Z175=Alternativas!$U$24:$U$264)*('Comparación Alternativas'!$AA175=Alternativas!$V$24:$V$264)*(Alternativas!AG$24:AG$264))","v":0},{"$f":"SUMPRODUCT(($Z175=Alternativas!$U$24:$U$264)*('Comparación Alternativas'!$AA175=Alternativas!$V$24:$V$264)*(Alternativas!AH$24:AH$264))","v":0},0,0,0,0,0,0,0,0,0,0,0,0,0,0,0,0,0,0,0,0,0]
[null,null,null,null,null,null,null,null,null,null,null,null,null,null,null,null,null,null,null,null,null,null,null,null,null,10,11,{"$f":"(AB186-AB174)/12+AB175","v":446.19551626436936},{"$f":"SUMPRODUCT(($Z176=Alternativas!$C$24:$C$264)*('Comparación Alternativas'!$AA176=Alternativas!$D$24:$D$264)*(Alternativas!M$24:M$264))","v":0},{"$f":"SUMPRODUCT(($Z176=Alternativas!$C$24:$C$264)*('Comparación Alternativas'!$AA176=Alternativas!$D$24:$D$264)*(Alternativas!N$24:N$264))","v":0},{"$f":"SUMPRODUCT(($Z176=Alternativas!$C$24:$C$264)*('Comparación Alternativas'!$AA176=Alternativas!$D$24:$D$264)*(Alternativas!O$24:O$264))","v":0},{"$f":"SUMPRODUCT(($Z176=Alternativas!$C$24:$C$264)*('Comparación Alternativas'!$AA176=Alternativas!$D$24:$D$264)*(Alternativas!P$24:P$264))","v":0},0,{"$f":"SUMPRODUCT(($Z176=Alternativas!$U$24:$U$264)*('Comparación Alternativas'!$AA176=Alternativas!$V$24:$V$264)*(Alternativas!AE$24:AE$264))","v":0},{"$f":"SUMPRODUCT(($Z176=Alternativas!$U$24:$U$264)*('Comparación Alternativas'!$AA176=Alternativas!$V$24:$V$264)*(Alternativas!AF$24:AF$264))","v":0},{"$f":"SUMPRODUCT(($Z176=Alternativas!$U$24:$U$264)*('Comparación Alternativas'!$AA176=Alternativas!$V$24:$V$264)*(Alternativas!AG$24:AG$264))","v":0},{"$f":"SUMPRODUCT(($Z176=Alternativas!$U$24:$U$264)*('Comparación Alternativas'!$AA176=Alternativas!$V$24:$V$264)*(Alternativas!AH$24:AH$264))","v":0},0,0,0,0,0,0,0,0,0,0,0,0,0,0,0,0,0,0,0,0,0]
[null,null,null,null,null,null,null,null,null,null,null,null,null,null,null,null,null,null,null,null,null,null,null,null,null,11,11,{"$f":"(AB186-AB174)/12+AB176","v":446.19551626436936},{"$f":"SUMPRODUCT(($Z177=Alternativas!$C$24:$C$264)*('Comparación Alternativas'!$AA177=Alternativas!$D$24:$D$264)*(Alternativas!M$24:M$264))","v":0},{"$f":"SUMPRODUCT(($Z177=Alternativas!$C$24:$C$264)*('Comparación Alternativas'!$AA177=Alternativas!$D$24:$D$264)*(Alternativas!N$24:N$264))","v":0},{"$f":"SUMPRODUCT(($Z177=Alternativas!$C$24:$C$264)*('Comparación Alternativas'!$AA177=Alternativas!$D$24:$D$264)*(Alternativas!O$24:O$264))","v":0},{"$f":"SUMPRODUCT(($Z177=Alternativas!$C$24:$C$264)*('Comparación Alternativas'!$AA177=Alternativas!$D$24:$D$264)*(Alternativas!P$24:P$264))","v":0},0,{"$f":"SUMPRODUCT(($Z177=Alternativas!$U$24:$U$264)*('Comparación Alternativas'!$AA177=Alternativas!$V$24:$V$264)*(Alternativas!AE$24:AE$264))","v":0},{"$f":"SUMPRODUCT(($Z177=Alternativas!$U$24:$U$264)*('Comparación Alternativas'!$AA177=Alternativas!$V$24:$V$264)*(Alternativas!AF$24:AF$264))","v":0},{"$f":"SUMPRODUCT(($Z177=Alternativas!$U$24:$U$264)*('Comparación Alternativas'!$AA177=Alternativas!$V$24:$V$264)*(Alternativas!AG$24:AG$264))","v":0},{"$f":"SUMPRODUCT(($Z177=Alternativas!$U$24:$U$264)*('Comparación Alternativas'!$AA177=Alternativas!$V$24:$V$264)*(Alternativas!AH$24:AH$264))","v":0},0,0,0,0,0,0,0,0,0,0,0,0,0,0,0,0,0,0,0,0,0]
[null,null,null,null,null,null,null,null,null,null,null,null,null,null,null,null,null,null,null,null,null,null,null,null,null,12,11,{"$f":"(AB186-AB174)/12+AB177","v":446.19551626436936},{"$f":"SUMPRODUCT(($Z178=Alternativas!$C$24:$C$264)*('Comparación Alternativas'!$AA178=Alternativas!$D$24:$D$264)*(Alternativas!M$24:M$264))","v":0},{"$f":"SUMPRODUCT(($Z178=Alternativas!$C$24:$C$264)*('Comparación Alternativas'!$AA178=Alternativas!$D$24:$D$264)*(Alternativas!N$24:N$264))","v":0},{"$f":"SUMPRODUCT(($Z178=Alternativas!$C$24:$C$264)*('Comparación Alternativas'!$AA178=Alternativas!$D$24:$D$264)*(Alternativas!O$24:O$264))","v":0},{"$f":"SUMPRODUCT(($Z178=Alternativas!$C$24:$C$264)*('Comparación Alternativas'!$AA178=Alternativas!$D$24:$D$264)*(Alternativas!P$24:P$264))","v":0},0,{"$f":"SUMPRODUCT(($Z178=Alternativas!$U$24:$U$264)*('Comparación Alternativas'!$AA178=Alternativas!$V$24:$V$264)*(Alternativas!AE$24:AE$264))","v":0},{"$f":"SUMPRODUCT(($Z178=Alternativas!$U$24:$U$264)*('Comparación Alternativas'!$AA178=Alternativas!$V$24:$V$264)*(Alternativas!AF$24:AF$264))","v":0},{"$f":"SUMPRODUCT(($Z178=Alternativas!$U$24:$U$264)*('Comparación Alternativas'!$AA178=Alternativas!$V$24:$V$264)*(Alternativas!AG$24:AG$264))","v":0},{"$f":"SUMPRODUCT(($Z178=Alternativas!$U$24:$U$264)*('Comparación Alternativas'!$AA178=Alternativas!$V$24:$V$264)*(Alternativas!AH$24:AH$264))","v":0},0,0,0,0,0,0,0,0,0,0,0,0,0,0,0,0,0,0,0,0,0]
[null,null,null,null,null,null,null,null,null,null,null,null,null,null,null,null,null,null,null,null,null,null,null,null,null,1,12,{"$f":"(AB186-AB174)/12+AB178","v":446.19551626436936},{"$f":"SUMPRODUCT(($Z179=Alternativas!$C$24:$C$264)*('Comparación Alternativas'!$AA179=Alternativas!$D$24:$D$264)*(Alternativas!M$24:M$264))","v":0},{"$f":"SUMPRODUCT(($Z179=Alternativas!$C$24:$C$264)*('Comparación Alternativas'!$AA179=Alternativas!$D$24:$D$264)*(Alternativas!N$24:N$264))","v":0},{"$f":"SUMPRODUCT(($Z179=Alternativas!$C$24:$C$264)*('Comparación Alternativas'!$AA179=Alternativas!$D$24:$D$264)*(Alternativas!O$24:O$264))","v":0},{"$f":"SUMPRODUCT(($Z179=Alternativas!$C$24:$C$264)*('Comparación Alternativas'!$AA179=Alternativas!$D$24:$D$264)*(Alternativas!P$24:P$264))","v":0},0,{"$f":"SUMPRODUCT(($Z179=Alternativas!$U$24:$U$264)*('Comparación Alternativas'!$AA179=Alternativas!$V$24:$V$264)*(Alternativas!AE$24:AE$264))","v":0},{"$f":"SUMPRODUCT(($Z179=Alternativas!$U$24:$U$264)*('Comparación Alternativas'!$AA179=Alternativas!$V$24:$V$264)*(Alternativas!AF$24:AF$264))","v":0},{"$f":"SUMPRODUCT(($Z179=Alternativas!$U$24:$U$264)*('Comparación Alternativas'!$AA179=Alternativas!$V$24:$V$264)*(Alternativas!AG$24:AG$264))","v":0},{"$f":"SUMPRODUCT(($Z179=Alternativas!$U$24:$U$264)*('Comparación Alternativas'!$AA179=Alternativas!$V$24:$V$264)*(Alternativas!AH$24:AH$264))","v":0},0,0,0,0,0,0,0,0,0,0,0,0,0,0,0,0,0,0,0,0,0]
[null,null,null,null,null,null,null,null,null,null,null,null,null,null,null,null,null,null,null,null,null,null,null,null,null,2,12,{"$f":"(AB186-AB174)/12+AB179","v":446.19551626436936},{"$f":"SUMPRODUCT(($Z180=Alternativas!$C$24:$C$264)*('Comparación Alternativas'!$AA180=Alternativas!$D$24:$D$264)*(Alternativas!M$24:M$264))","v":0},{"$f":"SUMPRODUCT(($Z180=Alternativas!$C$24:$C$264)*('Comparación Alternativas'!$AA180=Alternativas!$D$24:$D$264)*(Alternativas!N$24:N$264))","v":0},{"$f":"SUMPRODUCT(($Z180=Alternativas!$C$24:$C$264)*('Comparación Alternativas'!$AA180=Alternativas!$D$24:$D$264)*(Alternativas!O$24:O$264))","v":0},{"$f":"SUMPRODUCT(($Z180=Alternativas!$C$24:$C$264)*('Comparación Alternativas'!$AA180=Alternativas!$D$24:$D$264)*(Alternativas!P$24:P$264))","v":0},0,{"$f":"SUMPRODUCT(($Z180=Alternativas!$U$24:$U$264)*('Comparación Alternativas'!$AA180=Alternativas!$V$24:$V$264)*(Alternativas!AE$24:AE$264))","v":0},{"$f":"SUMPRODUCT(($Z180=Alternativas!$U$24:$U$264)*('Comparación Alternativas'!$AA180=Alternativas!$V$24:$V$264)*(Alternativas!AF$24:AF$264))","v":0},{"$f":"SUMPRODUCT(($Z180=Alternativas!$U$24:$U$264)*('Comparación Alternativas'!$AA180=Alternativas!$V$24:$V$264)*(Alternativas!AG$24:AG$264))","v":0},{"$f":"SUMPRODUCT(($Z180=Alternativas!$U$24:$U$264)*('Comparación Alternativas'!$AA180=Alternativas!$V$24:$V$264)*(Alternativas!AH$24:AH$264))","v":0},0,0,0,0,0,0,0,0,0,0,0,0,0,0,0,0,0,0,0,0,0]
[null,null,null,null,null,null,null,null,null,null,null,null,null,null,null,null,null,null,null,null,null,null,null,null,null,3,12,{"$f":"(AB186-AB174)/12+AB180","v":446.19551626436936},{"$f":"SUMPRODUCT(($Z181=Alternativas!$C$24:$C$264)*('Comparación Alternativas'!$AA181=Alternativas!$D$24:$D$264)*(Alternativas!M$24:M$264))","v":0},{"$f":"SUMPRODUCT(($Z181=Alternativas!$C$24:$C$264)*('Comparación Alternativas'!$AA181=Alternativas!$D$24:$D$264)*(Alternativas!N$24:N$264))","v":0},{"$f":"SUMPRODUCT(($Z181=Alternativas!$C$24:$C$264)*('Comparación Alternativas'!$AA181=Alternativas!$D$24:$D$264)*(Alternativas!O$24:O$264))","v":0},{"$f":"SUMPRODUCT(($Z181=Alternativas!$C$24:$C$264)*('Comparación Alternativas'!$AA181=Alternativas!$D$24:$D$264)*(Alternativas!P$24:P$264))","v":0},0,{"$f":"SUMPRODUCT(($Z181=Alternativas!$U$24:$U$264)*('Comparación Alternativas'!$AA181=Alternativas!$V$24:$V$264)*(Alternativas!AE$24:AE$264))","v":0},{"$f":"SUMPRODUCT(($Z181=Alternativas!$U$24:$U$264)*('Comparación Alternativas'!$AA181=Alternativas!$V$24:$V$264)*(Alternativas!AF$24:AF$264))","v":0},{"$f":"SUMPRODUCT(($Z181=Alternativas!$U$24:$U$264)*('Comparación Alternativas'!$AA181=Alternativas!$V$24:$V$264)*(Alternativas!AG$24:AG$264))","v":0},{"$f":"SUMPRODUCT(($Z181=Alternativas!$U$24:$U$264)*('Comparación Alternativas'!$AA181=Alternativas!$V$24:$V$264)*(Alternativas!AH$24:AH$264))","v":0},0,0,0,0,0,0,0,0,0,0,0,0,0,0,0,0,0,0,0,0,0]
[null,null,null,null,null,null,null,null,null,null,null,null,null,null,null,null,null,null,null,null,null,null,null,null,null,4,12,{"$f":"(AB186-AB174)/12+AB181","v":446.19551626436936},{"$f":"SUMPRODUCT(($Z182=Alternativas!$C$24:$C$264)*('Comparación Alternativas'!$AA182=Alternativas!$D$24:$D$264)*(Alternativas!M$24:M$264))","v":0},{"$f":"SUMPRODUCT(($Z182=Alternativas!$C$24:$C$264)*('Comparación Alternativas'!$AA182=Alternativas!$D$24:$D$264)*(Alternativas!N$24:N$264))","v":0},{"$f":"SUMPRODUCT(($Z182=Alternativas!$C$24:$C$264)*('Comparación Alternativas'!$AA182=Alternativas!$D$24:$D$264)*(Alternativas!O$24:O$264))","v":0},{"$f":"SUMPRODUCT(($Z182=Alternativas!$C$24:$C$264)*('Comparación Alternativas'!$AA182=Alternativas!$D$24:$D$264)*(Alternativas!P$24:P$264))","v":0},0,{"$f":"SUMPRODUCT(($Z182=Alternativas!$U$24:$U$264)*('Comparación Alternativas'!$AA182=Alternativas!$V$24:$V$264)*(Alternativas!AE$24:AE$264))","v":0},{"$f":"SUMPRODUCT(($Z182=Alternativas!$U$24:$U$264)*('Comparación Alternativas'!$AA182=Alternativas!$V$24:$V$264)*(Alternativas!AF$24:AF$264))","v":0},{"$f":"SUMPRODUCT(($Z182=Alternativas!$U$24:$U$264)*('Comparación Alternativas'!$AA182=Alternativas!$V$24:$V$264)*(Alternativas!AG$24:AG$264))","v":0},{"$f":"SUMPRODUCT(($Z182=Alternativas!$U$24:$U$264)*('Comparación Alternativas'!$AA182=Alternativas!$V$24:$V$264)*(Alternativas!AH$24:AH$264))","v":0},0,0,0,0,0,0,0,0,0,0,0,0,0,0,0,0,0,0,0,0,0]
[null,null,null,null,null,null,null,null,null,null,null,null,null,null,null,null,null,null,null,null,null,null,null,null,null,5,12,{"$f":"(AB186-AB174)/12+AB182","v":446.19551626436936},{"$f":"SUMPRODUCT(($Z183=Alternativas!$C$24:$C$264)*('Comparación Alternativas'!$AA183=Alternativas!$D$24:$D$264)*(Alternativas!M$24:M$264))","v":0},{"$f":"SUMPRODUCT(($Z183=Alternativas!$C$24:$C$264)*('Comparación Alternativas'!$AA183=Alternativas!$D$24:$D$264)*(Alternativas!N$24:N$264))","v":0},{"$f":"SUMPRODUCT(($Z183=Alternativas!$C$24:$C$264)*('Comparación Alternativas'!$AA183=Alternativas!$D$24:$D$264)*(Alternativas!O$24:O$264))","v":0},{"$f":"SUMPRODUCT(($Z183=Alternativas!$C$24:$C$264)*('Comparación Alternativas'!$AA183=Alternativas!$D$24:$D$264)*(Alternativas!P$24:P$264))","v":0},0,{"$f":"SUMPRODUCT(($Z183=Alternativas!$U$24:$U$264)*('Comparación Alternativas'!$AA183=Alternativas!$V$24:$V$264)*(Alternativas!AE$24:AE$264))","v":0},{"$f":"SUMPRODUCT(($Z183=Alternativas!$U$24:$U$264)*('Comparación Alternativas'!$AA183=Alternativas!$V$24:$V$264)*(Alternativas!AF$24:AF$264))","v":0},{"$f":"SUMPRODUCT(($Z183=Alternativas!$U$24:$U$264)*('Comparación Alternativas'!$AA183=Alternativas!$V$24:$V$264)*(Alternativas!AG$24:AG$264))","v":0},{"$f":"SUMPRODUCT(($Z183=Alternativas!$U$24:$U$264)*('Comparación Alternativas'!$AA183=Alternativas!$V$24:$V$264)*(Alternativas!AH$24:AH$264))","v":0},0,0,0,0,0,0,0,0,0,0,0,0,0,0,0,0,0,0,0,0,0]
[null,null,null,null,null,null,null,null,null,null,null,null,null,null,null,null,null,null,null,null,null,null,null,null,null,6,12,{"$f":"(AB186-AB174)/12+AB183","v":446.19551626436936},{"$f":"SUMPRODUCT(($Z184=Alternativas!$C$24:$C$264)*('Comparación Alternativas'!$AA184=Alternativas!$D$24:$D$264)*(Alternativas!M$24:M$264))","v":0},{"$f":"SUMPRODUCT(($Z184=Alternativas!$C$24:$C$264)*('Comparación Alternativas'!$AA184=Alternativas!$D$24:$D$264)*(Alternativas!N$24:N$264))","v":0},{"$f":"SUMPRODUCT(($Z184=Alternativas!$C$24:$C$264)*('Comparación Alternativas'!$AA184=Alternativas!$D$24:$D$264)*(Alternativas!O$24:O$264))","v":0},{"$f":"SUMPRODUCT(($Z184=Alternativas!$C$24:$C$264)*('Comparación Alternativas'!$AA184=Alternativas!$D$24:$D$264)*(Alternativas!P$24:P$264))","v":0},0,{"$f":"SUMPRODUCT(($Z184=Alternativas!$U$24:$U$264)*('Comparación Alternativas'!$AA184=Alternativas!$V$24:$V$264)*(Alternativas!AE$24:AE$264))","v":0},{"$f":"SUMPRODUCT(($Z184=Alternativas!$U$24:$U$264)*('Comparación Alternativas'!$AA184=Alternativas!$V$24:$V$264)*(Alternativas!AF$24:AF$264))","v":0},{"$f":"SUMPRODUCT(($Z184=Alternativas!$U$24:$U$264)*('Comparación Alternativas'!$AA184=Alternativas!$V$24:$V$264)*(Alternativas!AG$24:AG$264))","v":0},{"$f":"SUMPRODUCT(($Z184=Alternativas!$U$24:$U$264)*('Comparación Alternativas'!$AA184=Alternativas!$V$24:$V$264)*(Alternativas!AH$24:AH$264))","v":0},0,0,0,0,0,0,0,0,0,0,0,0,0,0,0,0,0,0,0,0,0]
[null,null,null,null,null,null,null,null,null,null,null,null,null,null,null,null,null,null,null,null,null,null,null,null,null,7,12,{"$f":"(AB186-AB174)/12+AB184","v":446.19551626436936},{"$f":"SUMPRODUCT(($Z185=Alternativas!$C$24:$C$264)*('Comparación Alternativas'!$AA185=Alternativas!$D$24:$D$264)*(Alternativas!M$24:M$264))","v":0},{"$f":"SUMPRODUCT(($Z185=Alternativas!$C$24:$C$264)*('Comparación Alternativas'!$AA185=Alternativas!$D$24:$D$264)*(Alternativas!N$24:N$264))","v":0},{"$f":"SUMPRODUCT(($Z185=Alternativas!$C$24:$C$264)*('Comparación Alternativas'!$AA185=Alternativas!$D$24:$D$264)*(Alternativas!O$24:O$264))","v":0},{"$f":"SUMPRODUCT(($Z185=Alternativas!$C$24:$C$264)*('Comparación Alternativas'!$AA185=Alternativas!$D$24:$D$264)*(Alternativas!P$24:P$264))","v":0},0,{"$f":"SUMPRODUCT(($Z185=Alternativas!$U$24:$U$264)*('Comparación Alternativas'!$AA185=Alternativas!$V$24:$V$264)*(Alternativas!AE$24:AE$264))","v":0},{"$f":"SUMPRODUCT(($Z185=Alternativas!$U$24:$U$264)*('Comparación Alternativas'!$AA185=Alternativas!$V$24:$V$264)*(Alternativas!AF$24:AF$264))","v":0},{"$f":"SUMPRODUCT(($Z185=Alternativas!$U$24:$U$264)*('Comparación Alternativas'!$AA185=Alternativas!$V$24:$V$264)*(Alternativas!AG$24:AG$264))","v":0},{"$f":"SUMPRODUCT(($Z185=Alternativas!$U$24:$U$264)*('Comparación Alternativas'!$AA185=Alternativas!$V$24:$V$264)*(Alternativas!AH$24:AH$264))","v":0},0,0,0,0,0,0,0,0,0,0,0,0,0,0,0,0,0,0,0,0,0]
[null,null,null,null,null,null,null,null,null,null,null,null,null,null,null,null,null,null,null,null,null,null,null,null,null,8,12,{"$f":"U24","v":446.19551626436936},{"$f":"SUMPRODUCT(($Z186=Alternativas!$C$24:$C$264)*('Comparación Alternativas'!$AA186=Alternativas!$D$24:$D$264)*(Alternativas!M$24:M$264))","v":0},{"$f":"SUMPRODUCT(($Z186=Alternativas!$C$24:$C$264)*('Comparación Alternativas'!$AA186=Alternativas!$D$24:$D$264)*(Alternativas!N$24:N$264))","v":0},{"$f":"SUMPRODUCT(($Z186=Alternativas!$C$24:$C$264)*('Comparación Alternativas'!$AA186=Alternativas!$D$24:$D$264)*(Alternativas!O$24:O$264))","v":0},{"$f":"SUMPRODUCT(($Z186=Alternativas!$C$24:$C$264)*('Comparación Alternativas'!$AA186=Alternativas!$D$24:$D$264)*(Alternativas!P$24:P$264))","v":0},0,{"$f":"SUMPRODUCT(($Z186=Alternativas!$U$24:$U$264)*('Comparación Alternativas'!$AA186=Alternativas!$V$24:$V$264)*(Alternativas!AE$24:AE$264))","v":0},{"$f":"SUMPRODUCT(($Z186=Alternativas!$U$24:$U$264)*('Comparación Alternativas'!$AA186=Alternativas!$V$24:$V$264)*(Alternativas!AF$24:AF$264))","v":0},{"$f":"SUMPRODUCT(($Z186=Alternativas!$U$24:$U$264)*('Comparación Alternativas'!$AA186=Alternativas!$V$24:$V$264)*(Alternativas!AG$24:AG$264))","v":0},{"$f":"SUMPRODUCT(($Z186=Alternativas!$U$24:$U$264)*('Comparación Alternativas'!$AA186=Alternativas!$V$24:$V$264)*(Alternativas!AH$24:AH$264))","v":0},0,0,0,0,0,0,0,0,0,0,0,0,0,0,0,0,0,0,0,0,0]
[null,null,null,null,null,null,null,null,null,null,null,null,null,null,null,null,null,null,null,null,null,null,null,null,null,9,12,{"$f":"(AB198-AB186)/12+AB186","v":446.19551626436936},{"$f":"SUMPRODUCT(($Z187=Alternativas!$C$24:$C$264)*('Comparación Alternativas'!$AA187=Alternativas!$D$24:$D$264)*(Alternativas!M$24:M$264))","v":0},{"$f":"SUMPRODUCT(($Z187=Alternativas!$C$24:$C$264)*('Comparación Alternativas'!$AA187=Alternativas!$D$24:$D$264)*(Alternativas!N$24:N$264))","v":0},{"$f":"SUMPRODUCT(($Z187=Alternativas!$C$24:$C$264)*('Comparación Alternativas'!$AA187=Alternativas!$D$24:$D$264)*(Alternativas!O$24:O$264))","v":0},{"$f":"SUMPRODUCT(($Z187=Alternativas!$C$24:$C$264)*('Comparación Alternativas'!$AA187=Alternativas!$D$24:$D$264)*(Alternativas!P$24:P$264))","v":0},0,{"$f":"SUMPRODUCT(($Z187=Alternativas!$U$24:$U$264)*('Comparación Alternativas'!$AA187=Alternativas!$V$24:$V$264)*(Alternativas!AE$24:AE$264))","v":0},{"$f":"SUMPRODUCT(($Z187=Alternativas!$U$24:$U$264)*('Comparación Alternativas'!$AA187=Alternativas!$V$24:$V$264)*(Alternativas!AF$24:AF$264))","v":0},{"$f":"SUMPRODUCT(($Z187=Alternativas!$U$24:$U$264)*('Comparación Alternativas'!$AA187=Alternativas!$V$24:$V$264)*(Alternativas!AG$24:AG$264))","v":0},{"$f":"SUMPRODUCT(($Z187=Alternativas!$U$24:$U$264)*('Comparación Alternativas'!$AA187=Alternativas!$V$24:$V$264)*(Alternativas!AH$24:AH$264))","v":0},0,0,0,0,0,0,0,0,0,0,0,0,0,0,0,0,0,0,0,0,0]
[null,null,null,null,null,null,null,null,null,null,null,null,null,null,null,null,null,null,null,null,null,null,null,null,null,10,12,{"$f":"(AB198-AB186)/12+AB187","v":446.19551626436936},{"$f":"SUMPRODUCT(($Z188=Alternativas!$C$24:$C$264)*('Comparación Alternativas'!$AA188=Alternativas!$D$24:$D$264)*(Alternativas!M$24:M$264))","v":0},{"$f":"SUMPRODUCT(($Z188=Alternativas!$C$24:$C$264)*('Comparación Alternativas'!$AA188=Alternativas!$D$24:$D$264)*(Alternativas!N$24:N$264))","v":0},{"$f":"SUMPRODUCT(($Z188=Alternativas!$C$24:$C$264)*('Comparación Alternativas'!$AA188=Alternativas!$D$24:$D$264)*(Alternativas!O$24:O$264))","v":0},{"$f":"SUMPRODUCT(($Z188=Alternativas!$C$24:$C$264)*('Comparación Alternativas'!$AA188=Alternativas!$D$24:$D$264)*(Alternativas!P$24:P$264))","v":0},0,{"$f":"SUMPRODUCT(($Z188=Alternativas!$U$24:$U$264)*('Comparación Alternativas'!$AA188=Alternativas!$V$24:$V$264)*(Alternativas!AE$24:AE$264))","v":0},{"$f":"SUMPRODUCT(($Z188=Alternativas!$U$24:$U$264)*('Comparación Alternativas'!$AA188=Alternativas!$V$24:$V$264)*(Alternativas!AF$24:AF$264))","v":0},{"$f":"SUMPRODUCT(($Z188=Alternativas!$U$24:$U$264)*('Comparación Alternativas'!$AA188=Alternativas!$V$24:$V$264)*(Alternativas!AG$24:AG$264))","v":0},{"$f":"SUMPRODUCT(($Z188=Alternativas!$U$24:$U$264)*('Comparación Alternativas'!$AA188=Alternativas!$V$24:$V$264)*(Alternativas!AH$24:AH$264))","v":0},0,0,0,0,0,0,0,0,0,0,0,0,0,0,0,0,0,0,0,0,0]
[null,null,null,null,null,null,null,null,null,null,null,null,null,null,null,null,null,null,null,null,null,null,null,null,null,11,12,{"$f":"(AB198-AB186)/12+AB188","v":446.19551626436936},{"$f":"SUMPRODUCT(($Z189=Alternativas!$C$24:$C$264)*('Comparación Alternativas'!$AA189=Alternativas!$D$24:$D$264)*(Alternativas!M$24:M$264))","v":0},{"$f":"SUMPRODUCT(($Z189=Alternativas!$C$24:$C$264)*('Comparación Alternativas'!$AA189=Alternativas!$D$24:$D$264)*(Alternativas!N$24:N$264))","v":0},{"$f":"SUMPRODUCT(($Z189=Alternativas!$C$24:$C$264)*('Comparación Alternativas'!$AA189=Alternativas!$D$24:$D$264)*(Alternativas!O$24:O$264))","v":0},{"$f":"SUMPRODUCT(($Z189=Alternativas!$C$24:$C$264)*('Comparación Alternativas'!$AA189=Alternativas!$D$24:$D$264)*(Alternativas!P$24:P$264))","v":0},0,{"$f":"SUMPRODUCT(($Z189=Alternativas!$U$24:$U$264)*('Comparación Alternativas'!$AA189=Alternativas!$V$24:$V$264)*(Alternativas!AE$24:AE$264))","v":0},{"$f":"SUMPRODUCT(($Z189=Alternativas!$U$24:$U$264)*('Comparación Alternativas'!$AA189=Alternativas!$V$24:$V$264)*(Alternativas!AF$24:AF$264))","v":0},{"$f":"SUMPRODUCT(($Z189=Alternativas!$U$24:$U$264)*('Comparación Alternativas'!$AA189=Alternativas!$V$24:$V$264)*(Alternativas!AG$24:AG$264))","v":0},{"$f":"SUMPRODUCT(($Z189=Alternativas!$U$24:$U$264)*('Comparación Alternativas'!$AA189=Alternativas!$V$24:$V$264)*(Alternativas!AH$24:AH$264))","v":0},0,0,0,0,0,0,0,0,0,0,0,0,0,0,0,0,0,0,0,0,0]
[null,null,null,null,null,null,null,null,null,null,null,null,null,null,null,null,null,null,null,null,null,null,null,null,null,12,12,{"$f":"(AB198-AB186)/12+AB189","v":446.19551626436936},{"$f":"SUMPRODUCT(($Z190=Alternativas!$C$24:$C$264)*('Comparación Alternativas'!$AA190=Alternativas!$D$24:$D$264)*(Alternativas!M$24:M$264))","v":0},{"$f":"SUMPRODUCT(($Z190=Alternativas!$C$24:$C$264)*('Comparación Alternativas'!$AA190=Alternativas!$D$24:$D$264)*(Alternativas!N$24:N$264))","v":0},{"$f":"SUMPRODUCT(($Z190=Alternativas!$C$24:$C$264)*('Comparación Alternativas'!$AA190=Alternativas!$D$24:$D$264)*(Alternativas!O$24:O$264))","v":0},{"$f":"SUMPRODUCT(($Z190=Alternativas!$C$24:$C$264)*('Comparación Alternativas'!$AA190=Alternativas!$D$24:$D$264)*(Alternativas!P$24:P$264))","v":0},0,{"$f":"SUMPRODUCT(($Z190=Alternativas!$U$24:$U$264)*('Comparación Alternativas'!$AA190=Alternativas!$V$24:$V$264)*(Alternativas!AE$24:AE$264))","v":0},{"$f":"SUMPRODUCT(($Z190=Alternativas!$U$24:$U$264)*('Comparación Alternativas'!$AA190=Alternativas!$V$24:$V$264)*(Alternativas!AF$24:AF$264))","v":0},{"$f":"SUMPRODUCT(($Z190=Alternativas!$U$24:$U$264)*('Comparación Alternativas'!$AA190=Alternativas!$V$24:$V$264)*(Alternativas!AG$24:AG$264))","v":0},{"$f":"SUMPRODUCT(($Z190=Alternativas!$U$24:$U$264)*('Comparación Alternativas'!$AA190=Alternativas!$V$24:$V$264)*(Alternativas!AH$24:AH$264))","v":0},0,0,0,0,0,0,0,0,0,0,0,0,0,0,0,0,0,0,0,0,0]
[null,null,null,null,null,null,null,null,null,null,null,null,null,null,null,null,null,null,null,null,null,null,null,null,null,1,13,{"$f":"(AB198-AB186)/12+AB190","v":446.19551626436936},{"$f":"SUMPRODUCT(($Z191=Alternativas!$C$24:$C$264)*('Comparación Alternativas'!$AA191=Alternativas!$D$24:$D$264)*(Alternativas!M$24:M$264))","v":0},{"$f":"SUMPRODUCT(($Z191=Alternativas!$C$24:$C$264)*('Comparación Alternativas'!$AA191=Alternativas!$D$24:$D$264)*(Alternativas!N$24:N$264))","v":0},{"$f":"SUMPRODUCT(($Z191=Alternativas!$C$24:$C$264)*('Comparación Alternativas'!$AA191=Alternativas!$D$24:$D$264)*(Alternativas!O$24:O$264))","v":0},{"$f":"SUMPRODUCT(($Z191=Alternativas!$C$24:$C$264)*('Comparación Alternativas'!$AA191=Alternativas!$D$24:$D$264)*(Alternativas!P$24:P$264))","v":0},0,{"$f":"SUMPRODUCT(($Z191=Alternativas!$U$24:$U$264)*('Comparación Alternativas'!$AA191=Alternativas!$V$24:$V$264)*(Alternativas!AE$24:AE$264))","v":0},{"$f":"SUMPRODUCT(($Z191=Alternativas!$U$24:$U$264)*('Comparación Alternativas'!$AA191=Alternativas!$V$24:$V$264)*(Alternativas!AF$24:AF$264))","v":0},{"$f":"SUMPRODUCT(($Z191=Alternativas!$U$24:$U$264)*('Comparación Alternativas'!$AA191=Alternativas!$V$24:$V$264)*(Alternativas!AG$24:AG$264))","v":0},{"$f":"SUMPRODUCT(($Z191=Alternativas!$U$24:$U$264)*('Comparación Alternativas'!$AA191=Alternativas!$V$24:$V$264)*(Alternativas!AH$24:AH$264))","v":0},0,0,0,0,0,0,0,0,0,0,0,0,0,0,0,0,0,0,0,0,0]
[null,null,null,null,null,null,null,null,null,null,null,null,null,null,null,null,null,null,null,null,null,null,null,null,null,2,13,{"$f":"(AB198-AB186)/12+AB191","v":446.19551626436936},{"$f":"SUMPRODUCT(($Z192=Alternativas!$C$24:$C$264)*('Comparación Alternativas'!$AA192=Alternativas!$D$24:$D$264)*(Alternativas!M$24:M$264))","v":0},{"$f":"SUMPRODUCT(($Z192=Alternativas!$C$24:$C$264)*('Comparación Alternativas'!$AA192=Alternativas!$D$24:$D$264)*(Alternativas!N$24:N$264))","v":0},{"$f":"SUMPRODUCT(($Z192=Alternativas!$C$24:$C$264)*('Comparación Alternativas'!$AA192=Alternativas!$D$24:$D$264)*(Alternativas!O$24:O$264))","v":0},{"$f":"SUMPRODUCT(($Z192=Alternativas!$C$24:$C$264)*('Comparación Alternativas'!$AA192=Alternativas!$D$24:$D$264)*(Alternativas!P$24:P$264))","v":0},0,{"$f":"SUMPRODUCT(($Z192=Alternativas!$U$24:$U$264)*('Comparación Alternativas'!$AA192=Alternativas!$V$24:$V$264)*(Alternativas!AE$24:AE$264))","v":0},{"$f":"SUMPRODUCT(($Z192=Alternativas!$U$24:$U$264)*('Comparación Alternativas'!$AA192=Alternativas!$V$24:$V$264)*(Alternativas!AF$24:AF$264))","v":0},{"$f":"SUMPRODUCT(($Z192=Alternativas!$U$24:$U$264)*('Comparación Alternativas'!$AA192=Alternativas!$V$24:$V$264)*(Alternativas!AG$24:AG$264))","v":0},{"$f":"SUMPRODUCT(($Z192=Alternativas!$U$24:$U$264)*('Comparación Alternativas'!$AA192=Alternativas!$V$24:$V$264)*(Alternativas!AH$24:AH$264))","v":0},0,0,0,0,0,0,0,0,0,0,0,0,0,0,0,0,0,0,0,0,0]
[null,null,null,null,null,null,null,null,null,null,null,null,null,null,null,null,null,null,null,null,null,null,null,null,null,3,13,{"$f":"(AB198-AB186)/12+AB192","v":446.19551626436936},{"$f":"SUMPRODUCT(($Z193=Alternativas!$C$24:$C$264)*('Comparación Alternativas'!$AA193=Alternativas!$D$24:$D$264)*(Alternativas!M$24:M$264))","v":0},{"$f":"SUMPRODUCT(($Z193=Alternativas!$C$24:$C$264)*('Comparación Alternativas'!$AA193=Alternativas!$D$24:$D$264)*(Alternativas!N$24:N$264))","v":0},{"$f":"SUMPRODUCT(($Z193=Alternativas!$C$24:$C$264)*('Comparación Alternativas'!$AA193=Alternativas!$D$24:$D$264)*(Alternativas!O$24:O$264))","v":0},{"$f":"SUMPRODUCT(($Z193=Alternativas!$C$24:$C$264)*('Comparación Alternativas'!$AA193=Alternativas!$D$24:$D$264)*(Alternativas!P$24:P$264))","v":0},0,{"$f":"SUMPRODUCT(($Z193=Alternativas!$U$24:$U$264)*('Comparación Alternativas'!$AA193=Alternativas!$V$24:$V$264)*(Alternativas!AE$24:AE$264))","v":0},{"$f":"SUMPRODUCT(($Z193=Alternativas!$U$24:$U$264)*('Comparación Alternativas'!$AA193=Alternativas!$V$24:$V$264)*(Alternativas!AF$24:AF$264))","v":0},{"$f":"SUMPRODUCT(($Z193=Alternativas!$U$24:$U$264)*('Comparación Alternativas'!$AA193=Alternativas!$V$24:$V$264)*(Alternativas!AG$24:AG$264))","v":0},{"$f":"SUMPRODUCT(($Z193=Alternativas!$U$24:$U$264)*('Comparación Alternativas'!$AA193=Alternativas!$V$24:$V$264)*(Alternativas!AH$24:AH$264))","v":0},0,0,0,0,0,0,0,0,0,0,0,0,0,0,0,0,0,0,0,0,0]
[null,null,null,null,null,null,null,null,null,null,null,null,null,null,null,null,null,null,null,null,null,null,null,null,null,4,13,{"$f":"(AB198-AB186)/12+AB193","v":446.19551626436936},{"$f":"SUMPRODUCT(($Z194=Alternativas!$C$24:$C$264)*('Comparación Alternativas'!$AA194=Alternativas!$D$24:$D$264)*(Alternativas!M$24:M$264))","v":0},{"$f":"SUMPRODUCT(($Z194=Alternativas!$C$24:$C$264)*('Comparación Alternativas'!$AA194=Alternativas!$D$24:$D$264)*(Alternativas!N$24:N$264))","v":0},{"$f":"SUMPRODUCT(($Z194=Alternativas!$C$24:$C$264)*('Comparación Alternativas'!$AA194=Alternativas!$D$24:$D$264)*(Alternativas!O$24:O$264))","v":0},{"$f":"SUMPRODUCT(($Z194=Alternativas!$C$24:$C$264)*('Comparación Alternativas'!$AA194=Alternativas!$D$24:$D$264)*(Alternativas!P$24:P$264))","v":0},0,{"$f":"SUMPRODUCT(($Z194=Alternativas!$U$24:$U$264)*('Comparación Alternativas'!$AA194=Alternativas!$V$24:$V$264)*(Alternativas!AE$24:AE$264))","v":0},{"$f":"SUMPRODUCT(($Z194=Alternativas!$U$24:$U$264)*('Comparación Alternativas'!$AA194=Alternativas!$V$24:$V$264)*(Alternativas!AF$24:AF$264))","v":0},{"$f":"SUMPRODUCT(($Z194=Alternativas!$U$24:$U$264)*('Comparación Alternativas'!$AA194=Alternativas!$V$24:$V$264)*(Alternativas!AG$24:AG$264))","v":0},{"$f":"SUMPRODUCT(($Z194=Alternativas!$U$24:$U$264)*('Comparación Alternativas'!$AA194=Alternativas!$V$24:$V$264)*(Alternativas!AH$24:AH$264))","v":0},0,0,0,0,0,0,0,0,0,0,0,0,0,0,0,0,0,0,0,0,0]
[null,null,null,null,null,null,null,null,null,null,null,null,null,null,null,null,null,null,null,null,null,null,null,null,null,5,13,{"$f":"(AB198-AB186)/12+AB194","v":446.19551626436936},{"$f":"SUMPRODUCT(($Z195=Alternativas!$C$24:$C$264)*('Comparación Alternativas'!$AA195=Alternativas!$D$24:$D$264)*(Alternativas!M$24:M$264))","v":0},{"$f":"SUMPRODUCT(($Z195=Alternativas!$C$24:$C$264)*('Comparación Alternativas'!$AA195=Alternativas!$D$24:$D$264)*(Alternativas!N$24:N$264))","v":0},{"$f":"SUMPRODUCT(($Z195=Alternativas!$C$24:$C$264)*('Comparación Alternativas'!$AA195=Alternativas!$D$24:$D$264)*(Alternativas!O$24:O$264))","v":0},{"$f":"SUMPRODUCT(($Z195=Alternativas!$C$24:$C$264)*('Comparación Alternativas'!$AA195=Alternativas!$D$24:$D$264)*(Alternativas!P$24:P$264))","v":0},0,{"$f":"SUMPRODUCT(($Z195=Alternativas!$U$24:$U$264)*('Comparación Alternativas'!$AA195=Alternativas!$V$24:$V$264)*(Alternativas!AE$24:AE$264))","v":0},{"$f":"SUMPRODUCT(($Z195=Alternativas!$U$24:$U$264)*('Comparación Alternativas'!$AA195=Alternativas!$V$24:$V$264)*(Alternativas!AF$24:AF$264))","v":0},{"$f":"SUMPRODUCT(($Z195=Alternativas!$U$24:$U$264)*('Comparación Alternativas'!$AA195=Alternativas!$V$24:$V$264)*(Alternativas!AG$24:AG$264))","v":0},{"$f":"SUMPRODUCT(($Z195=Alternativas!$U$24:$U$264)*('Comparación Alternativas'!$AA195=Alternativas!$V$24:$V$264)*(Alternativas!AH$24:AH$264))","v":0},0,0,0,0,0,0,0,0,0,0,0,0,0,0,0,0,0,0,0,0,0]
[null,null,null,null,null,null,null,null,null,null,null,null,null,null,null,null,null,null,null,null,null,null,null,null,null,6,13,{"$f":"(AB198-AB186)/12+AB195","v":446.19551626436936},{"$f":"SUMPRODUCT(($Z196=Alternativas!$C$24:$C$264)*('Comparación Alternativas'!$AA196=Alternativas!$D$24:$D$264)*(Alternativas!M$24:M$264))","v":0},{"$f":"SUMPRODUCT(($Z196=Alternativas!$C$24:$C$264)*('Comparación Alternativas'!$AA196=Alternativas!$D$24:$D$264)*(Alternativas!N$24:N$264))","v":0},{"$f":"SUMPRODUCT(($Z196=Alternativas!$C$24:$C$264)*('Comparación Alternativas'!$AA196=Alternativas!$D$24:$D$264)*(Alternativas!O$24:O$264))","v":0},{"$f":"SUMPRODUCT(($Z196=Alternativas!$C$24:$C$264)*('Comparación Alternativas'!$AA196=Alternativas!$D$24:$D$264)*(Alternativas!P$24:P$264))","v":0},0,{"$f":"SUMPRODUCT(($Z196=Alternativas!$U$24:$U$264)*('Comparación Alternativas'!$AA196=Alternativas!$V$24:$V$264)*(Alternativas!AE$24:AE$264))","v":0},{"$f":"SUMPRODUCT(($Z196=Alternativas!$U$24:$U$264)*('Comparación Alternativas'!$AA196=Alternativas!$V$24:$V$264)*(Alternativas!AF$24:AF$264))","v":0},{"$f":"SUMPRODUCT(($Z196=Alternativas!$U$24:$U$264)*('Comparación Alternativas'!$AA196=Alternativas!$V$24:$V$264)*(Alternativas!AG$24:AG$264))","v":0},{"$f":"SUMPRODUCT(($Z196=Alternativas!$U$24:$U$264)*('Comparación Alternativas'!$AA196=Alternativas!$V$24:$V$264)*(Alternativas!AH$24:AH$264))","v":0},0,0,0,0,0,0,0,0,0,0,0,0,0,0,0,0,0,0,0,0,0]
[null,null,null,null,null,null,null,null,null,null,null,null,null,null,null,null,null,null,null,null,null,null,null,null,null,7,13,{"$f":"(AB198-AB186)/12+AB196","v":446.19551626436936},{"$f":"SUMPRODUCT(($Z197=Alternativas!$C$24:$C$264)*('Comparación Alternativas'!$AA197=Alternativas!$D$24:$D$264)*(Alternativas!M$24:M$264))","v":0},{"$f":"SUMPRODUCT(($Z197=Alternativas!$C$24:$C$264)*('Comparación Alternativas'!$AA197=Alternativas!$D$24:$D$264)*(Alternativas!N$24:N$264))","v":0},{"$f":"SUMPRODUCT(($Z197=Alternativas!$C$24:$C$264)*('Comparación Alternativas'!$AA197=Alternativas!$D$24:$D$264)*(Alternativas!O$24:O$264))","v":0},{"$f":"SUMPRODUCT(($Z197=Alternativas!$C$24:$C$264)*('Comparación Alternativas'!$AA197=Alternativas!$D$24:$D$264)*(Alternativas!P$24:P$264))","v":0},0,{"$f":"SUMPRODUCT(($Z197=Alternativas!$U$24:$U$264)*('Comparación Alternativas'!$AA197=Alternativas!$V$24:$V$264)*(Alternativas!AE$24:AE$264))","v":0},{"$f":"SUMPRODUCT(($Z197=Alternativas!$U$24:$U$264)*('Comparación Alternativas'!$AA197=Alternativas!$V$24:$V$264)*(Alternativas!AF$24:AF$264))","v":0},{"$f":"SUMPRODUCT(($Z197=Alternativas!$U$24:$U$264)*('Comparación Alternativas'!$AA197=Alternativas!$V$24:$V$264)*(Alternativas!AG$24:AG$264))","v":0},{"$f":"SUMPRODUCT(($Z197=Alternativas!$U$24:$U$264)*('Comparación Alternativas'!$AA197=Alternativas!$V$24:$V$264)*(Alternativas!AH$24:AH$264))","v":0},0,0,0,0,0,0,0,0,0,0,0,0,0,0,0,0,0,0,0,0,0]
[null,null,null,null,null,null,null,null,null,null,null,null,null,null,null,null,null,null,null,null,null,null,null,null,null,8,13,{"$f":"U25","v":446.19551626436936},{"$f":"SUMPRODUCT(($Z198=Alternativas!$C$24:$C$264)*('Comparación Alternativas'!$AA198=Alternativas!$D$24:$D$264)*(Alternativas!M$24:M$264))","v":0},{"$f":"SUMPRODUCT(($Z198=Alternativas!$C$24:$C$264)*('Comparación Alternativas'!$AA198=Alternativas!$D$24:$D$264)*(Alternativas!N$24:N$264))","v":0},{"$f":"SUMPRODUCT(($Z198=Alternativas!$C$24:$C$264)*('Comparación Alternativas'!$AA198=Alternativas!$D$24:$D$264)*(Alternativas!O$24:O$264))","v":0},{"$f":"SUMPRODUCT(($Z198=Alternativas!$C$24:$C$264)*('Comparación Alternativas'!$AA198=Alternativas!$D$24:$D$264)*(Alternativas!P$24:P$264))","v":0},0,{"$f":"SUMPRODUCT(($Z198=Alternativas!$U$24:$U$264)*('Comparación Alternativas'!$AA198=Alternativas!$V$24:$V$264)*(Alternativas!AE$24:AE$264))","v":0},{"$f":"SUMPRODUCT(($Z198=Alternativas!$U$24:$U$264)*('Comparación Alternativas'!$AA198=Alternativas!$V$24:$V$264)*(Alternativas!AF$24:AF$264))","v":0},{"$f":"SUMPRODUCT(($Z198=Alternativas!$U$24:$U$264)*('Comparación Alternativas'!$AA198=Alternativas!$V$24:$V$264)*(Alternativas!AG$24:AG$264))","v":0},{"$f":"SUMPRODUCT(($Z198=Alternativas!$U$24:$U$264)*('Comparación Alternativas'!$AA198=Alternativas!$V$24:$V$264)*(Alternativas!AH$24:AH$264))","v":0},0,0,0,0,0,0,0,0,0,0,0,0,{"$f":"AN198/$AB198","v":0},{"$f":"AO198/$AB198","v":0},{"$f":"AP198/$AB198","v":0},0,{"$f":"AR198/$AB198","v":0},{"$f":"AS198/$AB198","v":0},{"$f":"AT198/$AB198","v":0},{"$f":"AU198/$AB198","v":0},0]
[null,null,null,null,null,null,null,null,null,null,null,null,null,null,null,null,null,null,null,null,null,null,null,null,null,9,13,{"$f":"(AB210-AB198)/12+AB198","v":446.19551626436936},{"$f":"SUMPRODUCT(($Z199=Alternativas!$C$24:$C$264)*('Comparación Alternativas'!$AA199=Alternativas!$D$24:$D$264)*(Alternativas!M$24:M$264))","v":0},{"$f":"SUMPRODUCT(($Z199=Alternativas!$C$24:$C$264)*('Comparación Alternativas'!$AA199=Alternativas!$D$24:$D$264)*(Alternativas!N$24:N$264))","v":0},{"$f":"SUMPRODUCT(($Z199=Alternativas!$C$24:$C$264)*('Comparación Alternativas'!$AA199=Alternativas!$D$24:$D$264)*(Alternativas!O$24:O$264))","v":0},{"$f":"SUMPRODUCT(($Z199=Alternativas!$C$24:$C$264)*('Comparación Alternativas'!$AA199=Alternativas!$D$24:$D$264)*(Alternativas!P$24:P$264))","v":0},{"$f":"AE199","v":0},{"$f":"SUMPRODUCT(($Z199=Alternativas!$U$24:$U$264)*('Comparación Alternativas'!$AA199=Alternativas!$V$24:$V$264)*(Alternativas!AE$24:AE$264))","v":0},{"$f":"SUMPRODUCT(($Z199=Alternativas!$U$24:$U$264)*('Comparación Alternativas'!$AA199=Alternativas!$V$24:$V$264)*(Alternativas!AF$24:AF$264))","v":0},{"$f":"SUMPRODUCT(($Z199=Alternativas!$U$24:$U$264)*('Comparación Alternativas'!$AA199=Alternativas!$V$24:$V$264)*(Alternativas!AG$24:AG$264))","v":0},{"$f":"SUMPRODUCT(($Z199=Alternativas!$U$24:$U$264)*('Comparación Alternativas'!$AA199=Alternativas!$V$24:$V$264)*(Alternativas!AH$24:AH$264))","v":0},{"$f":"AJ199","v":0},{"$f":"IF($AE$3=\"Dólares\",AC199*$AB199,AC199)","v":0},{"$f":"IF($AE$3=\"Dólares\",AD199*$AB199,AD199)","v":0},{"$f":"IF($AE$3=\"Dólares\",AE199*$AB199,AE199)","v":0},{"$f":"IF($AE$3=\"Dólares\",AF199*$AB199,AF199)","v":0},{"$f":"AO199","v":0},{"$f":"IF($AJ$3=\"Dólares\",AH199*$AB199,AH199)","v":0},{"$f":"IF($AJ$3=\"Dólares\",AI199*$AB199,AI199)","v":0},{"$f":"IF($AJ$3=\"Dólares\",AJ199*$AB199,AJ199)","v":0},{"$f":"IF($AJ$3=\"Dólares\",AK199*$AB199,AK199)","v":0},{"$f":"AT199","v":0},{"$f":"AM199/$AB199","v":0},0,0,0,{"$f":"AY199","v":0},0,0,0,0,{"$f":"BD199","v":0}]
[null,null,null,null,null,null,null,null,null,null,null,null,null,null,null,null,null,null,null,null,null,null,null,null,null,{"$f":"IF(Z199=12,1,Z199+1)","v":10},{"$f":"IF(Z200=1,AA199+1,AA199)","v":13},{"$f":"(AB210-AB198)/12+AB199","v":446.19551626436936},{"$f":"SUMPRODUCT(($Z200=Alternativas!$C$24:$C$264)*('Comparación Alternativas'!$AA200=Alternativas!$D$24:$D$264)*(Alternativas!M$24:M$264))","v":0},{"$f":"SUMPRODUCT(($Z200=Alternativas!$C$24:$C$264)*('Comparación Alternativas'!$AA200=Alternativas!$D$24:$D$264)*(Alternativas!N$24:N$264))","v":0},{"$f":"SUMPRODUCT(($Z200=Alternativas!$C$24:$C$264)*('Comparación Alternativas'!$AA200=Alternativas!$D$24:$D$264)*(Alternativas!O$24:O$264))","v":0},{"$f":"SUMPRODUCT(($Z200=Alternativas!$C$24:$C$264)*('Comparación Alternativas'!$AA200=Alternativas!$D$24:$D$264)*(Alternativas!P$24:P$264))","v":0},0,{"$f":"SUMPRODUCT(($Z200=Alternativas!$U$24:$U$264)*('Comparación Alternativas'!$AA200=Alternativas!$V$24:$V$264)*(Alternativas!AE$24:AE$264))","v":0},{"$f":"SUMPRODUCT(($Z200=Alternativas!$U$24:$U$264)*('Comparación Alternativas'!$AA200=Alternativas!$V$24:$V$264)*(Alternativas!AF$24:AF$264))","v":0},{"$f":"SUMPRODUCT(($Z200=Alternativas!$U$24:$U$264)*('Comparación Alternativas'!$AA200=Alternativas!$V$24:$V$264)*(Alternativas!AG$24:AG$264))","v":0},{"$f":"SUMPRODUCT(($Z200=Alternativas!$U$24:$U$264)*('Comparación Alternativas'!$AA200=Alternativas!$V$24:$V$264)*(Alternativas!AH$24:AH$264))","v":0},0,0,0,0,0,0,0,0,0,0,0,0,0,0,0,0,0,0,0,0,0]
[null,null,null,null,null,null,null,null,null,null,null,null,null,null,null,null,null,null,null,null,null,null,null,null,null,11,13,{"$f":"(AB210-AB198)/12+AB200","v":446.19551626436936},{"$f":"SUMPRODUCT(($Z201=Alternativas!$C$24:$C$264)*('Comparación Alternativas'!$AA201=Alternativas!$D$24:$D$264)*(Alternativas!M$24:M$264))","v":0},{"$f":"SUMPRODUCT(($Z201=Alternativas!$C$24:$C$264)*('Comparación Alternativas'!$AA201=Alternativas!$D$24:$D$264)*(Alternativas!N$24:N$264))","v":0},{"$f":"SUMPRODUCT(($Z201=Alternativas!$C$24:$C$264)*('Comparación Alternativas'!$AA201=Alternativas!$D$24:$D$264)*(Alternativas!O$24:O$264))","v":0},{"$f":"SUMPRODUCT(($Z201=Alternativas!$C$24:$C$264)*('Comparación Alternativas'!$AA201=Alternativas!$D$24:$D$264)*(Alternativas!P$24:P$264))","v":0},0,{"$f":"SUMPRODUCT(($Z201=Alternativas!$U$24:$U$264)*('Comparación Alternativas'!$AA201=Alternativas!$V$24:$V$264)*(Alternativas!AE$24:AE$264))","v":0},{"$f":"SUMPRODUCT(($Z201=Alternativas!$U$24:$U$264)*('Comparación Alternativas'!$AA201=Alternativas!$V$24:$V$264)*(Alternativas!AF$24:AF$264))","v":0},{"$f":"SUMPRODUCT(($Z201=Alternativas!$U$24:$U$264)*('Comparación Alternativas'!$AA201=Alternativas!$V$24:$V$264)*(Alternativas!AG$24:AG$264))","v":0},{"$f":"SUMPRODUCT(($Z201=Alternativas!$U$24:$U$264)*('Comparación Alternativas'!$AA201=Alternativas!$V$24:$V$264)*(Alternativas!AH$24:AH$264))","v":0},0,0,0,0,0,0,0,0,0,0,0,0,0,0,0,0,0,0,0,0,0]
[null,null,null,null,null,null,null,null,null,null,null,null,null,null,null,null,null,null,null,null,null,null,null,null,null,12,13,{"$f":"(AB210-AB198)/12+AB201","v":446.19551626436936},{"$f":"SUMPRODUCT(($Z202=Alternativas!$C$24:$C$264)*('Comparación Alternativas'!$AA202=Alternativas!$D$24:$D$264)*(Alternativas!M$24:M$264))","v":0},{"$f":"SUMPRODUCT(($Z202=Alternativas!$C$24:$C$264)*('Comparación Alternativas'!$AA202=Alternativas!$D$24:$D$264)*(Alternativas!N$24:N$264))","v":0},{"$f":"SUMPRODUCT(($Z202=Alternativas!$C$24:$C$264)*('Comparación Alternativas'!$AA202=Alternativas!$D$24:$D$264)*(Alternativas!O$24:O$264))","v":0},{"$f":"SUMPRODUCT(($Z202=Alternativas!$C$24:$C$264)*('Comparación Alternativas'!$AA202=Alternativas!$D$24:$D$264)*(Alternativas!P$24:P$264))","v":0},0,{"$f":"SUMPRODUCT(($Z202=Alternativas!$U$24:$U$264)*('Comparación Alternativas'!$AA202=Alternativas!$V$24:$V$264)*(Alternativas!AE$24:AE$264))","v":0},{"$f":"SUMPRODUCT(($Z202=Alternativas!$U$24:$U$264)*('Comparación Alternativas'!$AA202=Alternativas!$V$24:$V$264)*(Alternativas!AF$24:AF$264))","v":0},{"$f":"SUMPRODUCT(($Z202=Alternativas!$U$24:$U$264)*('Comparación Alternativas'!$AA202=Alternativas!$V$24:$V$264)*(Alternativas!AG$24:AG$264))","v":0},{"$f":"SUMPRODUCT(($Z202=Alternativas!$U$24:$U$264)*('Comparación Alternativas'!$AA202=Alternativas!$V$24:$V$264)*(Alternativas!AH$24:AH$264))","v":0},0,0,0,0,0,0,0,0,0,0,0,0,0,0,0,0,0,0,0,0,0]
[null,null,null,null,null,null,null,null,null,null,null,null,null,null,null,null,null,null,null,null,null,null,null,null,null,1,14,{"$f":"(AB210-AB198)/12+AB202","v":446.19551626436936},{"$f":"SUMPRODUCT(($Z203=Alternativas!$C$24:$C$264)*('Comparación Alternativas'!$AA203=Alternativas!$D$24:$D$264)*(Alternativas!M$24:M$264))","v":0},{"$f":"SUMPRODUCT(($Z203=Alternativas!$C$24:$C$264)*('Comparación Alternativas'!$AA203=Alternativas!$D$24:$D$264)*(Alternativas!N$24:N$264))","v":0},{"$f":"SUMPRODUCT(($Z203=Alternativas!$C$24:$C$264)*('Comparación Alternativas'!$AA203=Alternativas!$D$24:$D$264)*(Alternativas!O$24:O$264))","v":0},{"$f":"SUMPRODUCT(($Z203=Alternativas!$C$24:$C$264)*('Comparación Alternativas'!$AA203=Alternativas!$D$24:$D$264)*(Alternativas!P$24:P$264))","v":0},0,{"$f":"SUMPRODUCT(($Z203=Alternativas!$U$24:$U$264)*('Comparación Alternativas'!$AA203=Alternativas!$V$24:$V$264)*(Alternativas!AE$24:AE$264))","v":0},{"$f":"SUMPRODUCT(($Z203=Alternativas!$U$24:$U$264)*('Comparación Alternativas'!$AA203=Alternativas!$V$24:$V$264)*(Alternativas!AF$24:AF$264))","v":0},{"$f":"SUMPRODUCT(($Z203=Alternativas!$U$24:$U$264)*('Comparación Alternativas'!$AA203=Alternativas!$V$24:$V$264)*(Alternativas!AG$24:AG$264))","v":0},{"$f":"SUMPRODUCT(($Z203=Alternativas!$U$24:$U$264)*('Comparación Alternativas'!$AA203=Alternativas!$V$24:$V$264)*(Alternativas!AH$24:AH$264))","v":0},0,0,0,0,0,0,0,0,0,0,0,0,0,0,0,0,0,0,0,0,0]
[null,null,null,null,null,null,null,null,null,null,null,null,null,null,null,null,null,null,null,null,null,null,null,null,null,2,14,{"$f":"(AB210-AB198)/12+AB203","v":446.19551626436936},{"$f":"SUMPRODUCT(($Z204=Alternativas!$C$24:$C$264)*('Comparación Alternativas'!$AA204=Alternativas!$D$24:$D$264)*(Alternativas!M$24:M$264))","v":0},{"$f":"SUMPRODUCT(($Z204=Alternativas!$C$24:$C$264)*('Comparación Alternativas'!$AA204=Alternativas!$D$24:$D$264)*(Alternativas!N$24:N$264))","v":0},{"$f":"SUMPRODUCT(($Z204=Alternativas!$C$24:$C$264)*('Comparación Alternativas'!$AA204=Alternativas!$D$24:$D$264)*(Alternativas!O$24:O$264))","v":0},{"$f":"SUMPRODUCT(($Z204=Alternativas!$C$24:$C$264)*('Comparación Alternativas'!$AA204=Alternativas!$D$24:$D$264)*(Alternativas!P$24:P$264))","v":0},0,{"$f":"SUMPRODUCT(($Z204=Alternativas!$U$24:$U$264)*('Comparación Alternativas'!$AA204=Alternativas!$V$24:$V$264)*(Alternativas!AE$24:AE$264))","v":0},{"$f":"SUMPRODUCT(($Z204=Alternativas!$U$24:$U$264)*('Comparación Alternativas'!$AA204=Alternativas!$V$24:$V$264)*(Alternativas!AF$24:AF$264))","v":0},{"$f":"SUMPRODUCT(($Z204=Alternativas!$U$24:$U$264)*('Comparación Alternativas'!$AA204=Alternativas!$V$24:$V$264)*(Alternativas!AG$24:AG$264))","v":0},{"$f":"SUMPRODUCT(($Z204=Alternativas!$U$24:$U$264)*('Comparación Alternativas'!$AA204=Alternativas!$V$24:$V$264)*(Alternativas!AH$24:AH$264))","v":0},0,0,0,0,0,0,0,0,0,0,0,0,0,0,0,0,0,0,0,0,0]
[null,null,null,null,null,null,null,null,null,null,null,null,null,null,null,null,null,null,null,null,null,null,null,null,null,3,14,{"$f":"(AB210-AB198)/12+AB204","v":446.19551626436936},{"$f":"SUMPRODUCT(($Z205=Alternativas!$C$24:$C$264)*('Comparación Alternativas'!$AA205=Alternativas!$D$24:$D$264)*(Alternativas!M$24:M$264))","v":0},{"$f":"SUMPRODUCT(($Z205=Alternativas!$C$24:$C$264)*('Comparación Alternativas'!$AA205=Alternativas!$D$24:$D$264)*(Alternativas!N$24:N$264))","v":0},{"$f":"SUMPRODUCT(($Z205=Alternativas!$C$24:$C$264)*('Comparación Alternativas'!$AA205=Alternativas!$D$24:$D$264)*(Alternativas!O$24:O$264))","v":0},{"$f":"SUMPRODUCT(($Z205=Alternativas!$C$24:$C$264)*('Comparación Alternativas'!$AA205=Alternativas!$D$24:$D$264)*(Alternativas!P$24:P$264))","v":0},0,{"$f":"SUMPRODUCT(($Z205=Alternativas!$U$24:$U$264)*('Comparación Alternativas'!$AA205=Alternativas!$V$24:$V$264)*(Alternativas!AE$24:AE$264))","v":0},{"$f":"SUMPRODUCT(($Z205=Alternativas!$U$24:$U$264)*('Comparación Alternativas'!$AA205=Alternativas!$V$24:$V$264)*(Alternativas!AF$24:AF$264))","v":0},{"$f":"SUMPRODUCT(($Z205=Alternativas!$U$24:$U$264)*('Comparación Alternativas'!$AA205=Alternativas!$V$24:$V$264)*(Alternativas!AG$24:AG$264))","v":0},{"$f":"SUMPRODUCT(($Z205=Alternativas!$U$24:$U$264)*('Comparación Alternativas'!$AA205=Alternativas!$V$24:$V$264)*(Alternativas!AH$24:AH$264))","v":0},0,0,0,0,0,0,0,0,0,0,0,0,0,0,0,0,0,0,0,0,0]
[null,null,null,null,null,null,null,null,null,null,null,null,null,null,null,null,null,null,null,null,null,null,null,null,null,4,14,{"$f":"(AB210-AB198)/12+AB205","v":446.19551626436936},{"$f":"SUMPRODUCT(($Z206=Alternativas!$C$24:$C$264)*('Comparación Alternativas'!$AA206=Alternativas!$D$24:$D$264)*(Alternativas!M$24:M$264))","v":0},{"$f":"SUMPRODUCT(($Z206=Alternativas!$C$24:$C$264)*('Comparación Alternativas'!$AA206=Alternativas!$D$24:$D$264)*(Alternativas!N$24:N$264))","v":0},{"$f":"SUMPRODUCT(($Z206=Alternativas!$C$24:$C$264)*('Comparación Alternativas'!$AA206=Alternativas!$D$24:$D$264)*(Alternativas!O$24:O$264))","v":0},{"$f":"SUMPRODUCT(($Z206=Alternativas!$C$24:$C$264)*('Comparación Alternativas'!$AA206=Alternativas!$D$24:$D$264)*(Alternativas!P$24:P$264))","v":0},0,{"$f":"SUMPRODUCT(($Z206=Alternativas!$U$24:$U$264)*('Comparación Alternativas'!$AA206=Alternativas!$V$24:$V$264)*(Alternativas!AE$24:AE$264))","v":0},{"$f":"SUMPRODUCT(($Z206=Alternativas!$U$24:$U$264)*('Comparación Alternativas'!$AA206=Alternativas!$V$24:$V$264)*(Alternativas!AF$24:AF$264))","v":0},{"$f":"SUMPRODUCT(($Z206=Alternativas!$U$24:$U$264)*('Comparación Alternativas'!$AA206=Alternativas!$V$24:$V$264)*(Alternativas!AG$24:AG$264))","v":0},{"$f":"SUMPRODUCT(($Z206=Alternativas!$U$24:$U$264)*('Comparación Alternativas'!$AA206=Alternativas!$V$24:$V$264)*(Alternativas!AH$24:AH$264))","v":0},0,0,0,0,0,0,0,0,0,0,0,0,0,0,0,0,0,0,0,0,0]
[null,null,null,null,null,null,null,null,null,null,null,null,null,null,null,null,null,null,null,null,null,null,null,null,null,5,14,{"$f":"(AB210-AB198)/12+AB206","v":446.19551626436936},{"$f":"SUMPRODUCT(($Z207=Alternativas!$C$24:$C$264)*('Comparación Alternativas'!$AA207=Alternativas!$D$24:$D$264)*(Alternativas!M$24:M$264))","v":0},{"$f":"SUMPRODUCT(($Z207=Alternativas!$C$24:$C$264)*('Comparación Alternativas'!$AA207=Alternativas!$D$24:$D$264)*(Alternativas!N$24:N$264))","v":0},{"$f":"SUMPRODUCT(($Z207=Alternativas!$C$24:$C$264)*('Comparación Alternativas'!$AA207=Alternativas!$D$24:$D$264)*(Alternativas!O$24:O$264))","v":0},{"$f":"SUMPRODUCT(($Z207=Alternativas!$C$24:$C$264)*('Comparación Alternativas'!$AA207=Alternativas!$D$24:$D$264)*(Alternativas!P$24:P$264))","v":0},0,{"$f":"SUMPRODUCT(($Z207=Alternativas!$U$24:$U$264)*('Comparación Alternativas'!$AA207=Alternativas!$V$24:$V$264)*(Alternativas!AE$24:AE$264))","v":0},{"$f":"SUMPRODUCT(($Z207=Alternativas!$U$24:$U$264)*('Comparación Alternativas'!$AA207=Alternativas!$V$24:$V$264)*(Alternativas!AF$24:AF$264))","v":0},{"$f":"SUMPRODUCT(($Z207=Alternativas!$U$24:$U$264)*('Comparación Alternativas'!$AA207=Alternativas!$V$24:$V$264)*(Alternativas!AG$24:AG$264))","v":0},{"$f":"SUMPRODUCT(($Z207=Alternativas!$U$24:$U$264)*('Comparación Alternativas'!$AA207=Alternativas!$V$24:$V$264)*(Alternativas!AH$24:AH$264))","v":0},0,0,0,0,0,0,0,0,0,0,0,0,0,0,0,0,0,0,0,0,0]
[null,null,null,null,null,null,null,null,null,null,null,null,null,null,null,null,null,null,null,null,null,null,null,null,null,6,14,{"$f":"(AB210-AB198)/12+AB207","v":446.19551626436936},{"$f":"SUMPRODUCT(($Z208=Alternativas!$C$24:$C$264)*('Comparación Alternativas'!$AA208=Alternativas!$D$24:$D$264)*(Alternativas!M$24:M$264))","v":0},{"$f":"SUMPRODUCT(($Z208=Alternativas!$C$24:$C$264)*('Comparación Alternativas'!$AA208=Alternativas!$D$24:$D$264)*(Alternativas!N$24:N$264))","v":0},{"$f":"SUMPRODUCT(($Z208=Alternativas!$C$24:$C$264)*('Comparación Alternativas'!$AA208=Alternativas!$D$24:$D$264)*(Alternativas!O$24:O$264))","v":0},{"$f":"SUMPRODUCT(($Z208=Alternativas!$C$24:$C$264)*('Comparación Alternativas'!$AA208=Alternativas!$D$24:$D$264)*(Alternativas!P$24:P$264))","v":0},0,{"$f":"SUMPRODUCT(($Z208=Alternativas!$U$24:$U$264)*('Comparación Alternativas'!$AA208=Alternativas!$V$24:$V$264)*(Alternativas!AE$24:AE$264))","v":0},{"$f":"SUMPRODUCT(($Z208=Alternativas!$U$24:$U$264)*('Comparación Alternativas'!$AA208=Alternativas!$V$24:$V$264)*(Alternativas!AF$24:AF$264))","v":0},{"$f":"SUMPRODUCT(($Z208=Alternativas!$U$24:$U$264)*('Comparación Alternativas'!$AA208=Alternativas!$V$24:$V$264)*(Alternativas!AG$24:AG$264))","v":0},{"$f":"SUMPRODUCT(($Z208=Alternativas!$U$24:$U$264)*('Comparación Alternativas'!$AA208=Alternativas!$V$24:$V$264)*(Alternativas!AH$24:AH$264))","v":0},0,0,0,0,0,0,0,0,0,0,0,0,0,0,0,0,0,0,0,0,0]
[null,null,null,null,null,null,null,null,null,null,null,null,null,null,null,null,null,null,null,null,null,null,null,null,null,7,14,{"$f":"(AB210-AB198)/12+AB208","v":446.19551626436936},{"$f":"SUMPRODUCT(($Z209=Alternativas!$C$24:$C$264)*('Comparación Alternativas'!$AA209=Alternativas!$D$24:$D$264)*(Alternativas!M$24:M$264))","v":0},{"$f":"SUMPRODUCT(($Z209=Alternativas!$C$24:$C$264)*('Comparación Alternativas'!$AA209=Alternativas!$D$24:$D$264)*(Alternativas!N$24:N$264))","v":0},{"$f":"SUMPRODUCT(($Z209=Alternativas!$C$24:$C$264)*('Comparación Alternativas'!$AA209=Alternativas!$D$24:$D$264)*(Alternativas!O$24:O$264))","v":0},{"$f":"SUMPRODUCT(($Z209=Alternativas!$C$24:$C$264)*('Comparación Alternativas'!$AA209=Alternativas!$D$24:$D$264)*(Alternativas!P$24:P$264))","v":0},0,{"$f":"SUMPRODUCT(($Z209=Alternativas!$U$24:$U$264)*('Comparación Alternativas'!$AA209=Alternativas!$V$24:$V$264)*(Alternativas!AE$24:AE$264))","v":0},{"$f":"SUMPRODUCT(($Z209=Alternativas!$U$24:$U$264)*('Comparación Alternativas'!$AA209=Alternativas!$V$24:$V$264)*(Alternativas!AF$24:AF$264))","v":0},{"$f":"SUMPRODUCT(($Z209=Alternativas!$U$24:$U$264)*('Comparación Alternativas'!$AA209=Alternativas!$V$24:$V$264)*(Alternativas!AG$24:AG$264))","v":0},{"$f":"SUMPRODUCT(($Z209=Alternativas!$U$24:$U$264)*('Comparación Alternativas'!$AA209=Alternativas!$V$24:$V$264)*(Alternativas!AH$24:AH$264))","v":0},0,0,0,0,0,0,0,0,0,0,0,0,0,0,0,0,0,0,0,0,0]
[null,null,null,null,null,null,null,null,null,null,null,null,null,null,null,null,null,null,null,null,null,null,null,null,null,8,14,{"$f":"U26","v":446.19551626436936},{"$f":"SUMPRODUCT(($Z210=Alternativas!$C$24:$C$264)*('Comparación Alternativas'!$AA210=Alternativas!$D$24:$D$264)*(Alternativas!M$24:M$264))","v":0},{"$f":"SUMPRODUCT(($Z210=Alternativas!$C$24:$C$264)*('Comparación Alternativas'!$AA210=Alternativas!$D$24:$D$264)*(Alternativas!N$24:N$264))","v":0},{"$f":"SUMPRODUCT(($Z210=Alternativas!$C$24:$C$264)*('Comparación Alternativas'!$AA210=Alternativas!$D$24:$D$264)*(Alternativas!O$24:O$264))","v":0},{"$f":"SUMPRODUCT(($Z210=Alternativas!$C$24:$C$264)*('Comparación Alternativas'!$AA210=Alternativas!$D$24:$D$264)*(Alternativas!P$24:P$264))","v":0},0,{"$f":"SUMPRODUCT(($Z210=Alternativas!$U$24:$U$264)*('Comparación Alternativas'!$AA210=Alternativas!$V$24:$V$264)*(Alternativas!AE$24:AE$264))","v":0},{"$f":"SUMPRODUCT(($Z210=Alternativas!$U$24:$U$264)*('Comparación Alternativas'!$AA210=Alternativas!$V$24:$V$264)*(Alternativas!AF$24:AF$264))","v":0},{"$f":"SUMPRODUCT(($Z210=Alternativas!$U$24:$U$264)*('Comparación Alternativas'!$AA210=Alternativas!$V$24:$V$264)*(Alternativas!AG$24:AG$264))","v":0},{"$f":"SUMPRODUCT(($Z210=Alternativas!$U$24:$U$264)*('Comparación Alternativas'!$AA210=Alternativas!$V$24:$V$264)*(Alternativas!AH$24:AH$264))","v":0},0,0,0,0,0,0,0,0,0,0,0,0,0,0,0,0,0,0,0,0,0]
[null,null,null,null,null,null,null,null,null,null,null,null,null,null,null,null,null,null,null,null,null,null,null,null,null,9,14,{"$f":"(AB222-AB210)/12+AB210","v":446.19551626436936},{"$f":"SUMPRODUCT(($Z211=Alternativas!$C$24:$C$264)*('Comparación Alternativas'!$AA211=Alternativas!$D$24:$D$264)*(Alternativas!M$24:M$264))","v":0},{"$f":"SUMPRODUCT(($Z211=Alternativas!$C$24:$C$264)*('Comparación Alternativas'!$AA211=Alternativas!$D$24:$D$264)*(Alternativas!N$24:N$264))","v":0},{"$f":"SUMPRODUCT(($Z211=Alternativas!$C$24:$C$264)*('Comparación Alternativas'!$AA211=Alternativas!$D$24:$D$264)*(Alternativas!O$24:O$264))","v":0},{"$f":"SUMPRODUCT(($Z211=Alternativas!$C$24:$C$264)*('Comparación Alternativas'!$AA211=Alternativas!$D$24:$D$264)*(Alternativas!P$24:P$264))","v":0},0,{"$f":"SUMPRODUCT(($Z211=Alternativas!$U$24:$U$264)*('Comparación Alternativas'!$AA211=Alternativas!$V$24:$V$264)*(Alternativas!AE$24:AE$264))","v":0},{"$f":"SUMPRODUCT(($Z211=Alternativas!$U$24:$U$264)*('Comparación Alternativas'!$AA211=Alternativas!$V$24:$V$264)*(Alternativas!AF$24:AF$264))","v":0},{"$f":"SUMPRODUCT(($Z211=Alternativas!$U$24:$U$264)*('Comparación Alternativas'!$AA211=Alternativas!$V$24:$V$264)*(Alternativas!AG$24:AG$264))","v":0},{"$f":"SUMPRODUCT(($Z211=Alternativas!$U$24:$U$264)*('Comparación Alternativas'!$AA211=Alternativas!$V$24:$V$264)*(Alternativas!AH$24:AH$264))","v":0},0,0,0,0,0,0,0,0,0,0,0,0,0,0,0,0,0,0,0,0,0]
[null,null,null,null,null,null,null,null,null,null,null,null,null,null,null,null,null,null,null,null,null,null,null,null,null,10,14,{"$f":"(AB222-AB210)/12+AB211","v":446.19551626436936},{"$f":"SUMPRODUCT(($Z212=Alternativas!$C$24:$C$264)*('Comparación Alternativas'!$AA212=Alternativas!$D$24:$D$264)*(Alternativas!M$24:M$264))","v":0},{"$f":"SUMPRODUCT(($Z212=Alternativas!$C$24:$C$264)*('Comparación Alternativas'!$AA212=Alternativas!$D$24:$D$264)*(Alternativas!N$24:N$264))","v":0},{"$f":"SUMPRODUCT(($Z212=Alternativas!$C$24:$C$264)*('Comparación Alternativas'!$AA212=Alternativas!$D$24:$D$264)*(Alternativas!O$24:O$264))","v":0},{"$f":"SUMPRODUCT(($Z212=Alternativas!$C$24:$C$264)*('Comparación Alternativas'!$AA212=Alternativas!$D$24:$D$264)*(Alternativas!P$24:P$264))","v":0},0,{"$f":"SUMPRODUCT(($Z212=Alternativas!$U$24:$U$264)*('Comparación Alternativas'!$AA212=Alternativas!$V$24:$V$264)*(Alternativas!AE$24:AE$264))","v":0},{"$f":"SUMPRODUCT(($Z212=Alternativas!$U$24:$U$264)*('Comparación Alternativas'!$AA212=Alternativas!$V$24:$V$264)*(Alternativas!AF$24:AF$264))","v":0},{"$f":"SUMPRODUCT(($Z212=Alternativas!$U$24:$U$264)*('Comparación Alternativas'!$AA212=Alternativas!$V$24:$V$264)*(Alternativas!AG$24:AG$264))","v":0},{"$f":"SUMPRODUCT(($Z212=Alternativas!$U$24:$U$264)*('Comparación Alternativas'!$AA212=Alternativas!$V$24:$V$264)*(Alternativas!AH$24:AH$264))","v":0},0,0,0,0,0,0,0,0,0,0,0,0,0,0,0,0,0,0,0,0,0]
[null,null,null,null,null,null,null,null,null,null,null,null,null,null,null,null,null,null,null,null,null,null,null,null,null,11,14,{"$f":"(AB222-AB210)/12+AB212","v":446.19551626436936},{"$f":"SUMPRODUCT(($Z213=Alternativas!$C$24:$C$264)*('Comparación Alternativas'!$AA213=Alternativas!$D$24:$D$264)*(Alternativas!M$24:M$264))","v":0},{"$f":"SUMPRODUCT(($Z213=Alternativas!$C$24:$C$264)*('Comparación Alternativas'!$AA213=Alternativas!$D$24:$D$264)*(Alternativas!N$24:N$264))","v":0},{"$f":"SUMPRODUCT(($Z213=Alternativas!$C$24:$C$264)*('Comparación Alternativas'!$AA213=Alternativas!$D$24:$D$264)*(Alternativas!O$24:O$264))","v":0},{"$f":"SUMPRODUCT(($Z213=Alternativas!$C$24:$C$264)*('Comparación Alternativas'!$AA213=Alternativas!$D$24:$D$264)*(Alternativas!P$24:P$264))","v":0},0,{"$f":"SUMPRODUCT(($Z213=Alternativas!$U$24:$U$264)*('Comparación Alternativas'!$AA213=Alternativas!$V$24:$V$264)*(Alternativas!AE$24:AE$264))","v":0},{"$f":"SUMPRODUCT(($Z213=Alternativas!$U$24:$U$264)*('Comparación Alternativas'!$AA213=Alternativas!$V$24:$V$264)*(Alternativas!AF$24:AF$264))","v":0},{"$f":"SUMPRODUCT(($Z213=Alternativas!$U$24:$U$264)*('Comparación Alternativas'!$AA213=Alternativas!$V$24:$V$264)*(Alternativas!AG$24:AG$264))","v":0},{"$f":"SUMPRODUCT(($Z213=Alternativas!$U$24:$U$264)*('Comparación Alternativas'!$AA213=Alternativas!$V$24:$V$264)*(Alternativas!AH$24:AH$264))","v":0},0,0,0,0,0,0,0,0,0,0,0,0,0,0,0,0,0,0,0,0,0]
[null,null,null,null,null,null,null,null,null,null,null,null,null,null,null,null,null,null,null,null,null,null,null,null,null,12,14,{"$f":"(AB222-AB210)/12+AB213","v":446.19551626436936},{"$f":"SUMPRODUCT(($Z214=Alternativas!$C$24:$C$264)*('Comparación Alternativas'!$AA214=Alternativas!$D$24:$D$264)*(Alternativas!M$24:M$264))","v":0},{"$f":"SUMPRODUCT(($Z214=Alternativas!$C$24:$C$264)*('Comparación Alternativas'!$AA214=Alternativas!$D$24:$D$264)*(Alternativas!N$24:N$264))","v":0},{"$f":"SUMPRODUCT(($Z214=Alternativas!$C$24:$C$264)*('Comparación Alternativas'!$AA214=Alternativas!$D$24:$D$264)*(Alternativas!O$24:O$264))","v":0},{"$f":"SUMPRODUCT(($Z214=Alternativas!$C$24:$C$264)*('Comparación Alternativas'!$AA214=Alternativas!$D$24:$D$264)*(Alternativas!P$24:P$264))","v":0},0,{"$f":"SUMPRODUCT(($Z214=Alternativas!$U$24:$U$264)*('Comparación Alternativas'!$AA214=Alternativas!$V$24:$V$264)*(Alternativas!AE$24:AE$264))","v":0},{"$f":"SUMPRODUCT(($Z214=Alternativas!$U$24:$U$264)*('Comparación Alternativas'!$AA214=Alternativas!$V$24:$V$264)*(Alternativas!AF$24:AF$264))","v":0},{"$f":"SUMPRODUCT(($Z214=Alternativas!$U$24:$U$264)*('Comparación Alternativas'!$AA214=Alternativas!$V$24:$V$264)*(Alternativas!AG$24:AG$264))","v":0},{"$f":"SUMPRODUCT(($Z214=Alternativas!$U$24:$U$264)*('Comparación Alternativas'!$AA214=Alternativas!$V$24:$V$264)*(Alternativas!AH$24:AH$264))","v":0},0,0,0,0,0,0,0,0,0,0,0,0,0,0,0,0,0,0,0,0,0]
[null,null,null,null,null,null,null,null,null,null,null,null,null,null,null,null,null,null,null,null,null,null,null,null,null,1,15,{"$f":"(AB222-AB210)/12+AB214","v":446.19551626436936},{"$f":"SUMPRODUCT(($Z215=Alternativas!$C$24:$C$264)*('Comparación Alternativas'!$AA215=Alternativas!$D$24:$D$264)*(Alternativas!M$24:M$264))","v":0},{"$f":"SUMPRODUCT(($Z215=Alternativas!$C$24:$C$264)*('Comparación Alternativas'!$AA215=Alternativas!$D$24:$D$264)*(Alternativas!N$24:N$264))","v":0},{"$f":"SUMPRODUCT(($Z215=Alternativas!$C$24:$C$264)*('Comparación Alternativas'!$AA215=Alternativas!$D$24:$D$264)*(Alternativas!O$24:O$264))","v":0},{"$f":"SUMPRODUCT(($Z215=Alternativas!$C$24:$C$264)*('Comparación Alternativas'!$AA215=Alternativas!$D$24:$D$264)*(Alternativas!P$24:P$264))","v":0},0,{"$f":"SUMPRODUCT(($Z215=Alternativas!$U$24:$U$264)*('Comparación Alternativas'!$AA215=Alternativas!$V$24:$V$264)*(Alternativas!AE$24:AE$264))","v":0},{"$f":"SUMPRODUCT(($Z215=Alternativas!$U$24:$U$264)*('Comparación Alternativas'!$AA215=Alternativas!$V$24:$V$264)*(Alternativas!AF$24:AF$264))","v":0},{"$f":"SUMPRODUCT(($Z215=Alternativas!$U$24:$U$264)*('Comparación Alternativas'!$AA215=Alternativas!$V$24:$V$264)*(Alternativas!AG$24:AG$264))","v":0},{"$f":"SUMPRODUCT(($Z215=Alternativas!$U$24:$U$264)*('Comparación Alternativas'!$AA215=Alternativas!$V$24:$V$264)*(Alternativas!AH$24:AH$264))","v":0},0,0,0,0,0,0,0,0,0,0,0,0,0,0,0,0,0,0,0,0,0]
[null,null,null,null,null,null,null,null,null,null,null,null,null,null,null,null,null,null,null,null,null,null,null,null,null,2,15,{"$f":"(AB222-AB210)/12+AB215","v":446.19551626436936},{"$f":"SUMPRODUCT(($Z216=Alternativas!$C$24:$C$264)*('Comparación Alternativas'!$AA216=Alternativas!$D$24:$D$264)*(Alternativas!M$24:M$264))","v":0},{"$f":"SUMPRODUCT(($Z216=Alternativas!$C$24:$C$264)*('Comparación Alternativas'!$AA216=Alternativas!$D$24:$D$264)*(Alternativas!N$24:N$264))","v":0},{"$f":"SUMPRODUCT(($Z216=Alternativas!$C$24:$C$264)*('Comparación Alternativas'!$AA216=Alternativas!$D$24:$D$264)*(Alternativas!O$24:O$264))","v":0},{"$f":"SUMPRODUCT(($Z216=Alternativas!$C$24:$C$264)*('Comparación Alternativas'!$AA216=Alternativas!$D$24:$D$264)*(Alternativas!P$24:P$264))","v":0},0,{"$f":"SUMPRODUCT(($Z216=Alternativas!$U$24:$U$264)*('Comparación Alternativas'!$AA216=Alternativas!$V$24:$V$264)*(Alternativas!AE$24:AE$264))","v":0},{"$f":"SUMPRODUCT(($Z216=Alternativas!$U$24:$U$264)*('Comparación Alternativas'!$AA216=Alternativas!$V$24:$V$264)*(Alternativas!AF$24:AF$264))","v":0},{"$f":"SUMPRODUCT(($Z216=Alternativas!$U$24:$U$264)*('Comparación Alternativas'!$AA216=Alternativas!$V$24:$V$264)*(Alternativas!AG$24:AG$264))","v":0},{"$f":"SUMPRODUCT(($Z216=Alternativas!$U$24:$U$264)*('Comparación Alternativas'!$AA216=Alternativas!$V$24:$V$264)*(Alternativas!AH$24:AH$264))","v":0},0,0,0,0,0,0,0,0,0,0,0,0,0,0,0,0,0,0,0,0,0]
[null,null,null,null,null,null,null,null,null,null,null,null,null,null,null,null,null,null,null,null,null,null,null,null,null,3,15,{"$f":"(AB222-AB210)/12+AB216","v":446.19551626436936},{"$f":"SUMPRODUCT(($Z217=Alternativas!$C$24:$C$264)*('Comparación Alternativas'!$AA217=Alternativas!$D$24:$D$264)*(Alternativas!M$24:M$264))","v":0},{"$f":"SUMPRODUCT(($Z217=Alternativas!$C$24:$C$264)*('Comparación Alternativas'!$AA217=Alternativas!$D$24:$D$264)*(Alternativas!N$24:N$264))","v":0},{"$f":"SUMPRODUCT(($Z217=Alternativas!$C$24:$C$264)*('Comparación Alternativas'!$AA217=Alternativas!$D$24:$D$264)*(Alternativas!O$24:O$264))","v":0},{"$f":"SUMPRODUCT(($Z217=Alternativas!$C$24:$C$264)*('Comparación Alternativas'!$AA217=Alternativas!$D$24:$D$264)*(Alternativas!P$24:P$264))","v":0},0,{"$f":"SUMPRODUCT(($Z217=Alternativas!$U$24:$U$264)*('Comparación Alternativas'!$AA217=Alternativas!$V$24:$V$264)*(Alternativas!AE$24:AE$264))","v":0},{"$f":"SUMPRODUCT(($Z217=Alternativas!$U$24:$U$264)*('Comparación Alternativas'!$AA217=Alternativas!$V$24:$V$264)*(Alternativas!AF$24:AF$264))","v":0},{"$f":"SUMPRODUCT(($Z217=Alternativas!$U$24:$U$264)*('Comparación Alternativas'!$AA217=Alternativas!$V$24:$V$264)*(Alternativas!AG$24:AG$264))","v":0},{"$f":"SUMPRODUCT(($Z217=Alternativas!$U$24:$U$264)*('Comparación Alternativas'!$AA217=Alternativas!$V$24:$V$264)*(Alternativas!AH$24:AH$264))","v":0},0,0,0,0,0,0,0,0,0,0,0,0,0,0,0,0,0,0,0,0,0]
[null,null,null,null,null,null,null,null,null,null,null,null,null,null,null,null,null,null,null,null,null,null,null,null,null,4,15,{"$f":"(AB222-AB210)/12+AB217","v":446.19551626436936},{"$f":"SUMPRODUCT(($Z218=Alternativas!$C$24:$C$264)*('Comparación Alternativas'!$AA218=Alternativas!$D$24:$D$264)*(Alternativas!M$24:M$264))","v":0},{"$f":"SUMPRODUCT(($Z218=Alternativas!$C$24:$C$264)*('Comparación Alternativas'!$AA218=Alternativas!$D$24:$D$264)*(Alternativas!N$24:N$264))","v":0},{"$f":"SUMPRODUCT(($Z218=Alternativas!$C$24:$C$264)*('Comparación Alternativas'!$AA218=Alternativas!$D$24:$D$264)*(Alternativas!O$24:O$264))","v":0},{"$f":"SUMPRODUCT(($Z218=Alternativas!$C$24:$C$264)*('Comparación Alternativas'!$AA218=Alternativas!$D$24:$D$264)*(Alternativas!P$24:P$264))","v":0},0,{"$f":"SUMPRODUCT(($Z218=Alternativas!$U$24:$U$264)*('Comparación Alternativas'!$AA218=Alternativas!$V$24:$V$264)*(Alternativas!AE$24:AE$264))","v":0},{"$f":"SUMPRODUCT(($Z218=Alternativas!$U$24:$U$264)*('Comparación Alternativas'!$AA218=Alternativas!$V$24:$V$264)*(Alternativas!AF$24:AF$264))","v":0},{"$f":"SUMPRODUCT(($Z218=Alternativas!$U$24:$U$264)*('Comparación Alternativas'!$AA218=Alternativas!$V$24:$V$264)*(Alternativas!AG$24:AG$264))","v":0},{"$f":"SUMPRODUCT(($Z218=Alternativas!$U$24:$U$264)*('Comparación Alternativas'!$AA218=Alternativas!$V$24:$V$264)*(Alternativas!AH$24:AH$264))","v":0},0,0,0,0,0,0,0,0,0,0,0,0,0,0,0,0,0,0,0,0,0]
[null,null,null,null,null,null,null,null,null,null,null,null,null,null,null,null,null,null,null,null,null,null,null,null,null,5,15,{"$f":"(AB222-AB210)/12+AB218","v":446.19551626436936},{"$f":"SUMPRODUCT(($Z219=Alternativas!$C$24:$C$264)*('Comparación Alternativas'!$AA219=Alternativas!$D$24:$D$264)*(Alternativas!M$24:M$264))","v":0},{"$f":"SUMPRODUCT(($Z219=Alternativas!$C$24:$C$264)*('Comparación Alternativas'!$AA219=Alternativas!$D$24:$D$264)*(Alternativas!N$24:N$264))","v":0},{"$f":"SUMPRODUCT(($Z219=Alternativas!$C$24:$C$264)*('Comparación Alternativas'!$AA219=Alternativas!$D$24:$D$264)*(Alternativas!O$24:O$264))","v":0},{"$f":"SUMPRODUCT(($Z219=Alternativas!$C$24:$C$264)*('Comparación Alternativas'!$AA219=Alternativas!$D$24:$D$264)*(Alternativas!P$24:P$264))","v":0},0,{"$f":"SUMPRODUCT(($Z219=Alternativas!$U$24:$U$264)*('Comparación Alternativas'!$AA219=Alternativas!$V$24:$V$264)*(Alternativas!AE$24:AE$264))","v":0},{"$f":"SUMPRODUCT(($Z219=Alternativas!$U$24:$U$264)*('Comparación Alternativas'!$AA219=Alternativas!$V$24:$V$264)*(Alternativas!AF$24:AF$264))","v":0},{"$f":"SUMPRODUCT(($Z219=Alternativas!$U$24:$U$264)*('Comparación Alternativas'!$AA219=Alternativas!$V$24:$V$264)*(Alternativas!AG$24:AG$264))","v":0},{"$f":"SUMPRODUCT(($Z219=Alternativas!$U$24:$U$264)*('Comparación Alternativas'!$AA219=Alternativas!$V$24:$V$264)*(Alternativas!AH$24:AH$264))","v":0},0,0,0,0,0,0,0,0,0,0,0,0,0,0,0,0,0,0,0,0,0]
[null,null,null,null,null,null,null,null,null,null,null,null,null,null,null,null,null,null,null,null,null,null,null,null,null,6,15,{"$f":"(AB222-AB210)/12+AB219","v":446.19551626436936},{"$f":"SUMPRODUCT(($Z220=Alternativas!$C$24:$C$264)*('Comparación Alternativas'!$AA220=Alternativas!$D$24:$D$264)*(Alternativas!M$24:M$264))","v":0},{"$f":"SUMPRODUCT(($Z220=Alternativas!$C$24:$C$264)*('Comparación Alternativas'!$AA220=Alternativas!$D$24:$D$264)*(Alternativas!N$24:N$264))","v":0},{"$f":"SUMPRODUCT(($Z220=Alternativas!$C$24:$C$264)*('Comparación Alternativas'!$AA220=Alternativas!$D$24:$D$264)*(Alternativas!O$24:O$264))","v":0},{"$f":"SUMPRODUCT(($Z220=Alternativas!$C$24:$C$264)*('Comparación Alternativas'!$AA220=Alternativas!$D$24:$D$264)*(Alternativas!P$24:P$264))","v":0},0,{"$f":"SUMPRODUCT(($Z220=Alternativas!$U$24:$U$264)*('Comparación Alternativas'!$AA220=Alternativas!$V$24:$V$264)*(Alternativas!AE$24:AE$264))","v":0},{"$f":"SUMPRODUCT(($Z220=Alternativas!$U$24:$U$264)*('Comparación Alternativas'!$AA220=Alternativas!$V$24:$V$264)*(Alternativas!AF$24:AF$264))","v":0},{"$f":"SUMPRODUCT(($Z220=Alternativas!$U$24:$U$264)*('Comparación Alternativas'!$AA220=Alternativas!$V$24:$V$264)*(Alternativas!AG$24:AG$264))","v":0},{"$f":"SUMPRODUCT(($Z220=Alternativas!$U$24:$U$264)*('Comparación Alternativas'!$AA220=Alternativas!$V$24:$V$264)*(Alternativas!AH$24:AH$264))","v":0},0,0,0,0,0,0,0,0,0,0,0,0,0,0,0,0,0,0,0,0,0]
[null,null,null,null,null,null,null,null,null,null,null,null,null,null,null,null,null,null,null,null,null,null,null,null,null,7,15,{"$f":"(AB222-AB210)/12+AB220","v":446.19551626436936},{"$f":"SUMPRODUCT(($Z221=Alternativas!$C$24:$C$264)*('Comparación Alternativas'!$AA221=Alternativas!$D$24:$D$264)*(Alternativas!M$24:M$264))","v":0},{"$f":"SUMPRODUCT(($Z221=Alternativas!$C$24:$C$264)*('Comparación Alternativas'!$AA221=Alternativas!$D$24:$D$264)*(Alternativas!N$24:N$264))","v":0},{"$f":"SUMPRODUCT(($Z221=Alternativas!$C$24:$C$264)*('Comparación Alternativas'!$AA221=Alternativas!$D$24:$D$264)*(Alternativas!O$24:O$264))","v":0},{"$f":"SUMPRODUCT(($Z221=Alternativas!$C$24:$C$264)*('Comparación Alternativas'!$AA221=Alternativas!$D$24:$D$264)*(Alternativas!P$24:P$264))","v":0},0,{"$f":"SUMPRODUCT(($Z221=Alternativas!$U$24:$U$264)*('Comparación Alternativas'!$AA221=Alternativas!$V$24:$V$264)*(Alternativas!AE$24:AE$264))","v":0},{"$f":"SUMPRODUCT(($Z221=Alternativas!$U$24:$U$264)*('Comparación Alternativas'!$AA221=Alternativas!$V$24:$V$264)*(Alternativas!AF$24:AF$264))","v":0},{"$f":"SUMPRODUCT(($Z221=Alternativas!$U$24:$U$264)*('Comparación Alternativas'!$AA221=Alternativas!$V$24:$V$264)*(Alternativas!AG$24:AG$264))","v":0},{"$f":"SUMPRODUCT(($Z221=Alternativas!$U$24:$U$264)*('Comparación Alternativas'!$AA221=Alternativas!$V$24:$V$264)*(Alternativas!AH$24:AH$264))","v":0},0,0,0,0,0,0,0,0,0,0,0,0,0,0,0,0,0,0,0,0,0]
[null,null,null,null,null,null,null,null,null,null,null,null,null,null,null,null,null,null,null,null,null,null,null,null,null,8,15,{"$f":"U27","v":446.19551626436936},{"$f":"SUMPRODUCT(($Z222=Alternativas!$C$24:$C$264)*('Comparación Alternativas'!$AA222=Alternativas!$D$24:$D$264)*(Alternativas!M$24:M$264))","v":0},{"$f":"SUMPRODUCT(($Z222=Alternativas!$C$24:$C$264)*('Comparación Alternativas'!$AA222=Alternativas!$D$24:$D$264)*(Alternativas!N$24:N$264))","v":0},{"$f":"SUMPRODUCT(($Z222=Alternativas!$C$24:$C$264)*('Comparación Alternativas'!$AA222=Alternativas!$D$24:$D$264)*(Alternativas!O$24:O$264))","v":0},{"$f":"SUMPRODUCT(($Z222=Alternativas!$C$24:$C$264)*('Comparación Alternativas'!$AA222=Alternativas!$D$24:$D$264)*(Alternativas!P$24:P$264))","v":0},0,{"$f":"SUMPRODUCT(($Z222=Alternativas!$U$24:$U$264)*('Comparación Alternativas'!$AA222=Alternativas!$V$24:$V$264)*(Alternativas!AE$24:AE$264))","v":0},{"$f":"SUMPRODUCT(($Z222=Alternativas!$U$24:$U$264)*('Comparación Alternativas'!$AA222=Alternativas!$V$24:$V$264)*(Alternativas!AF$24:AF$264))","v":0},{"$f":"SUMPRODUCT(($Z222=Alternativas!$U$24:$U$264)*('Comparación Alternativas'!$AA222=Alternativas!$V$24:$V$264)*(Alternativas!AG$24:AG$264))","v":0},{"$f":"SUMPRODUCT(($Z222=Alternativas!$U$24:$U$264)*('Comparación Alternativas'!$AA222=Alternativas!$V$24:$V$264)*(Alternativas!AH$24:AH$264))","v":0},0,0,0,0,0,0,0,0,0,0,0,0,0,0,0,0,0,0,0,0,0]
[null,null,null,null,null,null,null,null,null,null,null,null,null,null,null,null,null,null,null,null,null,null,null,null,null,9,15,{"$f":"(AB234-AB222)/12+AB222","v":446.19551626436936},{"$f":"SUMPRODUCT(($Z223=Alternativas!$C$24:$C$264)*('Comparación Alternativas'!$AA223=Alternativas!$D$24:$D$264)*(Alternativas!M$24:M$264))","v":0},{"$f":"SUMPRODUCT(($Z223=Alternativas!$C$24:$C$264)*('Comparación Alternativas'!$AA223=Alternativas!$D$24:$D$264)*(Alternativas!N$24:N$264))","v":0},{"$f":"SUMPRODUCT(($Z223=Alternativas!$C$24:$C$264)*('Comparación Alternativas'!$AA223=Alternativas!$D$24:$D$264)*(Alternativas!O$24:O$264))","v":0},{"$f":"SUMPRODUCT(($Z223=Alternativas!$C$24:$C$264)*('Comparación Alternativas'!$AA223=Alternativas!$D$24:$D$264)*(Alternativas!P$24:P$264))","v":0},0,{"$f":"SUMPRODUCT(($Z223=Alternativas!$U$24:$U$264)*('Comparación Alternativas'!$AA223=Alternativas!$V$24:$V$264)*(Alternativas!AE$24:AE$264))","v":0},{"$f":"SUMPRODUCT(($Z223=Alternativas!$U$24:$U$264)*('Comparación Alternativas'!$AA223=Alternativas!$V$24:$V$264)*(Alternativas!AF$24:AF$264))","v":0},{"$f":"SUMPRODUCT(($Z223=Alternativas!$U$24:$U$264)*('Comparación Alternativas'!$AA223=Alternativas!$V$24:$V$264)*(Alternativas!AG$24:AG$264))","v":0},{"$f":"SUMPRODUCT(($Z223=Alternativas!$U$24:$U$264)*('Comparación Alternativas'!$AA223=Alternativas!$V$24:$V$264)*(Alternativas!AH$24:AH$264))","v":0},0,0,0,0,0,0,0,0,0,0,0,0,0,0,0,0,0,0,0,0,0]
[null,null,null,null,null,null,null,null,null,null,null,null,null,null,null,null,null,null,null,null,null,null,null,null,null,10,15,{"$f":"(AB234-AB222)/12+AB223","v":446.19551626436936},{"$f":"SUMPRODUCT(($Z224=Alternativas!$C$24:$C$264)*('Comparación Alternativas'!$AA224=Alternativas!$D$24:$D$264)*(Alternativas!M$24:M$264))","v":0},{"$f":"SUMPRODUCT(($Z224=Alternativas!$C$24:$C$264)*('Comparación Alternativas'!$AA224=Alternativas!$D$24:$D$264)*(Alternativas!N$24:N$264))","v":0},{"$f":"SUMPRODUCT(($Z224=Alternativas!$C$24:$C$264)*('Comparación Alternativas'!$AA224=Alternativas!$D$24:$D$264)*(Alternativas!O$24:O$264))","v":0},{"$f":"SUMPRODUCT(($Z224=Alternativas!$C$24:$C$264)*('Comparación Alternativas'!$AA224=Alternativas!$D$24:$D$264)*(Alternativas!P$24:P$264))","v":0},0,{"$f":"SUMPRODUCT(($Z224=Alternativas!$U$24:$U$264)*('Comparación Alternativas'!$AA224=Alternativas!$V$24:$V$264)*(Alternativas!AE$24:AE$264))","v":0},{"$f":"SUMPRODUCT(($Z224=Alternativas!$U$24:$U$264)*('Comparación Alternativas'!$AA224=Alternativas!$V$24:$V$264)*(Alternativas!AF$24:AF$264))","v":0},{"$f":"SUMPRODUCT(($Z224=Alternativas!$U$24:$U$264)*('Comparación Alternativas'!$AA224=Alternativas!$V$24:$V$264)*(Alternativas!AG$24:AG$264))","v":0},{"$f":"SUMPRODUCT(($Z224=Alternativas!$U$24:$U$264)*('Comparación Alternativas'!$AA224=Alternativas!$V$24:$V$264)*(Alternativas!AH$24:AH$264))","v":0},0,0,0,0,0,0,0,0,0,0,0,0,0,0,0,0,0,0,0,0,0]
[null,null,null,null,null,null,null,null,null,null,null,null,null,null,null,null,null,null,null,null,null,null,null,null,null,11,15,{"$f":"(AB234-AB222)/12+AB224","v":446.19551626436936},{"$f":"SUMPRODUCT(($Z225=Alternativas!$C$24:$C$264)*('Comparación Alternativas'!$AA225=Alternativas!$D$24:$D$264)*(Alternativas!M$24:M$264))","v":0},{"$f":"SUMPRODUCT(($Z225=Alternativas!$C$24:$C$264)*('Comparación Alternativas'!$AA225=Alternativas!$D$24:$D$264)*(Alternativas!N$24:N$264))","v":0},{"$f":"SUMPRODUCT(($Z225=Alternativas!$C$24:$C$264)*('Comparación Alternativas'!$AA225=Alternativas!$D$24:$D$264)*(Alternativas!O$24:O$264))","v":0},{"$f":"SUMPRODUCT(($Z225=Alternativas!$C$24:$C$264)*('Comparación Alternativas'!$AA225=Alternativas!$D$24:$D$264)*(Alternativas!P$24:P$264))","v":0},0,{"$f":"SUMPRODUCT(($Z225=Alternativas!$U$24:$U$264)*('Comparación Alternativas'!$AA225=Alternativas!$V$24:$V$264)*(Alternativas!AE$24:AE$264))","v":0},{"$f":"SUMPRODUCT(($Z225=Alternativas!$U$24:$U$264)*('Comparación Alternativas'!$AA225=Alternativas!$V$24:$V$264)*(Alternativas!AF$24:AF$264))","v":0},{"$f":"SUMPRODUCT(($Z225=Alternativas!$U$24:$U$264)*('Comparación Alternativas'!$AA225=Alternativas!$V$24:$V$264)*(Alternativas!AG$24:AG$264))","v":0},{"$f":"SUMPRODUCT(($Z225=Alternativas!$U$24:$U$264)*('Comparación Alternativas'!$AA225=Alternativas!$V$24:$V$264)*(Alternativas!AH$24:AH$264))","v":0},0,0,0,0,0,0,0,0,0,0,0,0,0,0,0,0,0,0,0,0,0]
[null,null,null,null,null,null,null,null,null,null,null,null,null,null,null,null,null,null,null,null,null,null,null,null,null,12,15,{"$f":"(AB234-AB222)/12+AB225","v":446.19551626436936},{"$f":"SUMPRODUCT(($Z226=Alternativas!$C$24:$C$264)*('Comparación Alternativas'!$AA226=Alternativas!$D$24:$D$264)*(Alternativas!M$24:M$264))","v":0},{"$f":"SUMPRODUCT(($Z226=Alternativas!$C$24:$C$264)*('Comparación Alternativas'!$AA226=Alternativas!$D$24:$D$264)*(Alternativas!N$24:N$264))","v":0},{"$f":"SUMPRODUCT(($Z226=Alternativas!$C$24:$C$264)*('Comparación Alternativas'!$AA226=Alternativas!$D$24:$D$264)*(Alternativas!O$24:O$264))","v":0},{"$f":"SUMPRODUCT(($Z226=Alternativas!$C$24:$C$264)*('Comparación Alternativas'!$AA226=Alternativas!$D$24:$D$264)*(Alternativas!P$24:P$264))","v":0},0,{"$f":"SUMPRODUCT(($Z226=Alternativas!$U$24:$U$264)*('Comparación Alternativas'!$AA226=Alternativas!$V$24:$V$264)*(Alternativas!AE$24:AE$264))","v":0},{"$f":"SUMPRODUCT(($Z226=Alternativas!$U$24:$U$264)*('Comparación Alternativas'!$AA226=Alternativas!$V$24:$V$264)*(Alternativas!AF$24:AF$264))","v":0},{"$f":"SUMPRODUCT(($Z226=Alternativas!$U$24:$U$264)*('Comparación Alternativas'!$AA226=Alternativas!$V$24:$V$264)*(Alternativas!AG$24:AG$264))","v":0},{"$f":"SUMPRODUCT(($Z226=Alternativas!$U$24:$U$264)*('Comparación Alternativas'!$AA226=Alternativas!$V$24:$V$264)*(Alternativas!AH$24:AH$264))","v":0},0,0,0,0,0,0,0,0,0,0,0,0,0,0,0,0,0,0,0,0,0]
[null,null,null,null,null,null,null,null,null,null,null,null,null,null,null,null,null,null,null,null,null,null,null,null,null,1,16,{"$f":"(AB234-AB222)/12+AB226","v":446.19551626436936},{"$f":"SUMPRODUCT(($Z227=Alternativas!$C$24:$C$264)*('Comparación Alternativas'!$AA227=Alternativas!$D$24:$D$264)*(Alternativas!M$24:M$264))","v":0},{"$f":"SUMPRODUCT(($Z227=Alternativas!$C$24:$C$264)*('Comparación Alternativas'!$AA227=Alternativas!$D$24:$D$264)*(Alternativas!N$24:N$264))","v":0},{"$f":"SUMPRODUCT(($Z227=Alternativas!$C$24:$C$264)*('Comparación Alternativas'!$AA227=Alternativas!$D$24:$D$264)*(Alternativas!O$24:O$264))","v":0},{"$f":"SUMPRODUCT(($Z227=Alternativas!$C$24:$C$264)*('Comparación Alternativas'!$AA227=Alternativas!$D$24:$D$264)*(Alternativas!P$24:P$264))","v":0},0,{"$f":"SUMPRODUCT(($Z227=Alternativas!$U$24:$U$264)*('Comparación Alternativas'!$AA227=Alternativas!$V$24:$V$264)*(Alternativas!AE$24:AE$264))","v":0},{"$f":"SUMPRODUCT(($Z227=Alternativas!$U$24:$U$264)*('Comparación Alternativas'!$AA227=Alternativas!$V$24:$V$264)*(Alternativas!AF$24:AF$264))","v":0},{"$f":"SUMPRODUCT(($Z227=Alternativas!$U$24:$U$264)*('Comparación Alternativas'!$AA227=Alternativas!$V$24:$V$264)*(Alternativas!AG$24:AG$264))","v":0},{"$f":"SUMPRODUCT(($Z227=Alternativas!$U$24:$U$264)*('Comparación Alternativas'!$AA227=Alternativas!$V$24:$V$264)*(Alternativas!AH$24:AH$264))","v":0},0,0,0,0,0,0,0,0,0,0,0,0,0,0,0,0,0,0,0,0,0]
[null,null,null,null,null,null,null,null,null,null,null,null,null,null,null,null,null,null,null,null,null,null,null,null,null,2,16,{"$f":"(AB234-AB222)/12+AB227","v":446.19551626436936},{"$f":"SUMPRODUCT(($Z228=Alternativas!$C$24:$C$264)*('Comparación Alternativas'!$AA228=Alternativas!$D$24:$D$264)*(Alternativas!M$24:M$264))","v":0},{"$f":"SUMPRODUCT(($Z228=Alternativas!$C$24:$C$264)*('Comparación Alternativas'!$AA228=Alternativas!$D$24:$D$264)*(Alternativas!N$24:N$264))","v":0},{"$f":"SUMPRODUCT(($Z228=Alternativas!$C$24:$C$264)*('Comparación Alternativas'!$AA228=Alternativas!$D$24:$D$264)*(Alternativas!O$24:O$264))","v":0},{"$f":"SUMPRODUCT(($Z228=Alternativas!$C$24:$C$264)*('Comparación Alternativas'!$AA228=Alternativas!$D$24:$D$264)*(Alternativas!P$24:P$264))","v":0},0,{"$f":"SUMPRODUCT(($Z228=Alternativas!$U$24:$U$264)*('Comparación Alternativas'!$AA228=Alternativas!$V$24:$V$264)*(Alternativas!AE$24:AE$264))","v":0},{"$f":"SUMPRODUCT(($Z228=Alternativas!$U$24:$U$264)*('Comparación Alternativas'!$AA228=Alternativas!$V$24:$V$264)*(Alternativas!AF$24:AF$264))","v":0},{"$f":"SUMPRODUCT(($Z228=Alternativas!$U$24:$U$264)*('Comparación Alternativas'!$AA228=Alternativas!$V$24:$V$264)*(Alternativas!AG$24:AG$264))","v":0},{"$f":"SUMPRODUCT(($Z228=Alternativas!$U$24:$U$264)*('Comparación Alternativas'!$AA228=Alternativas!$V$24:$V$264)*(Alternativas!AH$24:AH$264))","v":0},0,0,0,0,0,0,0,0,0,0,0,0,0,0,0,0,0,0,0,0,0]
[null,null,null,null,null,null,null,null,null,null,null,null,null,null,null,null,null,null,null,null,null,null,null,null,null,3,16,{"$f":"(AB234-AB222)/12+AB228","v":446.19551626436936},{"$f":"SUMPRODUCT(($Z229=Alternativas!$C$24:$C$264)*('Comparación Alternativas'!$AA229=Alternativas!$D$24:$D$264)*(Alternativas!M$24:M$264))","v":0},{"$f":"SUMPRODUCT(($Z229=Alternativas!$C$24:$C$264)*('Comparación Alternativas'!$AA229=Alternativas!$D$24:$D$264)*(Alternativas!N$24:N$264))","v":0},{"$f":"SUMPRODUCT(($Z229=Alternativas!$C$24:$C$264)*('Comparación Alternativas'!$AA229=Alternativas!$D$24:$D$264)*(Alternativas!O$24:O$264))","v":0},{"$f":"SUMPRODUCT(($Z229=Alternativas!$C$24:$C$264)*('Comparación Alternativas'!$AA229=Alternativas!$D$24:$D$264)*(Alternativas!P$24:P$264))","v":0},0,{"$f":"SUMPRODUCT(($Z229=Alternativas!$U$24:$U$264)*('Comparación Alternativas'!$AA229=Alternativas!$V$24:$V$264)*(Alternativas!AE$24:AE$264))","v":0},{"$f":"SUMPRODUCT(($Z229=Alternativas!$U$24:$U$264)*('Comparación Alternativas'!$AA229=Alternativas!$V$24:$V$264)*(Alternativas!AF$24:AF$264))","v":0},{"$f":"SUMPRODUCT(($Z229=Alternativas!$U$24:$U$264)*('Comparación Alternativas'!$AA229=Alternativas!$V$24:$V$264)*(Alternativas!AG$24:AG$264))","v":0},{"$f":"SUMPRODUCT(($Z229=Alternativas!$U$24:$U$264)*('Comparación Alternativas'!$AA229=Alternativas!$V$24:$V$264)*(Alternativas!AH$24:AH$264))","v":0},0,0,0,0,0,0,0,0,0,0,0,0,0,0,0,0,0,0,0,0,0]
[null,null,null,null,null,null,null,null,null,null,null,null,null,null,null,null,null,null,null,null,null,null,null,null,null,4,16,{"$f":"(AB234-AB222)/12+AB229","v":446.19551626436936},{"$f":"SUMPRODUCT(($Z230=Alternativas!$C$24:$C$264)*('Comparación Alternativas'!$AA230=Alternativas!$D$24:$D$264)*(Alternativas!M$24:M$264))","v":0},{"$f":"SUMPRODUCT(($Z230=Alternativas!$C$24:$C$264)*('Comparación Alternativas'!$AA230=Alternativas!$D$24:$D$264)*(Alternativas!N$24:N$264))","v":0},{"$f":"SUMPRODUCT(($Z230=Alternativas!$C$24:$C$264)*('Comparación Alternativas'!$AA230=Alternativas!$D$24:$D$264)*(Alternativas!O$24:O$264))","v":0},{"$f":"SUMPRODUCT(($Z230=Alternativas!$C$24:$C$264)*('Comparación Alternativas'!$AA230=Alternativas!$D$24:$D$264)*(Alternativas!P$24:P$264))","v":0},0,{"$f":"SUMPRODUCT(($Z230=Alternativas!$U$24:$U$264)*('Comparación Alternativas'!$AA230=Alternativas!$V$24:$V$264)*(Alternativas!AE$24:AE$264))","v":0},{"$f":"SUMPRODUCT(($Z230=Alternativas!$U$24:$U$264)*('Comparación Alternativas'!$AA230=Alternativas!$V$24:$V$264)*(Alternativas!AF$24:AF$264))","v":0},{"$f":"SUMPRODUCT(($Z230=Alternativas!$U$24:$U$264)*('Comparación Alternativas'!$AA230=Alternativas!$V$24:$V$264)*(Alternativas!AG$24:AG$264))","v":0},{"$f":"SUMPRODUCT(($Z230=Alternativas!$U$24:$U$264)*('Comparación Alternativas'!$AA230=Alternativas!$V$24:$V$264)*(Alternativas!AH$24:AH$264))","v":0},0,0,0,0,0,0,0,0,0,0,0,0,0,0,0,0,0,0,0,0,0]
[null,null,null,null,null,null,null,null,null,null,null,null,null,null,null,null,null,null,null,null,null,null,null,null,null,5,16,{"$f":"(AB234-AB222)/12+AB230","v":446.19551626436936},{"$f":"SUMPRODUCT(($Z231=Alternativas!$C$24:$C$264)*('Comparación Alternativas'!$AA231=Alternativas!$D$24:$D$264)*(Alternativas!M$24:M$264))","v":0},{"$f":"SUMPRODUCT(($Z231=Alternativas!$C$24:$C$264)*('Comparación Alternativas'!$AA231=Alternativas!$D$24:$D$264)*(Alternativas!N$24:N$264))","v":0},{"$f":"SUMPRODUCT(($Z231=Alternativas!$C$24:$C$264)*('Comparación Alternativas'!$AA231=Alternativas!$D$24:$D$264)*(Alternativas!O$24:O$264))","v":0},{"$f":"SUMPRODUCT(($Z231=Alternativas!$C$24:$C$264)*('Comparación Alternativas'!$AA231=Alternativas!$D$24:$D$264)*(Alternativas!P$24:P$264))","v":0},0,{"$f":"SUMPRODUCT(($Z231=Alternativas!$U$24:$U$264)*('Comparación Alternativas'!$AA231=Alternativas!$V$24:$V$264)*(Alternativas!AE$24:AE$264))","v":0},{"$f":"SUMPRODUCT(($Z231=Alternativas!$U$24:$U$264)*('Comparación Alternativas'!$AA231=Alternativas!$V$24:$V$264)*(Alternativas!AF$24:AF$264))","v":0},{"$f":"SUMPRODUCT(($Z231=Alternativas!$U$24:$U$264)*('Comparación Alternativas'!$AA231=Alternativas!$V$24:$V$264)*(Alternativas!AG$24:AG$264))","v":0},{"$f":"SUMPRODUCT(($Z231=Alternativas!$U$24:$U$264)*('Comparación Alternativas'!$AA231=Alternativas!$V$24:$V$264)*(Alternativas!AH$24:AH$264))","v":0},0,0,0,0,0,0,0,0,0,0,0,0,0,0,0,0,0,0,0,0,0]
[null,null,null,null,null,null,null,null,null,null,null,null,null,null,null,null,null,null,null,null,null,null,null,null,null,6,16,{"$f":"(AB234-AB222)/12+AB231","v":446.19551626436936},{"$f":"SUMPRODUCT(($Z232=Alternativas!$C$24:$C$264)*('Comparación Alternativas'!$AA232=Alternativas!$D$24:$D$264)*(Alternativas!M$24:M$264))","v":0},{"$f":"SUMPRODUCT(($Z232=Alternativas!$C$24:$C$264)*('Comparación Alternativas'!$AA232=Alternativas!$D$24:$D$264)*(Alternativas!N$24:N$264))","v":0},{"$f":"SUMPRODUCT(($Z232=Alternativas!$C$24:$C$264)*('Comparación Alternativas'!$AA232=Alternativas!$D$24:$D$264)*(Alternativas!O$24:O$264))","v":0},{"$f":"SUMPRODUCT(($Z232=Alternativas!$C$24:$C$264)*('Comparación Alternativas'!$AA232=Alternativas!$D$24:$D$264)*(Alternativas!P$24:P$264))","v":0},0,{"$f":"SUMPRODUCT(($Z232=Alternativas!$U$24:$U$264)*('Comparación Alternativas'!$AA232=Alternativas!$V$24:$V$264)*(Alternativas!AE$24:AE$264))","v":0},{"$f":"SUMPRODUCT(($Z232=Alternativas!$U$24:$U$264)*('Comparación Alternativas'!$AA232=Alternativas!$V$24:$V$264)*(Alternativas!AF$24:AF$264))","v":0},{"$f":"SUMPRODUCT(($Z232=Alternativas!$U$24:$U$264)*('Comparación Alternativas'!$AA232=Alternativas!$V$24:$V$264)*(Alternativas!AG$24:AG$264))","v":0},{"$f":"SUMPRODUCT(($Z232=Alternativas!$U$24:$U$264)*('Comparación Alternativas'!$AA232=Alternativas!$V$24:$V$264)*(Alternativas!AH$24:AH$264))","v":0},0,0,0,0,0,0,0,0,0,0,0,0,0,0,0,0,0,0,0,0,0]
[null,null,null,null,null,null,null,null,null,null,null,null,null,null,null,null,null,null,null,null,null,null,null,null,null,7,16,{"$f":"(AB234-AB222)/12+AB232","v":446.19551626436936},{"$f":"SUMPRODUCT(($Z233=Alternativas!$C$24:$C$264)*('Comparación Alternativas'!$AA233=Alternativas!$D$24:$D$264)*(Alternativas!M$24:M$264))","v":0},{"$f":"SUMPRODUCT(($Z233=Alternativas!$C$24:$C$264)*('Comparación Alternativas'!$AA233=Alternativas!$D$24:$D$264)*(Alternativas!N$24:N$264))","v":0},{"$f":"SUMPRODUCT(($Z233=Alternativas!$C$24:$C$264)*('Comparación Alternativas'!$AA233=Alternativas!$D$24:$D$264)*(Alternativas!O$24:O$264))","v":0},{"$f":"SUMPRODUCT(($Z233=Alternativas!$C$24:$C$264)*('Comparación Alternativas'!$AA233=Alternativas!$D$24:$D$264)*(Alternativas!P$24:P$264))","v":0},0,{"$f":"SUMPRODUCT(($Z233=Alternativas!$U$24:$U$264)*('Comparación Alternativas'!$AA233=Alternativas!$V$24:$V$264)*(Alternativas!AE$24:AE$264))","v":0},{"$f":"SUMPRODUCT(($Z233=Alternativas!$U$24:$U$264)*('Comparación Alternativas'!$AA233=Alternativas!$V$24:$V$264)*(Alternativas!AF$24:AF$264))","v":0},{"$f":"SUMPRODUCT(($Z233=Alternativas!$U$24:$U$264)*('Comparación Alternativas'!$AA233=Alternativas!$V$24:$V$264)*(Alternativas!AG$24:AG$264))","v":0},{"$f":"SUMPRODUCT(($Z233=Alternativas!$U$24:$U$264)*('Comparación Alternativas'!$AA233=Alternativas!$V$24:$V$264)*(Alternativas!AH$24:AH$264))","v":0},0,0,0,0,0,0,0,0,0,0,0,0,0,0,0,0,0,0,0,0,0]
[null,null,null,null,null,null,null,null,null,null,null,null,null,null,null,null,null,null,null,null,null,null,null,null,null,8,16,{"$f":"U28","v":446.19551626436936},{"$f":"SUMPRODUCT(($Z234=Alternativas!$C$24:$C$264)*('Comparación Alternativas'!$AA234=Alternativas!$D$24:$D$264)*(Alternativas!M$24:M$264))","v":0},{"$f":"SUMPRODUCT(($Z234=Alternativas!$C$24:$C$264)*('Comparación Alternativas'!$AA234=Alternativas!$D$24:$D$264)*(Alternativas!N$24:N$264))","v":0},{"$f":"SUMPRODUCT(($Z234=Alternativas!$C$24:$C$264)*('Comparación Alternativas'!$AA234=Alternativas!$D$24:$D$264)*(Alternativas!O$24:O$264))","v":0},{"$f":"SUMPRODUCT(($Z234=Alternativas!$C$24:$C$264)*('Comparación Alternativas'!$AA234=Alternativas!$D$24:$D$264)*(Alternativas!P$24:P$264))","v":0},0,{"$f":"SUMPRODUCT(($Z234=Alternativas!$U$24:$U$264)*('Comparación Alternativas'!$AA234=Alternativas!$V$24:$V$264)*(Alternativas!AE$24:AE$264))","v":0},{"$f":"SUMPRODUCT(($Z234=Alternativas!$U$24:$U$264)*('Comparación Alternativas'!$AA234=Alternativas!$V$24:$V$264)*(Alternativas!AF$24:AF$264))","v":0},{"$f":"SUMPRODUCT(($Z234=Alternativas!$U$24:$U$264)*('Comparación Alternativas'!$AA234=Alternativas!$V$24:$V$264)*(Alternativas!AG$24:AG$264))","v":0},{"$f":"SUMPRODUCT(($Z234=Alternativas!$U$24:$U$264)*('Comparación Alternativas'!$AA234=Alternativas!$V$24:$V$264)*(Alternativas!AH$24:AH$264))","v":0},0,0,0,0,0,0,0,0,0,0,0,0,0,0,0,0,0,0,0,0,0]
[null,null,null,null,null,null,null,null,null,null,null,null,null,null,null,null,null,null,null,null,null,null,null,null,null,9,16,{"$f":"(AB246-AB234)/12+AB234","v":446.19551626436936},{"$f":"SUMPRODUCT(($Z235=Alternativas!$C$24:$C$264)*('Comparación Alternativas'!$AA235=Alternativas!$D$24:$D$264)*(Alternativas!M$24:M$264))","v":0},{"$f":"SUMPRODUCT(($Z235=Alternativas!$C$24:$C$264)*('Comparación Alternativas'!$AA235=Alternativas!$D$24:$D$264)*(Alternativas!N$24:N$264))","v":0},{"$f":"SUMPRODUCT(($Z235=Alternativas!$C$24:$C$264)*('Comparación Alternativas'!$AA235=Alternativas!$D$24:$D$264)*(Alternativas!O$24:O$264))","v":0},{"$f":"SUMPRODUCT(($Z235=Alternativas!$C$24:$C$264)*('Comparación Alternativas'!$AA235=Alternativas!$D$24:$D$264)*(Alternativas!P$24:P$264))","v":0},0,{"$f":"SUMPRODUCT(($Z235=Alternativas!$U$24:$U$264)*('Comparación Alternativas'!$AA235=Alternativas!$V$24:$V$264)*(Alternativas!AE$24:AE$264))","v":0},{"$f":"SUMPRODUCT(($Z235=Alternativas!$U$24:$U$264)*('Comparación Alternativas'!$AA235=Alternativas!$V$24:$V$264)*(Alternativas!AF$24:AF$264))","v":0},{"$f":"SUMPRODUCT(($Z235=Alternativas!$U$24:$U$264)*('Comparación Alternativas'!$AA235=Alternativas!$V$24:$V$264)*(Alternativas!AG$24:AG$264))","v":0},{"$f":"SUMPRODUCT(($Z235=Alternativas!$U$24:$U$264)*('Comparación Alternativas'!$AA235=Alternativas!$V$24:$V$264)*(Alternativas!AH$24:AH$264))","v":0},0,0,0,0,0,0,0,0,0,0,0,0,0,0,0,0,0,0,0,0,0]
[null,null,null,null,null,null,null,null,null,null,null,null,null,null,null,null,null,null,null,null,null,null,null,null,null,10,16,{"$f":"(AB246-AB234)/12+AB235","v":446.19551626436936},{"$f":"SUMPRODUCT(($Z236=Alternativas!$C$24:$C$264)*('Comparación Alternativas'!$AA236=Alternativas!$D$24:$D$264)*(Alternativas!M$24:M$264))","v":0},{"$f":"SUMPRODUCT(($Z236=Alternativas!$C$24:$C$264)*('Comparación Alternativas'!$AA236=Alternativas!$D$24:$D$264)*(Alternativas!N$24:N$264))","v":0},{"$f":"SUMPRODUCT(($Z236=Alternativas!$C$24:$C$264)*('Comparación Alternativas'!$AA236=Alternativas!$D$24:$D$264)*(Alternativas!O$24:O$264))","v":0},{"$f":"SUMPRODUCT(($Z236=Alternativas!$C$24:$C$264)*('Comparación Alternativas'!$AA236=Alternativas!$D$24:$D$264)*(Alternativas!P$24:P$264))","v":0},0,{"$f":"SUMPRODUCT(($Z236=Alternativas!$U$24:$U$264)*('Comparación Alternativas'!$AA236=Alternativas!$V$24:$V$264)*(Alternativas!AE$24:AE$264))","v":0},{"$f":"SUMPRODUCT(($Z236=Alternativas!$U$24:$U$264)*('Comparación Alternativas'!$AA236=Alternativas!$V$24:$V$264)*(Alternativas!AF$24:AF$264))","v":0},{"$f":"SUMPRODUCT(($Z236=Alternativas!$U$24:$U$264)*('Comparación Alternativas'!$AA236=Alternativas!$V$24:$V$264)*(Alternativas!AG$24:AG$264))","v":0},{"$f":"SUMPRODUCT(($Z236=Alternativas!$U$24:$U$264)*('Comparación Alternativas'!$AA236=Alternativas!$V$24:$V$264)*(Alternativas!AH$24:AH$264))","v":0},0,0,0,0,0,0,0,0,0,0,0,0,0,0,0,0,0,0,0,0,0]
[null,null,null,null,null,null,null,null,null,null,null,null,null,null,null,null,null,null,null,null,null,null,null,null,null,11,16,{"$f":"(AB246-AB234)/12+AB236","v":446.19551626436936},{"$f":"SUMPRODUCT(($Z237=Alternativas!$C$24:$C$264)*('Comparación Alternativas'!$AA237=Alternativas!$D$24:$D$264)*(Alternativas!M$24:M$264))","v":0},{"$f":"SUMPRODUCT(($Z237=Alternativas!$C$24:$C$264)*('Comparación Alternativas'!$AA237=Alternativas!$D$24:$D$264)*(Alternativas!N$24:N$264))","v":0},{"$f":"SUMPRODUCT(($Z237=Alternativas!$C$24:$C$264)*('Comparación Alternativas'!$AA237=Alternativas!$D$24:$D$264)*(Alternativas!O$24:O$264))","v":0},{"$f":"SUMPRODUCT(($Z237=Alternativas!$C$24:$C$264)*('Comparación Alternativas'!$AA237=Alternativas!$D$24:$D$264)*(Alternativas!P$24:P$264))","v":0},0,{"$f":"SUMPRODUCT(($Z237=Alternativas!$U$24:$U$264)*('Comparación Alternativas'!$AA237=Alternativas!$V$24:$V$264)*(Alternativas!AE$24:AE$264))","v":0},{"$f":"SUMPRODUCT(($Z237=Alternativas!$U$24:$U$264)*('Comparación Alternativas'!$AA237=Alternativas!$V$24:$V$264)*(Alternativas!AF$24:AF$264))","v":0},{"$f":"SUMPRODUCT(($Z237=Alternativas!$U$24:$U$264)*('Comparación Alternativas'!$AA237=Alternativas!$V$24:$V$264)*(Alternativas!AG$24:AG$264))","v":0},{"$f":"SUMPRODUCT(($Z237=Alternativas!$U$24:$U$264)*('Comparación Alternativas'!$AA237=Alternativas!$V$24:$V$264)*(Alternativas!AH$24:AH$264))","v":0},0,0,0,0,0,0,0,0,0,0,0,0,0,0,0,0,0,0,0,0,0]
[null,null,null,null,null,null,null,null,null,null,null,null,null,null,null,null,null,null,null,null,null,null,null,null,null,12,16,{"$f":"(AB246-AB234)/12+AB237","v":446.19551626436936},{"$f":"SUMPRODUCT(($Z238=Alternativas!$C$24:$C$264)*('Comparación Alternativas'!$AA238=Alternativas!$D$24:$D$264)*(Alternativas!M$24:M$264))","v":0},{"$f":"SUMPRODUCT(($Z238=Alternativas!$C$24:$C$264)*('Comparación Alternativas'!$AA238=Alternativas!$D$24:$D$264)*(Alternativas!N$24:N$264))","v":0},{"$f":"SUMPRODUCT(($Z238=Alternativas!$C$24:$C$264)*('Comparación Alternativas'!$AA238=Alternativas!$D$24:$D$264)*(Alternativas!O$24:O$264))","v":0},{"$f":"SUMPRODUCT(($Z238=Alternativas!$C$24:$C$264)*('Comparación Alternativas'!$AA238=Alternativas!$D$24:$D$264)*(Alternativas!P$24:P$264))","v":0},0,{"$f":"SUMPRODUCT(($Z238=Alternativas!$U$24:$U$264)*('Comparación Alternativas'!$AA238=Alternativas!$V$24:$V$264)*(Alternativas!AE$24:AE$264))","v":0},{"$f":"SUMPRODUCT(($Z238=Alternativas!$U$24:$U$264)*('Comparación Alternativas'!$AA238=Alternativas!$V$24:$V$264)*(Alternativas!AF$24:AF$264))","v":0},{"$f":"SUMPRODUCT(($Z238=Alternativas!$U$24:$U$264)*('Comparación Alternativas'!$AA238=Alternativas!$V$24:$V$264)*(Alternativas!AG$24:AG$264))","v":0},{"$f":"SUMPRODUCT(($Z238=Alternativas!$U$24:$U$264)*('Comparación Alternativas'!$AA238=Alternativas!$V$24:$V$264)*(Alternativas!AH$24:AH$264))","v":0},0,0,0,0,0,0,0,0,0,0,0,0,0,0,0,0,0,0,0,0,0]
[null,null,null,null,null,null,null,null,null,null,null,null,null,null,null,null,null,null,null,null,null,null,null,null,null,1,17,{"$f":"(AB246-AB234)/12+AB238","v":446.19551626436936},{"$f":"SUMPRODUCT(($Z239=Alternativas!$C$24:$C$264)*('Comparación Alternativas'!$AA239=Alternativas!$D$24:$D$264)*(Alternativas!M$24:M$264))","v":0},{"$f":"SUMPRODUCT(($Z239=Alternativas!$C$24:$C$264)*('Comparación Alternativas'!$AA239=Alternativas!$D$24:$D$264)*(Alternativas!N$24:N$264))","v":0},{"$f":"SUMPRODUCT(($Z239=Alternativas!$C$24:$C$264)*('Comparación Alternativas'!$AA239=Alternativas!$D$24:$D$264)*(Alternativas!O$24:O$264))","v":0},{"$f":"SUMPRODUCT(($Z239=Alternativas!$C$24:$C$264)*('Comparación Alternativas'!$AA239=Alternativas!$D$24:$D$264)*(Alternativas!P$24:P$264))","v":0},0,{"$f":"SUMPRODUCT(($Z239=Alternativas!$U$24:$U$264)*('Comparación Alternativas'!$AA239=Alternativas!$V$24:$V$264)*(Alternativas!AE$24:AE$264))","v":0},{"$f":"SUMPRODUCT(($Z239=Alternativas!$U$24:$U$264)*('Comparación Alternativas'!$AA239=Alternativas!$V$24:$V$264)*(Alternativas!AF$24:AF$264))","v":0},{"$f":"SUMPRODUCT(($Z239=Alternativas!$U$24:$U$264)*('Comparación Alternativas'!$AA239=Alternativas!$V$24:$V$264)*(Alternativas!AG$24:AG$264))","v":0},{"$f":"SUMPRODUCT(($Z239=Alternativas!$U$24:$U$264)*('Comparación Alternativas'!$AA239=Alternativas!$V$24:$V$264)*(Alternativas!AH$24:AH$264))","v":0},0,0,0,0,0,0,0,0,0,0,0,0,0,0,0,0,0,0,0,0,0]
[null,null,null,null,null,null,null,null,null,null,null,null,null,null,null,null,null,null,null,null,null,null,null,null,null,2,17,{"$f":"(AB246-AB234)/12+AB239","v":446.19551626436936},{"$f":"SUMPRODUCT(($Z240=Alternativas!$C$24:$C$264)*('Comparación Alternativas'!$AA240=Alternativas!$D$24:$D$264)*(Alternativas!M$24:M$264))","v":0},{"$f":"SUMPRODUCT(($Z240=Alternativas!$C$24:$C$264)*('Comparación Alternativas'!$AA240=Alternativas!$D$24:$D$264)*(Alternativas!N$24:N$264))","v":0},{"$f":"SUMPRODUCT(($Z240=Alternativas!$C$24:$C$264)*('Comparación Alternativas'!$AA240=Alternativas!$D$24:$D$264)*(Alternativas!O$24:O$264))","v":0},{"$f":"SUMPRODUCT(($Z240=Alternativas!$C$24:$C$264)*('Comparación Alternativas'!$AA240=Alternativas!$D$24:$D$264)*(Alternativas!P$24:P$264))","v":0},0,{"$f":"SUMPRODUCT(($Z240=Alternativas!$U$24:$U$264)*('Comparación Alternativas'!$AA240=Alternativas!$V$24:$V$264)*(Alternativas!AE$24:AE$264))","v":0},{"$f":"SUMPRODUCT(($Z240=Alternativas!$U$24:$U$264)*('Comparación Alternativas'!$AA240=Alternativas!$V$24:$V$264)*(Alternativas!AF$24:AF$264))","v":0},{"$f":"SUMPRODUCT(($Z240=Alternativas!$U$24:$U$264)*('Comparación Alternativas'!$AA240=Alternativas!$V$24:$V$264)*(Alternativas!AG$24:AG$264))","v":0},{"$f":"SUMPRODUCT(($Z240=Alternativas!$U$24:$U$264)*('Comparación Alternativas'!$AA240=Alternativas!$V$24:$V$264)*(Alternativas!AH$24:AH$264))","v":0},0,0,0,0,0,0,0,0,0,0,0,0,0,0,0,0,0,0,0,0,0]
[null,null,null,null,null,null,null,null,null,null,null,null,null,null,null,null,null,null,null,null,null,null,null,null,null,3,17,{"$f":"(AB246-AB234)/12+AB240","v":446.19551626436936},{"$f":"SUMPRODUCT(($Z241=Alternativas!$C$24:$C$264)*('Comparación Alternativas'!$AA241=Alternativas!$D$24:$D$264)*(Alternativas!M$24:M$264))","v":0},{"$f":"SUMPRODUCT(($Z241=Alternativas!$C$24:$C$264)*('Comparación Alternativas'!$AA241=Alternativas!$D$24:$D$264)*(Alternativas!N$24:N$264))","v":0},{"$f":"SUMPRODUCT(($Z241=Alternativas!$C$24:$C$264)*('Comparación Alternativas'!$AA241=Alternativas!$D$24:$D$264)*(Alternativas!O$24:O$264))","v":0},{"$f":"SUMPRODUCT(($Z241=Alternativas!$C$24:$C$264)*('Comparación Alternativas'!$AA241=Alternativas!$D$24:$D$264)*(Alternativas!P$24:P$264))","v":0},0,{"$f":"SUMPRODUCT(($Z241=Alternativas!$U$24:$U$264)*('Comparación Alternativas'!$AA241=Alternativas!$V$24:$V$264)*(Alternativas!AE$24:AE$264))","v":0},{"$f":"SUMPRODUCT(($Z241=Alternativas!$U$24:$U$264)*('Comparación Alternativas'!$AA241=Alternativas!$V$24:$V$264)*(Alternativas!AF$24:AF$264))","v":0},{"$f":"SUMPRODUCT(($Z241=Alternativas!$U$24:$U$264)*('Comparación Alternativas'!$AA241=Alternativas!$V$24:$V$264)*(Alternativas!AG$24:AG$264))","v":0},{"$f":"SUMPRODUCT(($Z241=Alternativas!$U$24:$U$264)*('Comparación Alternativas'!$AA241=Alternativas!$V$24:$V$264)*(Alternativas!AH$24:AH$264))","v":0},0,0,0,0,0,0,0,0,0,0,0,0,0,0,0,0,0,0,0,0,0]
[null,null,null,null,null,null,null,null,null,null,null,null,null,null,null,null,null,null,null,null,null,null,null,null,null,4,17,{"$f":"(AB246-AB234)/12+AB241","v":446.19551626436936},{"$f":"SUMPRODUCT(($Z242=Alternativas!$C$24:$C$264)*('Comparación Alternativas'!$AA242=Alternativas!$D$24:$D$264)*(Alternativas!M$24:M$264))","v":0},{"$f":"SUMPRODUCT(($Z242=Alternativas!$C$24:$C$264)*('Comparación Alternativas'!$AA242=Alternativas!$D$24:$D$264)*(Alternativas!N$24:N$264))","v":0},{"$f":"SUMPRODUCT(($Z242=Alternativas!$C$24:$C$264)*('Comparación Alternativas'!$AA242=Alternativas!$D$24:$D$264)*(Alternativas!O$24:O$264))","v":0},{"$f":"SUMPRODUCT(($Z242=Alternativas!$C$24:$C$264)*('Comparación Alternativas'!$AA242=Alternativas!$D$24:$D$264)*(Alternativas!P$24:P$264))","v":0},0,{"$f":"SUMPRODUCT(($Z242=Alternativas!$U$24:$U$264)*('Comparación Alternativas'!$AA242=Alternativas!$V$24:$V$264)*(Alternativas!AE$24:AE$264))","v":0},{"$f":"SUMPRODUCT(($Z242=Alternativas!$U$24:$U$264)*('Comparación Alternativas'!$AA242=Alternativas!$V$24:$V$264)*(Alternativas!AF$24:AF$264))","v":0},{"$f":"SUMPRODUCT(($Z242=Alternativas!$U$24:$U$264)*('Comparación Alternativas'!$AA242=Alternativas!$V$24:$V$264)*(Alternativas!AG$24:AG$264))","v":0},{"$f":"SUMPRODUCT(($Z242=Alternativas!$U$24:$U$264)*('Comparación Alternativas'!$AA242=Alternativas!$V$24:$V$264)*(Alternativas!AH$24:AH$264))","v":0},0,0,0,0,0,0,0,0,0,0,0,0,0,0,0,0,0,0,0,0,0]
[null,null,null,null,null,null,null,null,null,null,null,null,null,null,null,null,null,null,null,null,null,null,null,null,null,5,17,{"$f":"(AB246-AB234)/12+AB242","v":446.19551626436936},{"$f":"SUMPRODUCT(($Z243=Alternativas!$C$24:$C$264)*('Comparación Alternativas'!$AA243=Alternativas!$D$24:$D$264)*(Alternativas!M$24:M$264))","v":0},{"$f":"SUMPRODUCT(($Z243=Alternativas!$C$24:$C$264)*('Comparación Alternativas'!$AA243=Alternativas!$D$24:$D$264)*(Alternativas!N$24:N$264))","v":0},{"$f":"SUMPRODUCT(($Z243=Alternativas!$C$24:$C$264)*('Comparación Alternativas'!$AA243=Alternativas!$D$24:$D$264)*(Alternativas!O$24:O$264))","v":0},{"$f":"SUMPRODUCT(($Z243=Alternativas!$C$24:$C$264)*('Comparación Alternativas'!$AA243=Alternativas!$D$24:$D$264)*(Alternativas!P$24:P$264))","v":0},0,{"$f":"SUMPRODUCT(($Z243=Alternativas!$U$24:$U$264)*('Comparación Alternativas'!$AA243=Alternativas!$V$24:$V$264)*(Alternativas!AE$24:AE$264))","v":0},{"$f":"SUMPRODUCT(($Z243=Alternativas!$U$24:$U$264)*('Comparación Alternativas'!$AA243=Alternativas!$V$24:$V$264)*(Alternativas!AF$24:AF$264))","v":0},{"$f":"SUMPRODUCT(($Z243=Alternativas!$U$24:$U$264)*('Comparación Alternativas'!$AA243=Alternativas!$V$24:$V$264)*(Alternativas!AG$24:AG$264))","v":0},{"$f":"SUMPRODUCT(($Z243=Alternativas!$U$24:$U$264)*('Comparación Alternativas'!$AA243=Alternativas!$V$24:$V$264)*(Alternativas!AH$24:AH$264))","v":0},0,0,0,0,0,0,0,0,0,0,0,0,0,0,0,0,0,0,0,0,0]
[null,null,null,null,null,null,null,null,null,null,null,null,null,null,null,null,null,null,null,null,null,null,null,null,null,6,17,{"$f":"(AB246-AB234)/12+AB243","v":446.19551626436936},{"$f":"SUMPRODUCT(($Z244=Alternativas!$C$24:$C$264)*('Comparación Alternativas'!$AA244=Alternativas!$D$24:$D$264)*(Alternativas!M$24:M$264))","v":0},{"$f":"SUMPRODUCT(($Z244=Alternativas!$C$24:$C$264)*('Comparación Alternativas'!$AA244=Alternativas!$D$24:$D$264)*(Alternativas!N$24:N$264))","v":0},{"$f":"SUMPRODUCT(($Z244=Alternativas!$C$24:$C$264)*('Comparación Alternativas'!$AA244=Alternativas!$D$24:$D$264)*(Alternativas!O$24:O$264))","v":0},{"$f":"SUMPRODUCT(($Z244=Alternativas!$C$24:$C$264)*('Comparación Alternativas'!$AA244=Alternativas!$D$24:$D$264)*(Alternativas!P$24:P$264))","v":0},0,{"$f":"SUMPRODUCT(($Z244=Alternativas!$U$24:$U$264)*('Comparación Alternativas'!$AA244=Alternativas!$V$24:$V$264)*(Alternativas!AE$24:AE$264))","v":0},{"$f":"SUMPRODUCT(($Z244=Alternativas!$U$24:$U$264)*('Comparación Alternativas'!$AA244=Alternativas!$V$24:$V$264)*(Alternativas!AF$24:AF$264))","v":0},{"$f":"SUMPRODUCT(($Z244=Alternativas!$U$24:$U$264)*('Comparación Alternativas'!$AA244=Alternativas!$V$24:$V$264)*(Alternativas!AG$24:AG$264))","v":0},{"$f":"SUMPRODUCT(($Z244=Alternativas!$U$24:$U$264)*('Comparación Alternativas'!$AA244=Alternativas!$V$24:$V$264)*(Alternativas!AH$24:AH$264))","v":0},0,0,0,0,0,0,0,0,0,0,0,0,0,0,0,0,0,0,0,0,0]
[null,null,null,null,null,null,null,null,null,null,null,null,null,null,null,null,null,null,null,null,null,null,null,null,null,7,17,{"$f":"(AB246-AB234)/12+AB244","v":446.19551626436936},{"$f":"SUMPRODUCT(($Z245=Alternativas!$C$24:$C$264)*('Comparación Alternativas'!$AA245=Alternativas!$D$24:$D$264)*(Alternativas!M$24:M$264))","v":0},{"$f":"SUMPRODUCT(($Z245=Alternativas!$C$24:$C$264)*('Comparación Alternativas'!$AA245=Alternativas!$D$24:$D$264)*(Alternativas!N$24:N$264))","v":0},{"$f":"SUMPRODUCT(($Z245=Alternativas!$C$24:$C$264)*('Comparación Alternativas'!$AA245=Alternativas!$D$24:$D$264)*(Alternativas!O$24:O$264))","v":0},{"$f":"SUMPRODUCT(($Z245=Alternativas!$C$24:$C$264)*('Comparación Alternativas'!$AA245=Alternativas!$D$24:$D$264)*(Alternativas!P$24:P$264))","v":0},0,{"$f":"SUMPRODUCT(($Z245=Alternativas!$U$24:$U$264)*('Comparación Alternativas'!$AA245=Alternativas!$V$24:$V$264)*(Alternativas!AE$24:AE$264))","v":0},{"$f":"SUMPRODUCT(($Z245=Alternativas!$U$24:$U$264)*('Comparación Alternativas'!$AA245=Alternativas!$V$24:$V$264)*(Alternativas!AF$24:AF$264))","v":0},{"$f":"SUMPRODUCT(($Z245=Alternativas!$U$24:$U$264)*('Comparación Alternativas'!$AA245=Alternativas!$V$24:$V$264)*(Alternativas!AG$24:AG$264))","v":0},{"$f":"SUMPRODUCT(($Z245=Alternativas!$U$24:$U$264)*('Comparación Alternativas'!$AA245=Alternativas!$V$24:$V$264)*(Alternativas!AH$24:AH$264))","v":0},0,0,0,0,0,0,0,0,0,0,0,0,0,0,0,0,0,0,0,0,0]
[null,null,null,null,null,null,null,null,null,null,null,null,null,null,null,null,null,null,null,null,null,null,null,null,null,8,17,{"$f":"U29","v":446.19551626436936},{"$f":"SUMPRODUCT(($Z246=Alternativas!$C$24:$C$264)*('Comparación Alternativas'!$AA246=Alternativas!$D$24:$D$264)*(Alternativas!M$24:M$264))","v":0},{"$f":"SUMPRODUCT(($Z246=Alternativas!$C$24:$C$264)*('Comparación Alternativas'!$AA246=Alternativas!$D$24:$D$264)*(Alternativas!N$24:N$264))","v":0},{"$f":"SUMPRODUCT(($Z246=Alternativas!$C$24:$C$264)*('Comparación Alternativas'!$AA246=Alternativas!$D$24:$D$264)*(Alternativas!O$24:O$264))","v":0},{"$f":"SUMPRODUCT(($Z246=Alternativas!$C$24:$C$264)*('Comparación Alternativas'!$AA246=Alternativas!$D$24:$D$264)*(Alternativas!P$24:P$264))","v":0},0,{"$f":"SUMPRODUCT(($Z246=Alternativas!$U$24:$U$264)*('Comparación Alternativas'!$AA246=Alternativas!$V$24:$V$264)*(Alternativas!AE$24:AE$264))","v":0},{"$f":"SUMPRODUCT(($Z246=Alternativas!$U$24:$U$264)*('Comparación Alternativas'!$AA246=Alternativas!$V$24:$V$264)*(Alternativas!AF$24:AF$264))","v":0},{"$f":"SUMPRODUCT(($Z246=Alternativas!$U$24:$U$264)*('Comparación Alternativas'!$AA246=Alternativas!$V$24:$V$264)*(Alternativas!AG$24:AG$264))","v":0},{"$f":"SUMPRODUCT(($Z246=Alternativas!$U$24:$U$264)*('Comparación Alternativas'!$AA246=Alternativas!$V$24:$V$264)*(Alternativas!AH$24:AH$264))","v":0},0,0,0,0,0,0,0,0,0,0,0,0,0,0,0,0,0,0,0,0,0]

{"sheet":"Para Ocultar","index":3,"n_rows":14,"n_cols":3,"rows_kept":14,"cut":false,"hidden":true,"merged":[]}
["Periodos","Pago","Esimador Fecha"]
[1,"Anual",12]
[2,"Semestral",6]
[3,"Cuatrimestral",4]
[4,"Trimestral",3]
[6,"Bimensual",2]
[12,"Mensual",1]
[]
[]
[]
["Dólares","Pesos",{"$f":"'Comparación Alternativas'!Q9","v":100}]
["Dólares","Dólares",1]
["Pesos","Pesos",1]
["Pesos","Dólares",{"$f":"1/'Comparación Alternativas'!Q9","v":0.01}]